{"text_format":"3","workbook":"xlsx","n_sheets":18,"sheets":["Startseite","Anleitung","Ausdruck","Futterberechnung","Futtermittel","Preiswürdigkeit FUMI","Ergänzungsfutter","Mineralfutter","Orientierungswerte","Höchstgehalte","Futterkurve Mast","Futterkurve Sauen","Futterkurve Ferkel","Futterkurve Jungsauen","Futterkurve Eber","Vit. & Spurenel.","XP u. ME-Rechner Min.fu.","D"],"not_rendered":{"charts":1,"images":4,"macros":1,"defined_names":70,"comments":11},"read":"whole","date_system":"1900"}

{"sheet":"Startseite","index":0,"n_rows":9,"n_cols":11,"rows_kept":9}
[]
[]
[{"$nulls":7},"Futterberechnungsprogramm für Schweine in Anlehnung an die "]
[{"$nulls":7},"GfE- und DLG-Versorgungsempfehlungen von 2006, 2008, 2010 und 2014"]
[]
[{"$nulls":5},"Entwickelt und programmiert von: ",{"$nulls":3},"Dipl.-Ing. agr. Kajo Hollmichel (LLH)"]
[{"$nulls":9},"Tel.: ","0561 7299-257"]
[{"$nulls":9},"Mobil:","0160 4755166"]
[{"$nulls":9},"E-Mail:","kajo.hollmichel@llh.hessen.de"]

{"sheet":"Anleitung","index":1,"n_rows":7,"n_cols":11,"rows_kept":7}
[]
[]
[]
[]
[]
[]
[{"$nulls":10},"Ausgabe XXII Okt. 2016"]

{"sheet":"Ausdruck","index":2,"n_rows":67,"n_cols":13,"rows_kept":67,"merged":[[9,2,9,6],[9,7,9,11],[10,2,10,6],[10,7,10,12],[11,2,11,11],[13,7,13,10],[56,1,56,2]]}
[]
[]
[]
[null,null,"Landesbetrieb Landwirtschaft (LLH)"]
[null,null,"Zentrale Kassel"]
[]
[]
[]
[]
[null,"Betrieb:",{"$f":"Futterberechnung!H5","v":"Mustermann"}]
[null,"Futtermischung für:",{"$f":"IF(Futterberechnung!H7=\"\",\"\",Futterberechnung!H7)","v":"Anfangsmast ab 40 Kg LM für 850 g TZ* "},{"$nulls":4},{"$f":"IF(Futterberechnung!P7=\"\",\"\",Futterberechnung!P7)","v":"………………………………………………………….."}]
[null,null,{"$f":"Futterberechnung!J8","v":""}]
[]
[null,"Futtermittel","Preis / dt","Anteile                       in % FM","Anteile                       bei 88% TM","in Mischer",null,"Inhaltsstoffe                                                                       in 1 kg Futtermittel",{"$nulls":3},"Soll","Differenz"]
[null,{"$f":"IF(Futterberechnung!C13=\"\",\"\",Futterberechnung!C13)","v":"eigener Weizen 11% RP Ø 2016"},{"$f":"IF(Futterberechnung!E13=\"\",\"\",Futterberechnung!E13)","v":{"v":12.68,"d":"12.68 €"}},{"$f":"IF(Futterberechnung!F13=\"\",\"\",Futterberechnung!F13)","v":{"v":0.52,"d":"52.00%"}},{"$f":"IF(Futterberechnung!G13=\"\",\"\",Futterberechnung!G13)","v":{"v":0.516746843733767,"d":"51.67%"}},{"$f":"IF(Futterberechnung!H13=\"\",\"\",Futterberechnung!H13)","v":{"v":520,"d":"520 kg"}},null,null,"in","in der FM","in 88% TM","in 88% TM"]
[null,{"$f":"IF(Futterberechnung!C14=\"\",\"\",Futterberechnung!C14)","v":"eigene Gerste 11% RP Ø 2016"},{"$f":"IF(Futterberechnung!E14=\"\",\"\",Futterberechnung!E14)","v":{"v":11.22,"d":"11.22 €"}},{"$f":"IF(Futterberechnung!F14=\"\",\"\",Futterberechnung!F14)","v":{"v":0.28,"d":"28.00%"}},{"$f":"IF(Futterberechnung!G14=\"\",\"\",Futterberechnung!G14)","v":{"v":0.27824830047202836,"d":"27.82%"}},{"$f":"IF(Futterberechnung!H14=\"\",\"\",Futterberechnung!H14)","v":{"v":280,"d":"280 kg"}},null,"TM","g",{"$f":"IF(Futterberechnung!I30=\"\",\"\",Futterberechnung!I30)","v":{"v":885.5400000000001,"d":"886"}},{"$f":"IF(Futterberechnung!I31=\"\",\"\",Futterberechnung!I31)","v":880}]
[null,{"$f":"IF(Futterberechnung!C15=\"\",\"\",Futterberechnung!C15)","v":"Sojaschrot HP 47% RP "},{"$f":"IF(Futterberechnung!E15=\"\",\"\",Futterberechnung!E15)","v":{"v":35.5,"d":"35.50 €"}},{"$f":"IF(Futterberechnung!F15=\"\",\"\",Futterberechnung!F15)","v":{"v":0.155,"d":"15.50%"}},{"$f":"IF(Futterberechnung!G15=\"\",\"\",Futterberechnung!G15)","v":{"v":0.155780653612485,"d":"15.58%"}},{"$f":"IF(Futterberechnung!H15=\"\",\"\",Futterberechnung!H15)","v":{"v":155,"d":"155 kg"}},null,"MES EFF*","MJ",{"$f":"IF(Futterberechnung!$M$30=\"\",\"\",Futterberechnung!$M$30)","v":{"v":13.272026620244754,"d":"13.27"}},{"$f":"IF(Futterberechnung!$M$31=\"\",\"\",Futterberechnung!$M$31)","v":13.19},{"$f":"IF(Futterberechnung!$M$33=\"\",\"\",Futterberechnung!$M$33)","v":{"v":13.2,"d":"13.20"}},{"$f":"IF(Futterberechnung!$M$34=\"\",\"\",Futterberechnung!$M$34)","v":-0.01}]
[null,{"$f":"IF(Futterberechnung!C16=\"\",\"\",Futterberechnung!C16)","v":"Rapsöl / Pflanzenöl DLG 2014"},{"$f":"IF(Futterberechnung!E16=\"\",\"\",Futterberechnung!E16)","v":{"v":97,"d":"97.00 €"}},{"$f":"IF(Futterberechnung!F16=\"\",\"\",Futterberechnung!F16)","v":{"v":0.01,"d":"1.00%"}},{"$f":"IF(Futterberechnung!G16=\"\",\"\",Futterberechnung!G16)","v":{"v":0.011281252117352123,"d":"1.13%"}},{"$f":"IF(Futterberechnung!H16=\"\",\"\",Futterberechnung!H16)","v":{"v":10,"d":"10 kg"}},null,"MES MFF*","MJ",{"$f":"IF(Futterberechnung!$N$30=\"\",\"\",Futterberechnung!$N$30)","v":{"v":13.264975816244757,"d":"13.26"}},{"$f":"IF(Futterberechnung!$N$31=\"\",\"\",Futterberechnung!$N$31)","v":13.18},{"$f":"IF(Futterberechnung!$N$33=\"\",\"\",Futterberechnung!$N$33)","v":{"v":13.2,"d":"13.20"}},{"$f":"IF(Futterberechnung!$N$34=\"\",\"\",Futterberechnung!$N$34)","v":-0.02}]
[null,{"$f":"IF(Futterberechnung!C17=\"\",\"\",Futterberechnung!C17)","v":""},{"$f":"IF(Futterberechnung!E17=\"\",\"\",Futterberechnung!E17)","v":""},{"$f":"IF(Futterberechnung!F17=\"\",\"\",Futterberechnung!F17)","v":""},{"$f":"IF(Futterberechnung!G17=\"\",\"\",Futterberechnung!G17)","v":""},{"$f":"IF(Futterberechnung!H17=\"\",\"\",Futterberechnung!H17)","v":" "},null,"Rohprotein (XP)","g",{"$f":"IF(Futterberechnung!$J$30=\"\",\"\",Futterberechnung!$J$30)","v":{"v":164.3367472804973,"d":"164"}},{"$f":"IF(Futterberechnung!$J$31=\"\",\"\",Futterberechnung!$J$31)","v":163},{"$f":"IF(Futterberechnung!$J$33=\"\",\"\",Futterberechnung!$J$33)","v":163},{"$f":"IF(Futterberechnung!$J$34=\"\",\"\",Futterberechnung!$J$34)","v":0}]
[null,{"$f":"IF(Futterberechnung!C18=\"\",\"\",Futterberechnung!C18)","v":""},{"$f":"IF(Futterberechnung!E18=\"\",\"\",Futterberechnung!E18)","v":""},{"$f":"IF(Futterberechnung!F18=\"\",\"\",Futterberechnung!F18)","v":""},{"$f":"IF(Futterberechnung!G18=\"\",\"\",Futterberechnung!G18)","v":""},{"$f":"IF(Futterberechnung!H18=\"\",\"\",Futterberechnung!H18)","v":" "},null,"Lys","g",{"$f":"IF(Futterberechnung!$O$30=\"\",\"\",Futterberechnung!$O$30)","v":{"v":10.126104645454545,"d":"10.1"}},{"$f":"IF(Futterberechnung!$O$31=\"\",\"\",Futterberechnung!$O$31)","v":10.1},{"$f":"IF(Futterberechnung!$O$33=\"\",\"\",Futterberechnung!$O$33)","v":10.2},{"$f":"IF(Futterberechnung!$O$34=\"\",\"\",Futterberechnung!$O$34)","v":{"v":-0.1,"d":"-0.1 "}}]
[null,{"$f":"IF(Futterberechnung!C19=\"\",\"\",Futterberechnung!C19)","v":""},{"$f":"IF(Futterberechnung!E19=\"\",\"\",Futterberechnung!E19)","v":""},{"$f":"IF(Futterberechnung!F19=\"\",\"\",Futterberechnung!F19)","v":""},{"$f":"IF(Futterberechnung!G19=\"\",\"\",Futterberechnung!G19)","v":""},{"$f":"IF(Futterberechnung!H19=\"\",\"\",Futterberechnung!H19)","v":" "},null,"pcv Lys","g",{"$f":"IF(Futterberechnung!$P$30=\"\",\"\",Futterberechnung!$P$30)","v":{"v":9.061739577545454,"d":"9.1"}},{"$f":"IF(Futterberechnung!$P$31=\"\",\"\",Futterberechnung!$P$31)","v":{"v":9,"d":"9.0"}},{"$f":"IF(Futterberechnung!$P$33=\"\",\"\",Futterberechnung!$P$33)","v":8.9},{"$f":"IF(Futterberechnung!$P$34=\"\",\"\",Futterberechnung!$P$34)","v":0.1}]
[null,{"$f":"IF(Futterberechnung!C20=\"\",\"\",Futterberechnung!C20)","v":""},{"$f":"IF(Futterberechnung!E20=\"\",\"\",Futterberechnung!E20)","v":""},{"$f":"IF(Futterberechnung!F20=\"\",\"\",Futterberechnung!F20)","v":""},{"$f":"IF(Futterberechnung!G20=\"\",\"\",Futterberechnung!G20)","v":""},{"$f":"IF(Futterberechnung!H20=\"\",\"\",Futterberechnung!H20)","v":" "},null,"Met","g",{"$f":"IF(Futterberechnung!$G$63=\"\",\"\",Futterberechnung!$G$63)","v":{"v":2.8891318590909094,"d":"2.9"}},{"$f":"IF(Futterberechnung!$G$64=\"\",\"\",Futterberechnung!$G$64)","v":2.9},{"$f":"IF(Futterberechnung!$G$66=\"\",\"\",Futterberechnung!$G$66)","v":2.9},{"$f":"IF(Futterberechnung!$G67=\"\",\"\",Futterberechnung!$G$67)","v":{"v":0,"d":"0.0"}}]
[null,{"$f":"IF(Futterberechnung!C21=\"\",\"\",Futterberechnung!C21)","v":""},{"$f":"IF(Futterberechnung!E21=\"\",\"\",Futterberechnung!E21)","v":""},{"$f":"IF(Futterberechnung!F21=\"\",\"\",Futterberechnung!F21)","v":""},{"$f":"IF(Futterberechnung!G21=\"\",\"\",Futterberechnung!G21)","v":""},{"$f":"IF(Futterberechnung!H21=\"\",\"\",Futterberechnung!H21)","v":" "},null,"pcv Met","g",{"$f":"IF(Futterberechnung!$H$63=\"\",\"\",Futterberechnung!$H$63)","v":{"v":2.580173204,"d":"2.6"}},{"$f":"IF(Futterberechnung!$H$64=\"\",\"\",Futterberechnung!$H$64)","v":2.6},{"$f":"IF(Futterberechnung!$H$66=\"\",\"\",Futterberechnung!$H$66)","v":2.6},{"$f":"IF(Futterberechnung!$H67=\"\",\"\",Futterberechnung!$H$67)","v":{"v":0,"d":"0.0"}}]
[null,{"$f":"IF(Futterberechnung!C22=\"\",\"\",Futterberechnung!C22)","v":""},{"$f":"IF(Futterberechnung!E22=\"\",\"\",Futterberechnung!E22)","v":""},{"$f":"IF(Futterberechnung!F22=\"\",\"\",Futterberechnung!F22)","v":""},{"$f":"IF(Futterberechnung!G22=\"\",\"\",Futterberechnung!G22)","v":""},{"$f":"IF(Futterberechnung!H22=\"\",\"\",Futterberechnung!H22)","v":" "},null,"Met + Cys","g",{"$f":"IF(Futterberechnung!$Q$30=\"\",\"\",Futterberechnung!$Q$30)","v":{"v":5.851309650000001,"d":"5.9"}},{"$f":"IF(Futterberechnung!$Q$31=\"\",\"\",Futterberechnung!$Q$31)","v":5.8},{"$f":"IF(Futterberechnung!$Q$33=\"\",\"\",Futterberechnung!$Q$33)","v":5.6},{"$f":"IF(Futterberechnung!$Q$34=\"\",\"\",Futterberechnung!$Q$34)","v":0.2}]
[null,{"$f":"IF(Futterberechnung!C23=\"\",\"\",Futterberechnung!C23)","v":""},{"$f":"IF(Futterberechnung!E23=\"\",\"\",Futterberechnung!E23)","v":""},{"$f":"IF(Futterberechnung!F23=\"\",\"\",Futterberechnung!F23)","v":""},{"$f":"IF(Futterberechnung!G23=\"\",\"\",Futterberechnung!G23)","v":""},{"$f":"IF(Futterberechnung!H23=\"\",\"\",Futterberechnung!H23)","v":" "},null,"pcv Met + Cys","g",{"$f":"IF(Futterberechnung!$R$30=\"\",\"\",Futterberechnung!$R$30)","v":{"v":5.1209117332402165,"d":"5.1"}},{"$f":"IF(Futterberechnung!$R$31=\"\",\"\",Futterberechnung!$R$31)","v":5.1},{"$f":"IF(Futterberechnung!$R$33=\"\",\"\",Futterberechnung!$R$33)","v":4.9},{"$f":"IF(Futterberechnung!$R$34=\"\",\"\",Futterberechnung!$R$34)","v":0.2}]
[null,{"$f":"IF(Futterberechnung!C24=\"\",\"\",Futterberechnung!C24)","v":"Ergänzungsfutter "},{"$f":"IF(Futterberechnung!E24=\"\",\"\",Futterberechnung!E24)","v":""},{"$f":"IF(Futterberechnung!F24=\"\",\"\",Futterberechnung!F24)","v":""},{"$f":"IF(Futterberechnung!G24=\"\",\"\",Futterberechnung!G24)","v":""},{"$f":"IF(Futterberechnung!H24=\"\",\"\",Futterberechnung!H24)","v":""},null,"Thr","g",{"$f":"IF(Futterberechnung!$S$30=\"\",\"\",Futterberechnung!$S$30)","v":{"v":6.679788713636363,"d":"6.7"}},{"$f":"IF(Futterberechnung!$S$31=\"\",\"\",Futterberechnung!$S$31)","v":6.6},{"$f":"IF(Futterberechnung!$S$33=\"\",\"\",Futterberechnung!$S$33)","v":6.6},{"$f":"IF(Futterberechnung!$S$34=\"\",\"\",Futterberechnung!$S$34)","v":{"v":0,"d":"0.0"}}]
[null,{"$f":"IF(Futterberechnung!C25=\"\",\"\",Futterberechnung!C25)","v":""},{"$f":"IF(Futterberechnung!E25=\"\",\"\",Futterberechnung!E25)","v":""},{"$f":"IF(Futterberechnung!F25=\"\",\"\",Futterberechnung!F25)","v":""},{"$f":"IF(Futterberechnung!G25=\"\",\"\",Futterberechnung!G25)","v":""},{"$f":"IF(Futterberechnung!H25=\"\",\"\",Futterberechnung!H25)","v":" "},null,"pcv Thr","g",{"$f":"IF(Futterberechnung!$T$30=\"\",\"\",Futterberechnung!$T$30)","v":{"v":5.880503973727272,"d":"5.9"}},{"$f":"IF(Futterberechnung!$T$31=\"\",\"\",Futterberechnung!$T$31)","v":5.8},{"$f":"IF(Futterberechnung!$T$33=\"\",\"\",Futterberechnung!$T$33)","v":5.8},{"$f":"IF(Futterberechnung!$T$34=\"\",\"\",Futterberechnung!$T$34)","v":{"v":0,"d":"0.0"}}]
[null,{"$f":"IF(Futterberechnung!C26=\"\",\"\",Futterberechnung!C26)","v":""},{"$f":"IF(Futterberechnung!E26=\"\",\"\",Futterberechnung!E26)","v":""},{"$f":"IF(Futterberechnung!F26=\"\",\"\",Futterberechnung!F26)","v":""},{"$f":"IF(Futterberechnung!G26=\"\",\"\",Futterberechnung!G26)","v":""},{"$f":"IF(Futterberechnung!H26=\"\",\"\",Futterberechnung!H26)","v":" "},null,"Trp","g",{"$f":"IF(Futterberechnung!$U$30=\"\",\"\",Futterberechnung!$U$30)","v":{"v":2.109185077272727,"d":"2.1"}},{"$f":"IF(Futterberechnung!$U$31=\"\",\"\",Futterberechnung!$U$31)","v":2.1},{"$f":"IF(Futterberechnung!$U$33=\"\",\"\",Futterberechnung!$U$33)","v":1.8},{"$f":"IF(Futterberechnung!$U$34=\"\",\"\",Futterberechnung!$U$34)","v":0.3}]
[null,{"$f":"IF(Futterberechnung!C27=\"\",\"\",Futterberechnung!C27)","v":"Mineralfutter"},{"$f":"IF(Futterberechnung!E27=\"\",\"\",Futterberechnung!E27)","v":""},{"$f":"IF(Futterberechnung!F27=\"\",\"\",Futterberechnung!F27)","v":""},{"$f":"IF(Futterberechnung!G27=\"\",\"\",Futterberechnung!G27)","v":""},{"$f":"IF(Futterberechnung!H27=\"\",\"\",Futterberechnung!H27)","v":""},null,"pcv Trp","g",{"$f":"IF(Futterberechnung!$V$30=\"\",\"\",Futterberechnung!$V$30)","v":{"v":1.7910786464545452,"d":"1.8"}},{"$f":"IF(Futterberechnung!$V$31=\"\",\"\",Futterberechnung!$V$31)","v":1.8},{"$f":"IF(Futterberechnung!$V$33=\"\",\"\",Futterberechnung!$V$33)","v":1.6},{"$f":"IF(Futterberechnung!$V$34=\"\",\"\",Futterberechnung!$V$34)","v":0.2}]
[null,{"$f":"IF(Futterberechnung!C28=\"\",\"\",Futterberechnung!C28)","v":"Optimales MinFu AM 850g TZ 3,5% + Phytase"},{"$f":"IF(Futterberechnung!E28=\"\",\"\",Futterberechnung!E28)","v":{"v":81,"d":"81.00 €"}},{"$f":"IF(Futterberechnung!F28=\"\",\"\",Futterberechnung!F28)","v":{"v":0.035,"d":"3.50%"}},{"$f":"IF(Futterberechnung!G28=\"\",\"\",Futterberechnung!G28)","v":{"v":0.0379429500643675,"d":"3.79%"}},{"$f":"IF(Futterberechnung!H28=\"\",\"\",Futterberechnung!H28)","v":{"v":35,"d":"35 kg"}},null,"Rohfaser (XF)","g",{"$f":"IF(Futterberechnung!$L$30=\"\",\"\",Futterberechnung!$L$30)","v":{"v":36.916000000000004,"d":"37"}},{"$f":"IF(Futterberechnung!$L$31=\"\",\"\",Futterberechnung!$L$31)","v":37},{"$f":"IF(Futterberechnung!$L$33=\"\",\"\",Futterberechnung!$L$33)","v":40},{"$f":"IF(Futterberechnung!$L$34=\"\",\"\",Futterberechnung!$L$34)","v":{"v":-3,"d":"-3 "}}]
[null,{"$f":"IF(Futterberechnung!C29=\"\",\"\",Futterberechnung!C29)","v":""},{"$f":"IF(Futterberechnung!E29=\"\",\"\",Futterberechnung!E29)","v":""},{"$f":"IF(Futterberechnung!F29=\"\",\"\",Futterberechnung!F29)","v":""},{"$f":"IF(Futterberechnung!G29=\"\",\"\",Futterberechnung!G29)","v":""},{"$f":"IF(Futterberechnung!H29=\"\",\"\",Futterberechnung!H29)","v":" "},null,"NDFom","g",{"$f":"IF(Futterberechnung!$V$63=\"\",\"\",Futterberechnung!$V$63)","v":{"v":209.9670688938648,"d":"210"}},{"$f":"IF(Futterberechnung!$V$64=\"\",\"\",Futterberechnung!$V$64)","v":{"v":208.7,"d":"209"}},{"$f":"IF(Futterberechnung!$V$66=0,\"\",Futterberechnung!$V$66)","v":{"v":120,"d":"> 120"}},{"$f":"IF($L$31=\"\",\"\",Futterberechnung!$V$67)","v":89}]
[null,"Futterkosten / Summe / Mischergröße",{"$f":"IF(Futterberechnung!E30=\"\",\"\",Futterberechnung!E30)","v":{"v":19.0427,"d":"19.04 €"}},{"$f":"IF(Futterberechnung!F30=\"\",\"\",Futterberechnung!F30)","v":{"v":1,"d":"100.00%"}},null,{"$f":"IF(F15=\"\",\"\",SUM(F15:F31))","v":{"v":1000,"d":"1000 kg"}},null,"ADFom","g",{"$f":"IF(Futterberechnung!$W$63=\"\",\"\",Futterberechnung!$W$63)","v":{"v":46.67377559834801,"d":"47"}},{"$f":"IF(Futterberechnung!$W$64=\"\",\"\",Futterberechnung!$W$64)","v":{"v":46.4,"d":"46"}},{"$f":"IF(Futterberechnung!$W$66=0,\"\",Futterberechnung!$W$66)","v":{"v":70,"d":"< 70"}},{"$f":"IF($L$32=\"\",\"\",Futterberechnung!$W$67)","v":{"v":-23.6,"d":"-24 "}}]
[null,"Futterkosten auf 88% TM umgerechnet",{"$f":"IF(Futterberechnung!E31=\"\",\"\",Futterberechnung!E31)","v":{"v":18.923567540709623,"d":"18.92 €"}},null,null,{"$f":"IF(Futterberechnung!H31=\"\",\"\",Futterberechnung!H31)","v":""},null,"BfS","g",{"$f":"IF(Futterberechnung!$U$63=\"\",\"\",Futterberechnung!$U$63)","v":{"v":69.56034000000004,"d":"70"}},{"$f":"IF(Futterberechnung!$U$64=\"\",\"\",Futterberechnung!$U$64)","v":{"v":69.1,"d":"69"}},{"$f":"IF(Futterberechnung!$U$66=0,\"\",Futterberechnung!$U$66)","v":""},{"$f":"IF($L$33=\"\",\"\",Futterberechnung!$U$67)","v":""}]
[{"$nulls":7},"Ca","g",{"$f":"IF(Futterberechnung!$W$30=\"\",\"\",Futterberechnung!$W$30)","v":{"v":6.053269999797872,"d":"6.1"}},{"$f":"IF(Futterberechnung!$W$31=\"\",\"\",Futterberechnung!$W$31)","v":{"v":6,"d":"6.0"}},{"$f":"IF(Futterberechnung!$W$33=\"\",\"\",Futterberechnung!$W$33)","v":5.9},{"$f":"IF(Futterberechnung!$W$34=\"\",\"\",Futterberechnung!$W$34)","v":0.1}]
[{"$nulls":7},"P","g",{"$f":"IF(Futterberechnung!$X$30=\"\",\"\",Futterberechnung!$X$30)","v":{"v":4.096218708289598,"d":"4.1"}},{"$f":"IF(Futterberechnung!$X$31=\"\",\"\",Futterberechnung!$X$31)","v":4.1},{"$f":"IF(Futterberechnung!$X$33=\"\",\"\",Futterberechnung!$X$33)","v":4.4},{"$f":"IF(Futterberechnung!$X$34=\"\",\"\",Futterberechnung!$X$34)","v":{"v":-0.3,"d":"-0.3 "}}]
[{"$nulls":7},"v.P","g",{"$f":"IF(Futterberechnung!$Y$30=\"\",\"\",Futterberechnung!$Y$30)","v":{"v":2.1712507017066436,"d":"2.2"}},{"$f":"IF(Futterberechnung!$Y$31=\"\",\"\",Futterberechnung!$Y$31)","v":2.2},{"$f":"IF(Futterberechnung!$Y$33=\"\",\"\",Futterberechnung!$Y$33)","v":2.7},{"$f":"IF(Futterberechnung!$Y$34=\"\",\"\",Futterberechnung!$Y$34)","v":{"v":-0.5,"d":"-0.5 "}}]
[{"$nulls":7},"v.P + Phytase","g",{"$f":"IF(Futterberechnung!$Z$30=\"\",\"\",Futterberechnung!$Z$30)","v":{"v":2.715042160388239,"d":"2.7"}},{"$f":"IF(Futterberechnung!$Z$31=\"\",\"\",Futterberechnung!$Z$31)","v":2.7},{"$f":"IF(Futterberechnung!$Z$33=\"\",\"\",Futterberechnung!$Z$33)","v":2.7},{"$f":"IF(Futterberechnung!$Z$34=\"\",\"\",Futterberechnung!$Z$34)","v":{"v":0,"d":"0.0"}}]
[{"$nulls":7},"Na","g",{"$f":"IF(Futterberechnung!$AB$30=\"\",\"\",Futterberechnung!$AB$30)","v":{"v":1.92269325862069,"d":"1.9"}},{"$f":"IF(Futterberechnung!$AB$31=\"\",\"\",Futterberechnung!$AB$31)","v":1.9},{"$f":"IF(Futterberechnung!$AB$33=\"\",\"\",Futterberechnung!$AB$33)","v":1.8},{"$f":"IF(Futterberechnung!$AB$34=\"\",\"\",Futterberechnung!$AB$34)","v":0.1}]
[{"$nulls":7},"Mg","g",{"$f":"IF(Futterberechnung!$AA$30=\"\",\"\",Futterberechnung!$AA$30)","v":{"v":1.320918042651015,"d":"1.3"}},{"$f":"IF(Futterberechnung!$AA$31=\"\",\"\",Futterberechnung!$AA$31)","v":1.3},{"$f":"IF(Futterberechnung!$AA$33=\"\",\"\",Futterberechnung!$AA$33)","v":{"v":1,"d":"1.0"}},{"$f":"IF(Futterberechnung!$AA$34=\"\",\"\",Futterberechnung!$AA$34)","v":0.3}]
[{"$nulls":7},"Polyensäuren","g",{"$f":"IF(Futterberechnung!$M$63=\"\",\"\",Futterberechnung!$M$63)","v":{"v":14.336589655172414,"d":"14.3"}},{"$f":"IF(Futterberechnung!$M$64=\"\",\"\",Futterberechnung!$M$64)","v":14.2},{"$f":"IF(Futterberechnung!$M$66=\"\",\"\",Futterberechnung!$M$66)","v":{"v":17.7,"d":"< 18"}},{"$f":"IF(Futterberechnung!$M$67=\"\",\"\",Futterberechnung!$M$67)","v":-3.5}]
[{"$nulls":7},"Vit. A","IE",{"$f":"IF(Futterberechnung!$P$63=\"\",\"\",Futterberechnung!$P$63)","v":{"v":6055.000000000001,"d":"6055"}},{"$f":"IF(Futterberechnung!$P$64=\"\",\"\",Futterberechnung!$P$64)","v":6017},{"$f":"IF(Futterberechnung!$P$66=\"\",\"\",Futterberechnung!$P$66)","v":6000},{"$f":"IF(Futterberechnung!$P$67=\"\",\"\",Futterberechnung!$P$67)","v":17}]
[{"$nulls":7},"Vit. D3","IE",{"$f":"IF(Futterberechnung!$Q$63=\"\",\"\",Futterberechnung!$Q$63)","v":{"v":1513.7500000000002,"d":"1514"}},{"$f":"IF(Futterberechnung!$Q$64=\"\",\"\",Futterberechnung!$Q$64)","v":1504},{"$f":"IF(Futterberechnung!$Q$66=\"\",\"\",Futterberechnung!$Q$66)","v":1500},{"$f":"IF(Futterberechnung!$Q$67=\"\",\"\",Futterberechnung!$Q$67)","v":4}]
[{"$nulls":7},"Vit. E","mg",{"$f":"IF(Futterberechnung!$R$63=\"\",\"\",Futterberechnung!$R$63)","v":{"v":61.25000000000001,"d":"61"}},{"$f":"IF(Futterberechnung!$R$64=\"\",\"\",Futterberechnung!$R$64)","v":61},{"$f":"IF(Futterberechnung!$R$66=\"\",\"\",Futterberechnung!$R$66)","v":60},{"$f":"IF(Futterberechnung!$R$67=\"\",\"\",Futterberechnung!$R$67)","v":1}]
[]
[null,"Aminosäurenverhältnis (AS-Verältnis)","pcv M + C","pcv Thr","pcv Trp",null,null,"Ca / P   ","/1",{"$f":"IF(K45=\"\",\"\",K45)","v":{"v":1.4777702146488787,"d":"1.48"}},{"$f":"IF(Futterberechnung!$T$40=\"\",\"\",Futterberechnung!$T$40)","v":{"v":1.4777702146488787,"d":"1.48"}},{"$f":"IF(Futterberechnung!$T$41=\"\",\"\",Futterberechnung!$T$41)","v":1.35},{"$f":"IF(K45=\"\",\"\",K45-L45)","v":{"v":0.1277702146488786,"d":"0.13"}}]
[null,"AS-Verhältnis in der Ration pcv Lysin 1 /",{"$f":"IF(Futterberechnung!N40=\"\",\"\",Futterberechnung!N40)","v":{"v":0.5651135402224077,"d":"0.57 /"}},{"$f":"IF(Futterberechnung!P40=\"\",\"\",Futterberechnung!P40)","v":{"v":0.6489376486054479,"d":"0.65 /"}},{"$f":"IF(Futterberechnung!R40=\"\",\"\",Futterberechnung!R40)","v":{"v":0.1976528492269575,"d":"0.20"}},null,null,"Ca / vP          ","/1",{"v":2.7879185001713016,"d":"2.79"},{"$f":"IF(Futterberechnung!$X$40=\"\",\"\",Futterberechnung!$X$40)","v":{"v":2.7879185001713016,"d":"2.79"}},{"$f":"IF(Futterberechnung!$X$41=\"\",\"\",Futterberechnung!$X$41)","v":{"v":2.2,"d":"2.20"}},{"v":0.5879185001713014,"d":"0.59"}]
[null,"Orientierungswert AS-Verhältnis pcv Lysin 1 /",{"$f":"IF(Futterberechnung!N41=\"\",\"\",Futterberechnung!N41)","v":{"v":0.55,"d":"0.55 /"}},{"$f":"IF(Futterberechnung!P41=\"\",\"\",Futterberechnung!P41)","v":{"v":0.65,"d":"0.65 /"}},{"$f":"IF(Futterberechnung!R41=\"\",\"\",Futterberechnung!R41)","v":0.18},null,null,"Ca / vP + Phytase","/1",{"v":2.2295307557700252,"d":"2.23"},{"$f":"IF(Futterberechnung!$X$39=\"\",\"\",Futterberechnung!$X$39)","v":{"v":2.2295307557700252,"d":"2.23"}},{"$f":"IF(Futterberechnung!$X$41=\"\",\"\",Futterberechnung!$X$41)","v":{"v":2.2,"d":"2.20"}},{"v":0.029530755770025063,"d":"0.03"}]
[null,"Differenz",{"$f":"IF(C46=\"\",\"\",C46-C47)","v":{"v":0.015113540222407629,"d":"0.02"}},{"$f":"IF(D46=\"\",\"\",D46-D47)","v":{"v":-1.0623513945521301E-3,"d":"-0.00"}},{"$f":"IF(E46=\"\",\"\",E46-E47)","v":{"v":0.017652849226957507,"d":"0.02"}},null,null,"Lys / MES EFF*","g/MJ",{"v":0.7657316148597423,"d":"0.77"},{"$f":"IF(Futterberechnung!$F$40=\"\",\"\",Futterberechnung!$F$40)","v":{"v":0.7657316148597423,"d":"0.77"}},{"$f":"IF(Futterberechnung!$F$41=\"\",\"\",Futterberechnung!$F$41)","v":0.77},{"v":-4.2683851402577355E-3,"d":"-0.00 "}]
[{"$nulls":7},"pcv Lys / MES EFF*","g/MJ",{"v":0.6823351023502654,"d":"0.68"},{"$f":"IF(Futterberechnung!$I$40=\"\",\"\",Futterberechnung!$I$40)","v":{"v":0.6823351023502654,"d":"0.68"}},{"$f":"IF(Futterberechnung!$I$41=\"\",\"\",Futterberechnung!$I$41)","v":0.68},{"v":0.00233510235026535,"d":"0.00"}]
[{"$nulls":7},"Lys in 100g RP","g",{"v":5.521472392638037,"d":"5.52"},{"$f":"IF(Futterberechnung!$AA$40=\"\",\"\",Futterberechnung!$AA$40)","v":{"v":5.521472392638037,"d":"5.52"}},{"$f":"IF(Futterberechnung!$AA$41=\"\",\"\",Futterberechnung!$AA$41)","v":5.46},{"v":0.06147239263803694,"d":"0.06"}]
[{"$nulls":7},"Kosten / 10 MJ MES EFF*",null,{"$f":"IF(Futterberechnung!$M$31=\"\",\"\",$C$32/100/Futterberechnung!$M$30*10)","v":{"v":0.14347997140808047,"d":"0.14 €"}},{"$f":"IF(Futterberechnung!$M$31=\"\",\"\",$C$33/100/Futterberechnung!$M$31*10)","v":{"v":0.14346904883024733,"d":"0.14 €"}}]
[]
[{"$nulls":7},"* EFF=Einzelfutterformel und MFF=Mischfutterformel (EFF ist genauer!)"]
[null,"KAB oder DCAB oder BE in 100% TM der Ration",{"$f":"IF(Futterberechnung!S64=\"\",\"\",Futterberechnung!S64/88*100)","v":{"v":339.7727272727273,"d":"340"}}]
[null,"Harn-pH bei Fütterung dieser Ration",{"$f":"IF(C54=\"\",\"\",6.19+0.0031*C54+3*10^-6*C54^2)","v":{"v":7.589631973140497,"d":"7.6"}}]
[]
[null,"Basenüberschuß (BE)",null,"Harn pH"]
[null,"100 % TM"," in 88 %TM"]
[null,500,{"$f":"B59*0.88","v":440},8.5]
[null,400,{"$f":"B60*0.88","v":352},7.9]
[null,300,264,7.4]
[null,200,176,6.9]
[null,100,88,6.5]
[null,0,0,6.2]
[null,-100,-88,5.9]
[null,-200,-176,5.7]
[null,-400,-352,5.4]

{"sheet":"Futterberechnung","index":3,"n_rows":67,"n_cols":29,"rows_kept":67,"merged":[[2,25,3,28],[3,2,3,3],[4,7,4,17],[4,25,4,28],[5,7,5,17],[5,25,5,28],[6,7,6,14],[6,15,6,21],[6,25,6,28],[7,9,7,20],[7,25,7,28],[11,2,11,3],[11,8,11,11],[11,12,11,13],[11,14,11,27],[12,2,12,3],[13,2,13,3],[14,2,14,3],[15,2,15,3],[16,2,16,3],[17,2,17,3],[18,2,18,3],[19,2,19,3],[20,2,20,3],[21,2,21,3],[22,2,22,3],[26,2,26,3],[27,2,27,3],[28,2,28,3],[29,2,29,3],[30,2,30,3],[31,2,31,4],[32,2,32,3],[33,2,33,3],[34,1,34,4],[37,1,38,1],[37,23,37,24],[38,5,38,6],[38,8,38,9],[38,11,38,17],[38,19,38,20],[38,25,38,28],[39,2,39,3],[40,2,40,3],[44,2,44,3],[44,6,44,14],[44,15,44,19],[44,20,44,26],[45,2,45,3],[46,2,46,3],[47,2,47,3],[48,2,48,3],[49,2,49,3],[50,2,50,3],[51,2,51,3],[52,2,52,3],[53,2,53,3],[54,2,54,3],[55,2,55,3],[59,2,59,3],[60,2,60,3],[61,2,61,3],[62,2,62,3],[63,2,63,3],[64,2,64,4],[65,2,65,3],[66,2,66,3]]}
[]
[]
[{"$nulls":25},"Ausgabe XXII Okt. 2016"]
[null,null,"Landesbetrieb Landwirtschaft Hessen (LLH)"]
[null,null,"Zentrale Kassel",null,"Betrieb:",null,null,"Mustermann",{"$nulls":15},"Datum:",null,{"$f":"TODAY()","v":"2016-11-07"}]
[{"$nulls":4},"Berater:",null,null,"……………………………………………………….",{"$nulls":15},"Tel.Nr.:",null,"……………………………"]
[{"$nulls":4},"Futtermischung für:",null,null,{"$f":"C33&\" \"","v":"Anfangsmast ab 40 Kg LM für 850 g TZ* "},{"$nulls":7},"…………………………………………………………..",{"$nulls":7},"Tel.Nr.:",null,"……………………………"]
[{"$nulls":4},"Mischergröße in t:",null,null,1,null,{"$f":"IF(OR(B10=\"m\",B10=\"w\",'Futterkurve Mast'!T6=\"HP\"),Orientierungswerte!D26,\"\")","v":""},{"$nulls":13},"gültig bis:",null,"……………………………"]
[]
[null,null,"Geschlecht"]
[{"$nulls":4},"Netto-Preis ","Anteil in FM","Anteil bei 88% TM","in Mi-scher","TM","Roh-pro-tein XP","pcv XP","Roh-faser XF","ME EFF","ME MFF","Lys","pcv Lys","M&C","pcv M+C","Thr","pcv Thr","Trp","pcv Trp","Ca","P","v. P","v. P m. Phy","Mg","Na","€/dt"]
[null,"FM-Nr.","Futtermittel + % RP in der FM",null,"€/dt","%","%","kg","Anteil in g/kg",{"$nulls":3},"MJ/kg",null,"Anteile in g je kg",{"$nulls":13},"Anteil"]
[null,{"$f":"IF($C13=\"\",\" \",VLOOKUP($C13,Futtermittel!$A$8:$CG$171,2,FALSE))","v":49},"eigener Weizen 11% RP Ø 2016",null,{"v":12.68,"d":"12.68 €"},{"v":0.52,"d":"52.00%"},{"$f":"IF(F13=\"\",\"\",I13/I$30)","v":{"v":0.516746843733767,"d":"51.67%"}},{"$f":"IF(F13=\"\",\" \",$H$8*F13*1000)","v":{"v":520,"d":"520.0"}},{"$f":"IF($C13=\"\",\" \",VLOOKUP($C13,Futtermittel!$A$8:$CG$171,8,FALSE)*$F13)","v":{"v":457.6,"d":"458"}},{"$f":"IF($C13=\"\",\" \",VLOOKUP($C13,Futtermittel!$A$8:$CG$171,9,FALSE)*$F13)","v":{"v":56.42,"d":"56"}},{"$f":"IF($C13=\"\",\" \",VLOOKUP($C13,Futtermittel!$A$8:$CG$171,10,FALSE)*$F13)","v":{"v":50.778000000000006,"d":"51"}},{"$f":"IF($C13=\"\",\" \",VLOOKUP($C13,Futtermittel!$A$8:$CG$171,11,FALSE)*$F13)","v":{"v":13.624,"d":"14"}},{"$f":"IF($C13=\"\",\" \",VLOOKUP($C13,Futtermittel!$A$8:$CG$171,12,FALSE)*$F13)","v":{"v":7.114479996,"d":"7.11"}},{"$f":"IF($C13=\"\",\" \",VLOOKUP(C13,Futtermittel!$A$8:$CG$171,13,FALSE)*$F13)","v":{"v":7.162573652000002,"d":"7.16"}},{"$f":"IF($C13=\"\",\" \",VLOOKUP($C13,Futtermittel!$A$8:$CG$171,14,FALSE)*$F13)","v":{"v":1.6144440000000002,"d":"1.6"}},{"$f":"IF($C13=\"\",\" \",VLOOKUP($C13,Futtermittel!$A$8:$CG$171,15,FALSE)*$F13)","v":{"v":1.4207107200000002,"d":"1.4"}},{"$f":"IF($C13=\"\",\" \",VLOOKUP($C13,Futtermittel!$A$8:$CG$171,16,FALSE)*$F13)","v":{"v":2.1108100000000003,"d":"2.1"}},{"$f":"IF($C13=\"\",\" \",VLOOKUP($C13,Futtermittel!$A$8:$CG$171,17,FALSE)*$F13)","v":{"v":1.906765033333334,"d":"1.9"}},{"$f":"IF($C13=\"\",\" \",VLOOKUP($C13,Futtermittel!$A$8:$CG$171,18,FALSE)*$F13)","v":{"v":1.6057860000000002,"d":"1.6"}},{"$f":"IF($C13=\"\",\" \",VLOOKUP($C13,Futtermittel!$A$8:$CG$171,19,FALSE)*$F13)","v":{"v":1.4452074000000004,"d":"1.4"}},{"$f":"IF($C13=\"\",\" \",VLOOKUP($C13,Futtermittel!$A$8:$CG$171,20,FALSE)*$F13)","v":{"v":0.7450820000000001,"d":"0.7"}},{"$f":"IF($C13=\"\",\" \",VLOOKUP($C13,Futtermittel!$A$8:$CG$171,21,FALSE)*$F13)","v":{"v":0.6556721600000001,"d":"0.7"}},{"$f":"IF($C13=\"\",\" \",VLOOKUP($C13,Futtermittel!$A$8:$CG$171,22,FALSE)*$F13)","v":{"v":0.364,"d":"0.4"}},{"$f":"IF($C13=\"\",\" \",VLOOKUP($C13,Futtermittel!$A$8:$CG$171,23,FALSE)*$F13)","v":{"v":1.716,"d":"1.7"}},{"$f":"IF($C13=\"\",\" \",VLOOKUP($C13,Futtermittel!$A$8:$CG$171,24,FALSE)*$F13)","v":{"v":1.0295999999999998,"d":"1.0"}},{"$f":"IF($C13=\"\",\" \",VLOOKUP($C13,Futtermittel!$A$8:$CG$171,25,FALSE)*$F13)","v":{"v":1.1154,"d":"1.1"}},{"$f":"IF($C13=\"\",\" \",VLOOKUP($C13,Futtermittel!$A$8:$CG$171,26,FALSE)*$F13)","v":{"v":0.5720000000000001,"d":"0.6"}},{"$f":"IF($C13=\"\",\" \",VLOOKUP($C13,Futtermittel!$A$8:$CG$171,27,FALSE)*$F13)","v":{"v":0.10400000000000001,"d":"0.1"}},{"$f":"IF(E13*F13=0,\" \",E13*F13)","v":{"v":6.5936,"d":"6.59 €"}}]
[null,{"$f":"IF($C14=\"\",\" \",VLOOKUP($C14,Futtermittel!$A$8:$CG$171,2,FALSE))","v":11},"eigene Gerste 11% RP Ø 2016",null,{"v":11.22,"d":"11.22 €"},{"v":0.28,"d":"28.00%"},{"$f":"IF(F14=\"\",\"\",I14/I$30)","v":{"v":0.27824830047202836,"d":"27.82%"}},{"$f":"IF(F14=\"\",\" \",$H$8*F14*1000)","v":{"v":280,"d":"280.0"}},{"$f":"IF($C14=\"\",\" \",VLOOKUP($C14,Futtermittel!$A$8:$CG$171,8,FALSE)*$F14)","v":{"v":246.40000000000003,"d":"246"}},{"$f":"IF($C14=\"\",\" \",VLOOKUP($C14,Futtermittel!$A$8:$CG$171,9,FALSE)*$F14)","v":{"v":30.184,"d":"30"}},{"$f":"IF($C14=\"\",\" \",VLOOKUP($C14,Futtermittel!$A$8:$CG$171,10,FALSE)*$F14)","v":{"v":22.034320000000005,"d":"22"}},{"$f":"IF($C14=\"\",\" \",VLOOKUP($C14,Futtermittel!$A$8:$CG$171,11,FALSE)*$F14)","v":{"v":15.232000000000001,"d":"15"}},{"$f":"IF($C14=\"\",\" \",VLOOKUP($C14,Futtermittel!$A$8:$CG$171,12,FALSE)*$F14)","v":{"v":3.520320384,"d":"3.52"}},{"$f":"IF($C14=\"\",\" \",VLOOKUP(C14,Futtermittel!$A$8:$CG$171,13,FALSE)*$F14)","v":{"v":3.532556104000001,"d":"3.53"}},{"$f":"IF($C14=\"\",\" \",VLOOKUP($C14,Futtermittel!$A$8:$CG$171,14,FALSE)*$F14)","v":{"v":1.0776136,"d":"1.1"}},{"$f":"IF($C14=\"\",\" \",VLOOKUP($C14,Futtermittel!$A$8:$CG$171,15,FALSE)*$F14)","v":{"v":0.7866579280000001,"d":"0.8"}},{"$f":"IF($C14=\"\",\" \",VLOOKUP($C14,Futtermittel!$A$8:$CG$171,16,FALSE)*$F14)","v":{"v":1.1326784,"d":"1.1"}},{"$f":"IF($C14=\"\",\" \",VLOOKUP($C14,Futtermittel!$A$8:$CG$171,17,FALSE)*$F14)","v":{"v":0.9484691233684213,"d":"0.9"}},{"$f":"IF($C14=\"\",\" \",VLOOKUP($C14,Futtermittel!$A$8:$CG$171,18,FALSE)*$F14)","v":{"v":0.9984576000000002,"d":"1.0"}},{"$f":"IF($C14=\"\",\" \",VLOOKUP($C14,Futtermittel!$A$8:$CG$171,19,FALSE)*$F14)","v":{"v":0.7588277760000001,"d":"0.8"}},{"$f":"IF($C14=\"\",\" \",VLOOKUP($C14,Futtermittel!$A$8:$CG$171,20,FALSE)*$F14)","v":{"v":0.37722160000000005,"d":"0.4"}},{"$f":"IF($C14=\"\",\" \",VLOOKUP($C14,Futtermittel!$A$8:$CG$171,21,FALSE)*$F14)","v":{"v":0.28668841600000006,"d":"0.3"}},{"$f":"IF($C14=\"\",\" \",VLOOKUP($C14,Futtermittel!$A$8:$CG$171,22,FALSE)*$F14)","v":{"v":0.12073600000000002,"d":"0.1"}},{"$f":"IF($C14=\"\",\" \",VLOOKUP($C14,Futtermittel!$A$8:$CG$171,23,FALSE)*$F14)","v":{"v":0.9912643678160921,"d":"1.0"}},{"$f":"IF($C14=\"\",\" \",VLOOKUP($C14,Futtermittel!$A$8:$CG$171,24,FALSE)*$F14)","v":{"v":0.44606896551724146,"d":"0.4"}},{"$f":"IF($C14=\"\",\" \",VLOOKUP($C14,Futtermittel!$A$8:$CG$171,25,FALSE)*$F14)","v":{"v":0.6443218390804598,"d":"0.6"}},{"$f":"IF($C14=\"\",\" \",VLOOKUP($C14,Futtermittel!$A$8:$CG$171,26,FALSE)*$F14)","v":{"v":0.31154022988505753,"d":"0.3"}},{"$f":"IF($C14=\"\",\" \",VLOOKUP($C14,Futtermittel!$A$8:$CG$171,27,FALSE)*$F14)","v":{"v":0.04248275862068966,"d":"0.0"}},{"$f":"IF(E14*F14=0,\" \",E14*F14)","v":{"v":3.1416000000000004,"d":"3.14 €"}}]
[null,{"$f":"IF($C15=\"\",\" \",VLOOKUP($C15,Futtermittel!$A$8:$CG$171,2,FALSE))","v":100},"Sojaschrot HP 47% RP ",null,{"v":35.5,"d":"35.50 €"},{"v":0.155,"d":"15.50%"},{"$f":"IF(F15=\"\",\"\",I15/I$30)","v":{"v":0.155780653612485,"d":"15.58%"}},{"v":155,"d":"155.0"},{"$f":"IF($C15=\"\",\" \",VLOOKUP($C15,Futtermittel!$A$8:$CG$171,8,FALSE)*$F15)","v":{"v":137.95,"d":"138"}},{"$f":"IF($C15=\"\",\" \",VLOOKUP($C15,Futtermittel!$A$8:$CG$171,9,FALSE)*$F15)","v":{"v":72.85,"d":"73"}},{"$f":"IF($C15=\"\",\" \",VLOOKUP($C15,Futtermittel!$A$8:$CG$171,10,FALSE)*$F15)","v":{"v":59.736999999999995,"d":"60"}},{"$f":"IF($C15=\"\",\" \",VLOOKUP($C15,Futtermittel!$A$8:$CG$171,11,FALSE)*$F15)","v":{"v":8.06,"d":"8"}},{"$f":"IF($C15=\"\",\" \",VLOOKUP($C15,Futtermittel!$A$8:$CG$171,12,FALSE)*$F15)","v":{"v":2.1478540649999998,"d":"2.15"}},{"$f":"IF($C15=\"\",\" \",VLOOKUP(C15,Futtermittel!$A$8:$CG$171,13,FALSE)*$F15)","v":{"v":2.145413745,"d":"2.15"}},{"$f":"IF($C15=\"\",\" \",VLOOKUP($C15,Futtermittel!$A$8:$CG$171,14,FALSE)*$F15)","v":{"v":4.459047045454545,"d":"4.5"}},{"$f":"IF($C15=\"\",\" \",VLOOKUP($C15,Futtermittel!$A$8:$CG$171,15,FALSE)*$F15)","v":{"v":3.8793709295454537,"d":"3.9"}},{"$f":"IF($C15=\"\",\" \",VLOOKUP($C15,Futtermittel!$A$8:$CG$171,16,FALSE)*$F15)","v":{"v":2.0478212499999997,"d":"2.0"}},{"$f":"IF($C15=\"\",\" \",VLOOKUP($C15,Futtermittel!$A$8:$CG$171,17,FALSE)*$F15)","v":{"v":1.705677576538461,"d":"1.7"}},{"$f":"IF($C15=\"\",\" \",VLOOKUP($C15,Futtermittel!$A$8:$CG$171,18,FALSE)*$F15)","v":{"v":2.8505451136363633,"d":"2.9"}},{"$f":"IF($C15=\"\",\" \",VLOOKUP($C15,Futtermittel!$A$8:$CG$171,19,FALSE)*$F15)","v":{"v":2.4514687977272724,"d":"2.5"}},{"$f":"IF($C15=\"\",\" \",VLOOKUP($C15,Futtermittel!$A$8:$CG$171,20,FALSE)*$F15)","v":{"v":0.986881477272727,"d":"1.0"}},{"$f":"IF($C15=\"\",\" \",VLOOKUP($C15,Futtermittel!$A$8:$CG$171,21,FALSE)*$F15)","v":{"v":0.8487180704545452,"d":"0.8"}},{"$f":"IF($C15=\"\",\" \",VLOOKUP($C15,Futtermittel!$A$8:$CG$171,22,FALSE)*$F15)","v":{"v":0.49353399979787244,"d":"0.5"}},{"$f":"IF($C15=\"\",\" \",VLOOKUP($C15,Futtermittel!$A$8:$CG$171,23,FALSE)*$F15)","v":{"v":1.038954340473506,"d":"1.0"}},{"$f":"IF($C15=\"\",\" \",VLOOKUP($C15,Futtermittel!$A$8:$CG$171,24,FALSE)*$F15)","v":{"v":0.4155817361894024,"d":"0.4"}},{"$f":"IF($C15=\"\",\" \",VLOOKUP($C15,Futtermittel!$A$8:$CG$171,25,FALSE)*$F15)","v":{"v":0.675320321307779,"d":"0.7"}},{"$f":"IF($C15=\"\",\" \",VLOOKUP($C15,Futtermittel!$A$8:$CG$171,26,FALSE)*$F15)","v":{"v":0.43737781276595744,"d":"0.4"}},{"$f":"IF($C15=\"\",\" \",VLOOKUP($C15,Futtermittel!$A$8:$CG$171,27,FALSE)*$F15)","v":{"v":0.0262105,"d":"0.0"}},{"v":5.5025,"d":"5.50 €"}]
[null,{"$f":"IF($C16=\"\",\" \",VLOOKUP($C16,Futtermittel!$A$8:$CG$171,2,FALSE))","v":140},"Rapsöl / Pflanzenöl DLG 2014",null,{"v":97,"d":"97.00 €"},{"v":0.01,"d":"1.00%"},{"v":0.011281252117352123,"d":"1.13%"},{"v":10,"d":"10.0"},{"$f":"IF($C16=\"\",\" \",VLOOKUP($C16,Futtermittel!$A$8:$CG$171,8,FALSE)*$F16)","v":{"v":9.99,"d":"10"}},{"$f":"IF($C16=\"\",\" \",VLOOKUP($C16,Futtermittel!$A$8:$CG$171,9,FALSE)*$F16)","v":0},{"$f":"IF($C16=\"\",\" \",VLOOKUP($C16,Futtermittel!$A$8:$CG$171,10,FALSE)*$F16)","v":0},{"$f":"IF($C16=\"\",\" \",VLOOKUP($C16,Futtermittel!$A$8:$CG$171,11,FALSE)*$F16)","v":0},{"$f":"IF($C16=\"\",\" \",VLOOKUP($C16,Futtermittel!$A$8:$CG$171,12,FALSE)*$F16)","v":{"v":0.38925992000000004,"d":"0.39"}},{"$f":"IF($C16=\"\",\" \",VLOOKUP(C16,Futtermittel!$A$8:$CG$171,13,FALSE)*$F16)","v":{"v":0.32432006,"d":"0.32"}},{"$f":"IF($C16=\"\",\" \",VLOOKUP($C16,Futtermittel!$A$8:$CG$171,14,FALSE)*$F16)","v":{"v":0,"d":"0.0"}},{"$f":"IF($C16=\"\",\" \",VLOOKUP($C16,Futtermittel!$A$8:$CG$171,15,FALSE)*$F16)","v":{"v":0,"d":"0.0"}},{"$f":"IF($C16=\"\",\" \",VLOOKUP($C16,Futtermittel!$A$8:$CG$171,16,FALSE)*$F16)","v":{"v":0,"d":"0.0"}},{"$f":"IF($C16=\"\",\" \",VLOOKUP($C16,Futtermittel!$A$8:$CG$171,17,FALSE)*$F16)","v":{"v":0,"d":"0.0"}},{"$f":"IF($C16=\"\",\" \",VLOOKUP($C16,Futtermittel!$A$8:$CG$171,18,FALSE)*$F16)","v":{"v":0,"d":"0.0"}},{"$f":"IF($C16=\"\",\" \",VLOOKUP($C16,Futtermittel!$A$8:$CG$171,19,FALSE)*$F16)","v":{"v":0,"d":"0.0"}},{"$f":"IF($C16=\"\",\" \",VLOOKUP($C16,Futtermittel!$A$8:$CG$171,20,FALSE)*$F16)","v":{"v":0,"d":"0.0"}},{"$f":"IF($C16=\"\",\" \",VLOOKUP($C16,Futtermittel!$A$8:$CG$171,21,FALSE)*$F16)","v":{"v":0,"d":"0.0"}},{"$f":"IF($C16=\"\",\" \",VLOOKUP($C16,Futtermittel!$A$8:$CG$171,22,FALSE)*$F16)","v":{"v":0,"d":"0.0"}},{"$f":"IF($C16=\"\",\" \",VLOOKUP($C16,Futtermittel!$A$8:$CG$171,23,FALSE)*$F16)","v":{"v":0,"d":"0.0"}},{"$f":"IF($C16=\"\",\" \",VLOOKUP($C16,Futtermittel!$A$8:$CG$171,24,FALSE)*$F16)","v":{"v":0,"d":"0.0"}},{"$f":"IF($C16=\"\",\" \",VLOOKUP($C16,Futtermittel!$A$8:$CG$171,25,FALSE)*$F16)","v":{"v":0,"d":"0.0"}},{"$f":"IF($C16=\"\",\" \",VLOOKUP($C16,Futtermittel!$A$8:$CG$171,26,FALSE)*$F16)","v":{"v":0,"d":"0.0"}},{"$f":"IF($C16=\"\",\" \",VLOOKUP($C16,Futtermittel!$A$8:$CG$171,27,FALSE)*$F16)","v":{"v":0,"d":"0.0"}},{"v":0.97,"d":"0.97 €"}]
[null,{"$f":"IF($C17=\"\",\" \",VLOOKUP($C17,Futtermittel!$A$8:$CG$171,2,FALSE))","v":" "},{"$nulls":4},""," ",{"$f":"IF($C17=\"\",\" \",VLOOKUP($C17,Futtermittel!$A$8:$CG$171,8,FALSE)*$F17)","v":" "},{"$f":"IF($C17=\"\",\" \",VLOOKUP($C17,Futtermittel!$A$8:$CG$171,9,FALSE)*$F17)","v":" "},{"$f":"IF($C17=\"\",\" \",VLOOKUP($C17,Futtermittel!$A$8:$CG$171,10,FALSE)*$F17)","v":" "},{"$f":"IF($C17=\"\",\" \",VLOOKUP($C17,Futtermittel!$A$8:$CG$171,11,FALSE)*$F17)","v":" "},{"$f":"IF($C17=\"\",\" \",VLOOKUP($C17,Futtermittel!$A$8:$CG$171,12,FALSE)*$F17)","v":" "},{"$f":"IF($C17=\"\",\" \",VLOOKUP(C17,Futtermittel!$A$8:$CG$171,13,FALSE)*$F17)","v":" "},{"$f":"IF($C17=\"\",\" \",VLOOKUP($C17,Futtermittel!$A$8:$CG$171,14,FALSE)*$F17)","v":" "},{"$f":"IF($C17=\"\",\" \",VLOOKUP($C17,Futtermittel!$A$8:$CG$171,15,FALSE)*$F17)","v":" "},{"$f":"IF($C17=\"\",\" \",VLOOKUP($C17,Futtermittel!$A$8:$CG$171,16,FALSE)*$F17)","v":" "},{"$f":"IF($C17=\"\",\" \",VLOOKUP($C17,Futtermittel!$A$8:$CG$171,17,FALSE)*$F17)","v":" "},{"$f":"IF($C17=\"\",\" \",VLOOKUP($C17,Futtermittel!$A$8:$CG$171,18,FALSE)*$F17)","v":" "},{"$f":"IF($C17=\"\",\" \",VLOOKUP($C17,Futtermittel!$A$8:$CG$171,19,FALSE)*$F17)","v":" "},{"$f":"IF($C17=\"\",\" \",VLOOKUP($C17,Futtermittel!$A$8:$CG$171,20,FALSE)*$F17)","v":" "},{"$f":"IF($C17=\"\",\" \",VLOOKUP($C17,Futtermittel!$A$8:$CG$171,21,FALSE)*$F17)","v":" "},{"$f":"IF($C17=\"\",\" \",VLOOKUP($C17,Futtermittel!$A$8:$CG$171,22,FALSE)*$F17)","v":" "},{"$f":"IF($C17=\"\",\" \",VLOOKUP($C17,Futtermittel!$A$8:$CG$171,23,FALSE)*$F17)","v":" "},{"$f":"IF($C17=\"\",\" \",VLOOKUP($C17,Futtermittel!$A$8:$CG$171,24,FALSE)*$F17)","v":" "},{"$f":"IF($C17=\"\",\" \",VLOOKUP($C17,Futtermittel!$A$8:$CG$171,25,FALSE)*$F17)","v":" "},{"$f":"IF($C17=\"\",\" \",VLOOKUP($C17,Futtermittel!$A$8:$CG$171,26,FALSE)*$F17)","v":" "},{"$f":"IF($C17=\"\",\" \",VLOOKUP($C17,Futtermittel!$A$8:$CG$171,27,FALSE)*$F17)","v":" "}," "]
[null,{"$f":"IF($C18=\"\",\" \",VLOOKUP($C18,Futtermittel!$A$8:$CG$171,2,FALSE))","v":" "},{"$nulls":4},""," ",{"$f":"IF($C18=\"\",\" \",VLOOKUP($C18,Futtermittel!$A$8:$CG$171,8,FALSE)*$F18)","v":" "},{"$f":"IF($C18=\"\",\" \",VLOOKUP($C18,Futtermittel!$A$8:$CG$171,9,FALSE)*$F18)","v":" "},{"$f":"IF($C18=\"\",\" \",VLOOKUP($C18,Futtermittel!$A$8:$CG$171,10,FALSE)*$F18)","v":" "},{"$f":"IF($C18=\"\",\" \",VLOOKUP($C18,Futtermittel!$A$8:$CG$171,11,FALSE)*$F18)","v":" "},{"$f":"IF($C18=\"\",\" \",VLOOKUP($C18,Futtermittel!$A$8:$CG$171,12,FALSE)*$F18)","v":" "},{"$f":"IF($C18=\"\",\" \",VLOOKUP(C18,Futtermittel!$A$8:$CG$171,13,FALSE)*$F18)","v":" "},{"$f":"IF($C18=\"\",\" \",VLOOKUP($C18,Futtermittel!$A$8:$CG$171,14,FALSE)*$F18)","v":" "},{"$f":"IF($C18=\"\",\" \",VLOOKUP($C18,Futtermittel!$A$8:$CG$171,15,FALSE)*$F18)","v":" "},{"$f":"IF($C18=\"\",\" \",VLOOKUP($C18,Futtermittel!$A$8:$CG$171,16,FALSE)*$F18)","v":" "},{"$f":"IF($C18=\"\",\" \",VLOOKUP($C18,Futtermittel!$A$8:$CG$171,17,FALSE)*$F18)","v":" "},{"$f":"IF($C18=\"\",\" \",VLOOKUP($C18,Futtermittel!$A$8:$CG$171,18,FALSE)*$F18)","v":" "},{"$f":"IF($C18=\"\",\" \",VLOOKUP($C18,Futtermittel!$A$8:$CG$171,19,FALSE)*$F18)","v":" "},{"$f":"IF($C18=\"\",\" \",VLOOKUP($C18,Futtermittel!$A$8:$CG$171,20,FALSE)*$F18)","v":" "},{"$f":"IF($C18=\"\",\" \",VLOOKUP($C18,Futtermittel!$A$8:$CG$171,21,FALSE)*$F18)","v":" "},{"$f":"IF($C18=\"\",\" \",VLOOKUP($C18,Futtermittel!$A$8:$CG$171,22,FALSE)*$F18)","v":" "},{"$f":"IF($C18=\"\",\" \",VLOOKUP($C18,Futtermittel!$A$8:$CG$171,23,FALSE)*$F18)","v":" "},{"$f":"IF($C18=\"\",\" \",VLOOKUP($C18,Futtermittel!$A$8:$CG$171,24,FALSE)*$F18)","v":" "},{"$f":"IF($C18=\"\",\" \",VLOOKUP($C18,Futtermittel!$A$8:$CG$171,25,FALSE)*$F18)","v":" "},{"$f":"IF($C18=\"\",\" \",VLOOKUP($C18,Futtermittel!$A$8:$CG$171,26,FALSE)*$F18)","v":" "},{"$f":"IF($C18=\"\",\" \",VLOOKUP($C18,Futtermittel!$A$8:$CG$171,27,FALSE)*$F18)","v":" "}," "]
[null,{"$f":"IF($C19=\"\",\" \",VLOOKUP($C19,Futtermittel!$A$8:$CG$171,2,FALSE))","v":" "},{"$nulls":4},""," ",{"$f":"IF($C19=\"\",\" \",VLOOKUP($C19,Futtermittel!$A$8:$CG$171,8,FALSE)*$F19)","v":" "},{"$f":"IF($C19=\"\",\" \",VLOOKUP($C19,Futtermittel!$A$8:$CG$171,9,FALSE)*$F19)","v":" "},{"$f":"IF($C19=\"\",\" \",VLOOKUP($C19,Futtermittel!$A$8:$CG$171,10,FALSE)*$F19)","v":" "},{"$f":"IF($C19=\"\",\" \",VLOOKUP($C19,Futtermittel!$A$8:$CG$171,11,FALSE)*$F19)","v":" "},{"$f":"IF($C19=\"\",\" \",VLOOKUP($C19,Futtermittel!$A$8:$CG$171,12,FALSE)*$F19)","v":" "},{"$f":"IF($C19=\"\",\" \",VLOOKUP(C19,Futtermittel!$A$8:$CG$171,13,FALSE)*$F19)","v":" "},{"$f":"IF($C19=\"\",\" \",VLOOKUP($C19,Futtermittel!$A$8:$CG$171,14,FALSE)*$F19)","v":" "},{"$f":"IF($C19=\"\",\" \",VLOOKUP($C19,Futtermittel!$A$8:$CG$171,15,FALSE)*$F19)","v":" "},{"$f":"IF($C19=\"\",\" \",VLOOKUP($C19,Futtermittel!$A$8:$CG$171,16,FALSE)*$F19)","v":" "},{"$f":"IF($C19=\"\",\" \",VLOOKUP($C19,Futtermittel!$A$8:$CG$171,17,FALSE)*$F19)","v":" "},{"$f":"IF($C19=\"\",\" \",VLOOKUP($C19,Futtermittel!$A$8:$CG$171,18,FALSE)*$F19)","v":" "},{"$f":"IF($C19=\"\",\" \",VLOOKUP($C19,Futtermittel!$A$8:$CG$171,19,FALSE)*$F19)","v":" "},{"$f":"IF($C19=\"\",\" \",VLOOKUP($C19,Futtermittel!$A$8:$CG$171,20,FALSE)*$F19)","v":" "},{"$f":"IF($C19=\"\",\" \",VLOOKUP($C19,Futtermittel!$A$8:$CG$171,21,FALSE)*$F19)","v":" "},{"$f":"IF($C19=\"\",\" \",VLOOKUP($C19,Futtermittel!$A$8:$CG$171,22,FALSE)*$F19)","v":" "},{"$f":"IF($C19=\"\",\" \",VLOOKUP($C19,Futtermittel!$A$8:$CG$171,23,FALSE)*$F19)","v":" "},{"$f":"IF($C19=\"\",\" \",VLOOKUP($C19,Futtermittel!$A$8:$CG$171,24,FALSE)*$F19)","v":" "},{"$f":"IF($C19=\"\",\" \",VLOOKUP($C19,Futtermittel!$A$8:$CG$171,25,FALSE)*$F19)","v":" "},{"$f":"IF($C19=\"\",\" \",VLOOKUP($C19,Futtermittel!$A$8:$CG$171,26,FALSE)*$F19)","v":" "},{"$f":"IF($C19=\"\",\" \",VLOOKUP($C19,Futtermittel!$A$8:$CG$171,27,FALSE)*$F19)","v":" "},{"$f":"IF(E19*F19=0,\" \",E19*F19)","v":" "}]
[null,{"$f":"IF($C20=\"\",\" \",VLOOKUP($C20,Futtermittel!$A$8:$CG$171,2,FALSE))","v":" "},{"$nulls":4},""," ",{"$f":"IF($C20=\"\",\" \",VLOOKUP($C20,Futtermittel!$A$8:$CG$171,8,FALSE)*$F20)","v":" "},{"$f":"IF($C20=\"\",\" \",VLOOKUP($C20,Futtermittel!$A$8:$CG$171,9,FALSE)*$F20)","v":" "},{"$f":"IF($C20=\"\",\" \",VLOOKUP($C20,Futtermittel!$A$8:$CG$171,10,FALSE)*$F20)","v":" "},{"$f":"IF($C20=\"\",\" \",VLOOKUP($C20,Futtermittel!$A$8:$CG$171,11,FALSE)*$F20)","v":" "},{"$f":"IF($C20=\"\",\" \",VLOOKUP($C20,Futtermittel!$A$8:$CG$171,12,FALSE)*$F20)","v":" "},{"$f":"IF($C20=\"\",\" \",VLOOKUP(C20,Futtermittel!$A$8:$CG$171,13,FALSE)*$F20)","v":" "},{"$f":"IF($C20=\"\",\" \",VLOOKUP($C20,Futtermittel!$A$8:$CG$171,14,FALSE)*$F20)","v":" "},{"$f":"IF($C20=\"\",\" \",VLOOKUP($C20,Futtermittel!$A$8:$CG$171,15,FALSE)*$F20)","v":" "},{"$f":"IF($C20=\"\",\" \",VLOOKUP($C20,Futtermittel!$A$8:$CG$171,16,FALSE)*$F20)","v":" "},{"$f":"IF($C20=\"\",\" \",VLOOKUP($C20,Futtermittel!$A$8:$CG$171,17,FALSE)*$F20)","v":" "},{"$f":"IF($C20=\"\",\" \",VLOOKUP($C20,Futtermittel!$A$8:$CG$171,18,FALSE)*$F20)","v":" "},{"$f":"IF($C20=\"\",\" \",VLOOKUP($C20,Futtermittel!$A$8:$CG$171,19,FALSE)*$F20)","v":" "},{"$f":"IF($C20=\"\",\" \",VLOOKUP($C20,Futtermittel!$A$8:$CG$171,20,FALSE)*$F20)","v":" "},{"$f":"IF($C20=\"\",\" \",VLOOKUP($C20,Futtermittel!$A$8:$CG$171,21,FALSE)*$F20)","v":" "},{"$f":"IF($C20=\"\",\" \",VLOOKUP($C20,Futtermittel!$A$8:$CG$171,22,FALSE)*$F20)","v":" "},{"$f":"IF($C20=\"\",\" \",VLOOKUP($C20,Futtermittel!$A$8:$CG$171,23,FALSE)*$F20)","v":" "},{"$f":"IF($C20=\"\",\" \",VLOOKUP($C20,Futtermittel!$A$8:$CG$171,24,FALSE)*$F20)","v":" "},{"$f":"IF($C20=\"\",\" \",VLOOKUP($C20,Futtermittel!$A$8:$CG$171,25,FALSE)*$F20)","v":" "},{"$f":"IF($C20=\"\",\" \",VLOOKUP($C20,Futtermittel!$A$8:$CG$171,26,FALSE)*$F20)","v":" "},{"$f":"IF($C20=\"\",\" \",VLOOKUP($C20,Futtermittel!$A$8:$CG$171,27,FALSE)*$F20)","v":" "},{"$f":"IF(E20*F20=0,\" \",E20*F20)","v":" "}]
[null,{"$f":"IF($C21=\"\",\" \",VLOOKUP($C21,Futtermittel!$A$8:$CG$171,2,FALSE))","v":" "},{"$nulls":4},""," ",{"$f":"IF($C21=\"\",\" \",VLOOKUP($C21,Futtermittel!$A$8:$CG$171,8,FALSE)*$F21)","v":" "},{"$f":"IF($C21=\"\",\" \",VLOOKUP($C21,Futtermittel!$A$8:$CG$171,9,FALSE)*$F21)","v":" "},{"$f":"IF($C21=\"\",\" \",VLOOKUP($C21,Futtermittel!$A$8:$CG$171,10,FALSE)*$F21)","v":" "},{"$f":"IF($C21=\"\",\" \",VLOOKUP($C21,Futtermittel!$A$8:$CG$171,11,FALSE)*$F21)","v":" "},{"$f":"IF($C21=\"\",\" \",VLOOKUP($C21,Futtermittel!$A$8:$CG$171,12,FALSE)*$F21)","v":" "},{"$f":"IF($C21=\"\",\" \",VLOOKUP(C21,Futtermittel!$A$8:$CG$171,13,FALSE)*$F21)","v":" "},{"$f":"IF($C21=\"\",\" \",VLOOKUP($C21,Futtermittel!$A$8:$CG$171,14,FALSE)*$F21)","v":" "},{"$f":"IF($C21=\"\",\" \",VLOOKUP($C21,Futtermittel!$A$8:$CG$171,15,FALSE)*$F21)","v":" "},{"$f":"IF($C21=\"\",\" \",VLOOKUP($C21,Futtermittel!$A$8:$CG$171,16,FALSE)*$F21)","v":" "},{"$f":"IF($C21=\"\",\" \",VLOOKUP($C21,Futtermittel!$A$8:$CG$171,17,FALSE)*$F21)","v":" "},{"$f":"IF($C21=\"\",\" \",VLOOKUP($C21,Futtermittel!$A$8:$CG$171,18,FALSE)*$F21)","v":" "},{"$f":"IF($C21=\"\",\" \",VLOOKUP($C21,Futtermittel!$A$8:$CG$171,19,FALSE)*$F21)","v":" "},{"$f":"IF($C21=\"\",\" \",VLOOKUP($C21,Futtermittel!$A$8:$CG$171,20,FALSE)*$F21)","v":" "},{"$f":"IF($C21=\"\",\" \",VLOOKUP($C21,Futtermittel!$A$8:$CG$171,21,FALSE)*$F21)","v":" "},{"$f":"IF($C21=\"\",\" \",VLOOKUP($C21,Futtermittel!$A$8:$CG$171,22,FALSE)*$F21)","v":" "},{"$f":"IF($C21=\"\",\" \",VLOOKUP($C21,Futtermittel!$A$8:$CG$171,23,FALSE)*$F21)","v":" "},{"$f":"IF($C21=\"\",\" \",VLOOKUP($C21,Futtermittel!$A$8:$CG$171,24,FALSE)*$F21)","v":" "},{"$f":"IF($C21=\"\",\" \",VLOOKUP($C21,Futtermittel!$A$8:$CG$171,25,FALSE)*$F21)","v":" "},{"$f":"IF($C21=\"\",\" \",VLOOKUP($C21,Futtermittel!$A$8:$CG$171,26,FALSE)*$F21)","v":" "},{"$f":"IF($C21=\"\",\" \",VLOOKUP($C21,Futtermittel!$A$8:$CG$171,27,FALSE)*$F21)","v":" "}," "]
[null,{"$f":"IF($C22=\"\",\" \",VLOOKUP($C22,Futtermittel!$A$8:$CG$171,2,FALSE))","v":" "},{"$nulls":4},""," ",{"$f":"IF($C22=\"\",\" \",VLOOKUP($C22,Futtermittel!$A$8:$CG$171,8,FALSE)*$F22)","v":" "},{"$f":"IF($C22=\"\",\" \",VLOOKUP($C22,Futtermittel!$A$8:$CG$171,9,FALSE)*$F22)","v":" "},{"$f":"IF($C22=\"\",\" \",VLOOKUP($C22,Futtermittel!$A$8:$CG$171,10,FALSE)*$F22)","v":" "},{"$f":"IF($C22=\"\",\" \",VLOOKUP($C22,Futtermittel!$A$8:$CG$171,11,FALSE)*$F22)","v":" "},{"$f":"IF($C22=\"\",\" \",VLOOKUP($C22,Futtermittel!$A$8:$CG$171,12,FALSE)*$F22)","v":" "},{"$f":"IF($C22=\"\",\" \",VLOOKUP(C22,Futtermittel!$A$8:$CG$171,13,FALSE)*$F22)","v":" "},{"$f":"IF($C22=\"\",\" \",VLOOKUP($C22,Futtermittel!$A$8:$CG$171,14,FALSE)*$F22)","v":" "},{"$f":"IF($C22=\"\",\" \",VLOOKUP($C22,Futtermittel!$A$8:$CG$171,15,FALSE)*$F22)","v":" "},{"$f":"IF($C22=\"\",\" \",VLOOKUP($C22,Futtermittel!$A$8:$CG$171,16,FALSE)*$F22)","v":" "},{"$f":"IF($C22=\"\",\" \",VLOOKUP($C22,Futtermittel!$A$8:$CG$171,17,FALSE)*$F22)","v":" "},{"$f":"IF($C22=\"\",\" \",VLOOKUP($C22,Futtermittel!$A$8:$CG$171,18,FALSE)*$F22)","v":" "},{"$f":"IF($C22=\"\",\" \",VLOOKUP($C22,Futtermittel!$A$8:$CG$171,19,FALSE)*$F22)","v":" "},{"$f":"IF($C22=\"\",\" \",VLOOKUP($C22,Futtermittel!$A$8:$CG$171,20,FALSE)*$F22)","v":" "},{"$f":"IF($C22=\"\",\" \",VLOOKUP($C22,Futtermittel!$A$8:$CG$171,21,FALSE)*$F22)","v":" "},{"$f":"IF($C22=\"\",\" \",VLOOKUP($C22,Futtermittel!$A$8:$CG$171,22,FALSE)*$F22)","v":" "},{"$f":"IF($C22=\"\",\" \",VLOOKUP($C22,Futtermittel!$A$8:$CG$171,23,FALSE)*$F22)","v":" "},{"$f":"IF($C22=\"\",\" \",VLOOKUP($C22,Futtermittel!$A$8:$CG$171,24,FALSE)*$F22)","v":" "},{"$f":"IF($C22=\"\",\" \",VLOOKUP($C22,Futtermittel!$A$8:$CG$171,25,FALSE)*$F22)","v":" "},{"$f":"IF($C22=\"\",\" \",VLOOKUP($C22,Futtermittel!$A$8:$CG$171,26,FALSE)*$F22)","v":" "},{"$f":"IF($C22=\"\",\" \",VLOOKUP($C22,Futtermittel!$A$8:$CG$171,27,FALSE)*$F22)","v":" "}," "]
[null,{"$f":"IF($C23=\"\",\" \",VLOOKUP($C23,Futtermittel!$A$8:$CG$171,2,FALSE))","v":" "},{"$nulls":4},""," ",{"$f":"IF($C23=\"\",\" \",VLOOKUP($C23,Futtermittel!$A$8:$CG$171,8,FALSE)*$F23)","v":" "},{"$f":"IF($C23=\"\",\" \",VLOOKUP($C23,Futtermittel!$A$8:$CG$171,9,FALSE)*$F23)","v":" "},{"$f":"IF($C23=\"\",\" \",VLOOKUP($C23,Futtermittel!$A$8:$CG$171,10,FALSE)*$F23)","v":" "},{"$f":"IF($C23=\"\",\" \",VLOOKUP($C23,Futtermittel!$A$8:$CG$171,11,FALSE)*$F23)","v":" "},{"$f":"IF($C23=\"\",\" \",VLOOKUP($C23,Futtermittel!$A$8:$CG$171,12,FALSE)*$F23)","v":" "},{"$f":"IF($C23=\"\",\" \",VLOOKUP(C23,Futtermittel!$A$8:$CG$171,13,FALSE)*$F23)","v":" "},{"$f":"IF($C23=\"\",\" \",VLOOKUP($C23,Futtermittel!$A$8:$CG$171,14,FALSE)*$F23)","v":" "},{"$f":"IF($C23=\"\",\" \",VLOOKUP($C23,Futtermittel!$A$8:$CG$171,15,FALSE)*$F23)","v":" "},{"$f":"IF($C23=\"\",\" \",VLOOKUP($C23,Futtermittel!$A$8:$CG$171,16,FALSE)*$F23)","v":" "},{"$f":"IF($C23=\"\",\" \",VLOOKUP($C23,Futtermittel!$A$8:$CG$171,17,FALSE)*$F23)","v":" "},{"$f":"IF($C23=\"\",\" \",VLOOKUP($C23,Futtermittel!$A$8:$CG$171,18,FALSE)*$F23)","v":" "},{"$f":"IF($C23=\"\",\" \",VLOOKUP($C23,Futtermittel!$A$8:$CG$171,19,FALSE)*$F23)","v":" "},{"$f":"IF($C23=\"\",\" \",VLOOKUP($C23,Futtermittel!$A$8:$CG$171,20,FALSE)*$F23)","v":" "},{"$f":"IF($C23=\"\",\" \",VLOOKUP($C23,Futtermittel!$A$8:$CG$171,21,FALSE)*$F23)","v":" "},{"$f":"IF($C23=\"\",\" \",VLOOKUP($C23,Futtermittel!$A$8:$CG$171,22,FALSE)*$F23)","v":" "},{"$f":"IF($C23=\"\",\" \",VLOOKUP($C23,Futtermittel!$A$8:$CG$171,23,FALSE)*$F23)","v":" "},{"$f":"IF($C23=\"\",\" \",VLOOKUP($C23,Futtermittel!$A$8:$CG$171,24,FALSE)*$F23)","v":" "},{"$f":"IF($C23=\"\",\" \",VLOOKUP($C23,Futtermittel!$A$8:$CG$171,25,FALSE)*$F23)","v":" "},{"$f":"IF($C23=\"\",\" \",VLOOKUP($C23,Futtermittel!$A$8:$CG$171,26,FALSE)*$F23)","v":" "},{"$f":"IF($C23=\"\",\" \",VLOOKUP($C23,Futtermittel!$A$8:$CG$171,27,FALSE)*$F23)","v":" "}," "]
[null,"EF-Nr.","Ergänzungsfutter ","VQ in %",null,null,{"$f":"IF(F24=\"\",\"\",I24/I$2941)","v":""},{"$nulls":21},{"$f":"IF(E24*F24=0,\" \",E24*F24)","v":" "}]
[null,{"$f":"IF($C25=\"\",\" \",VLOOKUP($C25,Ergänzungsfutter!$A$11:$Q$26,3,FALSE))","v":" "},null,{"v":0.85,"d":"85%"},null,null,{"$f":"IF(F25=\"\",\"\",I25/I$30)","v":""}," ",{"$f":"IF($C25=\"\",\" \",VLOOKUP($C25,Ergänzungsfutter!$A$11:$BE$26,5,FALSE)*$F25)","v":" "},{"$f":"IF($C25=\"\",\" \",VLOOKUP($C25,Ergänzungsfutter!$A$11:$BE$26,6,FALSE)*$F25)","v":" "},{"$f":"IF($C25=\"\",\" \",VLOOKUP($C25,Ergänzungsfutter!$A$11:$BE$26,6,FALSE)*$F25*D25)","v":" "},{"$f":"IF($C25=\"\",\" \",VLOOKUP($C25,Ergänzungsfutter!$A$11:$BE$26,7,FALSE)*$F25)","v":" "},{"$f":"IF($C25=\"\",\" \",IF(VLOOKUP($C25,Ergänzungsfutter!$A$11:$BE$26,8,FALSE)=\" \",0,VLOOKUP($C25,Ergänzungsfutter!$A$11:$BE$26,8,FALSE)*$F25))","v":" "},{"$f":"IF($C25=\"\",\" \",IF(VLOOKUP($C25,Ergänzungsfutter!$A$11:$BE$26,8,FALSE)=\" \",0,VLOOKUP($C25,Ergänzungsfutter!$A$11:$BE$26,8,FALSE)*$F25))","v":" "},{"$f":"IF($C25=\"\",\" \",VLOOKUP($C25,Ergänzungsfutter!$A$11:$BE$26,9,FALSE)*$F25)","v":" "},{"$f":"IF($C25=\"\",\" \",VLOOKUP($C25,Ergänzungsfutter!$A$11:$BE$26,9,FALSE)*$F25*D25)","v":" "},{"$f":"IF($C25=\"\",\" \",VLOOKUP($C25,Ergänzungsfutter!$A$11:$BE$26,10,FALSE)*$F25)","v":" "},{"$f":"IF($C25=\"\",\" \",VLOOKUP($C25,Ergänzungsfutter!$A$11:$BE$26,10,FALSE)*$F25*D25)","v":" "},{"$f":"IF($C25=\"\",\" \",VLOOKUP($C25,Ergänzungsfutter!$A$11:$BE$26,11,FALSE)*$F25)","v":" "},{"$f":"IF($C25=\"\",\" \",VLOOKUP($C25,Ergänzungsfutter!$A$11:$BE$26,11,FALSE)*$F25*D25)","v":" "},{"$f":"IF($C25=\"\",\" \",VLOOKUP($C25,Ergänzungsfutter!$A$11:$BE$26,12,FALSE)*$F25)","v":" "},{"$f":"IF($C25=\"\",\" \",VLOOKUP($C25,Ergänzungsfutter!$A$11:$BE$26,12,FALSE)*$F25*D25)","v":" "},{"$f":"IF($C25=\"\",\" \",VLOOKUP($C25,Ergänzungsfutter!$A$11:$BE$26,13,FALSE)*$F25)","v":" "},{"$f":"IF($C25=\"\",\" \",VLOOKUP($C25,Ergänzungsfutter!$A$11:$BE$26,14,FALSE)*$F25)","v":" "},{"$f":"IF($C25=\"\",\" \",VLOOKUP($C25,Ergänzungsfutter!$A$11:$BE$26,15,FALSE)*$F25)","v":" "},{"$f":"IF($C25=\"\",\" \",IF(Y25>VLOOKUP($C25,Ergänzungsfutter!$A$11:$BE$26,14,FALSE)*$F25*0.65,Y25,VLOOKUP($C25,Ergänzungsfutter!$A$11:$BE$26,14,FALSE)*$F25*0.65))","v":" "},{"$f":"IF($C25=\"\",\" \",VLOOKUP($C25,Ergänzungsfutter!$A$11:$BE$26,16,FALSE)*$F25)","v":" "},{"$f":"IF($C25=\"\",\" \",VLOOKUP($C25,Ergänzungsfutter!$A$11:$BE$26,17,FALSE)*$F25)","v":" "}," "]
[null,{"$f":"IF($C26=\"\",\" \",VLOOKUP($C26,Ergänzungsfutter!$A$11:$Q$26,3,FALSE))","v":" "},{"$nulls":4},{"$f":"IF(F26=\"\",\"\",I26/I$30)","v":""}," ",{"$f":"IF($C26=\"\",\" \",VLOOKUP($C26,Ergänzungsfutter!$A$11:$BE$26,5,FALSE)*$F26)","v":" "},{"$f":"IF($C26=\"\",\" \",VLOOKUP($C26,Ergänzungsfutter!$A$11:$BE$26,6,FALSE)*$F26)","v":" "},{"$f":"IF($C26=\"\",\" \",VLOOKUP($C26,Ergänzungsfutter!$A$11:$BE$26,6,FALSE)*$F26*D26)","v":" "},{"$f":"IF($C26=\"\",\" \",VLOOKUP($C26,Ergänzungsfutter!$A$11:$BE$26,7,FALSE)*$F26)","v":" "},{"$f":"IF($C26=\"\",\" \",IF(VLOOKUP($C26,Ergänzungsfutter!$A$11:$BE$26,8,FALSE)=\" \",0,VLOOKUP($C26,Ergänzungsfutter!$A$11:$BE$26,8,FALSE)*$F26))","v":" "},{"$f":"IF($C26=\"\",\" \",IF(VLOOKUP($C26,Ergänzungsfutter!$A$11:$BE$26,8,FALSE)=\" \",0,VLOOKUP($C26,Ergänzungsfutter!$A$11:$BE$26,8,FALSE)*$F26))","v":" "},{"$f":"IF($C26=\"\",\" \",VLOOKUP($C26,Ergänzungsfutter!$A$11:$BE$26,9,FALSE)*$F26)","v":" "},{"$f":"IF($C26=\"\",\" \",VLOOKUP($C26,Ergänzungsfutter!$A$11:$BE$26,9,FALSE)*$F26*D26)","v":" "},{"$f":"IF($C26=\"\",\" \",VLOOKUP($C26,Ergänzungsfutter!$A$11:$BE$26,10,FALSE)*$F26)","v":" "},{"$f":"IF($C26=\"\",\" \",VLOOKUP($C26,Ergänzungsfutter!$A$11:$BE$26,10,FALSE)*$F26*D26)","v":" "},{"$f":"IF($C26=\"\",\" \",VLOOKUP($C26,Ergänzungsfutter!$A$11:$BE$26,11,FALSE)*$F26)","v":" "},{"$f":"IF($C26=\"\",\" \",VLOOKUP($C26,Ergänzungsfutter!$A$11:$BE$26,11,FALSE)*$F26*D26)","v":" "},{"$f":"IF($C26=\"\",\" \",VLOOKUP($C26,Ergänzungsfutter!$A$11:$BE$26,12,FALSE)*$F26)","v":" "},{"$f":"IF($C26=\"\",\" \",VLOOKUP($C26,Ergänzungsfutter!$A$11:$BE$26,12,FALSE)*$F26*D26)","v":" "},{"$f":"IF($C26=\"\",\" \",VLOOKUP($C26,Ergänzungsfutter!$A$11:$BE$26,13,FALSE)*$F26)","v":" "},{"$f":"IF($C26=\"\",\" \",VLOOKUP($C26,Ergänzungsfutter!$A$11:$BE$26,14,FALSE)*$F26)","v":" "},{"$f":"IF($C26=\"\",\" \",VLOOKUP($C26,Ergänzungsfutter!$A$11:$BE$26,15,FALSE)*$F26)","v":" "},{"$f":"IF($C26=\"\",\" \",IF(Y26>VLOOKUP($C26,Ergänzungsfutter!$A$11:$BE$26,14,FALSE)*$F26*0.65,Y26,VLOOKUP($C26,Ergänzungsfutter!$A$11:$BE$26,14,FALSE)*$F26*0.65))","v":" "},{"$f":"IF($C26=\"\",\" \",VLOOKUP($C26,Ergänzungsfutter!$A$11:$BE$26,16,FALSE)*$F26)","v":" "},{"$f":"IF($C26=\"\",\" \",VLOOKUP($C26,Ergänzungsfutter!$A$11:$BE$26,17,FALSE)*$F26)","v":" "}," "]
[null,"Nr.","Mineralfutter",{"$nulls":3},{"$f":"IF(F27=\"\",\"\",I27/I$2944)","v":""},{"$nulls":21}," "]
[2,{"$f":"IF($C28=\"\",\" \",VLOOKUP($C28,Mineralfutter!$A$11:$BE$25,3,FALSE))","v":5},"Optimales MinFu AM 850g TZ 3,5% + Phytase",null,{"v":81,"d":"81.00 €"},{"v":0.035,"d":"3.50%"},{"$f":"IF(F28=\"\",\"\",I28/I$30)","v":{"v":0.0379429500643675,"d":"3.79%"}},{"v":35,"d":"35.0"},{"$f":"IF($C28=\"\",\" \",VLOOKUP($C28,Mineralfutter!$A$11:$BE$25,5,FALSE)*$F28)","v":{"v":33.6,"d":"34"}},{"$f":"IF($C28=\"\",\" \",VLOOKUP($C28,Mineralfutter!$A$11:$BE$25,6,FALSE)*$F28)","v":{"v":4.882747280497282,"d":"5"}},{"$f":"IF($C28=\"\",\" \",VLOOKUP($C28,Mineralfutter!$A$11:$BE$25,6,FALSE)*$F28)","v":{"v":4.882747280497282,"d":"5"}},{"$f":"IF($C28=\"\",\" \",VLOOKUP($C28,Mineralfutter!$A$11:$BE$25,7,FALSE)*$F28)","v":0},{"$f":"IF($C28=\"\",\" \",IF(VLOOKUP($C28,Mineralfutter!$A$11:$BE$25,8,FALSE)=\" \",0,VLOOKUP($C28,Mineralfutter!$A$11:$BE$25,8,FALSE)*$F28))","v":{"v":0.10011225524475525,"d":"0.10"}},{"$f":"IF($C28=\"\",\" \",IF(VLOOKUP($C28,Mineralfutter!$A$11:$BE$25,8,FALSE)=\" \",0,VLOOKUP($C28,Mineralfutter!$A$11:$BE$25,8,FALSE)*$F28))","v":{"v":0.10011225524475525,"d":"0.10"}},{"$f":"IF($C28=\"\",\" \",VLOOKUP($C28,Mineralfutter!$A$11:$BE$25,9,FALSE)*$F28)","v":{"v":2.975,"d":"3.0"}},{"$f":"IF($C28=\"\",\" \",VLOOKUP($C28,Mineralfutter!$A$11:$BE$25,9,FALSE)*$F28)","v":{"v":2.975,"d":"3.0"}},{"$f":"IF($C28=\"\",\" \",VLOOKUP($C28,Mineralfutter!$A$11:$BE$25,10,FALSE)*$F28)","v":{"v":0.56,"d":"0.6"}},{"$f":"IF($C28=\"\",\" \",VLOOKUP($C28,Mineralfutter!$A$11:$BE$25,10,FALSE)*$F28)","v":{"v":0.56,"d":"0.6"}},{"$f":"IF($C28=\"\",\" \",VLOOKUP($C28,Mineralfutter!$A$11:$BE$25,11,FALSE)*$F28)","v":{"v":1.225,"d":"1.2"}},{"$f":"IF($C28=\"\",\" \",VLOOKUP($C28,Mineralfutter!$A$11:$BE$25,11,FALSE)*$F28)","v":{"v":1.225,"d":"1.2"}},{"$f":"IF($C28=\"\",\" \",VLOOKUP($C28,Mineralfutter!$A$11:$BE$25,12,FALSE)*$F28)","v":{"v":0,"d":"0.0"}},{"$f":"IF($C28=\"\",\" \",VLOOKUP($C28,Mineralfutter!$A$11:$BE$25,12,FALSE)*$F28)","v":{"v":0,"d":"0.0"}},{"$f":"IF($C28=\"\",\" \",VLOOKUP($C28,Mineralfutter!$A$11:$BE$25,13,FALSE)*$F28)","v":{"v":5.075,"d":"5.1"}},{"$f":"IF($C28=\"\",\" \",VLOOKUP($C28,Mineralfutter!$A$11:$BE$25,14,FALSE)*$F28)","v":{"v":0.35000000000000003,"d":"0.4"}},{"$f":"IF($C28=\"\",\" \",VLOOKUP($C28,Mineralfutter!$A$11:$BE$25,15,FALSE)*$F28)","v":{"v":0.28,"d":"0.3"}},{"$f":"IF($C28=\"\",\" \",VLOOKUP($C28,Mineralfutter!$A$11:$BE$25,15,FALSE)*$F28)","v":{"v":0.28,"d":"0.3"}},{"$f":"IF($C28=\"\",\" \",VLOOKUP($C28,Mineralfutter!$A$11:$BE$25,16,FALSE)*$F28)","v":{"v":0,"d":"0.0"}},{"$f":"IF($C28=\"\",\" \",VLOOKUP($C28,Mineralfutter!$A$11:$BE$25,17,FALSE)*$F28)","v":{"v":1.7500000000000002,"d":"1.8"}},{"v":2.8350000000000004,"d":"2.84 €"}]
[null,{"$f":"IF($C29=\"\",\" \",VLOOKUP($C29,Mineralfutter!$A$11:$BE$25,3,FALSE))","v":" "},{"$nulls":4},{"$f":"IF(F29=\"\",\"\",I29/I$30)","v":""}," ",{"$f":"IF($C29=\"\",\" \",VLOOKUP($C29,Mineralfutter!$A$11:$BE$25,5,FALSE)*$F29)","v":" "},{"$f":"IF($C29=\"\",\" \",VLOOKUP($C29,Mineralfutter!$A$11:$BE$25,6,FALSE)*$F29)","v":" "},{"$f":"IF($C29=\"\",\" \",VLOOKUP($C29,Mineralfutter!$A$11:$BE$25,6,FALSE)*$F29)","v":" "},{"$f":"IF($C29=\"\",\" \",VLOOKUP($C29,Mineralfutter!$A$11:$BE$25,7,FALSE)*$F29)","v":" "},{"$f":"IF($C29=\"\",\" \",IF(VLOOKUP($C29,Mineralfutter!$A$11:$BE$25,8,FALSE)=\" \",0,VLOOKUP($C29,Mineralfutter!$A$11:$BE$25,8,FALSE)*$F29))","v":" "},{"$f":"IF($C29=\"\",\" \",IF(VLOOKUP($C29,Mineralfutter!$A$11:$BE$25,8,FALSE)=\" \",0,VLOOKUP($C29,Mineralfutter!$A$11:$BE$25,8,FALSE)*$F29))","v":" "},{"$f":"IF($C29=\"\",\" \",VLOOKUP($C29,Mineralfutter!$A$11:$BE$25,9,FALSE)*$F29)","v":" "},{"$f":"IF($C29=\"\",\" \",VLOOKUP($C29,Mineralfutter!$A$11:$BE$25,9,FALSE)*$F29)","v":" "},{"$f":"IF($C29=\"\",\" \",VLOOKUP($C29,Mineralfutter!$A$11:$BE$25,10,FALSE)*$F29)","v":" "},{"$f":"IF($C29=\"\",\" \",VLOOKUP($C29,Mineralfutter!$A$11:$BE$25,10,FALSE)*$F29)","v":" "},{"$f":"IF($C29=\"\",\" \",VLOOKUP($C29,Mineralfutter!$A$11:$BE$25,11,FALSE)*$F29)","v":" "},{"$f":"IF($C29=\"\",\" \",VLOOKUP($C29,Mineralfutter!$A$11:$BE$25,11,FALSE)*$F29)","v":" "},{"$f":"IF($C29=\"\",\" \",VLOOKUP($C29,Mineralfutter!$A$11:$BE$25,12,FALSE)*$F29)","v":" "},{"$f":"IF($C29=\"\",\" \",VLOOKUP($C29,Mineralfutter!$A$11:$BE$25,12,FALSE)*$F29)","v":" "},{"$f":"IF($C29=\"\",\" \",VLOOKUP($C29,Mineralfutter!$A$11:$BE$25,13,FALSE)*$F29)","v":" "},{"$f":"IF($C29=\"\",\" \",VLOOKUP($C29,Mineralfutter!$A$11:$BE$25,14,FALSE)*$F29)","v":" "},{"$f":"IF($C29=\"\",\" \",VLOOKUP($C29,Mineralfutter!$A$11:$BE$25,15,FALSE)*$F29)","v":" "},{"$f":"IF($C29=\"\",\" \",VLOOKUP($C29,Mineralfutter!$A$11:$BE$25,15,FALSE)*$F29)","v":" "},{"$f":"IF($C29=\"\",\" \",VLOOKUP($C29,Mineralfutter!$A$11:$BE$25,16,FALSE)*$F29)","v":" "},{"$f":"IF($C29=\"\",\" \",VLOOKUP($C29,Mineralfutter!$A$11:$BE$25,17,FALSE)*$F29)","v":" "}," "]
[null,null,"Summe",null,{"$f":"AC30","v":{"v":19.0427,"d":"19.04 €"}},{"$f":"IF(SUM(F13:F29,F36:F37)=0,\" \",SUM(F13:F29,F36:F37))","v":{"v":1,"d":"100.00%"}},null,null,{"$f":"IF(F30=\" \",\" \",SUM(I13:I29,I36*$F36,I37*$F37))","v":{"v":885.5400000000001,"d":"886"}},{"$f":"IF(I30=\" \",\" \",SUM(J13:J29,J36*$F36,J37*$F37))","v":{"v":164.3367472804973,"d":"164"}},{"v":137.4320672804973,"d":"137"},{"v":36.916000000000004,"d":"37"},{"$f":"IF(L30=\" \",\" \",SUM(M13:M29,N36*$F36,N37*$F37))","v":{"v":13.272026620244754,"d":"13.27"}},{"$f":"IF(F30=\" \",\" \",SUM(N13:N29,N36*$F36,N37*$F37))","v":{"v":13.264975816244757,"d":"13.26"}},{"$f":"IF(M30=\" \",\" \",SUM(O13:O29,O36*$F36,O37*$F37))","v":{"v":10.126104645454545,"d":"10.1"}},{"v":9.061739577545454,"d":"9.1"},{"v":5.851309650000001,"d":"5.9"},{"v":5.1209117332402165,"d":"5.1"},{"v":6.679788713636363,"d":"6.7"},{"v":5.880503973727272,"d":"5.9"},{"v":2.109185077272727,"d":"2.1"},{"v":1.7910786464545452,"d":"1.8"},{"v":6.053269999797872,"d":"6.1"},{"v":4.096218708289598,"d":"4.1"},{"v":2.1712507017066436,"d":"2.2"},{"v":2.715042160388239,"d":"2.7"},{"v":1.320918042651015,"d":"1.3"},{"v":1.92269325862069,"d":"1.9"},{"$f":"IF(SUM(AC13:AC29,AC36:AC37)=0,\" \",SUM(AC13:AC29,AC36:AC37))","v":{"v":19.0427,"d":"19.04 €"}}]
[null,null,"Summe auf 88% TM umgerechnet",null,{"$f":"AC31","v":{"v":18.923567540709623,"d":"18.92 €"}},{"$f":"F30","v":{"v":1,"d":"100.00%"}},null,null,880,{"$f":"IF($F31=\" \",\" \",ROUND($I31*J30/$I30*$F31,0))","v":163},{"$f":"IF($F31=\" \",\" \",ROUND($I31*K30/$I30*$F31,0))","v":137},{"$f":"IF($F31=\" \",\" \",ROUND($I31*L30/$I30*$F31,0))","v":37},{"$f":"IF($F31=\" \",\" \",ROUND($I31*M30/$I30*$F31,2))","v":13.19},{"$f":"IF($F31=\" \",\" \",ROUND($I31*N30/$I30*$F31,2))","v":13.18},{"$f":"IF($F31=\" \",\" \",ROUND($I31*O30/$I30*$F31,1))","v":10.1},{"v":9,"d":"9.0"},5.8,5.1,6.6,5.8,2.1,1.8,{"v":6,"d":"6.0"},4.1,2.2,2.7,1.3,1.9,{"$f":"IF(AC30=\" \",\" \",AC30*I31/I30)","v":{"v":18.923567540709623,"d":"18.92 €"}}]
[null,"OW-Nr.","aus Tabelle Orientierungswerte in g"]
[null,{"$f":"IF($C33=\"\",\" \",VLOOKUP($C33,Orientierungswerte!A13:AZ117,2,FALSE))","v":10},"Anfangsmast ab 40 Kg LM für 850 g TZ*",null,"-",{"$f":"F30","v":{"v":1,"d":"100.00%"}},null,null,{"$f":"I31","v":880},{"$f":"IF($C33=\"\",\" \",ROUND(VLOOKUP($C$33,Orientierungswerte!$A$13:$AZ$117,5,FALSE)*$F$33,0))","v":163},{"$f":"IF($C33=\"\",\" \",ROUND(VLOOKUP($C$33,Orientierungswerte!$A$13:$AZ$117,6,FALSE)*$F$33,0))","v":143},{"$f":"IF($C33=\"\",\" \",ROUND(VLOOKUP($C33,Orientierungswerte!$A$13:$AZ$117,28,FALSE)*$F$33,0))","v":40},{"$f":"IF($C33=\"\",\" \",ROUND(VLOOKUP($C$33,Orientierungswerte!$A$13:$AZ$117,4,FALSE)*$F$33,2))","v":{"v":13.2,"d":"13.20"}},{"$f":"IF($C33=\"\",\" \",ROUND(VLOOKUP($C$33,Orientierungswerte!$A$13:$AZ$117,4,FALSE)*$F$33,2))","v":{"v":13.2,"d":"13.20"}},{"$f":"IF($C33=\"\",\" \",ROUND(VLOOKUP($C$33,Orientierungswerte!$A$13:$AZ$117,7,FALSE)*$F$33,1))","v":10.2},{"$f":"IF($C33=\"\",\" \",ROUND(VLOOKUP($C$33,Orientierungswerte!$A$13:$AZ$117,8,FALSE)*$F$33,1))","v":8.9},{"$f":"IF($C33=\"\",\" \",ROUND(VLOOKUP($C$33,Orientierungswerte!$A$13:$AZ$117,9,FALSE)*$F$33,1))","v":5.6},{"$f":"IF($C33=\"\",\" \",ROUND(VLOOKUP($C$33,Orientierungswerte!$A$13:$AZ$117,10,FALSE)*$F$33,1))","v":4.9},{"$f":"IF($C33=\"\",\" \",ROUND(VLOOKUP($C$33,Orientierungswerte!$A$13:$AZ$117,11,FALSE)*$F$33,1))","v":6.6},{"$f":"IF($C33=\"\",\" \",ROUND(VLOOKUP($C$33,Orientierungswerte!$A$13:$AZ$117,12,FALSE)*$F$33,1))","v":5.8},{"$f":"IF($C33=\"\",\" \",ROUND(VLOOKUP($C$33,Orientierungswerte!$A$13:$AZ$117,13,FALSE)*$F$33,1))","v":1.8},{"$f":"IF($C33=\"\",\" \",ROUND(VLOOKUP($C$33,Orientierungswerte!$A$13:$AZ$117,14,FALSE)*$F$33,1))","v":1.6},{"$f":"IF($C33=\"\",\" \",ROUND(VLOOKUP($C$33,Orientierungswerte!$A$13:$AZ$117,15,FALSE)*$F$33,1))","v":5.9},{"$f":"IF($C33=\"\",\" \",ROUND(VLOOKUP($C$33,Orientierungswerte!$A$13:$AZ$117,16,FALSE)*$F$33,1))","v":4.4},{"$f":"IF($C33=\"\",\" \",ROUND(VLOOKUP($C$33,Orientierungswerte!$A$13:$AZ$117,17,FALSE)*$F$33,1))","v":2.7},{"$f":"IF($C33=\"\",\" \",ROUND(VLOOKUP($C$33,Orientierungswerte!$A$13:$AZ$117,17,FALSE)*$F$33,1))","v":2.7},{"$f":"IF($C33=\"\",\" \",ROUND(VLOOKUP($C$33,Orientierungswerte!$A$13:$AZ$117,18,FALSE)*$F$33,1))","v":{"v":1,"d":"1.0"}},{"$f":"IF($C33=\"\",\" \",ROUND(VLOOKUP($C$33,Orientierungswerte!$A$13:$AZ$117,19,FALSE)*$F$33,1))","v":1.8},"-"]
[null,null,"Differenz Mischung zu Orientierungswert",null,"-",{"$f":"IF($C$33=\"\",\" \",ROUND((1-F31)*-1,4))","v":{"v":0,"d":"0.00%"}},null,null,{"$f":"IF($C$33=\"\",\" \",ROUND(I31-I33,))","v":0},{"$f":"IF($C$33=\"\",\" \",ROUND(J31-J33,))","v":0},{"$f":"IF($C$33=\"\",\" \",ROUND(K31-K33,0))","v":-6},{"$f":"IF($C$33=\"\",\" \",ROUND(L31-L33,0))","v":-3},{"$f":"IF($C$33=\"\",\" \",ROUND(M31-M33,2))","v":-0.01},{"$f":"IF($C$33=\"\",\" \",ROUND(N31-N33,2))","v":-0.02},{"$f":"IF($C$33=\"\",\" \",ROUND(O31-O33,1))","v":-0.1},0.1,0.2,0.2,{"v":0,"d":"0.0"},{"v":0,"d":"0.0"},0.3,0.2,0.1,-0.3,-0.5,{"v":0,"d":"0.0"},0.3,0.1,"-"]
[null,"erforderliches Mineral- oder Ergänzungsfutter",{"$nulls":3},"Anteil %",{"$nulls":3},{"$f":"IF(F$36=0,\" \",O35*954/780+Q35*584/990+S35*731/980+U35*853/980)","v":" "},{"$f":"IF(F$36=0,\" \",IF(J35>200,J35*0.8,J35))","v":" "},null,{"$f":"IF(F$36=0,\" \",O35*21.3/780+Q35*13/990+S35*16.3/980+U35*19/980)","v":" "}]
[null,null,"opt. Mineralfutter in g/kg:",{"$nulls":3},{"$f":"IF(F36=\"\",\"\",I36*F36/I$30)","v":""},{"$f":"IF(F36=\"\",\" \",$H$8*F36*1000)","v":" "},{"$f":"IF($F36=0,0,960)","v":0},{"$f":"IF($F36=0,0,O36*954/780+Q36*584/990+S36*731/980+U36*853/980)","v":0},{"$f":"IF(F$36=0,0,J36)","v":0},null,{"$f":"IF($F36=0,0,O36*19.56/780+Q36*11.97/990+S36*14.99/980+U36*17.49/980)","v":{"v":0,"d":"0.0"}},{"$f":"M36","v":{"v":0,"d":"0.0"}},null,{"$f":"O36","v":0},null,{"$f":"Q36","v":0},null,{"$f":"S36","v":0},null,{"$f":"U36","v":0},null,null,{"$f":"IF(F36=0,0,X36*0.8)","v":0},{"$f":"Y36","v":0},null,null,{"$f":"IF(F36*E36=0,0,F36*E36)","v":{"v":0,"d":"0.00 €"}}]
[null,null,"opt. Ergänzungsfutter in g/kg:",{"v":0.85,"d":"85%"},null,null,{"$f":"IF(F37=\"\",\"\",I37*F37/I$30)","v":""},{"$f":"IF(F37=\"\",\" \",$H$8*F37*1000)","v":" "},{"$f":"IF($F37=0,0,890)","v":0},null,{"$f":"IF(F37=0,0,J37*D37)","v":0},null,{"$f":"N37","v":{"v":0,"d":"0.0"}},null,null,{"$f":"IF(O37=0,0,O37*D37)","v":0},null,{"$f":"IF(Q37=0,0,Q37*D37)","v":0},null,{"$f":"IF(S37=0,0,S37*D37)","v":0},null,{"$f":"IF(U37=0,0,U37*D37)","v":0},null,null,{"$f":"IF(F37=0,0,X37*0.65)","v":0},{"$f":"IF(F37=0,0,X37*0.65)","v":0},null,null,{"$f":"IF(F37*E37=0,0,F37*E37)","v":{"v":0,"d":"0.00 €"}}]
[null,"pcv VQ Lys",{"$nulls":21},"Ca / vP"]
[{"$nulls":5},"Lys / ME",null,null," pcv Lys/ ME",null,null,"pcv. Lys. / pcv. M. & C. / pcv. Thr. / pcv. Trp.",{"$nulls":7},"Ca / P",null,null,"mit Phytase",{"$f":"IF(F30=\" \",\" \",W30/Z30)","v":{"v":2.2295307557700252,"d":"2.23"}},{"$f":"IF(F30=0,\" \",1)","v":1},"Lys / 100g RP"]
[null,{"$f":"IF(F30=\" \",\" \",P31/O31)","v":{"v":0.8910891089108911,"d":"0.891"}},"in der Mischung",null,null,{"$f":"IF(F30=\" \",\" \",O31/M31)","v":{"v":0.7657316148597423,"d":"0.77"}},{"$f":"IF(F30<=0,\" \",1)","v":1},null,{"$f":"IF(F30=\" \",\" \",P31/M31)","v":{"v":0.6823351023502654,"d":"0.68"}},{"$f":"IF(L30<=0,\" \",1)","v":1},null,{"$f":"IF(F30<=0,\" \",1)","v":1},"/",{"$f":"IF(F30=\" \",\" \",R30/P30)","v":{"v":0.5651135402224077,"d":"0.57"}},"/",{"$f":"IF(F30=\" \",\" \",T30/P30)","v":{"v":0.6489376486054479,"d":"0.65"}},"/",{"$f":"IF(F30=\" \",\" \",V30/P30)","v":{"v":0.1976528492269575,"d":"0.20"}},null,{"$f":"IF(F30=\" \",\" \",W30/X30)","v":{"v":1.4777702146488787,"d":"1.48"}},{"$f":"IF(F30=0,\" \",1)","v":1},null,"ohne",{"$f":"IF(F30=\" \",\" \",W30/Y30)","v":{"v":2.7879185001713016,"d":"2.79"}},{"$f":"IF(F30=0,\" \",1)","v":1},null,{"$f":"IF(L30=\" \",\" \",P31*100/J31)","v":{"v":5.521472392638037,"d":"5.52"}},{"$f":"IF(L30=0,\" \",100)","v":100}]
[null,{"$f":"IF(P33=\" \",\" \",P33/O33)","v":{"v":0.8725490196078433,"d":"0.873"}},"Orientierungswerte",null,null,{"$f":"IF($B$33=\" \",\" \",ROUND(VLOOKUP($B$33,Orientierungswerte!$B$13:$X$105,23,TRUE),2))","v":0.77},{"$f":"IF($B$33=\" \",1,ROUND(VLOOKUP($B$33,Orientierungswerte!$B$13:$X$105,19,TRUE),2))","v":1},null,{"$f":"IF($B$33=\" \",\" \",ROUND(VLOOKUP($B$33,Orientierungswerte!$B$13:$AB$105,24,TRUE),2))","v":0.68},{"$f":"IF($B$33=\" \",1,ROUND(VLOOKUP($B$33,Orientierungswerte!$B$13:$X$105,19,TRUE),2))","v":1},null,{"$f":"IF($B$33=\" \",1,ROUND(VLOOKUP($B$33,Orientierungswerte!$B$13:$X$105,19,TRUE),2))","v":1},"/",{"$f":"IF($B$33=\" \",\" \",ROUND(VLOOKUP($B$33,Orientierungswerte!$B$13:$X$105,20,TRUE),2))","v":0.55},"/",{"$f":"IF($B$33=\" \",\" \",ROUND(VLOOKUP($B$33,Orientierungswerte!$B$13:$X$105,21,TRUE),2))","v":0.65},"/",{"$f":"IF($B$33=\" \",\" \",ROUND(VLOOKUP($B$33,Orientierungswerte!$B$13:$X$105,22,TRUE),2))","v":0.18},null,{"$f":"IF($B$33=\" \",\" \",ROUND(VLOOKUP($B$33,Orientierungswerte!$B$13:$AA$105,25,TRUE),2))","v":1.35},{"$f":"IF($B$33=\" \",1,ROUND(VLOOKUP($B$33,Orientierungswerte!$B$13:$X$105,19,TRUE),2))","v":1},null,null,{"$f":"IF($B$33=\" \",\" \",ROUND(VLOOKUP($B$33,Orientierungswerte!$B$13:$AA$105,26,TRUE),2))","v":{"v":2.2,"d":"2.20"}},{"$f":"IF($B$33=\" \",1,ROUND(VLOOKUP($B$33,Orientierungswerte!$B$13:$X$105,19,TRUE),2))","v":1},null,{"$f":"IF($B$33=\" \",\" \",ROUND(P33*100/J33,2))","v":5.46},{"$f":"IF($B$33=\" \",1,ROUND(VLOOKUP($B$33,Orientierungswerte!$B$13:$X$105,19,TRUE)*100,0))","v":100}]
[]
[]
[{"$nulls":4},"Preis","Anteil","Met","pcv Met","Roh-fett XL","Stär-ke     S","Zu-cker Z","Roh-asche XA","Poly-en-säure","Linol-säure","Lino-len-säure","Vit A in IE","Vit D in IE","Vit E in mg","KAB BE in mmol","SBK in meq","BfS","NDF               om","ADF               om","NfE",null,null,"Kali-um         K"]
[null,"FM-Nr.","Futtermittel + % RP in der FM",null,"€/dt","%","Anteil in g/kg",{"$nulls":8},"pro kg ",{"$nulls":4},"Anteil in g/kg"]
[null,{"$f":"B13","v":49},{"$f":"IF(C13=\"\",\" \",C13)","v":"eigener Weizen 11% RP Ø 2016"},null,{"$f":"IF(E13=\"\",\" \",E13)","v":{"v":12.68,"d":"12.68 €"}},{"v":0.52,"d":"52.00%"},{"$f":"IF($C13=\"\",\" \",VLOOKUP(C13,Futtermittel!$A$8:$CG$171,29,FALSE)*$F13)","v":{"v":0.8612500000000002,"d":"0.9"}},{"$f":"IF($C13=\"\",\" \",VLOOKUP(C13,Futtermittel!$A$8:$CG$171,30,FALSE)*$F13)","v":{"v":0.7579000000000001,"d":"0.8"}},{"$f":"IF($C13=\"\",\" \",VLOOKUP(C13,Futtermittel!$A$8:$CG$171,31,FALSE)*$F13)","v":{"v":9.308,"d":"9"}},{"$f":"IF($C13=\"\",\" \",VLOOKUP(C13,Futtermittel!$A$8:$CG$171,32,FALSE)*$F13)","v":{"v":312.52000000000004,"d":"313"}},{"$f":"IF($C13=\"\",\" \",VLOOKUP(C13,Futtermittel!$A$8:$CG$171,33,FALSE)*$F13)","v":{"v":14.456000000000001,"d":"14"}},{"$f":"IF($C13=\"\",\" \",VLOOKUP(C13,Futtermittel!$A$8:$CG$171,34,FALSE)*$F13)","v":{"v":8.788,"d":"9"}},{"$f":"IF($C13=\"\",\" \",VLOOKUP($C13,Futtermittel!$A$8:$CG$171,37,FALSE)*$F13)","v":{"v":5.642,"d":"5.6"}},{"$f":"IF($C13=\"\",\" \",VLOOKUP($C13,Futtermittel!$A$8:$CG$171,38,FALSE)*$F13)","v":{"v":5.187,"d":"5.2"}},{"$f":"IF($C13=\"\",\" \",VLOOKUP($C13,Futtermittel!$A$8:$CG$171,39,FALSE)*$F13)","v":{"v":0.455,"d":"0.5"}},{"$f":"IF($C13=\"\",\" \",VLOOKUP($C13,Futtermittel!$A$8:$CG$171,40,FALSE)*$F13)","v":0},{"$f":"IF($C13=\"\",\" \",VLOOKUP($C13,Futtermittel!$A$8:$CG$171,41,FALSE)*$F13)","v":0},{"$f":"IF($C13=\"\",\" \",VLOOKUP($C13,Futtermittel!$A$8:$CG$171,42,FALSE)*$F13)","v":0},{"$f":"IF($C13=\"\",\" \",VLOOKUP($C13,Futtermittel!$A$8:$CG$171,43,FALSE)*$F13)","v":{"v":-15.51297799999998,"d":"-16"}},{"$f":"IF($C13=\"\",\" \",VLOOKUP($C13,Futtermittel!$A$8:$CG$171,44,FALSE)*$F13)","v":{"v":176.18016,"d":"176"}},{"$f":"IF($C13=\"\",\" \",VLOOKUP($C13,Futtermittel!$A$8:$CG$171,45,FALSE)*$F13)","v":{"v":20.43652,"d":"20"}},{"$f":"IF($C13=\"\",\" \",VLOOKUP($C13,Futtermittel!$A$8:$CG$171,54,FALSE)*$F13)","v":{"v":88.82848000000001,"d":"89"}},{"$f":"IF($C13=\"\",\" \",VLOOKUP($C13,Futtermittel!$A$8:$CG$171,53,FALSE)*$F13)","v":{"v":19.0736,"d":"19"}},{"$f":"IF($C13=\"\",\" \",VLOOKUP($C13,Futtermittel!$A$8:$CG$171,46,FALSE)*$F13)","v":{"v":369.46000000000004,"d":"369"}},null,null,{"$f":"IF($C13=\"\",\" \",VLOOKUP($C13,Futtermittel!$A$8:$CG$171,28,FALSE)*$F13)","v":{"v":1.976,"d":"2.0"}}]
[null,11,"eigene Gerste 11% RP Ø 2016",null,{"v":11.22,"d":"11.22 €"},{"v":0.28,"d":"28.00%"},{"$f":"IF($C14=\"\",\" \",VLOOKUP(C14,Futtermittel!$A$8:$CG$171,29,FALSE)*$F14)","v":{"v":0.49104719999999996,"d":"0.5"}},{"$f":"IF($C14=\"\",\" \",VLOOKUP(C14,Futtermittel!$A$8:$CG$171,30,FALSE)*$F14)","v":{"v":0.4026587039999999,"d":"0.4"}},{"$f":"IF($C14=\"\",\" \",VLOOKUP(C14,Futtermittel!$A$8:$CG$171,31,FALSE)*$F14)","v":{"v":6.664000000000001,"d":"7"}},{"$f":"IF($C14=\"\",\" \",VLOOKUP(C14,Futtermittel!$A$8:$CG$171,32,FALSE)*$F14)","v":{"v":142.52,"d":"143"}},{"$f":"IF($C14=\"\",\" \",VLOOKUP(C14,Futtermittel!$A$8:$CG$171,33,FALSE)*$F14)","v":{"v":6.384000000000001,"d":"6"}},{"$f":"IF($C14=\"\",\" \",VLOOKUP(C14,Futtermittel!$A$8:$CG$171,34,FALSE)*$F14)","v":{"v":6.664000000000001,"d":"7"}},{"$f":"IF($C14=\"\",\" \",VLOOKUP($C14,Futtermittel!$A$8:$CG$171,37,FALSE)*$F14)","v":{"v":4.214289655172414,"d":"4.2"}},{"$f":"IF($C14=\"\",\" \",VLOOKUP($C14,Futtermittel!$A$8:$CG$171,38,FALSE)*$F14)","v":{"v":3.8744275862068966,"d":"3.9"}},{"$f":"IF($C14=\"\",\" \",VLOOKUP($C14,Futtermittel!$A$8:$CG$171,39,FALSE)*$F14)","v":{"v":0.3398620689655173,"d":"0.3"}},{"$f":"IF($C14=\"\",\" \",VLOOKUP($C14,Futtermittel!$A$8:$CG$171,40,FALSE)*$F14)","v":0},{"$f":"IF($C14=\"\",\" \",VLOOKUP($C14,Futtermittel!$A$8:$CG$171,41,FALSE)*$F14)","v":0},{"$f":"IF($C14=\"\",\" \",VLOOKUP($C14,Futtermittel!$A$8:$CG$171,42,FALSE)*$F14)","v":0},{"$f":"IF($C14=\"\",\" \",VLOOKUP($C14,Futtermittel!$A$8:$CG$171,43,FALSE)*$F14)","v":{"v":-12.564712533333322,"d":"-13"}},{"$f":"IF($C14=\"\",\" \",VLOOKUP($C14,Futtermittel!$A$8:$CG$171,44,FALSE)*$F14)","v":{"v":93.0324782124138,"d":"93"}},{"$f":"IF($C14=\"\",\" \",VLOOKUP($C14,Futtermittel!$A$8:$CG$171,45,FALSE)*$F14)","v":{"v":22.42352000000004,"d":"22"}},{"$f":"IF($C14=\"\",\" \",VLOOKUP($C14,Futtermittel!$A$8:$CG$171,54,FALSE)*$F14)","v":{"v":101.1089655172414,"d":"101"}},{"$f":"IF($C14=\"\",\" \",VLOOKUP($C14,Futtermittel!$A$8:$CG$171,53,FALSE)*$F14)","v":{"v":13.160214559386974,"d":"13"}},{"$f":"IF($C14=\"\",\" \",VLOOKUP($C14,Futtermittel!$A$8:$CG$171,46,FALSE)*$F14)","v":{"v":187.65600000000006,"d":"188"}},null,null,{"$f":"IF($C14=\"\",\" \",VLOOKUP($C14,Futtermittel!$A$8:$CG$171,28,FALSE)*$F14)","v":{"v":1.2461609195402301,"d":"1.2"}}]
[null,100,"Sojaschrot HP 47% RP ",null,{"v":35.5,"d":"35.50 €"},{"v":0.155,"d":"15.50%"},{"$f":"IF($C15=\"\",\" \",VLOOKUP(C15,Futtermittel!$A$8:$CG$171,29,FALSE)*$F15)","v":{"v":0.976834659090909,"d":"1.0"}},{"$f":"IF($C15=\"\",\" \",VLOOKUP(C15,Futtermittel!$A$8:$CG$171,30,FALSE)*$F15)","v":{"v":0.8596145,"d":"0.9"}},{"$f":"IF($C15=\"\",\" \",VLOOKUP(C15,Futtermittel!$A$8:$CG$171,31,FALSE)*$F15)","v":{"v":2.945,"d":"3"}},{"$f":"IF($C15=\"\",\" \",VLOOKUP(C15,Futtermittel!$A$8:$CG$171,32,FALSE)*$F15)","v":{"v":6.51,"d":"7"}},{"$f":"IF($C15=\"\",\" \",VLOOKUP(C15,Futtermittel!$A$8:$CG$171,33,FALSE)*$F15)","v":{"v":14.105,"d":"14"}},{"$f":"IF($C15=\"\",\" \",VLOOKUP(C15,Futtermittel!$A$8:$CG$171,34,FALSE)*$F15)","v":{"v":10.385,"d":"10"}},{"$f":"IF($C15=\"\",\" \",VLOOKUP($C15,Futtermittel!$A$8:$CG$171,37,FALSE)*$F15)","v":{"v":1.5903,"d":"1.6"}},{"$f":"IF($C15=\"\",\" \",VLOOKUP($C15,Futtermittel!$A$8:$CG$171,38,FALSE)*$F15)","v":{"v":1.4725,"d":"1.5"}},{"$f":"IF($C15=\"\",\" \",VLOOKUP($C15,Futtermittel!$A$8:$CG$171,39,FALSE)*$F15)","v":{"v":0.1178,"d":"0.1"}},{"$f":"IF($C15=\"\",\" \",VLOOKUP($C15,Futtermittel!$A$8:$CG$171,40,FALSE)*$F15)","v":0},{"$f":"IF($C15=\"\",\" \",VLOOKUP($C15,Futtermittel!$A$8:$CG$171,41,FALSE)*$F15)","v":0},{"$f":"IF($C15=\"\",\" \",VLOOKUP($C15,Futtermittel!$A$8:$CG$171,42,FALSE)*$F15)","v":0},{"$f":"IF($C15=\"\",\" \",VLOOKUP($C15,Futtermittel!$A$8:$CG$171,43,FALSE)*$F15)","v":{"v":55.22209611153121,"d":"55"}},{"$f":"IF($C15=\"\",\" \",VLOOKUP($C15,Futtermittel!$A$8:$CG$171,44,FALSE)*$F15)","v":{"v":213.32133645635466,"d":"213"}},{"$f":"IF($C15=\"\",\" \",VLOOKUP($C15,Futtermittel!$A$8:$CG$171,45,FALSE)*$F15)","v":{"v":26.7003,"d":"27"}},{"$f":"IF($C15=\"\",\" \",VLOOKUP($C15,Futtermittel!$A$8:$CG$171,54,FALSE)*$F15)","v":{"v":20.029623376623377,"d":"20"}},{"$f":"IF($C15=\"\",\" \",VLOOKUP($C15,Futtermittel!$A$8:$CG$171,53,FALSE)*$F15)","v":{"v":14.439961038961037,"d":"14"}},{"$f":"IF($C15=\"\",\" \",VLOOKUP($C15,Futtermittel!$A$8:$CG$171,46,FALSE)*$F15)","v":{"v":43.71,"d":"44"}},null,null,{"$f":"IF($C15=\"\",\" \",VLOOKUP($C15,Futtermittel!$A$8:$CG$171,28,FALSE)*$F15)","v":{"v":3.20044,"d":"3.2"}}]
[null,140,"Rapsöl / Pflanzenöl DLG 2014",null,{"v":97,"d":"97.00 €"},{"v":0.01,"d":"1.00%"},{"$f":"IF($C16=\"\",\" \",VLOOKUP(C16,Futtermittel!$A$8:$CG$171,29,FALSE)*$F16)","v":{"v":0,"d":"0.0"}},{"$f":"IF($C16=\"\",\" \",VLOOKUP(C16,Futtermittel!$A$8:$CG$171,30,FALSE)*$F16)","v":{"v":0,"d":"0.0"}},{"$f":"IF($C16=\"\",\" \",VLOOKUP(C16,Futtermittel!$A$8:$CG$171,31,FALSE)*$F16)","v":{"v":9.98,"d":"10"}},{"$f":"IF($C16=\"\",\" \",VLOOKUP(C16,Futtermittel!$A$8:$CG$171,32,FALSE)*$F16)","v":0},{"$f":"IF($C16=\"\",\" \",VLOOKUP(C16,Futtermittel!$A$8:$CG$171,33,FALSE)*$F16)","v":0},{"$f":"IF($C16=\"\",\" \",VLOOKUP(C16,Futtermittel!$A$8:$CG$171,34,FALSE)*$F16)","v":0},{"$f":"IF($C16=\"\",\" \",VLOOKUP($C16,Futtermittel!$A$8:$CG$171,37,FALSE)*$F16)","v":{"v":2.89,"d":"2.9"}},{"$f":"IF($C16=\"\",\" \",VLOOKUP($C16,Futtermittel!$A$8:$CG$171,38,FALSE)*$F16)","v":{"v":1.996,"d":"2.0"}},{"$f":"IF($C16=\"\",\" \",VLOOKUP($C16,Futtermittel!$A$8:$CG$171,39,FALSE)*$F16)","v":{"v":0.8982,"d":"0.9"}},{"$f":"IF($C16=\"\",\" \",VLOOKUP($C16,Futtermittel!$A$8:$CG$171,40,FALSE)*$F16)","v":0},{"$f":"IF($C16=\"\",\" \",VLOOKUP($C16,Futtermittel!$A$8:$CG$171,41,FALSE)*$F16)","v":0},{"$f":"IF($C16=\"\",\" \",VLOOKUP($C16,Futtermittel!$A$8:$CG$171,42,FALSE)*$F16)","v":0},{"$f":"IF($C16=\"\",\" \",VLOOKUP($C16,Futtermittel!$A$8:$CG$171,43,FALSE)*$F16)","v":0},{"$f":"IF($C16=\"\",\" \",VLOOKUP($C16,Futtermittel!$A$8:$CG$171,44,FALSE)*$F16)","v":0},{"$f":"IF($C16=\"\",\" \",VLOOKUP($C16,Futtermittel!$A$8:$CG$171,45,FALSE)*$F16)","v":0},{"$f":"IF($C16=\"\",\" \",VLOOKUP($C16,Futtermittel!$A$8:$CG$171,54,FALSE)*$F16)","v":0},{"$f":"IF($C16=\"\",\" \",VLOOKUP($C16,Futtermittel!$A$8:$CG$171,53,FALSE)*$F16)","v":0},{"$f":"IF($C16=\"\",\" \",VLOOKUP($C16,Futtermittel!$A$8:$CG$171,46,FALSE)*$F16)","v":0},null,null,{"$f":"IF($C16=\"\",\" \",VLOOKUP($C16,Futtermittel!$A$8:$CG$171,28,FALSE)*$F16)","v":{"v":0,"d":"0.0"}}]
[null," "," ",null," "," ",{"$f":"IF($C17=\"\",\" \",VLOOKUP(C17,Futtermittel!$A$8:$CG$171,29,FALSE)*$F17)","v":" "},{"$f":"IF($C17=\"\",\" \",VLOOKUP(C17,Futtermittel!$A$8:$CG$171,30,FALSE)*$F17)","v":" "},{"$f":"IF($C17=\"\",\" \",VLOOKUP(C17,Futtermittel!$A$8:$CG$171,31,FALSE)*$F17)","v":" "},{"$f":"IF($C17=\"\",\" \",VLOOKUP(C17,Futtermittel!$A$8:$CG$171,32,FALSE)*$F17)","v":" "},{"$f":"IF($C17=\"\",\" \",VLOOKUP(C17,Futtermittel!$A$8:$CG$171,33,FALSE)*$F17)","v":" "},{"$f":"IF($C17=\"\",\" \",VLOOKUP(C17,Futtermittel!$A$8:$CG$171,34,FALSE)*$F17)","v":" "},{"$f":"IF($C17=\"\",\" \",VLOOKUP($C17,Futtermittel!$A$8:$CG$171,37,FALSE)*$F17)","v":" "},{"$f":"IF($C17=\"\",\" \",VLOOKUP($C17,Futtermittel!$A$8:$CG$171,38,FALSE)*$F17)","v":" "},{"$f":"IF($C17=\"\",\" \",VLOOKUP($C17,Futtermittel!$A$8:$CG$171,39,FALSE)*$F17)","v":" "},{"$f":"IF($C17=\"\",\" \",VLOOKUP($C17,Futtermittel!$A$8:$CG$171,40,FALSE)*$F17)","v":" "},{"$f":"IF($C17=\"\",\" \",VLOOKUP($C17,Futtermittel!$A$8:$CG$171,41,FALSE)*$F17)","v":" "},{"$f":"IF($C17=\"\",\" \",VLOOKUP($C17,Futtermittel!$A$8:$CG$171,42,FALSE)*$F17)","v":" "},{"$f":"IF($C17=\"\",\" \",VLOOKUP($C17,Futtermittel!$A$8:$CG$171,43,FALSE)*$F17)","v":" "},{"$f":"IF($C17=\"\",\" \",VLOOKUP($C17,Futtermittel!$A$8:$CG$171,44,FALSE)*$F17)","v":" "},{"$f":"IF($C17=\"\",\" \",VLOOKUP($C17,Futtermittel!$A$8:$CG$171,45,FALSE)*$F17)","v":" "},{"$f":"IF($C17=\"\",\" \",VLOOKUP($C17,Futtermittel!$A$8:$CG$171,54,FALSE)*$F17)","v":" "},{"$f":"IF($C17=\"\",\" \",VLOOKUP($C17,Futtermittel!$A$8:$CG$171,53,FALSE)*$F17)","v":" "},{"$f":"IF($C17=\"\",\" \",VLOOKUP($C17,Futtermittel!$A$8:$CG$171,46,FALSE)*$F17)","v":" "},null,null,{"$f":"IF($C17=\"\",\" \",VLOOKUP($C17,Futtermittel!$A$8:$CG$171,28,FALSE)*$F17)","v":" "}]
[null," "," ",null," "," ",{"$f":"IF($C18=\"\",\" \",VLOOKUP(C18,Futtermittel!$A$8:$CG$171,29,FALSE)*$F18)","v":" "},{"$f":"IF($C18=\"\",\" \",VLOOKUP(C18,Futtermittel!$A$8:$CG$171,30,FALSE)*$F18)","v":" "},{"$f":"IF($C18=\"\",\" \",VLOOKUP(C18,Futtermittel!$A$8:$CG$171,31,FALSE)*$F18)","v":" "},{"$f":"IF($C18=\"\",\" \",VLOOKUP(C18,Futtermittel!$A$8:$CG$171,32,FALSE)*$F18)","v":" "},{"$f":"IF($C18=\"\",\" \",VLOOKUP(C18,Futtermittel!$A$8:$CG$171,33,FALSE)*$F18)","v":" "},{"$f":"IF($C18=\"\",\" \",VLOOKUP(C18,Futtermittel!$A$8:$CG$171,34,FALSE)*$F18)","v":" "},{"$f":"IF($C18=\"\",\" \",VLOOKUP($C18,Futtermittel!$A$8:$CG$171,37,FALSE)*$F18)","v":" "},{"$f":"IF($C18=\"\",\" \",VLOOKUP($C18,Futtermittel!$A$8:$CG$171,38,FALSE)*$F18)","v":" "},{"$f":"IF($C18=\"\",\" \",VLOOKUP($C18,Futtermittel!$A$8:$CG$171,39,FALSE)*$F18)","v":" "},{"$f":"IF($C18=\"\",\" \",VLOOKUP($C18,Futtermittel!$A$8:$CG$171,40,FALSE)*$F18)","v":" "},{"$f":"IF($C18=\"\",\" \",VLOOKUP($C18,Futtermittel!$A$8:$CG$171,41,FALSE)*$F18)","v":" "},{"$f":"IF($C18=\"\",\" \",VLOOKUP($C18,Futtermittel!$A$8:$CG$171,42,FALSE)*$F18)","v":" "},{"$f":"IF($C18=\"\",\" \",VLOOKUP($C18,Futtermittel!$A$8:$CG$171,43,FALSE)*$F18)","v":" "},{"$f":"IF($C18=\"\",\" \",VLOOKUP($C18,Futtermittel!$A$8:$CG$171,44,FALSE)*$F18)","v":" "},{"$f":"IF($C18=\"\",\" \",VLOOKUP($C18,Futtermittel!$A$8:$CG$171,45,FALSE)*$F18)","v":" "},{"$f":"IF($C18=\"\",\" \",VLOOKUP($C18,Futtermittel!$A$8:$CG$171,54,FALSE)*$F18)","v":" "},{"$f":"IF($C18=\"\",\" \",VLOOKUP($C18,Futtermittel!$A$8:$CG$171,53,FALSE)*$F18)","v":" "},{"$f":"IF($C18=\"\",\" \",VLOOKUP($C18,Futtermittel!$A$8:$CG$171,46,FALSE)*$F18)","v":" "},null,null,{"$f":"IF($C18=\"\",\" \",VLOOKUP($C18,Futtermittel!$A$8:$CG$171,28,FALSE)*$F18)","v":" "}]
[null," "," ",null," "," ",{"$f":"IF($C19=\"\",\" \",VLOOKUP(C19,Futtermittel!$A$8:$CG$171,29,FALSE)*$F19)","v":" "},{"$f":"IF($C19=\"\",\" \",VLOOKUP(C19,Futtermittel!$A$8:$CG$171,30,FALSE)*$F19)","v":" "},{"$f":"IF($C19=\"\",\" \",VLOOKUP(C19,Futtermittel!$A$8:$CG$171,31,FALSE)*$F19)","v":" "},{"$f":"IF($C19=\"\",\" \",VLOOKUP(C19,Futtermittel!$A$8:$CG$171,32,FALSE)*$F19)","v":" "},{"$f":"IF($C19=\"\",\" \",VLOOKUP(C19,Futtermittel!$A$8:$CG$171,33,FALSE)*$F19)","v":" "},{"$f":"IF($C19=\"\",\" \",VLOOKUP(C19,Futtermittel!$A$8:$CG$171,34,FALSE)*$F19)","v":" "},{"$f":"IF($C19=\"\",\" \",VLOOKUP($C19,Futtermittel!$A$8:$CG$171,37,FALSE)*$F19)","v":" "},{"$f":"IF($C19=\"\",\" \",VLOOKUP($C19,Futtermittel!$A$8:$CG$171,38,FALSE)*$F19)","v":" "},{"$f":"IF($C19=\"\",\" \",VLOOKUP($C19,Futtermittel!$A$8:$CG$171,39,FALSE)*$F19)","v":" "},{"$f":"IF($C19=\"\",\" \",VLOOKUP($C19,Futtermittel!$A$8:$CG$171,40,FALSE)*$F19)","v":" "},{"$f":"IF($C19=\"\",\" \",VLOOKUP($C19,Futtermittel!$A$8:$CG$171,41,FALSE)*$F19)","v":" "},{"$f":"IF($C19=\"\",\" \",VLOOKUP($C19,Futtermittel!$A$8:$CG$171,42,FALSE)*$F19)","v":" "},{"$f":"IF($C19=\"\",\" \",VLOOKUP($C19,Futtermittel!$A$8:$CG$171,43,FALSE)*$F19)","v":" "},{"$f":"IF($C19=\"\",\" \",VLOOKUP($C19,Futtermittel!$A$8:$CG$171,44,FALSE)*$F19)","v":" "},{"$f":"IF($C19=\"\",\" \",VLOOKUP($C19,Futtermittel!$A$8:$CG$171,45,FALSE)*$F19)","v":" "},{"$f":"IF($C19=\"\",\" \",VLOOKUP($C19,Futtermittel!$A$8:$CG$171,54,FALSE)*$F19)","v":" "},{"$f":"IF($C19=\"\",\" \",VLOOKUP($C19,Futtermittel!$A$8:$CG$171,53,FALSE)*$F19)","v":" "},{"$f":"IF($C19=\"\",\" \",VLOOKUP($C19,Futtermittel!$A$8:$CG$171,46,FALSE)*$F19)","v":" "},null,null,{"$f":"IF($C19=\"\",\" \",VLOOKUP($C19,Futtermittel!$A$8:$CG$171,28,FALSE)*$F19)","v":" "}]
[null," "," ",null," "," ",{"$f":"IF($C20=\"\",\" \",VLOOKUP(C20,Futtermittel!$A$8:$CG$171,29,FALSE)*$F20)","v":" "},{"$f":"IF($C20=\"\",\" \",VLOOKUP(C20,Futtermittel!$A$8:$CG$171,30,FALSE)*$F20)","v":" "},{"$f":"IF($C20=\"\",\" \",VLOOKUP(C20,Futtermittel!$A$8:$CG$171,31,FALSE)*$F20)","v":" "},{"$f":"IF($C20=\"\",\" \",VLOOKUP(C20,Futtermittel!$A$8:$CG$171,32,FALSE)*$F20)","v":" "},{"$f":"IF($C20=\"\",\" \",VLOOKUP(C20,Futtermittel!$A$8:$CG$171,33,FALSE)*$F20)","v":" "},{"$f":"IF($C20=\"\",\" \",VLOOKUP(C20,Futtermittel!$A$8:$CG$171,34,FALSE)*$F20)","v":" "},{"$f":"IF($C20=\"\",\" \",VLOOKUP($C20,Futtermittel!$A$8:$CG$171,37,FALSE)*$F20)","v":" "},{"$f":"IF($C20=\"\",\" \",VLOOKUP($C20,Futtermittel!$A$8:$CG$171,38,FALSE)*$F20)","v":" "},{"$f":"IF($C20=\"\",\" \",VLOOKUP($C20,Futtermittel!$A$8:$CG$171,39,FALSE)*$F20)","v":" "},{"$f":"IF($C20=\"\",\" \",VLOOKUP($C20,Futtermittel!$A$8:$CG$171,40,FALSE)*$F20)","v":" "},{"$f":"IF($C20=\"\",\" \",VLOOKUP($C20,Futtermittel!$A$8:$CG$171,41,FALSE)*$F20)","v":" "},{"$f":"IF($C20=\"\",\" \",VLOOKUP($C20,Futtermittel!$A$8:$CG$171,42,FALSE)*$F20)","v":" "},{"$f":"IF($C20=\"\",\" \",VLOOKUP($C20,Futtermittel!$A$8:$CG$171,43,FALSE)*$F20)","v":" "},{"$f":"IF($C20=\"\",\" \",VLOOKUP($C20,Futtermittel!$A$8:$CG$171,44,FALSE)*$F20)","v":" "},{"$f":"IF($C20=\"\",\" \",VLOOKUP($C20,Futtermittel!$A$8:$CG$171,45,FALSE)*$F20)","v":" "},{"$f":"IF($C20=\"\",\" \",VLOOKUP($C20,Futtermittel!$A$8:$CG$171,54,FALSE)*$F20)","v":" "},{"$f":"IF($C20=\"\",\" \",VLOOKUP($C20,Futtermittel!$A$8:$CG$171,53,FALSE)*$F20)","v":" "},{"$f":"IF($C20=\"\",\" \",VLOOKUP($C20,Futtermittel!$A$8:$CG$171,46,FALSE)*$F20)","v":" "},null,null,{"$f":"IF($C20=\"\",\" \",VLOOKUP($C20,Futtermittel!$A$8:$CG$171,28,FALSE)*$F20)","v":" "}]
[null,{"$f":"B21","v":" "}," ",null,{"$f":"IF(E21=\"\",\" \",E21)","v":" "},{"$f":"IF(F21=\"\",\" \",F21)","v":" "},{"$f":"IF($C21=\"\",\" \",VLOOKUP(C21,Futtermittel!$A$8:$CG$171,29,FALSE)*$F21)","v":" "},{"$f":"IF($C21=\"\",\" \",VLOOKUP(C21,Futtermittel!$A$8:$CG$171,30,FALSE)*$F21)","v":" "},{"$f":"IF($C21=\"\",\" \",VLOOKUP(C21,Futtermittel!$A$8:$CG$171,31,FALSE)*$F21)","v":" "},{"$f":"IF($C21=\"\",\" \",VLOOKUP(C21,Futtermittel!$A$8:$CG$171,32,FALSE)*$F21)","v":" "},{"$f":"IF($C21=\"\",\" \",VLOOKUP(C21,Futtermittel!$A$8:$CG$171,33,FALSE)*$F21)","v":" "},{"$f":"IF($C21=\"\",\" \",VLOOKUP(C21,Futtermittel!$A$8:$CG$171,34,FALSE)*$F21)","v":" "},{"$f":"IF($C21=\"\",\" \",VLOOKUP($C21,Futtermittel!$A$8:$CG$171,37,FALSE)*$F21)","v":" "},{"$f":"IF($C21=\"\",\" \",VLOOKUP($C21,Futtermittel!$A$8:$CG$171,38,FALSE)*$F21)","v":" "},{"$f":"IF($C21=\"\",\" \",VLOOKUP($C21,Futtermittel!$A$8:$CG$171,39,FALSE)*$F21)","v":" "},{"$f":"IF($C21=\"\",\" \",VLOOKUP($C21,Futtermittel!$A$8:$CG$171,40,FALSE)*$F21)","v":" "},{"$f":"IF($C21=\"\",\" \",VLOOKUP($C21,Futtermittel!$A$8:$CG$171,41,FALSE)*$F21)","v":" "},{"$f":"IF($C21=\"\",\" \",VLOOKUP($C21,Futtermittel!$A$8:$CG$171,42,FALSE)*$F21)","v":" "},{"$f":"IF($C21=\"\",\" \",VLOOKUP($C21,Futtermittel!$A$8:$CG$171,43,FALSE)*$F21)","v":" "},{"$f":"IF($C21=\"\",\" \",VLOOKUP($C21,Futtermittel!$A$8:$CG$171,44,FALSE)*$F21)","v":" "},{"$f":"IF($C21=\"\",\" \",VLOOKUP($C21,Futtermittel!$A$8:$CG$171,45,FALSE)*$F21)","v":" "},{"$f":"IF($C21=\"\",\" \",VLOOKUP($C21,Futtermittel!$A$8:$CG$171,54,FALSE)*$F21)","v":" "},{"$f":"IF($C21=\"\",\" \",VLOOKUP($C21,Futtermittel!$A$8:$CG$171,53,FALSE)*$F21)","v":" "},{"$f":"IF($C21=\"\",\" \",VLOOKUP($C21,Futtermittel!$A$8:$CG$171,46,FALSE)*$F21)","v":" "},null,null,{"$f":"IF($C21=\"\",\" \",VLOOKUP($C21,Futtermittel!$A$8:$CG$171,28,FALSE)*$F21)","v":" "}]
[null," "," ",null," ",{"$f":"IF(F22=\"\",\" \",F22)","v":" "},{"$f":"IF($C22=\"\",\" \",VLOOKUP(C22,Futtermittel!$A$8:$CG$171,29,FALSE)*$F22)","v":" "},{"$f":"IF($C22=\"\",\" \",VLOOKUP(C22,Futtermittel!$A$8:$CG$171,30,FALSE)*$F22)","v":" "},{"$f":"IF($C22=\"\",\" \",VLOOKUP(C22,Futtermittel!$A$8:$CG$171,31,FALSE)*$F22)","v":" "},{"$f":"IF($C22=\"\",\" \",VLOOKUP(C22,Futtermittel!$A$8:$CG$171,32,FALSE)*$F22)","v":" "},{"$f":"IF($C22=\"\",\" \",VLOOKUP(C22,Futtermittel!$A$8:$CG$171,33,FALSE)*$F22)","v":" "},{"$f":"IF($C22=\"\",\" \",VLOOKUP(C22,Futtermittel!$A$8:$CG$171,34,FALSE)*$F22)","v":" "},{"$f":"IF($C22=\"\",\" \",VLOOKUP($C22,Futtermittel!$A$8:$CG$171,37,FALSE)*$F22)","v":" "},{"$f":"IF($C22=\"\",\" \",VLOOKUP($C22,Futtermittel!$A$8:$CG$171,38,FALSE)*$F22)","v":" "},{"$f":"IF($C22=\"\",\" \",VLOOKUP($C22,Futtermittel!$A$8:$CG$171,39,FALSE)*$F22)","v":" "},{"$f":"IF($C22=\"\",\" \",VLOOKUP($C22,Futtermittel!$A$8:$CG$171,40,FALSE)*$F22)","v":" "},{"$f":"IF($C22=\"\",\" \",VLOOKUP($C22,Futtermittel!$A$8:$CG$171,41,FALSE)*$F22)","v":" "},{"$f":"IF($C22=\"\",\" \",VLOOKUP($C22,Futtermittel!$A$8:$CG$171,42,FALSE)*$F22)","v":" "},{"$f":"IF($C22=\"\",\" \",VLOOKUP($C22,Futtermittel!$A$8:$CG$171,43,FALSE)*$F22)","v":" "},{"$f":"IF($C22=\"\",\" \",VLOOKUP($C22,Futtermittel!$A$8:$CG$171,44,FALSE)*$F22)","v":" "},{"$f":"IF($C22=\"\",\" \",VLOOKUP($C22,Futtermittel!$A$8:$CG$171,45,FALSE)*$F22)","v":" "},{"$f":"IF($C22=\"\",\" \",VLOOKUP($C22,Futtermittel!$A$8:$CG$171,54,FALSE)*$F22)","v":" "},{"$f":"IF($C22=\"\",\" \",VLOOKUP($C22,Futtermittel!$A$8:$CG$171,53,FALSE)*$F22)","v":" "},{"$f":"IF($C22=\"\",\" \",VLOOKUP($C22,Futtermittel!$A$8:$CG$171,46,FALSE)*$F22)","v":" "},null,null,{"$f":"IF($C22=\"\",\" \",VLOOKUP($C22,Futtermittel!$A$8:$CG$171,28,FALSE)*$F22)","v":" "}]
[null," "," ",null," ",{"$f":"IF(F23=\"\",\" \",F23)","v":" "},{"$f":"IF($C23=\"\",\" \",VLOOKUP(C23,Futtermittel!$A$8:$CG$171,29,FALSE)*$F23)","v":" "},{"$f":"IF($C23=\"\",\" \",VLOOKUP(C23,Futtermittel!$A$8:$CG$171,30,FALSE)*$F23)","v":" "},{"$f":"IF($C23=\"\",\" \",VLOOKUP(C23,Futtermittel!$A$8:$CG$171,31,FALSE)*$F23)","v":" "},{"$f":"IF($C23=\"\",\" \",VLOOKUP(C23,Futtermittel!$A$8:$CG$171,32,FALSE)*$F23)","v":" "},{"$f":"IF($C23=\"\",\" \",VLOOKUP(C23,Futtermittel!$A$8:$CG$171,33,FALSE)*$F23)","v":" "},{"$f":"IF($C23=\"\",\" \",VLOOKUP(C23,Futtermittel!$A$8:$CG$171,34,FALSE)*$F23)","v":" "},{"$f":"IF($C23=\"\",\" \",VLOOKUP($C23,Futtermittel!$A$8:$CG$171,37,FALSE)*$F23)","v":" "},{"$f":"IF($C23=\"\",\" \",VLOOKUP($C23,Futtermittel!$A$8:$CG$171,38,FALSE)*$F23)","v":" "},{"$f":"IF($C23=\"\",\" \",VLOOKUP($C23,Futtermittel!$A$8:$CG$171,39,FALSE)*$F23)","v":" "},{"$f":"IF($C23=\"\",\" \",VLOOKUP($C23,Futtermittel!$A$8:$CG$171,40,FALSE)*$F23)","v":" "},{"$f":"IF($C23=\"\",\" \",VLOOKUP($C23,Futtermittel!$A$8:$CG$171,41,FALSE)*$F23)","v":" "},{"$f":"IF($C23=\"\",\" \",VLOOKUP($C23,Futtermittel!$A$8:$CG$171,42,FALSE)*$F23)","v":" "},{"$f":"IF($C23=\"\",\" \",VLOOKUP($C23,Futtermittel!$A$8:$CG$171,43,FALSE)*$F23)","v":" "},{"$f":"IF($C23=\"\",\" \",VLOOKUP($C23,Futtermittel!$A$8:$CG$171,44,FALSE)*$F23)","v":" "},{"$f":"IF($C23=\"\",\" \",VLOOKUP($C23,Futtermittel!$A$8:$CG$171,45,FALSE)*$F23)","v":" "},{"$f":"IF($C23=\"\",\" \",VLOOKUP($C23,Futtermittel!$A$8:$CG$171,54,FALSE)*$F23)","v":" "},{"$f":"IF($C23=\"\",\" \",VLOOKUP($C23,Futtermittel!$A$8:$CG$171,53,FALSE)*$F23)","v":" "},{"$f":"IF($C23=\"\",\" \",VLOOKUP($C23,Futtermittel!$A$8:$CG$171,46,FALSE)*$F23)","v":" "},null,null,{"$f":"IF($C23=\"\",\" \",VLOOKUP($C23,Futtermittel!$A$8:$CG$171,28,FALSE)*$F23)","v":" "}]
[null,"EF-Nr.","Ergänzungsfutter ","VQ in %"]
[null," ",{"$f":"IF(C25=\"\",\" \",C25)","v":" "},{"v":0.85,"d":"85%"}," "," ",{"$f":"IF($C25=\"\",\" \",VLOOKUP($C25,Ergänzungsfutter!$A$11:$BE$26,20,FALSE)*$F25)","v":" "},{"$f":"IF($C25=\"\",\" \",VLOOKUP($C25,Ergänzungsfutter!$A$11:$BE$26,20,FALSE)*$F25*D25)","v":" "},{"$f":"IF($C25=\"\",\" \",VLOOKUP($C25,Ergänzungsfutter!$A$11:$BE$26,21,FALSE)*$F25)","v":" "},{"$f":"IF($C25=\"\",\" \",VLOOKUP($C25,Ergänzungsfutter!$A$11:$BE$26,22,FALSE)*$F25)","v":" "},{"$f":"IF($C25=\"\",\" \",VLOOKUP($C25,Ergänzungsfutter!$A$11:$BE$26,23,FALSE)*$F25)","v":" "},{"$f":"IF($C25=\"\",\" \",VLOOKUP($C25,Ergänzungsfutter!$A$11:$BE$26,24,FALSE)*$F25)","v":" "},{"$f":"IF($C25=\"\",\" \",VLOOKUP($C25,Ergänzungsfutter!$A$11:$BE$26,27,FALSE)*$F25)","v":" "},{"$f":"IF($C25=\"\",\" \",VLOOKUP($C25,Ergänzungsfutter!$A$11:$BE$26,28,FALSE)*$F25)","v":" "},{"$f":"IF($C25=\"\",\" \",VLOOKUP($C25,Ergänzungsfutter!$A$11:$BE$26,29,FALSE)*$F25)","v":" "},{"$f":"IF($C25=\"\",\" \",VLOOKUP($C25,Ergänzungsfutter!$A$11:$BE$26,30,FALSE)*$F25)","v":" "},{"$f":"IF($C25=\"\",\" \",VLOOKUP($C25,Ergänzungsfutter!$A$11:$BE$26,31,FALSE)*$F25)","v":" "},{"$f":"IF($C25=\"\",\" \",VLOOKUP($C25,Ergänzungsfutter!$A$11:$BE$26,32,FALSE)*$F25)","v":" "},{"$f":"IF($C25=\"\",\" \",VLOOKUP($C25,Ergänzungsfutter!$A$11:$BE$26,33,FALSE)*$F25)","v":" "},{"$f":"IF($C25=\"\",\" \",VLOOKUP($C25,Ergänzungsfutter!$A$11:$BE$26,34,FALSE)*$F25)","v":" "},{"$f":"IF($C25=\"\",\" \",VLOOKUP($C25,Ergänzungsfutter!$A$11:$BE$26,35,FALSE)*$F25)","v":" "},{"$f":"IF($C25=\"\",\" \",VLOOKUP($C25,Ergänzungsfutter!$A$11:$BE$26,36,FALSE)*$F25)","v":" "},{"$f":"IF($C25=\"\",\" \",VLOOKUP($C25,Ergänzungsfutter!$A$11:$BE$26,35,FALSE)*$F25)","v":" "},{"$f":"IF($C25=\"\",\" \",VLOOKUP($C25,Ergänzungsfutter!$A$11:$BE$26,37,FALSE)*$F25)","v":" "},null,null,{"$f":"IF($C25=\"\",\" \",VLOOKUP($C25,Ergänzungsfutter!$A$11:$BE$26,37,FALSE)*$F25)","v":" "}]
[null," ",{"$f":"IF(C26=\"\",\" \",C26)","v":" "}," "," "," ",{"$f":"IF($C26=\"\",\" \",VLOOKUP($C26,Ergänzungsfutter!$A$11:$BE$26,20,FALSE)*$F26)","v":" "},{"$f":"IF($C26=\"\",\" \",VLOOKUP($C26,Ergänzungsfutter!$A$11:$BE$26,20,FALSE)*$F26*D26)","v":" "},{"$f":"IF($C26=\"\",\" \",VLOOKUP($C26,Ergänzungsfutter!$A$11:$BE$26,21,FALSE)*$F26)","v":" "},{"$f":"IF($C26=\"\",\" \",VLOOKUP($C26,Ergänzungsfutter!$A$11:$BE$26,22,FALSE)*$F26)","v":" "},{"$f":"IF($C26=\"\",\" \",VLOOKUP($C26,Ergänzungsfutter!$A$11:$BE$26,23,FALSE)*$F26)","v":" "},{"$f":"IF($C26=\"\",\" \",VLOOKUP($C26,Ergänzungsfutter!$A$11:$BE$26,24,FALSE)*$F26)","v":" "},{"$f":"IF($C26=\"\",\" \",VLOOKUP($C26,Ergänzungsfutter!$A$11:$BE$26,27,FALSE)*$F26)","v":" "},{"$f":"IF($C26=\"\",\" \",VLOOKUP($C26,Ergänzungsfutter!$A$11:$BE$26,28,FALSE)*$F26)","v":" "},{"$f":"IF($C26=\"\",\" \",VLOOKUP($C26,Ergänzungsfutter!$A$11:$BE$26,29,FALSE)*$F26)","v":" "},{"$f":"IF($C26=\"\",\" \",VLOOKUP($C26,Ergänzungsfutter!$A$11:$BE$26,30,FALSE)*$F26)","v":" "},{"$f":"IF($C26=\"\",\" \",VLOOKUP($C26,Ergänzungsfutter!$A$11:$BE$26,31,FALSE)*$F26)","v":" "},{"$f":"IF($C26=\"\",\" \",VLOOKUP($C26,Ergänzungsfutter!$A$11:$BE$26,32,FALSE)*$F26)","v":" "},{"$f":"IF($C26=\"\",\" \",VLOOKUP($C26,Ergänzungsfutter!$A$11:$BE$26,33,FALSE)*$F26)","v":" "},{"$f":"IF($C26=\"\",\" \",VLOOKUP($C26,Ergänzungsfutter!$A$11:$BE$26,34,FALSE)*$F26)","v":" "},{"$f":"IF($C26=\"\",\" \",VLOOKUP($C26,Ergänzungsfutter!$A$11:$BE$26,35,FALSE)*$F26)","v":" "},{"$f":"IF($C26=\"\",\" \",VLOOKUP($C26,Ergänzungsfutter!$A$11:$BE$26,36,FALSE)*$F26)","v":" "},{"$f":"IF($C26=\"\",\" \",VLOOKUP($C26,Ergänzungsfutter!$A$11:$BE$26,35,FALSE)*$F26)","v":" "},{"$f":"IF($C26=\"\",\" \",VLOOKUP($C26,Ergänzungsfutter!$A$11:$BE$26,37,FALSE)*$F26)","v":" "},null,null,{"$f":"IF($C26=\"\",\" \",VLOOKUP($C26,Ergänzungsfutter!$A$11:$BE$26,37,FALSE)*$F26)","v":" "}]
[null,"Nr.","Mineralfutter"]
[null,{"$f":"B28","v":5},{"$f":"IF(C28=\"\",\" \",C28)","v":"Optimales MinFu AM 850g TZ 3,5% + Phytase"},null,{"$f":"IF(E28=\"\",\" \",E28)","v":{"v":81,"d":"81.00 €"}},{"$f":"IF(F28=\"\",\" \",F28)","v":{"v":0.035,"d":"3.50%"}},{"$f":"IF($C28=\"\",\" \",VLOOKUP($C28,Mineralfutter!$A$11:$BE$25,10,FALSE)*$F28)","v":{"v":0.56,"d":"0.6"}},{"$f":"IF($C28=\"\",\" \",VLOOKUP($C28,Mineralfutter!$A$11:$BE$25,10,FALSE)*$F28)","v":{"v":0.56,"d":"0.6"}},{"$f":"IF($C28=\"\",\" \",VLOOKUP($C28,Mineralfutter!$A$11:$BE$25,21,FALSE)*$F28)","v":0},{"$f":"IF($C28=\"\",\" \",VLOOKUP($C28,Mineralfutter!$A$11:$BE$25,22,FALSE)*$F28)","v":0},{"$f":"IF($C28=\"\",\" \",VLOOKUP($C28,Mineralfutter!$A$11:$BE$25,23,FALSE)*$F28)","v":0},{"$f":"IF($C28=\"\",\" \",VLOOKUP($C28,Mineralfutter!$A$11:$BE$25,24,FALSE)*$F28)","v":{"v":25.025000000000002,"d":"25"}},{"$f":"IF($C28=\"\",\" \",VLOOKUP($C28,Mineralfutter!$A$11:$BE$25,27,FALSE)*$F28)","v":{"v":0,"d":"0.0"}},{"$f":"IF($C28=\"\",\" \",VLOOKUP($C28,Mineralfutter!$A$11:$BE$25,28,FALSE)*$F28)","v":{"v":0,"d":"0.0"}},{"$f":"IF($C28=\"\",\" \",VLOOKUP($C28,Mineralfutter!$A$11:$BE$25,29,FALSE)*$F28)","v":{"v":0,"d":"0.0"}},{"$f":"IF($C28=\"\",\" \",VLOOKUP($C28,Mineralfutter!$A$11:$BE$25,30,FALSE)*$F28)","v":{"v":6055.000000000001,"d":"6055"}},{"$f":"IF($C28=\"\",\" \",VLOOKUP($C28,Mineralfutter!$A$11:$BE$25,31,FALSE)*$F28)","v":{"v":1513.7500000000002,"d":"1514"}},{"$f":"IF($C28=\"\",\" \",VLOOKUP($C28,Mineralfutter!$A$11:$BE$25,32,FALSE)*$F28)","v":{"v":61.25000000000001,"d":"61"}},{"$f":"IF($C28=\"\",\" \",VLOOKUP($C28,Mineralfutter!$A$11:$BE$25,33,FALSE)*$F28)","v":{"v":273.29577464788736,"d":"273"}},{"$f":"IF($C28=\"\",\" \",VLOOKUP($C28,Mineralfutter!$A$11:$BE$25,34,FALSE)*$F28)","v":{"v":114.4173682012432,"d":"114"}},{"$f":"IF($C28=\"\",\" \",VLOOKUP($C28,Mineralfutter!$A$11:$BE$25,35,FALSE)*$F28)","v":0},null,null,{"$f":"IF($C28=\"\",\" \",VLOOKUP($C28,Mineralfutter!$A$11:$BE$25,36,FALSE)*$F28)","v":0},null,null,{"$f":"IF($C28=\"\",\" \",VLOOKUP($C28,Mineralfutter!$A$11:$BE$25,37,FALSE)*$F28)","v":{"v":0,"d":"0.0"}}]
[null,{"$f":"B29","v":" "},{"$f":"IF(C29=\"\",\" \",C29)","v":" "},null,{"$f":"IF(E29=\"\",\" \",E29)","v":" "},{"$f":"IF(F29=\"\",\" \",F29)","v":" "},{"$f":"IF($C29=\"\",\" \",VLOOKUP($C29,Mineralfutter!$A$11:$BE$25,10,FALSE)*$F29)","v":" "},{"$f":"IF($C29=\"\",\" \",VLOOKUP($C29,Mineralfutter!$A$11:$BE$25,10,FALSE)*$F29)","v":" "},{"$f":"IF($C29=\"\",\" \",VLOOKUP($C29,Mineralfutter!$A$11:$BE$25,21,FALSE)*$F29)","v":" "},{"$f":"IF($C29=\"\",\" \",VLOOKUP($C29,Mineralfutter!$A$11:$BE$25,22,FALSE)*$F29)","v":" "},{"$f":"IF($C29=\"\",\" \",VLOOKUP($C29,Mineralfutter!$A$11:$BE$25,23,FALSE)*$F29)","v":" "},{"$f":"IF($C29=\"\",\" \",VLOOKUP($C29,Mineralfutter!$A$11:$BE$25,24,FALSE)*$F29)","v":" "},{"$f":"IF($C29=\"\",\" \",VLOOKUP($C29,Mineralfutter!$A$11:$BE$25,27,FALSE)*$F29)","v":" "},{"$f":"IF($C29=\"\",\" \",VLOOKUP($C29,Mineralfutter!$A$11:$BE$25,28,FALSE)*$F29)","v":" "},{"$f":"IF($C29=\"\",\" \",VLOOKUP($C29,Mineralfutter!$A$11:$BE$25,29,FALSE)*$F29)","v":" "},{"$f":"IF($C29=\"\",\" \",VLOOKUP($C29,Mineralfutter!$A$11:$BE$25,30,FALSE)*$F29)","v":" "},{"$f":"IF($C29=\"\",\" \",VLOOKUP($C29,Mineralfutter!$A$11:$BE$25,31,FALSE)*$F29)","v":" "},{"$f":"IF($C29=\"\",\" \",VLOOKUP($C29,Mineralfutter!$A$11:$BE$25,32,FALSE)*$F29)","v":" "},{"$f":"IF($C29=\"\",\" \",VLOOKUP($C29,Mineralfutter!$A$11:$BE$25,33,FALSE)*$F29)","v":" "},{"$f":"IF($C29=\"\",\" \",VLOOKUP($C29,Mineralfutter!$A$11:$BE$25,34,FALSE)*$F29)","v":" "},{"$f":"IF($C29=\"\",\" \",VLOOKUP($C29,Mineralfutter!$A$11:$BE$25,35,FALSE)*$F29)","v":" "},null,null,{"$f":"IF($C29=\"\",\" \",VLOOKUP($C29,Mineralfutter!$A$11:$BE$25,36,FALSE)*$F29)","v":" "},null,null,{"$f":"IF($C29=\"\",\" \",VLOOKUP($C29,Mineralfutter!$A$11:$BE$25,37,FALSE)*$F29)","v":" "}]
[null,null,"Summe",null,{"$f":"AC30","v":{"v":19.0427,"d":"19.04 €"}},{"$f":"IF(SUM(F13:F29,F36:F37)=0,\" \",SUM(F13:F29,F36:F37))","v":{"v":1,"d":"100.00%"}},{"$f":"IF(F30=\" \",\" \",SUM(G46:G62,Q36*$F36,Q37*$F37*0.525))","v":{"v":2.8891318590909094,"d":"2.9"}},{"$f":"IF(F30=\" \",\" \",SUM(H46:H62,R36*$F36,R37*$F37*0.525))","v":{"v":2.580173204,"d":"2.6"}},{"$f":"IF(F30=\" \",\" \",SUM(I46:I62))","v":{"v":28.897000000000002,"d":"29"}},{"$f":"IF(F30=\" \",\" \",SUM(J46:J62))","v":{"v":461.55000000000007,"d":"462"}},{"$f":"IF(F30=\" \",\" \",SUM(K46:K62))","v":{"v":34.94500000000001,"d":"35"}},{"$f":"IF(F30=\" \",\" \",SUM(L46:L62,F36*650))","v":{"v":50.86200000000001,"d":"51"}},{"$f":"IF(F30=\" \",\" \",SUM(M46:M62))","v":{"v":14.336589655172414,"d":"14.3"}},{"$f":"IF(F30=\" \",\" \",SUM(N46:N62))","v":{"v":12.529927586206897,"d":"12.5"}},{"$f":"IF(F30=\" \",\" \",SUM(O46:O62))","v":{"v":1.8108620689655173,"d":"1.8"}},{"$f":"IF(F30=\" \",\" \",SUM(P46:P62))","v":{"v":6055.000000000001,"d":"6055"}},{"$f":"IF(F30=\" \",\" \",SUM(Q46:Q62))","v":{"v":1513.7500000000002,"d":"1514"}},{"$f":"IF(F30=\" \",\" \",SUM(R46:R62))","v":{"v":61.25000000000001,"d":"61"}},{"$f":"IF(F30=\" \",\" \",SUM(S46:S62))","v":{"v":300.44018022608526,"d":"300"}},{"$f":"IF(F30=\" \",\" \",SUM(T46:T62))","v":{"v":596.9513428700117,"d":"597"}},{"$f":"IF(F30=\" \",\" \",SUM(U46:U62))","v":{"v":69.56034000000004,"d":"70"}},{"$f":"IF(H30=\" \",\" \",SUM(V46:V62))","v":{"v":209.9670688938648,"d":"210"}},{"$f":"IF(I30=\" \",\" \",SUM(W46:W62))","v":{"v":46.67377559834801,"d":"47"}},{"$f":"IF(H30=\" \",\" \",SUM(X46:X62))","v":{"v":600.8260000000001,"d":"601"}},{"$f":"IF(K30=\" \",\" \",SUM(Y46:Y62))","v":0},{"$f":"IF(J30=\" \",\" \",SUM(Z46:Z62))","v":0},{"$f":"IF(AA30=\" \",\" \",SUM(AA46:AA62,AK36*$F36,AK37*$F37*0.525))","v":{"v":6.42260091954023,"d":"6.4"}}]
[null,null,"Summe auf 88% TM umgerechnet",null,{"$f":"AC31","v":{"v":18.923567540709623,"d":"18.92 €"}},{"$f":"F30","v":{"v":1,"d":"100.00%"}},{"$f":"IF($F31=\" \",\" \",ROUND($I31*G63/$I30*$F31,1))","v":2.9},{"$f":"IF($F31=\" \",\" \",ROUND($I31*H63/$I30*$F31,1))","v":2.6},{"$f":"IF($F31=\" \",\" \",ROUND($I31*I63/$I30*$F31,0))","v":29},{"$f":"IF($F31=\" \",\" \",ROUND($I31*J63/$I30*$F31,0))","v":459},{"$f":"IF($F31=\" \",\" \",ROUND($I31*K63/$I30*$F31,0))","v":35},{"$f":"IF($F31=\" \",\" \",ROUND($I31*L63/$I30*$F31,0))","v":51},{"$f":"IF($F31=\" \",\" \",ROUND($I31*M63/$I30*$F31,1))","v":14.2},{"$f":"IF($F31=\" \",\" \",ROUND($I31*N63/$I30*$F31,1))","v":12.5},{"$f":"IF($F31=\" \",\" \",ROUND($I31*O63/$I30*$F31,1))","v":1.8},{"$f":"IF($F31=\" \",\" \",ROUND($I31*P63/$I30*$F31,0))","v":6017},{"$f":"IF($F31=\" \",\" \",ROUND($I31*Q63/$I30*$F31,0))","v":1504},{"$f":"IF($F31=\" \",\" \",ROUND($I31*R63/$I30*$F31,0))","v":61},{"$f":"IF($F31=\" \",\" \",ROUND($I31*S63/$I30*$F31,0))","v":299},{"$f":"IF($F31=\" \",\" \",ROUND($I31*T63/$I30*$F31,0))","v":593},{"$f":"IF($F31=\" \",\" \",ROUND($I31*U63/$I30*$F31,1))","v":{"v":69.1,"d":"69"}},{"v":208.7,"d":"209"},{"v":46.4,"d":"46"},{"$f":"IF($F31=\" \",\" \",ROUND($I31*X63/$I30*$F31,1))","v":{"v":597.1,"d":"597"}},0,0,{"$f":"IF($F31=\" \",\" \",ROUND($I31*AA63/$I30*$F31,1))","v":6.4}]
[null,"OW-Nr.","aus Tabelle Orientierungswerte in g"]
[null,{"$f":"B33","v":10},{"$f":"IF(C33=\"\",\" \",C33)","v":"Anfangsmast ab 40 Kg LM für 850 g TZ*"},null,"-",{"$f":"F30","v":{"v":1,"d":"100.00%"}},{"$f":"IF($C33=\"\",\" \",ROUND(VLOOKUP($C$33,Orientierungswerte!$A$13:$AZ$117,30,FALSE)*$F$33,1))","v":2.9},{"$f":"IF($C33=\"\",\" \",ROUND(VLOOKUP($C$33,Orientierungswerte!$A$13:$AZ$117,31,FALSE)*$F$33,1))","v":2.6},{"$f":"IF($C33=\"\",\" \",ROUND(VLOOKUP($C$33,Orientierungswerte!$A$13:$AZ$117,33,FALSE)*$F$33,0))","v":{"v":0,"d":"0.0"}},{"$f":"IF($C33=\"\",\" \",ROUND(VLOOKUP($C$33,Orientierungswerte!$A$13:$AZ$117,34,FALSE)*$F$33,0))","v":0},{"$f":"IF($C33=\"\",\" \",ROUND(VLOOKUP($C$33,Orientierungswerte!$A$13:$AZ$117,35,FALSE)*$F$33,0))","v":0},{"$f":"IF($C33=\"\",\" \",ROUND(VLOOKUP($C$33,Orientierungswerte!$A$13:$AZ$117,36,FALSE)*$F$33,0))","v":0},{"$f":"IF($C33=\"\",\" \",ROUND(VLOOKUP($C$33,Orientierungswerte!$A$13:$AZ$117,37,FALSE)*$F$33,1))","v":17.7},{"$f":"IF($C33=\"\",\" \",ROUND(VLOOKUP($C$33,Orientierungswerte!$A$13:$AZ$117,38,FALSE)*$F$33,1))","v":9.9},{"$f":"IF($C33=\"\",\" \",ROUND(VLOOKUP($C$33,Orientierungswerte!$A$13:$AZ$117,39,FALSE)*$F$33,1))","v":{"v":0,"d":"0.0"}},{"$f":"IF($C33=\"\",\" \",ROUND(VLOOKUP($C$33,Orientierungswerte!$A$13:$AZ$117,40,FALSE)*$F$33,0))","v":6000},{"$f":"IF($C33=\"\",\" \",ROUND(VLOOKUP($C$33,Orientierungswerte!$A$13:$AZ$117,41,FALSE)*$F$33,0))","v":1500},{"$f":"IF($C33=\"\",\" \",ROUND(VLOOKUP($C$33,Orientierungswerte!$A$13:$AZ$117,42,FALSE)*$F$33,0))","v":60},{"$f":"IF($C33=\"\",\" \",ROUND(VLOOKUP($C$33,Orientierungswerte!$A$13:$AZ$117,43,FALSE)*$F$33,1))","v":{"v":0,"d":"< 0"}},{"$f":"IF($C33=\"\",\" \",ROUND(VLOOKUP($C$33,Orientierungswerte!$A$13:$AZ$117,44,FALSE)*$F$33,1))","v":0},{"$f":"IF($C33=\"\",\" \",ROUND(VLOOKUP($C$33,Orientierungswerte!$A$13:$AZ$117,47,FALSE)*$F$33,1))","v":{"v":0,"d":"> 0"}},{"$f":"IF($C33=\"\",\" \",ROUND(VLOOKUP($C$33,Orientierungswerte!$A$13:$AZ$117,46,FALSE)*$F$33,1))","v":{"v":120,"d":"> 120"}},{"$f":"IF($C33=\"\",\" \",ROUND(VLOOKUP($C$33,Orientierungswerte!$A$13:$AZ$117,45,FALSE)*$F$33,1))","v":{"v":70,"d":"< 70"}},{"$f":"IF($C33=\"\",\" \",ROUND(VLOOKUP($C$33,Orientierungswerte!$A$13:$AZ$117,49,FALSE)*$F$33,1))","v":0},null,{"$f":"IF($C33=\"\",\" \",ROUND(VLOOKUP($C$33,Orientierungswerte!$A$13:$AZ$117,49,FALSE)*$F$33,1))","v":0},{"$f":"IF($C33=\"\",\" \",ROUND(VLOOKUP($C$33,Orientierungswerte!$A$13:$AZ$117,48,FALSE)*$F$33,1))","v":{"v":0,"d":"0.0"}}]
[null,null,"Differenz Mischung zu Orientierungswert",null,"-",{"$f":"IF($C$33=\"\",\" \",ROUND((1-F31)*-1,4))","v":{"v":0,"d":"0.00%"}},{"$f":"IF($C$33=\"\",\" \",ROUND(G64-G66,1))","v":{"v":0,"d":"0.0"}},{"$f":"IF($C$33=\"\",\" \",ROUND(H64-H66,1))","v":{"v":0,"d":"0.0"}},{"$f":"IF($C$33=\"\",\" \",ROUND(I64-I66,0))","v":29},{"$f":"IF($C$33=\"\",\" \",ROUND(J64-J66,0))","v":459},{"$f":"IF($C$33=\"\",\" \",ROUND(K64-K66,0))","v":35},{"$f":"IF($C$33=\"\",\" \",ROUND(L64-L66,0))","v":51},{"$f":"IF($C$33=\"\",\" \",ROUND(M64-M66,1))","v":-3.5},{"$f":"IF($C$33=\"\",\" \",ROUND(N64-N66,1))","v":2.6},{"$f":"IF($C$33=\"\",\" \",ROUND(O64-O66,1))","v":1.8},{"$f":"IF($C$33=\"\",\" \",ROUND(P64-P66,0))","v":17},4,1,{"v":299,"d":"299.0"},593,69,{"$f":"IF($C$33=\"\",\" \",ROUND(V64-V66,0))","v":89},{"$f":"IF($C$33=\"\",\" \",ROUND(W64-W66,1))","v":-23.6},{"$f":"IF($C$33=\"\",\" \",ROUND(X64-X66,0))","v":597},{"$f":"IF($C$33=\"\",\" \",ROUND(Y64-Y66,1))","v":{"v":0,"d":"0.0"}},0,{"$f":"IF($C$33=\"\",\" \",ROUND(AA64-AA66,0))","v":{"v":6,"d":"6.0"}}]

{"sheet":"Futtermittel","index":4,"n_rows":174,"n_cols":55,"rows_kept":174,"merged":[[5,3,5,14],[5,15,5,27],[5,28,5,42]]}
[]
[]
[]
["Futtermittel zusammengefasst","Nr.",null,"Futtermittel","Roh-protein             in der FM","Qualität","Anteil Proben Hessen","Trocken-masse                        (TM)","Rohprotein                  (XP)","vd. Roh-protein                     (XP)","Rohfaser         (XF)","ME ** nach Einzelfutter-formel","ME ** nach  neuer Mischfutter-formel","Lysin                              (Lys)","verdaul. Lysin        (pcv Lys)","Methionin & Cystin                  (M & C)","verdaul.            M. & C.                  (pcv M & C)","Threonin             (Thr) ","verdaul. Threonin                (pcv Thr)","Tryptophan              (Trp)","verdaul. Tryptophan (pcv Trp)","Calcium          (Ca)","Phosphor            (P)","verdaul. Phosphor               (v. P)","verdaul. P. mit Phytase (vPm.Phyt.)","Magnesium            (Mg)","Natrium               (Na)","Kalium               (K)","Methionin                   (Met)","verdaul.            Methionin                  (pcv Met)","Rohfett                  (XL)","Stärke                     (S)","Zucker         (Z)","Rohasche                  (XA)","organischer Rest Einzelfutter-formel             (OR)                       ","organischer Rest neu Mischfutter-formel                  (OR)","Polyensäure-gehalt","Linolsäure-gehalt","Linolensäure-gehalt","Vitamin A            (Vit A)","Vitamin D            (Vit D)","Vitamin E           (Vit E)","Kationen / Anionen-Bilanz = Basenüber-schuß (BE)","Säurebin-dungs-kapazität                  SBK","Bakteriell fermentier-bare Substanz (BfS)","N-freie Extraktstoffe                           (NfE)","Verdaulich-keit                                   organische Masse","Verdaulich-keit                                   Roprotein","Verdaulich-keit                                   Rohfett","Verdaulich-keit                                   Rohfaser","Verdaulich-keit                                   NfE","Chlor               (Cl)","Säure-Detergenz-Faser                                                             (ADFom)","Neutrale-Detergenz-Faser                                           (NDFom)","Nettoenergie (NE 7) Basis Mischfutter-formel"]
[{"$nulls":4},"in %",null,"in % *","g","g","g","g","MJ","MJ","g","g","g","g","g","g","g","g","g","g","g","g","g","g","g","g","g","g","g","g","g","g","g","g","g","g","IE","IE","mg","mmol","meq","g","g","%","%","%","%","%","g","g","g","MJ NE"]
["Getreide",null,null,"G E H A L T E     J E     K G     F U T T E R M I T T E L",{"$nulls":11},"G E H A L T E     J E     K G     F U T T E R M I T T E L",{"$nulls":12},"G E H A L T E     J E     K G     F U T T E R M I T T E L",{"$nulls":14},"bei ph 3","in FM","in FM",{"$nulls":5},"in FM","in FM","in FM","in FM"]
[{"$nulls":3},"Getreide"]
[{"$f":"IF(E8=\" \",D8&\" \"&F8,D8&\" \"&E8&\"% RP \"&F8)","v":"CCM, 65 % TM bis 3 % XF auf 88 % TM 9% RP DLG 2014"},{"$f":"IF(D8=\"\",\" \",COUNTA($D$8:D8))","v":1},null,"CCM, 65 % TM bis 3 % XF auf 88 % TM",{"$f":"IF(I8=0,\" \",ROUND(I8/10,0))","v":{"v":9,"d":"9 % RP"}},"DLG 2014",null,880,88,{"$f":"I8*0.81","v":{"v":71.28,"d":"71"}},{"$f":"K9/65*88","v":{"v":21.661538461538463,"d":"22"}},{"$f":"I8*0.0205*AV8+0.0398*AW8*AE8+0.0173*AF8+0.016*$AG8+0.0147*AI8","v":{"v":13.412773169230768,"d":"13.41"}},{"$f":"$I8*0.021503+0.032497*$AE8+0.016309*$AF8+0.014701*$AJ8-0.021071*$K8","v":{"v":14.108834215384613,"d":"14.11"}},{"$f":"IF(I8=0,\" \",(I8/H8*550*0.0171+0.51)/550*H8)","v":{"v":2.3208,"d":"2.3"}},{"$f":"IF(N8=\" \",\" \",N8*0.7)","v":{"v":1.62456,"d":"1.6"}},{"$f":"IF(N8=\" \",\" \",(I8/H8*550*0.0215+1.04)/550*H8)","v":{"v":3.5560000000000005,"d":"3.6"}},{"$f":"IF(N8=\" \",\" \",P8*(0.88*1.3+1.4*0.85)/2.7)","v":{"v":3.073964444444445,"d":"3.1"}},{"$f":"IF(N8=\" \",\" \",(I8/H8*550*0.0301+0.28)/550*H8)","v":{"v":3.0968,"d":"3.1"}},{"$f":"IF(N8=\" \",\" \",R8*0.85)","v":{"v":2.6322799999999997,"d":"2.6"}},{"$f":"T9/650*880","v":{"v":0.676923076923077,"d":"0.7"}},{"$f":"T8*0.71","v":{"v":0.4806153846153846,"d":"0.5"}},{"$f":"0.3/65*88","v":{"v":0.4061538461538461,"d":"0.4"}},2.8,{"$f":"W8*55%","v":{"v":1.54,"d":"1.5"}},{"$f":"W8*0.65","v":{"v":1.8199999999999998,"d":"1.8"}},{"$f":"0.8/65*88","v":{"v":1.083076923076923,"d":"1.1"}},{"$f":"AA9/65*88","v":{"v":0.13538461538461538,"d":"0.14"}},4.3,{"$f":"AC9/650*880","v":{"v":1.76,"d":"1.8"}},{"$f":"AC8*0.88","v":{"v":1.5488,"d":"1.5"}},{"$f":"26/$H$9*880","v":{"v":35.2,"d":"35"}},{"$f":"423/$H$9*880","v":{"v":572.6769230769231,"d":"573"}},{"$f":"5/$H$9*880","v":{"v":6.76923076923077,"d":"7"}},{"$f":"10/$H$9*880","v":{"v":13.53846153846154,"d":"14"}},{"$f":"(H8-AH8)*AU8-I8*AV8-AE8*AW8-AF8-AG8","v":{"v":72.6067692307692,"d":"73"}},{"$f":"$H8-($AE8+$AF8+$AH8+$I8+$K8)","v":{"v":148.9230769230768,"d":"149"}},{"$f":"15/58*H8/10","v":{"v":22.758620689655174,"d":"22.8"}},{"$f":"$AL$23*AK8/$AK$23","v":{"v":20.923248053392662,"d":"20.9"}},{"$f":"AK8-AL8","v":{"v":1.8353726362625125,"d":"1.8"}},{"$nulls":3},{"$f":"IF(H8=\"\",\"\",50*V8+83*Z8+26*AB8+44*AA8-59*W8-13*P8-28*AZ8)","v":{"v":-15.499999999999986,"d":"-16"}},{"$f":"IF(H8=\"\",\"\",V8/1000*20140+Z8/1000*48600+1100/440*I8)","v":{"v":280.8174769230769,"d":"281"}},{"$f":"AX8*K8+AY8*AT8-AF8-AG8","v":{"v":77.14215384615369,"d":"77"}},{"$f":"IF(H8=\"\",\" \",H8-I8-AE8-AH8-K8)","v":{"v":721.5999999999999,"d":"722"}},{"v":0.86,"d":"86%"},{"v":0.81,"d":"81%"},{"v":0.62,"d":"62%"},{"v":0.33,"d":"33%"},{"v":0.9,"d":"90%"},{"$f":"1.3*880/1000","v":{"v":1.144,"d":"1.14"}},{"$f":"BA9/$H$9*$H$8","v":{"v":18.953846153846154,"d":"19"}},{"$f":"BB9/$H$9*$H$8","v":{"v":59.56923076923077,"d":"60"}},{"$f":"IF(H8=\"\",\"\",0.73*M8+0.055*AE8+0.015*AF8-0.028*I8-0.041*K8)","v":{"v":17.47347974646154,"d":"17.47"}}]
[{"$f":"IF(E9=\" \",D9&\" \"&F9,D9&\" \"&E9&\"% RP \"&F9)","v":"CCM, 65 % TM bis 3 % XF in TM 7% RP DLG 2014"},{"$f":"IF(D9=\"\",\" \",COUNTA($D$8:D9))","v":2},null,"CCM, 65 % TM bis 3 % XF in TM",{"v":7,"d":"7 % RP"},"DLG 2014",null,650,65,{"$f":"I9*0.81","v":{"v":52.650000000000006,"d":"53"}},16,{"$f":"I9*0.0205*AV9+0.0398*AW9*AE9+0.0173*AF9+0.016*$AG9+0.0147*AI9","v":{"v":9.907162,"d":"9.91"}},{"$f":"$I9*0.021503+0.032497*$AE9+0.016309*$AF9+0.014701*$AJ9-0.021071*$K9","v":{"v":10.421298000000002,"d":"10.42"}},{"$f":"IF(I9=0,\" \",(I9/H9*550*0.0171+0.51)/550*H9)","v":{"v":1.7142272727272727,"d":"1.7"}},{"$f":"IF(N9=\" \",\" \",N9*0.7)","v":{"v":1.199959090909091,"d":"1.2"}},{"$f":"IF(N9=\" \",\" \",(I9/H9*550*0.0215+1.04)/550*H9)","v":{"v":2.6265909090909094,"d":"2.6"}},{"$f":"IF(N9=\" \",\" \",P9*(0.88*1.3+1.4*0.85)/2.7)","v":{"v":2.270541919191919,"d":"2.3"}},{"$f":"IF(N9=\" \",\" \",(I9/H9*550*0.0301+0.28)/550*H9)","v":{"v":2.287409090909091,"d":"2.3"}},{"$f":"IF(N9=\" \",\" \",R9*0.85)","v":{"v":1.9442977272727275,"d":"1.9"}},{"$f":"IF(N9=\" \",\" \",0.5)","v":0.5},{"$f":"IF(N9=\" \",\" \",T9*0.71)","v":{"v":0.355,"d":"0.4"}},{"$f":"V8/88*65","v":0.3},2.3,{"$f":"W9*55%","v":{"v":1.265,"d":"1.3"}},{"$f":"W9*0.65","v":{"v":1.4949999999999999,"d":"1.5"}},{"$f":"Z8/88*60","v":{"v":0.7384615384615385,"d":"0.7"}},{"v":0.1,"d":"0.10"},{"$f":"AB8/88*61","v":{"v":2.980681818181818,"d":"3.0"}},1.3,{"$f":"AC9*0.88","v":{"v":1.1440000000000001,"d":"1.1"}},26,423,5,10,{"$f":"(H9-AH9)*AU9-I9*AV9-AE9*AW9-AF9-AG9","v":{"v":53.629999999999995,"d":"54"}},{"$f":"$H9-($AE9+$AF9+$AH9+$I9+$K9)","v":110},{"$f":"15/58*H9/10","v":{"v":16.81034482758621,"d":"16.8"}},{"$f":"$AL$23*AK9/$AK$23","v":{"v":15.45467185761958,"d":"15.5"}},{"$f":"AK9-AL9","v":{"v":1.35567296996663,"d":"1.4"}},{"$nulls":3},{"v":-35.31564685314683,"d":"-35"},{"$f":"IF(H9=\"\",\"\",V9/1000*20140+Z9/1000*48600+1100/440*I9)","v":{"v":204.43123076923078,"d":"204"}},{"$f":"AX9*K9+AY9*AT9-AF9-AG9","v":{"v":56.97999999999996,"d":"57"}},{"$f":"IF(H9=\"\",\" \",H9-I9-AE9-AH9-K9)","v":533},{"v":0.86,"d":"86%"},{"v":0.81,"d":"81%"},{"v":0.62,"d":"62%"},{"v":0.33,"d":"33%"},{"v":0.9,"d":"90%"},{"$f":"1.3*H9/1000","v":{"v":0.845,"d":"0.85"}},14,44,{"$f":"IF(H9=\"\",\"\",0.73*M9+0.055*AE9+0.015*AF9-0.028*I9-0.041*K9)","v":{"v":12.90654754,"d":"12.91"}}]
[{"$f":"IF(E10=\" \",D10&\" \"&F10,D10&\" \"&E10&\"% RP \"&F10)","v":"CCM, 61 % TM über 3 % XF auf 88 % TM 9% RP DLG 2014"},{"$f":"IF(D10=\"\",\" \",COUNTA($D$8:D10))","v":3},null,"CCM, 61 % TM über 3 % XF auf 88 % TM",{"$f":"IF(I10=0,\" \",ROUND(I10/10,0))","v":{"v":9,"d":"9 % RP"}},"DLG 2014",null,880,88,{"$f":"I10*0.81","v":{"v":71.28,"d":"71"}},{"$f":"K11/61*88","v":{"v":34.62295081967213,"d":"35"}},{"$f":"I10*0.0205*AV10+0.0398*AW10*AE10+0.0173*AF10+0.016*$AG10+0.0147*AI10","v":{"v":13.24358572307692,"d":"13.24"}},{"$f":"$I10*0.021503+0.032497*$AE10+0.016309*$AF10+0.014701*$AJ10-0.021071*$K10","v":{"v":13.645178572509456,"d":"13.65"}},{"$f":"IF(I10=0,\" \",(I10/H10*550*0.0171+0.51)/550*H10)","v":{"v":2.3208,"d":"2.3"}},{"$f":"IF(N10=\" \",\" \",N10*0.67)","v":{"v":1.5549360000000003,"d":"1.6"}},{"$f":"IF(N10=\" \",\" \",(I10/H10*550*0.0215+1.04)/550*H10)","v":{"v":3.5560000000000005,"d":"3.6"}},{"$f":"IF(N10=\" \",\" \",P10*(0.88*1.3+1.4*0.85)/2.7)","v":{"v":3.073964444444445,"d":"3.1"}},{"$f":"IF(N10=\" \",\" \",(I10/H10*550*0.0301+0.28)/550*H10)","v":{"v":3.0968,"d":"3.1"}},{"$f":"IF(N10=\" \",\" \",R10*0.72)","v":{"v":2.229696,"d":"2.2"}},{"$f":"T11/610*880","v":{"v":0.5770491803278689,"d":"0.6"}},{"$f":"IF(N10=\" \",\" \",T10*0.65)","v":{"v":0.3750819672131148,"d":"0.4"}},{"$f":"0.2/61*88","v":{"v":0.28852459016393445,"d":"0.3"}},{"$f":"W11/61*88","v":{"v":2.8852459016393444,"d":"2.9"}},{"$f":"W10*55%","v":{"v":1.5868852459016396,"d":"1.6"}},{"$f":"W10*0.65","v":{"v":1.875409836065574,"d":"1.9"}},{"$f":"0.8/61*88","v":{"v":1.1540983606557378,"d":"1.2"}},{"$f":"AA11/61*88","v":{"v":0.14426229508196722,"d":"0.14"}},4.3,{"$f":"AC11/610*880","v":{"v":1.7311475409836066,"d":"1.7"}},{"$f":"AC10*0.84","v":{"v":1.4541639344262294,"d":"1.5"}},{"$f":"26/$H$9*880","v":{"v":35.2,"d":"35"}},{"$f":"423/$H$9*880","v":{"v":572.6769230769231,"d":"573"}},{"$f":"5/$H$9*880","v":{"v":6.76923076923077,"d":"7"}},{"$f":"10/$H$9*880","v":{"v":13.53846153846154,"d":"14"}},{"$f":"(H10-AH10)*AU10-I10*AV10-AE10*AW10-AF10-AG10","v":{"v":67.63815384615378,"d":"68"}},{"$f":"$H10-($AE10+$AF10+$AH10+$I10+$K10)","v":{"v":135.96166456494313,"d":"136"}},{"$f":"15/58*H10/10","v":{"v":22.758620689655174,"d":"22.8"}},{"$f":"$AL$23*AK10/$AK$23","v":{"v":20.923248053392662,"d":"20.9"}},{"$f":"AK10-AL10","v":{"v":1.8353726362625125,"d":"1.8"}},{"$nulls":3},{"$f":"IF(H10=\"\",\"\",50*V10+83*Z10+26*AB10+44*AA10-59*W10-13*P10-28*AZ10)","v":{"v":-20.125573770491812,"d":"-20"}},{"$f":"IF(H10=\"\",\"\",V10/1000*20140+Z10/1000*48600+1100/440*I10)","v":{"v":281.9000655737705,"d":"282"}},{"$f":"AX10*K10+AY10*AT10-AF10-AG10","v":{"v":69.7541488020176,"d":"70"}},{"v":708.6385876418663,"d":"709"},{"v":0.85,"d":"85%"},{"v":0.78,"d":"78%"},{"v":0.59,"d":"59%"},{"v":0.33,"d":"33%"},{"v":0.9,"d":"90%"},{"$f":"1.3*880/1000","v":{"v":1.144,"d":"1.14"}},{"$f":"BA11/$H$9*$H$8","v":{"v":27.07692307692308,"d":"27"}},{"$f":"BB11/$H$9*$H$8","v":{"v":73.1076923076923,"d":"73"}},{"v":16.603593220479194,"d":"16.60"}]
[{"$f":"IF(E11=\" \",D11&\" \"&F11,D11&\" \"&E11&\"% RP \"&F11)","v":"CCM, 61 % TM über 3 % XF in TM 6% RP DLG 2014"},{"$f":"IF(D11=\"\",\" \",COUNTA($D$8:D11))","v":4},null,"CCM, 61 % TM über 3 % XF in TM",{"$f":"IF(I11=0,\" \",ROUND(I11/10,0))","v":{"v":6,"d":"6 % RP"}},"DLG 2014",null,610,61,{"$f":"I11*0.78","v":{"v":47.58,"d":"48"}},24,{"$f":"I11*0.0205*AV11+0.0398*AW11*AE11+0.0173*AF11+0.016*$AG11+0.0147*AI11","v":{"v":9.196698000000001,"d":"9.20"}},{"$f":"$I11*0.021503+0.032497*$AE11+0.016309*$AF11+0.014701*$AJ11-0.021071*$K11","v":{"v":9.478066,"d":"9.48"}},{"$f":"IF(I11=0,\" \",(I11/H11*550*0.0171+0.51)/550*H11)","v":{"v":1.6087363636363636,"d":"1.6"}},{"$f":"IF(N11=\" \",\" \",N11*0.67)","v":{"v":1.0778533636363636,"d":"1.1"}},{"$f":"IF(N11=\" \",\" \",(I11/H11*550*0.0215+1.04)/550*H11)","v":{"v":2.4649545454545456,"d":"2.5"}},{"$f":"IF(N11=\" \",\" \",P11*(0.84*2+2.2*0.76)/4.2)","v":{"v":1.9672684848484852,"d":"2.0"}},{"$f":"IF(N11=\" \",\" \",(I11/H11*550*0.0301+0.28)/550*H11)","v":{"v":2.1466454545454545,"d":"2.1"}},{"$f":"IF(N11=\" \",\" \",R11*0.72)","v":{"v":1.5455847272727272,"d":"1.5"}},0.4,{"$f":"IF(N11=\" \",\" \",T11*0.65)","v":{"v":0.26,"d":"0.3"}},0.2,{"v":2,"d":"2.0"},{"$f":"W11*55%","v":1.1},{"$f":"W11*0.65","v":1.3},{"$f":"Z10/88*60","v":{"v":0.7868852459016394,"d":"0.8"}},{"v":0.1,"d":"0.10"},{"$f":"AB10/88*61","v":{"v":2.980681818181818,"d":"3.0"}},1.2,{"$f":"AC11*0.84","v":{"v":1.008,"d":"1.0"}},26,397,5,10,{"$f":"(H11-AH11)*AU11-I11*AV11-AE11*AW11-AF11-AG11","v":{"v":45.08000000000004,"d":"45"}},{"$f":"$H11-($AE11+$AF11+$AH11+$I11+$K11)","v":92},{"$f":"15/58*H11/10","v":{"v":15.775862068965518,"d":"15.8"}},{"$f":"$AL$23*AK11/$AK$23","v":{"v":14.503615127919913,"d":"14.5"}},{"$f":"AK11-AL11","v":{"v":1.272246941045605,"d":"1.3"}},{"$nulls":3},{"$f":"IF(H11=\"\",\"\",50*V11+83*Z11+26*AB11+44*AA11-59*W11-13*P11-28*AZ11)","v":{"v":-15.039206408345734,"d":"-15"}},{"$f":"IF(H11=\"\",\"\",V11/1000*20140+Z11/1000*48600+1100/440*I11)","v":{"v":194.77062295081967,"d":"195"}},{"$f":"AX11*K11+AY11*AT11-AF11-AG11","v":{"v":46.02000000000004,"d":"46"}},489,{"v":0.85,"d":"85%"},{"v":0.78,"d":"78%"},{"v":0.59,"d":"59%"},{"v":0.33,"d":"33%"},{"v":0.9,"d":"90%"},{"$f":"1.3*H11/1000","v":{"v":0.793,"d":"0.79"}},20,54,{"v":11.611988179999999,"d":"11.61"}]
[{"$f":"IF(E12=\" \",D12&\" \"&F12,D12&\" \"&E12&\"% RP \"&F12)","v":"eigenes CCM 5% RP Ø 2015"},{"$f":"IF(D12=\"\",\" \",COUNTA($D$8:D12))","v":5},null,"eigenes CCM",{"v":5,"d":"5 % RP"},{"$f":"IF(I12=90/1000*H12,\"Ø 2015\",\"\")","v":"Ø 2015"},null,604,{"$f":"90/1000*H12","v":{"v":54.36,"d":"54"}},{"$f":"IF(I12=0,\" \",I12*0.81)","v":{"v":44.031600000000005,"d":"44"}},{"$f":"31/1000*H12","v":{"v":18.724,"d":"19"}},{"$f":"IF($I12=\"\",\" \",I12*0.0205*AV12+0.0398*AW12*AE12+0.0173*AF12+0.016*$AG12+0.0147*AI12)","v":{"v":9.341764688,"d":"9.34"}},{"$f":"IF(I12=\"\",\" \",$I12*0.021503+0.032497*$AE12+0.016309*$AF12+0.014701*$AJ12-0.021071*$K12)","v":{"v":9.637874199999999,"d":"9.64"}},{"$f":"IF(I12=0,\" \",(I12/H12*550*0.0171+0.51)/550*H12)","v":{"v":1.4896287272727273,"d":"1.5"}},{"$f":"IF(N12=\" \",\" \",N12*0.7)","v":{"v":1.042740109090909,"d":"1.0"}},{"$f":"IF(N12=\" \",\" \",(I12/H12*550*0.0215+1.04)/550*H12)","v":{"v":2.3108490909090906,"d":"2.3"}},{"$f":"IF(N12=\" \",\" \",P12*(0.88*1.3+1.4*0.85)/2.7)","v":{"v":1.9976006585858581,"d":"2.0"}},{"$f":"IF(N12=\" \",\" \",(I12/H12*550*0.0301+0.28)/550*H12)","v":{"v":1.9437269090909088,"d":"1.9"}},{"$f":"IF(N12=\" \",\" \",R12*0.85)","v":{"v":1.6521678727272724,"d":"1.7"}},{"$f":"IF(N12=\" \",\" \",0.5*H12/H9)","v":{"v":0.4646153846153846,"d":"0.5"}},{"$f":"IF(N12=\" \",\" \",T12*0.71)","v":{"v":0.32987692307692307,"d":"0.3"}},{"$f":"IF($I12=0,\" \",V9*$H12/$H9)","v":{"v":0.27876923076923077,"d":"0.3"}},{"$f":"IF($I12=0,\" \",W9*$H12/$H9)","v":{"v":2.137230769230769,"d":"2.1"}},{"v":1.175476923076923,"d":"1.2"},{"$f":"IF($I12=0,\" \",Y9*$H12/$H9)","v":{"v":1.3891999999999998,"d":"1.4"}},{"v":0.6862011834319527,"d":"0.7"},{"v":0.09292307692307693,"d":"0.09"},{"v":2.7697412587412584,"d":"2.8"},{"$f":"IF($I12=0,\" \",AC9/H9*H12)","v":{"v":1.208,"d":"1.2"}},{"$f":"IF($N12=\" \",\" \",AC12*0.88)","v":{"v":1.06304,"d":"1.1"}},{"$f":"46/1000*H12","v":{"v":27.784,"d":"28"}},{"$f":"717/1000*H12","v":{"v":433.068,"d":"433"}},{"$f":"AG9/650*H12","v":{"v":4.6461538461538465,"d":"5"}},9,{"$f":"IF($I12=\"\",\" \",(H12-AH12)*AU12-I12*AV12-AE12*AW12-AF12-AG12)","v":{"v":12.728166153846107,"d":"13"}},{"$f":"IF($I12=\"\",\" \",$H12-($AE12+$AF12+$AH12+$I12+$K12))","v":{"v":61.063999999999965,"d":"61"}},{"$f":"IF($I12=0,\" \",AK9*$H12/$H9)","v":{"v":15.620689655172416,"d":"15.6"}},{"v":14.360956618464963,"d":"14.4"},{"v":1.259733036707453,"d":"1.3"},0,0,0,{"v":-31.128205691231834,"d":"-31"},{"v":174.86378982248522,"d":"175"},{"$f":"IF($I12=0,\" \",AX12*K12+AY12*AT12-AF12-AG12)","v":{"v":13.183566153846161,"d":"13"}},{"v":494.132,"d":"494"},{"$f":"IF($I12=0,\" \",AU9)","v":{"v":0.86,"d":"86%"}},{"$f":"IF($I12=0,\" \",AV9)","v":{"v":0.81,"d":"81%"}},{"$f":"IF($I12=0,\" \",AW9)","v":{"v":0.62,"d":"62%"}},{"v":0.33,"d":"33%"},{"v":0.9,"d":"90%"},{"$f":"IF($I12=0,\" \",AZ9*$H12/$H9)","v":{"v":0.7852,"d":"0.79"}},{"$f":"IF($I12=0,\" \",37/1000*H12)","v":{"v":22.348,"d":"22"}},{"$f":"IF($I12=0,\" \",102/1000*H12)","v":{"v":61.608,"d":"62"}},{"v":12.770024165999999,"d":"12.77"}]
[{"$f":"IF(E13=\" \",D13&\" \"&F13,D13&\" \"&E13&\"% RP \"&F13)","v":"Gerste  14% RP "},{"$f":"IF(D13=\"\",\" \",COUNTA($D$8:D13))","v":6},null,"Gerste ",{"v":14,"d":"14 % RP"},null,1,880,{"v":138.4,"d":"138"},{"$f":"I13*0.73","v":{"v":101.032,"d":"101"}},{"v":49.4,"d":"49"},{"$f":"I13*0.0205*AV13+0.0398*AW13*AE13+0.0173*AF13+0.016*$AG13+0.0147*AI13","v":{"v":12.6681514,"d":"12.67"}},{"$f":"$I13*0.021503+0.032497*$AE13+0.016309*$AF13+0.014701*$AJ13-0.021071*$K13","v":{"v":12.976837000000002,"d":"12.98"}},{"$f":"IF(I13=0,\" \",I13*0.0229+1.38)","v":{"v":4.54936,"d":"4.5"}},{"$f":"IF(N13=\" \",\" \",N13*0.73)","v":{"v":3.3210328,"d":"3.3"}},{"$f":"IF(N13=\" \",\" \",I13*0.0276+1.07)","v":{"v":4.88984,"d":"4.9"}},{"$f":"IF(N13=\" \",\" \",P13*(1.6*0.82+2.2*0.85)/3.8)","v":{"v":4.094597600000001,"d":"4.1"}},{"$f":"IF(N13=\" \",\" \",I13*0.0264+0.72)","v":{"v":4.37376,"d":"4.4"}},{"$f":"IF(N13=\" \",\" \",R13*0.76)","v":{"v":3.3240575999999997,"d":"3.3"}},{"$f":"IF(N13=\" \",\" \",I13*0.0099+0.28)","v":{"v":1.6501600000000003,"d":"1.7"}},{"$f":"IF(N13=\" \",\" \",T13*0.76)","v":{"v":1.2541216000000002,"d":"1.3"}},{"$f":"0.49*H13/1000","v":{"v":0.43119999999999997,"d":"0.4"}},3.5,{"$f":"0.45*W13","v":{"v":1.575,"d":"1.6"}},{"$f":"W13*0.65","v":{"v":2.275,"d":"2.3"}},1.1,0.15,4.4,{"$f":"IF($I13=\"\",\" \",$I13*0.0133+0.32)","v":{"v":2.16072,"d":"2.2"}},{"$f":"AC13*0.82","v":{"v":1.7717903999999998,"d":"1.8"}},{"v":23.2,"d":"23"},{"v":499.2,"d":"499"},{"v":22.4,"d":"22"},{"v":23.8,"d":"24"},{"$f":"(H13-AH13)*AU13-I13*AV13-AE13*AW13-AF13-AG13","v":{"v":75.71799999999988,"d":"76"}},{"$f":"$H13-($AE13+$AF13+$AH13+$I13+$K13)","v":{"v":146.0000000000001,"d":"146"}},{"$f":"AL13+AM13","v":{"v":14.383999999999999,"d":"14.4"}},{"$f":"57*AE13/100","v":{"v":13.223999999999998,"d":"13.2"}},{"$f":"5*AE13/100","v":{"v":1.16,"d":"1.2"}},{"$nulls":3},{"v":-55.91991999999999,"d":"-56"},{"v":408.144368,"d":"408"},{"$f":"AX13*K13+AY13*AT13-AF13-AG13","v":{"v":66.98400000000007,"d":"67"}},{"$f":"IF(H13=\"\",\" \",H13-I13-AE13-AH13-K13)","v":{"v":645.2,"d":"645"}},{"v":0.83,"d":"83%"},{"v":0.73,"d":"73%"},{"v":0.53,"d":"53%"},{"v":0.16,"d":"16%"},{"v":0.9,"d":"90%"},{"$f":"0.8*H13/1000","v":{"v":0.704,"d":"0.70"}},{"$f":"$BA$17/$H$17*H13*K13/$K$17","v":{"v":42.68084291187739,"d":"43"}},{"$f":"$BB$17/$H$17*H13*K13/$K$17","v":{"v":327.9137931034483,"d":"328"}},{"v":12.336491010000001,"d":"12.34"}]
["Gerste  13% RP ",{"$f":"IF(D14=\"\",\" \",COUNTA($D$8:D14))","v":7},null,"Gerste ",{"v":13,"d":"13 % RP"},null,"7",880,128,{"$f":"I14*0.73","v":{"v":93.44,"d":"93"}},{"v":52.2,"d":"52"},{"$f":"I14*0.0205*AV14+0.0398*AW14*AE14+0.0173*AF14+0.016*$AG14+0.0147*AI14","v":{"v":12.638889899999999,"d":"12.64"}},{"$f":"$I14*0.021503+0.032497*$AE14+0.016309*$AF14+0.014701*$AJ14-0.021071*$K14","v":{"v":12.822090200000002,"d":"12.82"}},{"$f":"IF(I14=0,\" \",I14*0.0229+1.38)","v":{"v":4.3111999999999995,"d":"4.3"}},{"v":3.1471759999999995,"d":"3.1"},{"$f":"IF(N14=\" \",\" \",I14*0.0276+1.07)","v":{"v":4.6028,"d":"4.6"}},{"v":3.8542393684210534,"d":"3.9"},{"$f":"IF(N14=\" \",\" \",I14*0.0264+0.72)","v":{"v":4.0992,"d":"4.1"}},{"v":3.115392,"d":"3.1"},{"$f":"IF(N14=\" \",\" \",I14*0.0099+0.28)","v":{"v":1.5472000000000001,"d":"1.5"}},{"v":1.175872,"d":"1.2"},{"$f":"0.49*H14/1000","v":{"v":0.43119999999999997,"d":"0.4"}},3.5,{"$f":"0.45*W14","v":{"v":1.575,"d":"1.6"}},{"$f":"W14*0.65","v":{"v":2.275,"d":"2.3"}},1.1,0.15,4.4,{"$f":"IF($I14=\"\",\" \",$I14*0.0133+0.32)","v":{"v":2.0223999999999998,"d":"2.0"}},{"$f":"AC14*0.82","v":{"v":1.6583679999999996,"d":"1.7"}},{"v":23.9,"d":"24"},{"v":501.5,"d":"502"},22,{"v":23.8,"d":"24"},{"$f":"(H14-AH14)*AU14-I14*AV14-AE14*AW14-AF14-AG14","v":{"v":81.03899999999987,"d":"81"}},{"$f":"$H14-($AE14+$AF14+$AH14+$I14+$K14)","v":{"v":150.60000000000002,"d":"151"}},{"$f":"AL14+AM14","v":{"v":14.818,"d":"14.8"}},{"$f":"57*AE14/100","v":{"v":13.623,"d":"13.6"}},{"$f":"5*AE14/100","v":{"v":1.195,"d":"1.2"}},{"$nulls":3},{"v":-52.18839999999999,"d":"-52"},{"v":382.144368,"d":"382"},{"$f":"AX14*K14+AY14*AT14-AF14-AG14","v":{"v":71.74199999999996,"d":"72"}},{"v":652.1,"d":"652"},{"v":0.83,"d":"83%"},{"v":0.73,"d":"73%"},{"v":0.53,"d":"53%"},{"v":0.16,"d":"16%"},{"v":0.9,"d":"90%"},{"$f":"0.8*H14/1000","v":{"v":0.704,"d":"0.70"}},{"$f":"$BA$17/$H$17*H14*K14/$K$17","v":{"v":45.1,"d":"45"}},{"$f":"$BB$17/$H$17*H14*K14/$K$17","v":{"v":346.50000000000006,"d":"347"}},{"v":12.472925846000003,"d":"12.47"}]
["Gerste  12% RP ",{"$f":"IF(D15=\"\",\" \",COUNTA($D$8:D15))","v":8},null,"Gerste ",{"v":12,"d":"12 % RP"},null,"19",880,{"v":119.3,"d":"119"},{"$f":"I15*0.73","v":{"v":87.089,"d":"87"}},{"v":53.3,"d":"53"},{"$f":"I15*0.0205*AV15+0.0398*AW15*AE15+0.0173*AF15+0.016*$AG15+0.0147*AI15","v":{"v":12.6217838,"d":"12.62"}},{"$f":"$I15*0.021503+0.032497*$AE15+0.016309*$AF15+0.014701*$AJ15-0.021071*$K15","v":{"v":12.734326400000002,"d":"12.73"}},{"$f":"IF(I15=0,\" \",I15*0.0229+1.38)","v":{"v":4.1119699999999995,"d":"4.1"}},{"v":3.0017380999999994,"d":"3.0"},{"$f":"IF(N15=\" \",\" \",I15*0.0276+1.07)","v":{"v":4.36268,"d":"4.4"}},{"v":3.6531704631578954,"d":"3.7"},{"$f":"IF(N15=\" \",\" \",I15*0.0264+0.72)","v":{"v":3.8695199999999996,"d":"3.9"}},{"v":2.9408351999999995,"d":"2.9"},{"$f":"IF(N15=\" \",\" \",I15*0.0099+0.28)","v":{"v":1.46107,"d":"1.5"}},{"v":1.1104132,"d":"1.1"},{"$f":"0.49*H15/1000","v":{"v":0.43119999999999997,"d":"0.4"}},3.5,{"$f":"0.45*W15","v":{"v":1.575,"d":"1.6"}},{"$f":"W15*0.65","v":{"v":2.275,"d":"2.3"}},1.1,0.15,4.4,{"$f":"IF($I15=\"\",\" \",$I15*0.0133+0.32)","v":{"v":1.90669,"d":"1.9"}},{"$f":"AC15*0.82","v":{"v":1.5634857999999998,"d":"1.6"}},{"v":23.8,"d":"24"},{"v":509.3,"d":"509"},{"v":22.6,"d":"23"},{"v":23.8,"d":"24"},{"$f":"(H15-AH15)*AU15-I15*AV15-AE15*AW15-AF15-AG15","v":{"v":79.04299999999998,"d":"79"}},{"$f":"$H15-($AE15+$AF15+$AH15+$I15+$K15)","v":{"v":150.5000000000001,"d":"151"}},{"$f":"AL15+AM15","v":{"v":14.756,"d":"14.8"}},{"$f":"57*AE15/100","v":{"v":13.566,"d":"13.6"}},{"$f":"5*AE15/100","v":{"v":1.19,"d":"1.2"}},{"$nulls":3},{"v":-49.066839999999985,"d":"-49"},{"v":360.394368,"d":"360"},{"$f":"AX15*K15+AY15*AT15-AF15-AG15","v":{"v":70.44800000000018,"d":"70"}},{"v":659.8000000000002,"d":"660"},{"v":0.83,"d":"83%"},{"v":0.73,"d":"73%"},{"v":0.53,"d":"53%"},{"v":0.16,"d":"16%"},{"v":0.9,"d":"90%"},{"$f":"0.8*H15/1000","v":{"v":0.704,"d":"0.70"}},{"$f":"$BA$17/$H$17*H15*K15/$K$17","v":{"v":46.050383141762445,"d":"46"}},{"$f":"$BB$17/$H$17*H15*K15/$K$17","v":{"v":353.801724137931,"d":"354"}},{"v":12.718858272,"d":"12.72"}]
["Gerste  11% RP ",{"$f":"IF(D16=\"\",\" \",COUNTA($D$8:D16))","v":9},null,"Gerste ",{"v":11,"d":"11 % RP"},null,"41",880,{"v":109.8,"d":"110"},{"$f":"I16*0.73","v":{"v":80.154,"d":"80"}},{"v":55.3,"d":"55"},{"$f":"I16*0.0205*AV16+0.0398*AW16*AE16+0.0173*AF16+0.016*$AG16+0.0147*AI16","v":{"v":12.5864011,"d":"12.59"}},{"$f":"$I16*0.021503+0.032497*$AE16+0.016309*$AF16+0.014701*$AJ16-0.021071*$K16","v":{"v":12.601872600000004,"d":"12.60"}},{"$f":"IF(I16=0,\" \",I16*0.0229+1.38)","v":{"v":3.8944199999999998,"d":"3.9"}},{"v":2.8429265999999997,"d":"2.8"},{"$f":"IF(N16=\" \",\" \",I16*0.0276+1.07)","v":{"v":4.10048,"d":"4.1"}},{"v":3.4336124631578953,"d":"3.4"},{"$f":"IF(N16=\" \",\" \",I16*0.0264+0.72)","v":{"v":3.6187199999999997,"d":"3.6"}},{"v":2.7502272,"d":"2.8"},{"$f":"IF(N16=\" \",\" \",I16*0.0099+0.28)","v":{"v":1.3670200000000001,"d":"1.4"}},{"v":1.0389352,"d":"1.0"},{"$f":"0.49*H16/1000","v":{"v":0.43119999999999997,"d":"0.4"}},3.5,{"$f":"0.45*W16","v":{"v":1.575,"d":"1.6"}},{"$f":"W16*0.65","v":{"v":2.275,"d":"2.3"}},1.1,0.15,4.4,{"$f":"IF($I16=\"\",\" \",$I16*0.0133+0.32)","v":{"v":1.78034,"d":"1.8"}},{"$f":"AC16*0.82","v":{"v":1.4598788,"d":"1.5"}},{"v":23.9,"d":"24"},{"v":510.5,"d":"511"},{"v":22.9,"d":"23"},{"v":23.8,"d":"24"},{"$f":"(H16-AH16)*AU16-I16*AV16-AE16*AW16-AF16-AG16","v":{"v":84.42499999999993,"d":"84"}},{"$f":"$H16-($AE16+$AF16+$AH16+$I16+$K16)","v":{"v":156.70000000000016,"d":"157"}},{"$f":"AL16+AM16","v":{"v":14.818,"d":"14.8"}},{"$f":"57*AE16/100","v":{"v":13.623,"d":"13.6"}},{"$f":"5*AE16/100","v":{"v":1.195,"d":"1.2"}},{"$nulls":3},{"v":-45.65823999999999,"d":"-46"},{"v":336.644368,"d":"337"},{"$f":"AX16*K16+AY16*AT16-AF16-AG16","v":{"v":75.92800000000008,"d":"76"}},{"v":667.2000000000002,"d":"667"},{"v":0.83,"d":"83%"},{"v":0.73,"d":"73%"},{"v":0.53,"d":"53%"},{"v":0.16,"d":"16%"},{"v":0.9,"d":"90%"},{"$f":"0.8*H16/1000","v":{"v":0.704,"d":"0.70"}},{"$f":"$BA$17/$H$17*H16*K16/$K$17","v":{"v":47.77835249042145,"d":"48"}},{"$f":"$BB$17/$H$17*H16*K16/$K$17","v":{"v":367.07758620689657,"d":"367"}},{"v":12.829666998000002,"d":"12.83"}]
["Gerste  10% RP  DLG 2014",{"$f":"IF(D17=\"\",\" \",COUNTA($D$8:D17))","v":10},null,"Gerste ",{"v":10,"d":"10 % RP"}," DLG 2014",null,870,104,{"$f":"I17*0.73","v":{"v":75.92,"d":"76"}},48,{"$f":"I17*0.0205*AV17+0.0398*AW17*AE17+0.0173*AF17+0.016*$AG17+0.0147*AI17","v":{"v":12.47168224,"d":"12.47"}},{"$f":"$I17*0.021503+0.032497*$AE17+0.016309*$AF17+0.014701*$AJ17-0.021071*$K17","v":{"v":12.697406240000001,"d":"12.70"}},{"$f":"IF(I17=0,\" \",I17*0.0229+1.38)","v":{"v":3.7616,"d":"3.8"}},{"v":2.745968,"d":"2.7"},{"$f":"IF(N17=\" \",\" \",I17*0.0276+1.07)","v":{"v":3.9404000000000003,"d":"3.9"}},{"v":3.29956652631579,"d":"3.3"},{"$f":"IF(N17=\" \",\" \",I17*0.0264+0.72)","v":{"v":3.4656000000000002,"d":"3.5"}},{"v":2.633856,"d":"2.6"},{"$f":"IF(N17=\" \",\" \",I17*0.0099+0.28)","v":{"v":1.3096,"d":"1.3"}},{"v":0.9952960000000001,"d":"1.0"},{"$f":"0.49*H17/1000","v":{"v":0.4263,"d":"0.4"}},3.5,{"$f":"0.45*W17","v":{"v":1.575,"d":"1.6"}},{"$f":"W17*0.65","v":{"v":2.275,"d":"2.3"}},1.1,0.15,4.4,{"$f":"IF($I17=\"\",\" \",$I17*0.0133+0.32)","v":{"v":1.7032,"d":"1.7"}},{"$f":"AC17*0.82","v":{"v":1.3966239999999999,"d":"1.4"}},24,522,23,{"$f":"27*0.88","v":{"v":23.76,"d":"24"}},{"$f":"(H17-AH17)*AU17-I17*AV17-AE17*AW17-AF17-AG17","v":{"v":68.73919999999998,"d":"69"}},{"$f":"$H17-($AE17+$AF17+$AH17+$I17+$K17)","v":{"v":148.24,"d":"148"}},{"$f":"AL17+AM17","v":{"v":14.879999999999999,"d":"14.9"}},{"$f":"57*AE17/100","v":{"v":13.68,"d":"13.7"}},{"$f":"5*AE17/100","v":1.2},{"$nulls":3},{"v":-43.59819999999999,"d":"-44"},{"v":322.045682,"d":"322"},{"$f":"AX17*K17+AY17*AT17-AF17-AG17","v":{"v":65.89599999999996,"d":"66"}},{"$f":"IF(H17=\"\",\" \",H17-I17-AE17-AH17-K17)","v":{"v":670.24,"d":"670"}},{"v":0.83,"d":"83%"},{"v":0.73,"d":"73%"},{"v":0.53,"d":"53%"},{"v":0.16,"d":"16%"},{"v":0.9,"d":"90%"},{"$f":"0.8*H17/1000","v":{"v":0.696,"d":"0.70"}},41,315,{"v":13.539106555200004,"d":"13.54"}]
["eigene Gerste 11% RP Ø 2016",{"$f":"IF(D18=\"\",\" \",COUNTA($D$8:D18))","v":11},null,"eigene Gerste",{"v":11,"d":"11 % RP"},{"$f":"IF(I18=107.8,\"Ø 2016\",\"\")","v":"Ø 2016"},null,880,{"v":107.8,"d":"108"},{"$f":"IF(I18=0,\" \",I18*0.73)","v":{"v":78.694,"d":"79"}},{"v":54.4,"d":"54"},{"$f":"IF($I18=\"\",\" \",I18*0.0205*AV18+0.0398*AW18*AE18+0.0173*AF18+0.016*$AG18+0.0147*AI18)","v":{"v":12.5725728,"d":"12.57"}},{"$f":"IF(I18=\"\",\" \",$I18*0.021503+0.032497*$AE18+0.016309*$AF18+0.014701*$AJ18-0.021071*$K18)","v":{"v":12.616271800000003,"d":"12.62"}},{"$f":"IF(I18=0,\" \",(I18/H18*880*0.0229+1.38)/880*H18)","v":{"v":3.84862,"d":"3.8"}},{"v":2.8094926,"d":"2.8"},{"$f":"IF(N18=\" \",\" \",(I18/H18*880*0.0276+1.07)/880*H18)","v":{"v":4.04528,"d":"4.0"}},{"v":3.38738972631579,"d":"3.4"},{"$f":"IF(N18=\" \",\" \",(I18/H18*880*0.0264+0.72)/880*H18)","v":{"v":3.56592,"d":"3.6"}},{"v":2.7100992,"d":"2.7"},{"$f":"IF(N18=\" \",\" \",(I18/H18*880*0.0099+0.28)/880*H18)","v":{"v":1.34722,"d":"1.3"}},{"v":1.0238872,"d":"1.0"},{"$f":"IF($I18=0,\" \",V$17*$H18/$H$17)","v":{"v":0.4312,"d":"0.4"}},{"v":3.5402298850574714,"d":"3.5"},{"v":1.5931034482758621,"d":"1.6"},{"v":2.301149425287356,"d":"2.3"},{"v":1.1126436781609197,"d":"1.1"},{"$f":"IF($I18=0,\" \",AA17*$H18/$H17)","v":{"v":0.15172413793103448,"d":"0.15"}},{"$f":"IF($I18=0,\" \",AB$17*$H18/$H$17)","v":{"v":4.450574712643679,"d":"4.5"}},{"$f":"IF($I18=\"\",\" \",($I18/H18*880*0.0133+0.32)/880*H18)","v":{"v":1.7537399999999996,"d":"1.8"}},{"$f":"IF($N18=\" \",\" \",AC18*0.82)","v":{"v":1.4380667999999996,"d":"1.4"}},{"v":23.8,"d":"24"},509,{"v":22.8,"d":"23"},{"v":23.8,"d":"24"},{"$f":"IF($I18=\"\",\" \",(H18-AH18)*AU18-I18*AV18-AE18*AW18-AF18-AG18)","v":{"v":87.53799999999997,"d":"88"}},{"$f":"IF($I18=\"\",\" \",$H18-($AE18+$AF18+$AH18+$I18+$K18))","v":{"v":161.20000000000016,"d":"161"}},{"$f":"IF($I18=0,\" \",AK17*$H18/$H17)","v":{"v":15.05103448275862,"d":"15.1"}},{"v":13.837241379310344,"d":"13.8"},{"v":1.2137931034482758,"d":"1.2"},{"$nulls":3},{"v":-44.87397333333329,"d":"-45"},{"v":332.2588507586207,"d":"332"},{"$f":"IF($I18=0,\" \",AX18*K18+AY18*AT18-AF18-AG18)","v":{"v":80.08400000000013,"d":"80"}},{"v":670.2000000000002,"d":"670"},{"$f":"IF($I18=0,\" \",83%)","v":{"v":0.83,"d":"83%"}},{"$f":"IF($I18=0,\" \",73%)","v":{"v":0.73,"d":"73%"}},{"$f":"IF($I18=0,\" \",53%)","v":{"v":0.53,"d":"53%"}},{"$f":"IF($I18=0,\" \",AX17)","v":{"v":0.16,"d":"16%"}},{"$f":"IF($I18=0,\" \",AY17)","v":{"v":0.9,"d":"90%"}},{"$f":"IF($I18=0,\" \",AZ17*$H18/$H17)","v":{"v":0.7039999999999998,"d":"0.70"}},{"$f":"IF($I18=0,\" \",41*$H18/$H$17*K18/$K$17)","v":{"v":47.000766283524904,"d":"47"}},{"$f":"IF($I18=0,\" \",315*$H18/$H17*K18/$K17)","v":{"v":361.1034482758621,"d":"361"}},{"v":12.905078414000002,"d":"12.91"}]
["eigene Gerste 2 10% RP Ø 2015",{"$f":"IF(D19=\"\",\" \",COUNTA($D$8:D19))","v":12},null,"eigene Gerste 2",{"$f":"IF(I19=0,\" \",ROUND(I19/10,0))","v":{"v":10,"d":"10 % RP"}},{"$f":"IF(I19=96.535,\"Ø 2015\",\"\")","v":"Ø 2015"},null,880,{"v":96.535,"d":"97"},{"$f":"IF(I19=0,\" \",I19*0.73)","v":{"v":70.47054999999999,"d":"70"}},{"v":53.605,"d":"54"},{"$f":"IF($I19=\"\",\" \",I19*0.0205*AV19+0.0398*AW19*AE19+0.0173*AF19+0.016*$AG19+0.0147*AI19)","v":{"v":12.561978909999999,"d":"12.56"}},{"$f":"IF(I19=\"\",\" \",$I19*0.021503+0.032497*$AE19+0.016309*$AF19+0.014701*$AJ19-0.021071*$K19)","v":{"v":12.590889074000001,"d":"12.59"}},{"$f":"IF(I19=0,\" \",(I19/H19*880*0.0229+1.38)/880*H19)","v":{"v":3.5906515,"d":"3.6"}},{"v":2.621175595,"d":"2.6"},{"$f":"IF(N19=\" \",\" \",(I19/H19*880*0.0276+1.07)/880*H19)","v":{"v":3.734366,"d":"3.7"}},{"v":3.127040161052632,"d":"3.1"},{"$f":"IF(N19=\" \",\" \",(I19/H19*880*0.0264+0.72)/880*H19)","v":{"v":3.268524,"d":"3.3"}},{"v":2.48407824,"d":"2.5"},{"$f":"IF(N19=\" \",\" \",(I19/H19*880*0.0099+0.28)/880*H19)","v":{"v":1.2356965,"d":"1.2"}},{"v":0.93912934,"d":"0.9"},{"v":0.4312,"d":"0.4"},{"v":3.5402298850574714,"d":"3.5"},{"v":1.5931034482758621,"d":"1.6"},{"v":2.301149425287356,"d":"2.3"},{"v":1.1126436781609197,"d":"1.1"},{"$f":"IF($I19=0,\" \",AA18*$H19/$H18)","v":{"v":0.15172413793103448,"d":"0.15"}},{"$f":"IF($I19=0,\" \",AB$17*$H19/$H$17)","v":{"v":4.450574712643679,"d":"4.5"}},{"$f":"IF($I19=\"\",\" \",($I19/H19*880*0.0133+0.32)/880*H19)","v":{"v":1.6039155,"d":"1.6"}},{"$f":"IF($N19=\" \",\" \",AC19*0.82)","v":{"v":1.31521071,"d":"1.3"}},{"v":23.76,"d":"24"},{"v":523.258,"d":"523"},{"v":22.858,"d":"23"},{"v":23.76,"d":"24"},{"$f":"IF($I19=\"\",\" \",(H19-AH19)*AU19-I19*AV19-AE19*AW19-AF19-AG19)","v":{"v":81.49984999999987,"d":"81"}},{"$f":"IF($I19=\"\",\" \",$H19-($AE19+$AF19+$AH19+$I19+$K19))","v":{"v":159.082,"d":"159"}},{"v":15.05103448275862,"d":"15.1"},{"v":13.837241379310344,"d":"13.8"},{"v":1.2137931034482758,"d":"1.2"},{"$nulls":3},{"$f":"IF(H19=\"\",\"\",50*V19+83*Z19+26*AB19+44*AA19-59*W19-13*P19-28*AZ19)","v":{"v":-40.832091333333295,"d":"-41"}},{"$f":"IF(H19=\"\",\"\",V19/1000*20140+Z19/1000*48600+1100/440*I19)","v":{"v":304.0963507586207,"d":"304"}},{"$f":"IF($I19=0,\" \",AX19*K19+AY19*AT19-AF19-AG19)","v":{"v":76.5668,"d":"77"}},{"v":682.34,"d":"682"},{"$f":"IF($I19=0,\" \",83%)","v":{"v":0.83,"d":"83%"}},{"$f":"IF($I19=0,\" \",73%)","v":{"v":0.73,"d":"73%"}},{"$f":"IF($I19=0,\" \",53%)","v":{"v":0.53,"d":"53%"}},{"$f":"IF($I19=0,\" \",AX18)","v":{"v":0.16,"d":"16%"}},{"$f":"IF($I19=0,\" \",AY18)","v":{"v":0.9,"d":"90%"}},{"$f":"IF($I19=0,\" \",AZ18*$H19/$H18)","v":{"v":0.7039999999999998,"d":"0.70"}},{"$f":"IF($I19=0,\" \",41*$H19/$H$17*K19/$K$17)","v":{"v":46.31389846743295,"d":"46"}},{"$f":"IF($I19=0,\" \",315*$H19/$H$17*K19/$K$17)","v":{"v":355.8262931034483,"d":"356"}},{"v":13.446234024020004,"d":"13.45"}]
["Gerste  10% RP ",{"$f":"IF(D20=\"\",\" \",COUNTA($D$8:D20))","v":13},null,"Gerste ",{"v":10,"d":"10 % RP"},null,"23",880,{"v":100.7,"d":"101"},{"$f":"I20*0.73","v":{"v":73.511,"d":"74"}},54,{"$f":"I20*0.0205*AV20+0.0398*AW20*AE20+0.0173*AF20+0.016*$AG20+0.0147*AI20","v":{"v":12.555051500000001,"d":"12.56"}},{"$f":"$I20*0.021503+0.032497*$AE20+0.016309*$AF20+0.014701*$AJ20-0.021071*$K20","v":{"v":12.5894874,"d":"12.59"}},{"$f":"IF(I20=0,\" \",I20*0.0229+1.38)","v":{"v":3.68603,"d":"3.7"}},{"v":2.6908019,"d":"2.7"},{"$f":"IF(N20=\" \",\" \",I20*0.0276+1.07)","v":{"v":3.8493200000000005,"d":"3.8"}},{"v":3.223299010526317,"d":"3.2"},{"$f":"IF(N20=\" \",\" \",I20*0.0264+0.72)","v":{"v":3.3784799999999997,"d":"3.4"}},{"v":2.5676447999999996,"d":"2.6"},{"$f":"IF(N20=\" \",\" \",I20*0.0099+0.28)","v":{"v":1.2769300000000001,"d":"1.3"}},{"v":0.9704668000000001,"d":"1.0"},{"$f":"0.49*H20/1000","v":{"v":0.43119999999999997,"d":"0.4"}},3.5,{"$f":"0.45*W20","v":{"v":1.575,"d":"1.6"}},{"$f":"W20*0.65","v":{"v":2.275,"d":"2.3"}},1.1,0.15,4.4,{"$f":"IF($I20=\"\",\" \",$I20*0.0133+0.32)","v":{"v":1.65931,"d":"1.7"}},{"$f":"AC20*0.82","v":{"v":1.3606342,"d":"1.4"}},{"v":23.9,"d":"24"},{"v":514.2,"d":"514"},{"v":22.9,"d":"23"},24,{"$f":"(H20-AH20)*AU20-I20*AV20-AE20*AW20-AF20-AG20","v":{"v":87.20199999999997,"d":"87"}},{"$f":"$H20-($AE20+$AF20+$AH20+$I20+$K20)","v":{"v":163.19999999999993,"d":"163"}},{"$f":"AL20+AM20","v":{"v":14.818,"d":"14.8"}},{"$f":"57*AE20/100","v":{"v":13.623,"d":"13.6"}},{"$f":"5*AE20/100","v":{"v":1.195,"d":"1.2"}},{"$nulls":3},{"v":-42.393159999999995,"d":"-42"},{"v":313.894368,"d":"314"},{"$f":"AX20*K20+AY20*AT20-AF20-AG20","v":{"v":81.1999999999999,"d":"81"}},{"v":677.4,"d":"677"},{"v":0.83,"d":"83%"},{"v":0.73,"d":"73%"},{"v":0.53,"d":"53%"},{"v":0.16,"d":"16%"},{"v":0.9,"d":"90%"},{"$f":"0.8*H20/1000","v":{"v":0.704,"d":"0.70"}},{"$f":"$BA$17/$H$17*H20*K20/$K$17","v":{"v":46.6551724137931,"d":"47"}},{"$f":"$BB$17/$H$17*H20*K20/$K$17","v":{"v":358.448275862069,"d":"358"}},{"v":13.184225801999998,"d":"13.18"}]
["Gerste  9% RP ",{"$f":"IF(D21=\"\",\" \",COUNTA($D$8:D21))","v":14},null,"Gerste ",{"v":9,"d":"9 % RP"},null,"9",880,{"v":90.6,"d":"91"},{"$f":"I21*0.73","v":{"v":66.13799999999999,"d":"66"}},{"v":52.3,"d":"52"},{"v":12.574137799999999,"d":"12.57"},{"v":12.618894400000002,"d":"12.62"},{"$f":"IF(I21=0,\" \",I21*0.0229+1.38)","v":{"v":3.4547399999999997,"d":"3.5"}},{"v":2.5219601999999997,"d":"2.5"},{"$f":"IF(N21=\" \",\" \",I21*0.0276+1.07)","v":{"v":3.5705599999999995,"d":"3.6"}},{"v":2.989874189473684,"d":"3.0"},{"$f":"IF(N21=\" \",\" \",I21*0.0264+0.72)","v":{"v":3.11184,"d":"3.1"}},{"v":2.3649984,"d":"2.4"},{"$f":"IF(N21=\" \",\" \",I21*0.0099+0.28)","v":{"v":1.17694,"d":"1.2"}},{"v":0.8944744000000001,"d":"0.9"},{"$f":"0.49*H21/1000","v":{"v":0.43119999999999997,"d":"0.4"}},3.5,{"$f":"0.45*W21","v":{"v":1.575,"d":"1.6"}},{"v":2.275,"d":"2.3"},1.1,0.15,4.4,{"$f":"IF($I21=\"\",\" \",$I21*0.0133+0.32)","v":{"v":1.52498,"d":"1.5"}},{"$f":"AC21*0.82","v":{"v":1.2504836,"d":"1.3"}},{"v":23.8,"d":"24"},{"v":538.5,"d":"539"},{"v":22.9,"d":"23"},24,{"v":70.32799999999995,"d":"70"},{"v":150.80000000000007,"d":"151"},{"$f":"AL21+AM21","v":{"v":14.756,"d":"14.8"}},{"$f":"57*AE21/100","v":{"v":13.566,"d":"13.6"}},{"$f":"5*AE21/100","v":{"v":1.19,"d":"1.2"}},{"$nulls":3},{"v":-38.76927999999998,"d":"-39"},{"v":288.644368,"d":"289"},{"v":67.33800000000016,"d":"67"},{"v":689.3000000000001,"d":"689"},{"v":0.83,"d":"83%"},{"v":0.73,"d":"73%"},{"v":0.53,"d":"53%"},{"v":0.16,"d":"16%"},{"v":0.9,"d":"90%"},{"$f":"0.8*H21/1000","v":{"v":0.704,"d":"0.70"}},{"$f":"$BA$17/$H$17*H21*K21/$K$17","v":{"v":45.186398467432944,"d":"45"}},{"$f":"$BB$17/$H$17*H21*K21/$K$17","v":{"v":347.1637931034483,"d":"347"}},{"v":13.917192912000003,"d":"13.92"}]
["Gerste öko 9% RP Ø Hessen",{"$f":"IF(D22=\"\",\" \",COUNTA($D$8:D22))","v":15},null,"Gerste öko",{"v":9,"d":"9 % RP"},"Ø Hessen","100",880,{"v":87.3,"d":"87"},{"$f":"I22*0.73","v":{"v":63.729,"d":"64"}},{"v":58.7,"d":"59"},{"v":12.560165599999998,"d":"12.56"},{"v":12.367507000000002,"d":"12.37"},{"$f":"IF(I22=0,\" \",I22*0.0229+1.38)","v":{"v":3.37917,"d":"3.4"}},{"v":2.4667941,"d":"2.5"},{"$f":"IF(N22=\" \",\" \",I22*0.0276+1.07)","v":{"v":3.4794799999999997,"d":"3.5"}},{"v":2.913606673684211,"d":"2.9"},{"$f":"IF(N22=\" \",\" \",I22*0.0264+0.72)","v":{"v":3.0247200000000003,"d":"3.0"}},{"v":2.2987872000000005,"d":"2.3"},{"$f":"IF(N22=\" \",\" \",I22*0.0099+0.28)","v":{"v":1.1442700000000001,"d":"1.1"}},{"v":0.8696452000000001,"d":"0.9"},{"$f":"0.49*H22/1000","v":{"v":0.43119999999999997,"d":"0.4"}},3.5,{"$f":"0.45*W22","v":{"v":1.575,"d":"1.6"}},{"v":2.275,"d":"2.3"},1.1,0.15,4.4,{"$f":"IF($I22=\"\",\" \",$I22*0.0133+0.32)","v":{"v":1.48109,"d":"1.5"}},{"$f":"AC22*0.82","v":{"v":1.2144937999999998,"d":"1.2"}},{"v":23.8,"d":"24"},{"v":538.5,"d":"539"},{"v":22.9,"d":"23"},24,{"v":72.73699999999994,"d":"73"},{"v":147.70000000000005,"d":"148"},{"$f":"AL22+AM22","v":{"v":14.756,"d":"14.8"}},{"$f":"57*AE22/100","v":{"v":13.566,"d":"13.6"}},{"$f":"5*AE22/100","v":{"v":1.19,"d":"1.2"}},{"$nulls":3},{"v":-37.585239999999985,"d":"-38"},{"v":280.394368,"d":"280"},{"v":65.57200000000009,"d":"66"},{"v":686.2,"d":"686"},{"v":0.83,"d":"83%"},{"v":0.73,"d":"73%"},{"v":0.53,"d":"53%"},{"v":0.16,"d":"16%"},{"v":0.9,"d":"90%"},{"$f":"0.8*H22/1000","v":{"v":0.704,"d":"0.70"}},{"$f":"$BA$17/$H$17*H22*K22/$K$17","v":{"v":50.715900383141765,"d":"51"}},{"$f":"$BB$17/$H$17*H22*K22/$K$17","v":{"v":389.64655172413796,"d":"390"}},{"v":13.563680110000002,"d":"13.56"}]
["Gerste Sommer 10% RP Ø Hessen",{"$f":"IF(D23=\"\",\" \",COUNTA($D$8:D23))","v":16},null,"Gerste Sommer",{"v":10,"d":"10 % RP"},"Ø Hessen","100",880,{"v":99.4,"d":"99"},{"$f":"I23*0.73","v":{"v":72.562,"d":"73"}},{"v":49.9,"d":"50"},{"v":12.698748999999998,"d":"12.70"},{"v":12.740806400000002,"d":"12.74"},{"$f":"IF(I23=0,\" \",I23*0.0241+1.3)","v":{"v":3.6955400000000003,"d":"3.7"}},{"v":2.6977442000000003,"d":"2.7"},{"$f":"IF(N23=\" \",\" \",I23*0.031+0.86)","v":{"v":3.9414000000000002,"d":"3.9"}},{"$f":"IF(N23=\" \",\" \",P23*(1.8*0.82+2.3*0.85)/3.8)","v":{"v":3.558669315789474,"d":"3.6"}},{"$f":"IF(N23=\" \",\" \",I23*0.0293+0.48)","v":{"v":3.39242,"d":"3.4"}},{"v":2.5782392,"d":"2.6"},{"$f":"IF(N23=\" \",\" \",I23*0.0126+0.02)","v":{"v":1.27244,"d":"1.3"}},{"v":0.9670544,"d":"1.0"},{"$f":"0.8*H23/1000","v":{"v":0.704,"d":"0.7"}},3.5,{"$f":"0.45*W23","v":{"v":1.575,"d":"1.6"}},{"v":2.275,"d":"2.3"},{"$f":"1.3*H23/1000","v":{"v":1.144,"d":"1.1"}},0.15,{"$f":"5*H23/1000","v":4.4},{"$f":"IF($I23=\"\",\" \",$I23*0.015+0.18)","v":{"v":1.671,"d":"1.7"}},{"$f":"AC23*0.82","v":{"v":1.37022,"d":"1.4"}},{"v":23.8,"d":"24"},{"v":523.7,"d":"524"},{"v":22.9,"d":"23"},24,{"v":87.26399999999987,"d":"87"},{"v":159.20000000000005,"d":"159"},{"$f":"AL23+AM23","v":{"v":14.756,"d":"14.8"}},{"$f":"57*AE23/100","v":{"v":13.566,"d":"13.6"}},{"$f":"5*AE23/100","v":{"v":1.19,"d":"1.2"}},{"$nulls":3},{"v":-43.54620000000002,"d":"-44"},{"v":318.27696,"d":"318"},{"v":77.9900000000001,"d":"78"},{"v":682.9000000000001,"d":"683"},{"v":0.84,"d":"84%"},{"v":0.73,"d":"73%"},{"v":0.53,"d":"53%"},{"v":0.2,"d":"20%"},{"v":0.9,"d":"90%"},{"$f":"1.5*H23/1000","v":1.32},{"$f":"$BA$17/$H$17*H23*K23/$K$17","v":{"v":43.11283524904214,"d":"43"}},{"$f":"$BB$17/$H$17*H23*K23/$K$17","v":{"v":331.2327586206897,"d":"331"}},{"v":13.636188672,"d":"13.64"}]
[null,{"$f":"IF(D24=\"\",\" \",COUNTA($D$8:D24))","v":17},null,"Gerste Sommer",{"v":10,"d":"10 % RP"}," DLG 2014",null,870,98,{"$f":"I24*0.73","v":{"v":71.53999999999999,"d":"72"}},44,{"v":12.527112999999998,"d":"12.53"},{"v":12.748956000000002,"d":"12.75"},{"$f":"IF(I24=0,\" \",I24*0.0241+1.3)","v":{"v":3.6618000000000004,"d":"3.7"}},{"v":2.6731140000000004,"d":"2.7"},{"$f":"IF(N24=\" \",\" \",I24*0.031+0.86)","v":{"v":3.8979999999999997,"d":"3.9"}},{"$f":"IF(N24=\" \",\" \",P24*(1.8*0.82+2.3*0.85)/3.8)","v":{"v":3.519483684210526,"d":"3.5"}},{"$f":"IF(N24=\" \",\" \",I24*0.0293+0.48)","v":{"v":3.3514,"d":"3.4"}},{"v":2.5470639999999998,"d":"2.5"},{"$f":"IF(N24=\" \",\" \",I24*0.0126+0.02)","v":{"v":1.2548,"d":"1.3"}},{"v":0.9536479999999999,"d":"1.0"},{"$f":"0.8*H24/1000","v":{"v":0.696,"d":"0.7"}},3.5,{"$f":"0.45*W24","v":{"v":1.575,"d":"1.6"}},{"v":2.275,"d":"2.3"},{"$f":"1.3*H24/1000","v":{"v":1.131,"d":"1.1"}},0.15,{"$f":"5*H24/1000","v":{"v":4.35,"d":"4.4"}},{"$f":"IF($I24=\"\",\" \",$I24*0.015+0.18)","v":{"v":1.65,"d":"1.7"}},{"$f":"AC24*0.82","v":{"v":1.3529999999999998,"d":"1.4"}},23,522,21,26,{"v":82.2299999999999,"d":"82"},157,{"$f":"AL24+AM24","v":{"v":14.26,"d":"14.3"}},{"$f":"57*AE24/100","v":{"v":13.11,"d":"13.1"}},{"$f":"5*AE24/100","v":{"v":1.15,"d":"1.2"}},{"$nulls":3},{"$f":"IF(H24=\"\",\"\",50*V24+83*Z24+26*AB24+44*AA24-59*W24-13*P24-28*AZ24)","v":{"v":-45.341,"d":"-45"}},{"$f":"IF(H24=\"\",\"\",V24/1000*20140+Z24/1000*48600+1100/440*I24)","v":{"v":313.98404,"d":"314"}},{"v":76.89999999999998,"d":"77"},679,{"v":0.84,"d":"84%"},{"v":0.73,"d":"73%"},{"v":0.53,"d":"53%"},{"v":0.2,"d":"20%"},{"v":0.9,"d":"90%"},{"$f":"1.5*H24/1000","v":{"v":1.305,"d":"1.31"}},{"$f":"$BA$17/$H$17*H24*K24/$K$17","v":{"v":37.583333333333336,"d":"38"}},{"$f":"$BB$17/$H$17*H24*K24/$K$17","v":{"v":288.75,"d":"289"}},{"v":13.853737879999999,"d":"13.85"}]
["Hafer  11% RP DLG 2014",{"$f":"IF(D25=\"\",\" \",COUNTA($D$8:D25))","v":18},null,"Hafer ",{"v":11,"d":"11 % RP"},"DLG 2014",null,880,108,{"$f":"I25*0.88","v":{"v":95.04,"d":"95"}},97,{"v":11.675204,"d":"11.68"},{"v":11.256732,"d":"11.26"},{"$f":"IF(I25=0,\" \",I25*0.0368+0.4)","v":{"v":4.3744000000000005,"d":"4.4"}},{"$f":"IF(N25=\" \",\" \",N25*0.95)","v":{"v":4.15568,"d":"4.2"}},{"$f":"IF(N25=\" \",\" \",I25*0.0365+0.88)","v":{"v":4.822,"d":"4.8"}},{"$f":"IF(N25=\" \",\" \",P25*(1.6*0.88+2.6*0.82)/4.2)","v":{"v":4.064257142857143,"d":"4.1"}},{"$f":"IF(N25=\" \",\" \",I25*0.0326+0.1)","v":{"v":3.6207999999999996,"d":"3.6"}},{"$f":"IF(N25=\" \",\" \",R25*0.9)","v":{"v":3.25872,"d":"3.3"}},{"$f":"IF(N25=\" \",\" \",I25*0.0139-0.03)","v":{"v":1.4711999999999998,"d":"1.5"}},{"$f":"IF(N25=\" \",\" \",T25*0.77)","v":{"v":1.1328239999999998,"d":"1.1"}},1.1,3.2,{"$f":"W25*0.25","v":0.8},{"v":2.08,"d":"2.1"},1.1,0.16,4.4,{"$f":"IF($I25=\"\",\" \",$I25*0.0152+0.1)","v":{"v":1.7416,"d":"1.7"}},{"$f":"AC25*0.88","v":{"v":1.532608,"d":"1.5"}},47,392,14,28,{"v":83.32000000000005,"d":"83"},208,{"v":14,"d":"14.0"},{"$f":"$AL$23*AK25/$AK$23","v":{"v":12.870967741935484,"d":"12.9"}},{"$f":"AK25-AL25","v":{"v":1.129032258064516,"d":"1.1"}},{"$nulls":3},{"v":-8.385999999999946,"d":"-8"},{"v":345.61400000000003,"d":"346"},{"v":67.63999999999999,"d":"68"},600,{"v":0.73,"d":"73%"},{"v":0.88,"d":"88%"},{"v":0.8,"d":"80%"},{"v":0.12,"d":"12%"},{"v":0.77,"d":"77%"},{"$f":"1*H25/1000","v":0.88},143,334,{"v":9.681414359999998,"d":"9.68"}]
["eigener Hafer 11% RP Ø 2016",{"$f":"IF(D26=\"\",\" \",COUNTA($D$8:D26))","v":19},null,"eigener Hafer",{"v":11,"d":"11 % RP"},{"$f":"IF(I26=110.75,\"Ø 2016\",\"\")","v":"Ø 2016"},null,880,{"v":110.75,"d":"111"},{"$f":"IF(I26=0,\" \",I26*0.88)","v":{"v":97.46,"d":"97"}},{"v":102.39,"d":"102"},{"$f":"IF($I26=\"\",\" \",I26*0.0205*AV26+0.0398*AW26*AE26+0.0173*AF26+0.016*$AG26+0.0147*AI26)","v":{"v":11.254695379999998,"d":"11.25"}},{"$f":"IF(I26=\"\",\" \",$I26*0.021503+0.032497*$AE26+0.016309*$AF26+0.014701*$AJ26-0.021071*$K26)","v":{"v":10.66271972,"d":"10.66"}},{"$f":"IF(I26=0,\" \",(I26/H26*880*0.0368+0.4)/880*H26)","v":{"v":4.4756,"d":"4.5"}},{"$f":"IF(N26=\" \",\" \",N26*0.95)","v":{"v":4.2518199999999995,"d":"4.3"}},{"$f":"IF(N26=\" \",\" \",(I26/H26*880*0.0365+0.88)/880*H26)","v":{"v":4.922375,"d":"4.9"}},{"$f":"IF(N26=\" \",\" \",P26*(1.6*0.88+2.6*0.82)/4.2)","v":{"v":4.148858928571428,"d":"4.1"}},{"$f":"IF(N26=\" \",\" \",(I26/H26*880*0.0326+0.1)/880*H26)","v":{"v":3.71045,"d":"3.7"}},{"$f":"IF(N26=\" \",\" \",R26*0.9)","v":{"v":3.3394049999999997,"d":"3.3"}},{"$f":"IF(N26=\" \",\" \",(I26/H26*880*0.0139-0.03)/880*H26)","v":{"v":1.5094249999999998,"d":"1.5"}},{"$f":"IF(N26=\" \",\" \",T26*0.77)","v":{"v":1.16225725,"d":"1.2"}},{"$f":"IF($I26=0,\" \",1.093*H26/1000)","v":{"v":0.9618399999999999,"d":"1.0"}},{"$f":"IF($I26=0,\" \",3.827*H26/1000)","v":{"v":3.3677599999999996,"d":"3.4"}},{"$f":"W26*0.25","v":{"v":0.8419399999999999,"d":"0.8"}},{"$f":"IF($I26=0,\" \",Y25*$H26/$H25)","v":{"v":2.08,"d":"2.1"}},{"$f":"IF($I26=0,\" \",Z25*$H26/$H25)","v":1.1},{"$f":"IF($I26=0,\" \",AA25*$H26/$H25)","v":0.16},{"$f":"IF($I26=0,\" \",AB25*$H26/$H25)","v":4.4},{"$f":"IF($I26=\"\",\" \",($I26/H26*880*0.0152+0.1)/880*H26)","v":{"v":1.7834,"d":"1.8"}},{"$f":"IF($N26=\" \",\" \",AC26*0.88)","v":{"v":1.5693920000000001,"d":"1.6"}},{"v":32.41,"d":"32"},{"v":372.97,"d":"373"},{"v":15.96,"d":"16"},{"v":36.82,"d":"37"},{"$f":"IF($I26=\"\",\" \",(H26-AH26)*AU26-I26*AV26-AE26*AW26-AF26-AG26)","v":{"v":103.2033999999999,"d":"103"}},{"$f":"IF($I26=\"\",\" \",$H26-($AE26+$AF26+$AH26+$I26+$K26))","v":{"v":224.65999999999997,"d":"225"}},{"$f":"IF($I26=0,\" \",AK25*$H26/$H25)","v":{"v":14,"d":"14.0"}},{"v":12.870967741935484,"d":"12.9"},{"v":1.129032258064516,"d":"1.1"},0,0,0,{"v":-26.496714999999988,"d":"-26"},{"v":349.7064576,"d":"350"},{"$f":"IF($I26=0,\" \",AX26*K26+AY26*AT26-AF26-AG26)","v":{"v":83.53189999999998,"d":"84"}},{"$f":"IF(H26=\"\",\" \",H26-I26-AE26-AH26-K26)","v":{"v":597.63,"d":"598"}},{"$f":"IF($I26=0,\" \",AU25)","v":{"v":0.73,"d":"73%"}},{"$f":"IF($I26=0,\" \",AV25)","v":{"v":0.88,"d":"88%"}},{"$f":"IF($I26=0,\" \",AW25)","v":{"v":0.8,"d":"80%"}},{"$f":"IF($I26=0,\" \",AX25)","v":{"v":0.12,"d":"12%"}},{"$f":"IF($I26=0,\" \",AY25)","v":{"v":0.77,"d":"77%"}},{"$f":"IF($I26=0,\" \",AZ25*$H26/$H25)","v":0.88},{"$f":"IF($I26=0,\" \",BA25*$H26/$H25*K26/K25)","v":{"v":150.9460824742268,"d":"151"}},{"$f":"IF($I26=0,\" \",315*$H26/$H25*K26/$K25)","v":{"v":332.5036082474227,"d":"333"}},{"v":7.861895395599999,"d":"7.86"}]
["Hafer  11% RP Ø Hessen",{"$f":"IF(D27=\"\",\" \",COUNTA($D$8:D27))","v":20},null,"Hafer ",{"v":11,"d":"11 % RP"},"Ø Hessen","100",880,{"v":112.1,"d":"112"},{"$f":"I27*0.88","v":{"v":98.648,"d":"99"}},{"v":98.6,"d":"99"},{"$f":"I27*0.0205*AV27+0.0398*AW27*AE27+0.0173*AF27+0.016*$AG27+0.0147*AI27","v":{"v":11.50815016,"d":"11.51"}},{"$f":"$I27*0.021503+0.032497*$AE27+0.016309*$AF27+0.014701*$AJ27-0.021071*$K27","v":{"v":11.05434396,"d":"11.05"}},{"$f":"IF(I27=0,\" \",I27*0.0368+0.4)","v":{"v":4.52528,"d":"4.5"}},{"$f":"IF(N27=\" \",\" \",N27*0.95)","v":{"v":4.299016,"d":"4.3"}},{"$f":"IF(N27=\" \",\" \",I27*0.0365+0.88)","v":{"v":4.9716499999999995,"d":"5.0"}},{"$f":"IF(N27=\" \",\" \",P27*(1.6*0.88+2.6*0.82)/4.2)","v":{"v":4.190390714285714,"d":"4.2"}},{"$f":"IF(N27=\" \",\" \",I27*0.0326+0.1)","v":{"v":3.7544599999999995,"d":"3.8"}},{"$f":"IF(N27=\" \",\" \",R27*0.9)","v":{"v":3.3790139999999997,"d":"3.4"}},{"$f":"IF(N27=\" \",\" \",I27*0.0139-0.03)","v":{"v":1.5281899999999997,"d":"1.5"}},{"$f":"IF(N27=\" \",\" \",T27*0.77)","v":{"v":1.1767062999999998,"d":"1.2"}},1.1,3.2,{"$f":"W27*0.25","v":0.8},{"$f":"W27*0.65","v":{"v":2.08,"d":"2.1"}},1.1,0.16,4.4,{"$f":"IF($I27=\"\",\" \",$I27*0.0152+0.1)","v":{"v":1.80392,"d":"1.8"}},{"$f":"AC27*0.88","v":{"v":1.5874496,"d":"1.6"}},38,{"v":393.5,"d":"394"},14,{"$f":"33*0.88","v":{"v":29.04,"d":"29"}},{"$f":"(H27-AH27)*AU27-I27*AV27-AE27*AW27-AF27-AG27","v":{"v":84.65279999999996,"d":"85"}},{"$f":"$H27-($AE27+$AF27+$AH27+$I27+$K27)","v":{"v":208.76,"d":"209"}},{"v":14,"d":"14.0"},{"$f":"$AL$23*AK27/$AK$23","v":{"v":12.870967741935484,"d":"12.9"}},{"$f":"AK27-AL27","v":{"v":1.129032258064516,"d":"1.1"}},{"$nulls":3},{"v":-10.331449999999933,"d":"-10"},{"v":355.86400000000003,"d":"356"},{"$f":"AX27*K27+AY27*AT27-AF27-AG27","v":{"v":68.07220000000001,"d":"68"}},{"v":602.26,"d":"602"},{"v":0.73,"d":"73%"},{"v":0.88,"d":"88%"},{"v":0.8,"d":"80%"},{"v":0.12,"d":"12%"},{"v":0.77,"d":"77%"},{"$f":"1*H27/1000","v":0.88},{"$f":"IF($I27=0,\" \",BA25*$H27/$H25*K27/K25)","v":{"v":145.35876288659793,"d":"145"}},{"$f":"IF($I27=0,\" \",BB25*$H27/$H25*K27/K25)","v":{"v":339.5092783505155,"d":"340"}},{"v":8.8807710908,"d":"8.88"}]
["Hirse - Sorghum 10% RP DLG 2014",{"$f":"IF(D28=\"\",\" \",COUNTA($D$8:D28))","v":21},null,"Hirse - Sorghum",{"$f":"IF(I28=0,\" \",ROUND(I28/10,0))","v":{"v":10,"d":"10 % RP"}},"DLG 2014",null,880,97,{"$f":"I28*0.74","v":{"v":71.78,"d":"72"}},26,{"$f":"I28*0.0205*AV28+0.0398*AW28*AE28+0.0173*AF28+0.016*$AG28+0.0147*AI28","v":{"v":13.747688000000002,"d":"13.75"}},{"$f":"$I28*0.021503+0.032497*$AE28+0.016309*$AF28+0.014701*$AJ28-0.021071*$K28","v":{"v":14.073718000000001,"d":"14.07"}},{"$f":"IF(I28=0,\" \",I28*0.015+0.68)","v":{"v":2.135,"d":"2.1"}},{"$f":"IF(N28=\" \",\" \",N28*0.8)","v":{"v":1.708,"d":"1.7"}},{"$f":"IF(N28=\" \",\" \",I28*0.0269+0.82)","v":{"v":3.4293,"d":"3.4"}},{"$f":"IF(N28=\" \",\" \",P28*(1.6*0.89+1.7*0.86)/3.3)","v":{"v":2.9990787272727277,"d":"3.0"}},{"$f":"IF(N28=\" \",\" \",I28*0.0272+0.51)","v":{"v":3.1483999999999996,"d":"3.1"}},{"$f":"IF(N28=\" \",\" \",R28*0.86)","v":{"v":2.7076239999999996,"d":"2.7"}},{"$f":"IF(N28=\" \",\" \",I28*0.0094+0.18)","v":{"v":1.0918,"d":"1.1"}},{"$f":"IF(N28=\" \",\" \",T28*0.86)","v":{"v":0.9389480000000001,"d":"0.9"}},0.4,2.6,{"$f":"W28*0.3","v":{"v":0.78,"d":"0.8"}},{"$f":"W28*0.65","v":{"v":1.6900000000000002,"d":"1.7"}},1.1,{"v":0.2,"d":"0.20"},3.3,{"$f":"IF($I28=\"\",\" \",$I28*0.0141+0.32)","v":{"v":1.6877,"d":"1.7"}},{"$f":"AC28*0.89","v":{"v":1.502053,"d":"1.5"}},35,634,11,16,{"$f":"(H28-AH28)*AU28-I28*AV28-AE28*AW28-AF28-AG28","v":{"v":23.940000000000055,"d":"24"}},{"$f":"$H28-($AE28+$AF28+$AH28+$I28+$K28)","v":72},{"$f":"(AK25-AK23)/2+AK23","v":{"v":14.378,"d":"14.4"}},{"$f":"$AL$23*AK28/$AK$23","v":{"v":13.218483870967743,"d":"13.2"}},{"$f":"AK28-AL28","v":{"v":1.1595161290322569,"d":"1.2"}},{"$nulls":3},{"v":-9.328899999999972,"d":"-9"},{"v":304.016,"d":"304"},{"$f":"AX28*K28+AY28*AT28-AF28-AG28","v":{"v":43.11999999999989,"d":"43"}},706,{"v":0.88,"d":"88%"},{"v":0.74,"d":"74%"},{"v":0.56,"d":"56%"},{"v":0.67,"d":"67%"},{"v":0.95,"d":"95%"},{"$f":"0.7*H28/1000","v":{"v":0.616,"d":"0.62"}},41,183,{"v":17.92681414,"d":"17.93"}]
["eigene Hirse - Sorghum 10% RP ",{"$f":"IF(D29=\"\",\" \",COUNTA($D$8:D29))","v":22},null,"eigene Hirse - Sorghum",{"$f":"IF(I29=0,\" \",ROUND(I29/10,0))","v":{"v":10,"d":"10 % RP"}},null,null,880,100,{"$f":"IF(I29=0,\" \",I29*0.74)","v":74},56,{"$f":"IF($I29=\"\",\" \",I29*0.0205*AV29+0.0398*AW29*AE29+0.0173*AF29+0.016*$AG29+0.0147*AI29)","v":{"v":13.510816,"d":"13.51"}},{"$f":"IF(I29=\"\",\" \",$I29*0.021503+0.032497*$AE29+0.016309*$AF29+0.014701*$AJ29-0.021071*$K29)","v":{"v":12.747324,"d":"12.75"}},{"$f":"IF(I29=0,\" \",(I29/H29*880*0.015+0.68)/880*H29)","v":{"v":2.18,"d":"2.2"}},{"$f":"IF(N29=\" \",\" \",N29*0.8)","v":{"v":1.7440000000000002,"d":"1.7"}},{"$f":"IF(N29=\" \",\" \",(I29/H29*880*0.0269+0.82)/880*H29)","v":{"v":3.51,"d":"3.5"}},{"$f":"IF(N29=\" \",\" \",P29*(1.6*0.89+1.7*0.86)/3.3)","v":{"v":3.0696545454545454,"d":"3.1"}},{"$f":"IF(N29=\" \",\" \",(I29/H29*880*0.0272+0.51)/880*H29)","v":{"v":3.2299999999999995,"d":"3.2"}},{"$f":"IF(N29=\" \",\" \",R29*0.86)","v":{"v":2.7777999999999996,"d":"2.8"}},{"$f":"IF(N29=\" \",\" \",(I29/H29*880*0.0094+0.18)/880*H29)","v":{"v":1.12,"d":"1.1"}},{"$f":"IF(N29=\" \",\" \",T29*0.86)","v":{"v":0.9632000000000001,"d":"1.0"}},{"$f":"IF($I29=0,\" \",V28*$H29/$H28)","v":0.4},2.6,{"v":0.78,"d":"0.8"},{"v":1.69,"d":"1.7"},1.1,{"v":0.2,"d":"0.20"},3.3,{"$f":"IF($I29=\"\",\" \",($I29/H29*880*0.0141+0.32)/880*H29)","v":{"v":1.7300000000000002,"d":"1.7"}},{"$f":"IF($N29=\" \",\" \",AC29*0.89)","v":{"v":1.5397000000000003,"d":"1.5"}},26,600,24,20,{"$f":"IF($I29=\"\",\" \",(H29-AH29)*AU29-I29*AV29-AE29*AW29-AF29-AG29)","v":{"v":44.24000000000001,"d":"44"}},{"$f":"IF($I29=\"\",\" \",$H29-($AE29+$AF29+$AH29+$I29+$K29))","v":78},{"$f":"IF($I29=0,\" \",AK28*$H29/$H28)","v":{"v":14.378,"d":"14.4"}},{"v":13.218483870967743,"d":"13.2"},{"v":1.1595161290322569,"d":"1.2"},0,0,0,{"v":-10.377999999999968,"d":"-10"},{"v":311.516,"d":"312"},{"$f":"IF($I29=0,\" \",AX29*K29+AY29*AT29-AF29-AG29)","v":{"v":57.620000000000005,"d":"58"}},678,{"$f":"IF($I29=0,\" \",AU28)","v":{"v":0.88,"d":"88%"}},{"$f":"IF($I29=0,\" \",AV28)","v":{"v":0.74,"d":"74%"}},{"$f":"IF($I29=0,\" \",AW28)","v":{"v":0.56,"d":"56%"}},{"$f":"IF($I29=0,\" \",AX28)","v":{"v":0.67,"d":"67%"}},{"$f":"IF($I29=0,\" \",AY28)","v":{"v":0.95,"d":"95%"}},{"$f":"IF($I29=0,\" \",AZ28*$H29/$H28)","v":{"v":0.616,"d":"0.62"}},{"$f":"IF($I29=0,\" \",BA28*$H29/$H28*K29/K28)","v":{"v":88.3076923076923,"d":"88"}},{"$f":"IF($I29=0,\" \",BB28*$H29/$H28*K29/K28)","v":{"v":394.15384615384613,"d":"394"}},{"v":14.63954652,"d":"14.64"}]
["Mais, Körner 9% RP DLG 2014",{"$f":"IF(D30=\"\",\" \",COUNTA($D$8:D30))","v":23},null,"Mais, Körner",{"v":9,"d":"9 % RP"},"DLG 2014",null,880,92,{"$f":"I30*0.82","v":{"v":75.44,"d":"75"}},23,{"$f":"IF($I30=\"\",\" \",I30*0.0205*AV30+0.0398*AW30*AE30+0.0173*AF30+0.016*$AG30+0.0147*AI30)","v":{"v":14.186431199999998,"d":"14.19"}},{"$f":"$I30*0.021503+0.032497*$AE30+0.016309*$AF30+0.014701*$AJ30-0.021071*$K30","v":{"v":14.207877039999998,"d":"14.21"}},{"$f":"IF(I30=0,\" \",I30*0.0186+0.85)","v":{"v":2.5612,"d":"2.6"}},{"$f":"IF(N30=\" \",\" \",N30*0.85)","v":{"v":2.1770199999999997,"d":"2.2"}},{"$f":"IF(N30=\" \",\" \",I30*0.0299+1.01)","v":{"v":3.7607999999999997,"d":"3.8"}},{"$f":"IF(N30=\" \",\" \",P30*(1.8*0.85+1.8*0.86)/3.6)","v":{"v":3.2154839999999996,"d":"3.2"}},{"$f":"IF(N30=\" \",\" \",I30*0.032+0.31)","v":{"v":3.254,"d":"3.3"}},{"$f":"IF(N30=\" \",\" \",R30*0.83)","v":{"v":2.7008199999999998,"d":"2.7"}},{"$f":"IF(N30=\" \",\" \",I30*0.0047+0.24)","v":{"v":0.6724,"d":"0.7"}},{"$f":"IF(N30=\" \",\" \",T30*0.82)","v":{"v":0.551368,"d":"0.6"}},0.4,2.8,{"$f":"W30*0.2","v":{"v":0.5599999999999999,"d":"0.6"}},{"$f":"W30*0.65","v":{"v":1.8199999999999998,"d":"1.8"}},1.1,{"v":0.2,"d":"0.20"},{"v":3,"d":"3.0"},{"$f":"IF($I30=\"\",\" \",$I30*0.0159+0.37)","v":{"v":1.8328000000000002,"d":"1.8"}},{"$f":"AC30*0.85","v":{"v":1.5578800000000002,"d":"1.6"}},40,607,18,{"$f":"17*0.88","v":{"v":14.96,"d":"15"}},{"$f":"(H30-AH30)*AU30-I30*AV30-AE30*AW30-AF30-AG30","v":{"v":50.096000000000004,"d":"50"}},{"$f":"$H30-($AE30+$AF30+$AH30+$I30+$K30)","v":{"v":103.03999999999996,"d":"103"}},{"$f":"56*AE30/100","v":22.4},{"$f":"$AL$23*AK30/$AK$23","v":{"v":20.593548387096774,"d":"20.6"}},{"$f":"AK30-AL30","v":{"v":1.8064516129032242,"d":"1.8"}},{"$nulls":3},{"v":-28.310399999999966,"d":"-28"},{"v":291.516,"d":"292"},{"$f":"AX30*K30+AY30*AT30-AF30-AG30","v":{"v":54.16759999999999,"d":"54"}},{"v":710.04,"d":"710"},{"v":0.9,"d":"90%"},{"v":0.82,"d":"82%"},{"v":0.7,"d":"70%"},{"v":0.51,"d":"51%"},{"v":0.94,"d":"94%"},{"$f":"0.5*H30/1000","v":0.44},33,136,{"v":18.1577502392,"d":"18.16"}]
["eigener Mais, Körner ",{"$f":"IF(D31=\"\",\" \",COUNTA($D$8:D31))","v":24},null,"eigener Mais, Körner"," ",{"$nulls":4},{"$f":"IF(I31=0,\" \",I31*0.82)","v":" "},null,{"$f":"IF($I31=\"\",\" \",I31*0.0205*AV31+0.0398*AW31*AE31+0.0173*AF31+0.016*$AG31+0.0147*AI31)","v":" "},{"$f":"IF(I31=\"\",\" \",$I31*0.021503+0.032497*$AE31+0.016309*$AF31+0.014701*$AJ31-0.021071*$K31)","v":" "},{"$f":"IF(I31=0,\" \",(I31/H31*880*0.0186+0.85)/880*H31)","v":" "},{"$f":"IF(N31=\" \",\" \",N31*0.85)","v":" "},{"$f":"IF(N31=\" \",\" \",(I31/H31*880*0.0299+1.01)/880*H31)","v":" "},{"$f":"IF(N31=\" \",\" \",P31*(1.8*0.85+1.8*0.86)/3.6)","v":" "},{"$f":"IF(N31=\" \",\" \",(I31/H31*880*0.032+0.31)/880*H31)","v":" "},{"$f":"IF(N31=\" \",\" \",R31*0.83)","v":" "},{"$f":"IF(N31=\" \",\" \",(I31/H31*880*0.0047+0.24)/880*H31)","v":" "},{"$f":"IF(N31=\" \",\" \",T31*0.82)","v":" "},{"$f":"IF($I31=0,\" \",V30*$H31/$H30)","v":" "}," "," "," "," "," "," ",{"$f":"IF($I31=\"\",\" \",($I31/H31*880*0.0159+0.37)/880*H31)","v":" "},{"$f":"IF($N31=\" \",\" \",AC31*0.85)","v":" "},{"$nulls":4},{"$f":"IF($I31=\"\",\" \",(H31-AH31)*AU31-I31*AV31-AE31*AW31-AF31-AG31)","v":" "},{"$f":"IF($I31=\"\",\" \",$H31-($AE31+$AF31+$AH31+$I31+$K31))","v":" "},{"$f":"IF($I31=0,\" \",AK30*$H31/$H30)","v":" "}," "," "," "," "," ","","",{"$f":"IF($I31=0,\" \",AX31*K31+AY31*AT31-AF31-AG31)","v":" "}," ",{"$f":"IF($I31=0,\" \",AU30)","v":" "},{"$f":"IF($I31=0,\" \",AV30)","v":" "},{"$f":"IF($I31=0,\" \",AW30)","v":" "},{"$f":"IF($I31=0,\" \",AX30)","v":" "},{"$f":"IF($I31=0,\" \",AY30)","v":" "},{"$f":"IF($I31=0,\" \",AZ30*$H31/$H30)","v":" "},{"$f":"IF($I31=0,\" \",BA30*$H31/$H30*K31/K30)","v":" "},{"$f":"IF($I31=0,\" \",BB30*$H31/$H30*K31/K30)","v":" "},""]
["Mais, Körner siliert Ganzkorn 7% RP DLG 2014",{"$f":"IF(D32=\"\",\" \",COUNTA($D$8:D32))","v":25},null,"Mais, Körner siliert Ganzkorn",{"v":7,"d":"7 % RP"},"DLG 2014",null,650,65,{"$f":"I32*0.89","v":{"v":57.85,"d":"58"}},16,{"$f":"I32*0.0205*AV32+0.0398*AW32*AE32+0.0173*AF32+0.016*$AG32+0.0147*AI32","v":{"v":10.723715000000002,"d":"10.72"}},{"$f":"$I32*0.021503+0.032497*$AE32+0.016309*$AF32+0.014701*$AJ32-0.021071*$K32","v":{"v":10.526142,"d":"10.53"}},{"$f":"IF(I32=0,\" \",I32*0.0186+0.85)","v":{"v":2.0589999999999997,"d":"2.1"}},{"$f":"IF(N32=\" \",\" \",N32*0.85)","v":{"v":1.7501499999999997,"d":"1.8"}},{"$f":"IF(N32=\" \",\" \",I32*0.0299+1.01)","v":{"v":2.9535,"d":"3.0"}},{"$f":"IF(N32=\" \",\" \",P32*(1.8*0.85+1.8*0.86)/3.6)","v":{"v":2.5252425,"d":"2.5"}},{"$f":"IF(N32=\" \",\" \",I32*0.032+0.31)","v":{"v":2.39,"d":"2.4"}},{"$f":"IF(N32=\" \",\" \",R32*0.83)","v":{"v":1.9837,"d":"2.0"}},{"$f":"IF(N32=\" \",\" \",I32*0.0047+0.24)","v":{"v":0.5455,"d":"0.5"}},{"$f":"IF(N32=\" \",\" \",T32*0.82)","v":{"v":0.44731,"d":"0.4"}},0.3,2.1,{"$f":"W32*0.5","v":{"v":1.05,"d":"1.1"}},{"$f":"W32*0.65","v":{"v":1.3650000000000002,"d":"1.4"}},0.8,{"v":0.1,"d":"0.10"},{"v":3,"d":"3.0"},{"$f":"IF($I32=\"\",\" \",$I32*0.0159+0.37)","v":{"v":1.4035000000000002,"d":"1.4"}},{"$f":"AC32*0.88","v":{"v":1.2350800000000002,"d":"1.2"}},29,455,3,10,{"$f":"(H32-AH32)*AU32-I32*AV32-AE32*AW32-AF32-AG32","v":{"v":51.200000000000045,"d":"51"}},{"$f":"$H32-($AE32+$AF32+$AH32+$I32+$K32)","v":75},{"$f":"56*AE32/100","v":{"v":16.24,"d":"16.2"}},{"$f":"$AL$23*AK32/$AK$23","v":{"v":14.93032258064516,"d":"14.9"}},{"$f":"AK32-AL32","v":{"v":1.3096774193548377,"d":"1.3"}},{"$nulls":3},{"$f":"IF(H32=\"\",\"\",50*V32+83*Z32+26*AB32+44*AA32-59*W32-13*P32-28*AZ32)","v":{"v":-7.595499999999992,"d":"-8"}},{"$f":"IF(H32=\"\",\"\",V32/1000*20140+Z32/1000*48600+1100/440*I32)","v":{"v":207.422,"d":"207"}},{"$f":"AX32*K32+AY32*AT32-AF32-AG32","v":{"v":48.360000000000014,"d":"48"}},530,{"v":0.92,"d":"92%"},{"v":0.89,"d":"89%"},{"v":0.75,"d":"75%"},{"v":0.51,"d":"51%"},{"v":0.94,"d":"94%"},{"$f":"0.5*H32/1000","v":{"v":0.325,"d":"0.33"}},21,131,{"v":13.62808366,"d":"13.63"}]
["Mais, Körner siliert geschrotet 6% RP DLG 2014",{"$f":"IF(D33=\"\",\" \",COUNTA($D$8:D33))","v":26},null,"Mais, Körner siliert geschrotet",{"v":6,"d":"6 % RP"},"DLG 2014",null,650,60,{"$f":"I33*0.9","v":54},14,{"$f":"I33*0.0205*AV33+0.0398*AW33*AE33+0.0173*AF33+0.016*$AG33+0.0147*AI33","v":{"v":10.964799999999999,"d":"10.96"}},{"$f":"$I33*0.021503+0.032497*$AE33+0.016309*$AF33+0.014701*$AJ33-0.021071*$K33","v":{"v":10.58962,"d":"10.59"}},{"$f":"IF(I33=0,\" \",I33*0.0186+0.85)","v":{"v":1.9659999999999997,"d":"2.0"}},{"$f":"IF(N33=\" \",\" \",N33*0.7)","v":{"v":1.3761999999999996,"d":"1.4"}},{"$f":"IF(N33=\" \",\" \",I33*0.0299+1.01)","v":{"v":2.8040000000000003,"d":"2.8"}},{"$f":"IF(N33=\" \",\" \",P33*(1.3*0.88+1.3*0.85)/2.6)","v":{"v":2.42546,"d":"2.4"}},{"$f":"IF(N33=\" \",\" \",I33*0.032+0.31)","v":{"v":2.23,"d":"2.2"}},{"$f":"IF(N33=\" \",\" \",R33*0.85)","v":{"v":1.8955,"d":"1.9"}},{"$f":"IF(N33=\" \",\" \",I33*0.0047+0.24)","v":{"v":0.522,"d":"0.5"}},{"$f":"IF(N33=\" \",\" \",T33*0.71)","v":{"v":0.37062,"d":"0.4"}},0.3,2.1,{"$f":"W33*0.5","v":{"v":1.05,"d":"1.1"}},{"$f":"W33*0.65","v":{"v":1.3650000000000002,"d":"1.4"}},0.8,{"v":0.1,"d":"0.10"},{"v":3,"d":"3.0"},{"$f":"IF($I33=\"\",\" \",$I33*0.0159+0.37)","v":{"v":1.324,"d":"1.3"}},{"$f":"AC33*0.88","v":{"v":1.1651200000000002,"d":"1.2"}},31,449,14,10,{"$f":"(H33-AH33)*AU33-I33*AV33-AE33*AW33-AF33-AG33","v":{"v":59.799999999999955,"d":"60"}},{"$f":"$H33-($AE33+$AF33+$AH33+$I33+$K33)","v":86},{"$f":"56*AE33/100","v":{"v":17.36,"d":"17.4"}},{"$f":"$AL$23*AK33/$AK$23","v":{"v":15.96,"d":"16.0"}},{"$f":"AK33-AL33","v":{"v":1.3999999999999986,"d":"1.4"}},{"$nulls":3},{"$f":"IF(H33=\"\",\"\",50*V33+83*Z33+26*AB33+44*AA33-59*W33-13*P33-28*AZ33)","v":{"v":-5.651999999999999,"d":"-6"}},{"$f":"IF(H33=\"\",\"\",V33/1000*20140+Z33/1000*48600+1100/440*I33)","v":{"v":194.922,"d":"195"}},{"$f":"AX33*K33+AY33*AT33-AF33-AG33","v":{"v":47.039999999999964,"d":"47"}},{"$f":"IF(H33=\"\",\" \",H33-I33-AE33-AH33-K33)","v":535},{"v":0.94,"d":"94%"},{"v":0.9,"d":"90%"},{"v":0.8,"d":"80%"},{"v":0.51,"d":"51%"},{"v":0.94,"d":"94%"},{"$f":"0.5*H33/1000","v":{"v":0.325,"d":"0.33"}},21,131,{"v":13.916422599999999,"d":"13.92"}]
[{"$f":"IF(E34=\" \",D34&\" \"&F34,D34&\" \"&E34&\"% RP \"&F34)","v":"Mais, siliert  3% RP DLG 2014"},{"$f":"IF(D34=\"\",\" \",COUNTA($D$8:D34))","v":27},null,"Mais, siliert ",{"$f":"IF(I34=0,\" \",ROUND(I34/10,0))","v":{"v":3,"d":"3 % RP"}},"DLG 2014",null,350,30,{"$f":"I34*0.59","v":{"v":17.7,"d":"18"}},56,{"$f":"I34*0.0205*AV34+0.0398*AW34*AE34+0.0173*AF34+0.016*$AG34+0.0147*AI34","v":{"v":3.7464999999999997,"d":"3.75"}},{"$f":"$I34*0.021503+0.032497*$AE34+0.016309*$AF34+0.014701*$AJ34-0.021071*$K34","v":{"v":3.522756,"d":"3.52"}},{"$f":"IF(I34=0,\" \",(I34/H34*550*0.0171+0.51)/550*H34)","v":{"v":0.8375454545454547,"d":"0.8"}},{"$f":"IF(N34=\" \",\" \",N34*0.73)","v":{"v":0.6114081818181819,"d":"0.6"}},{"$f":"IF(N34=\" \",\" \",(I34/H34*550*0.0215+1.04)/550*H34)","v":{"v":1.3068181818181819,"d":"1.3"}},{"$f":"IF(N34=\" \",\" \",P34*(0.92*1.3+0.9*0.88)/2.1)","v":{"v":1.2371212121212123,"d":"1.2"}},{"$f":"IF(N34=\" \",\" \",(I34/H34*550*0.0301+0.28)/550*H34)","v":{"v":1.0811818181818182,"d":"1.1"}},{"$f":"IF(N34=\" \",\" \",R34*0.88)","v":{"v":0.9514400000000001,"d":"1.0"}},{"$f":"IF(N34=\" \",\" \",0.2)","v":0.2},{"$f":"IF(N34=\" \",\" \",T34*0.76)","v":{"v":0.15200000000000002,"d":"0.2"}},0.9,0.8,{"$f":"W34*55%","v":{"v":0.44000000000000006,"d":"0.4"}},{"$f":"W34*0.65","v":{"v":0.52,"d":"0.5"}},{"$f":"Z33/88*60","v":{"v":0.5454545454545455,"d":"0.5"}},{"$f":"AA33/88*60","v":{"v":0.06818181818181819,"d":"0.07"}},13.1,0.5,{"$f":"AC34*0.76","v":{"v":0.38,"d":"0.4"}},12,105,4,14,{"$f":"(H34-AH34)*AU34-I34*AV34-AE34*AW34-AF34-AG34","v":{"v":64.45999999999998,"d":"64"}},{"$f":"$H34-($AE34+$AF34+$AH34+$I34+$K34)","v":133},{"$f":"AL34+AM34","v":{"v":6.960000000000001,"d":"7.0"}},{"$f":"54*AE34/100","v":{"v":6.48,"d":"6.5"}},{"$f":"4*AE34/100","v":{"v":0.48,"d":"0.5"}},{"$nulls":3},{"$f":"IF(H34=\"\",\"\",50*V34+83*Z34+26*AB34+44*AA34-59*W34-13*P34-28*AZ34)","v":{"v":356.9440909090909,"d":"357"}},{"$f":"IF(H34=\"\",\"\",V34/1000*20140+Z34/1000*48600+1100/440*I34)","v":{"v":119.6350909090909,"d":"120"}},{"$f":"AX34*K34+AY34*AT34-AF34-AG34","v":{"v":123.68,"d":"124"}},{"$f":"IF(H34=\"\",\" \",H34-I34-AE34-AH34-K34)","v":238},{"v":0.62,"d":"62%"},{"v":0.81,"d":"81%"},{"v":0.88,"d":"88%"},{"v":0.33,"d":"33%"},{"v":0.9,"d":"90%"},{"$f":"1.3*H34/1000","v":{"v":0.455,"d":"0.46"}},95,175,{"v":1.67061188,"d":"1.67"}]
[{"$f":"IF(E35=\" \",D35&\" \"&F35,D35&\" \"&E35&\"% RP \"&F35)","v":"eigener Mais, siliert "},{"$f":"IF(D35=\"\",\" \",COUNTA($D$8:D35))","v":28},null,"eigener Mais, siliert",{"$f":"IF(I35=0,\" \",ROUND(I35/10,0))","v":" "},{"$nulls":4},{"$f":"IF(I35=0,\" \",I35*0.59)","v":" "},null,{"$f":"IF($I35=\"\",\" \",I35*0.0205*AV35+0.0398*AW35*AE35+0.0173*AF35+0.016*$AG35+0.0147*AI35)","v":" "},{"$f":"IF(I35=\"\",\" \",$I35*0.021503+0.032497*$AE35+0.016309*$AF35+0.014701*$AJ35-0.021071*$K35)","v":" "},{"$f":"IF(I35=0,\" \",(I35/H35*550*0.0171+0.51)/550*H35)","v":" "},{"$f":"IF(N35=\" \",\" \",N35*0.73)","v":" "},{"$f":"IF(N35=\" \",\" \",(I35/H35*550*0.0215+1.04)/550*H35)","v":" "},{"$f":"IF(N35=\" \",\" \",P35*(0.92*1.3+0.9*0.88)/2.1)","v":" "},{"$f":"IF(N35=\" \",\" \",(I35/H35*550*0.0301+0.28)/550*H35)","v":" "},{"$f":"IF(N35=\" \",\" \",R35*0.88)","v":" "},{"$f":"IF(N35=\" \",\" \",0.2)","v":" "},{"$f":"IF(N35=\" \",\" \",T35*0.76)","v":" "},{"$f":"IF($I35=0,\" \",V34*$H35/$H34)","v":" "}," "," "," "," "," "," ",{"$f":"IF($I35=0,\" \",AC34/H34*H35)","v":" "},{"$f":"IF($N35=\" \",\" \",AC35*0.85)","v":" "},{"$nulls":4},{"$f":"IF($I35=\"\",\" \",(H35-AH35)*AU35-I35*AV35-AE35*AW35-AF35-AG35)","v":" "},{"$f":"IF($I35=\"\",\" \",$H35-($AE35+$AF35+$AH35+$I35+$K35))","v":" "},{"$f":"IF($I35=0,\" \",AK34*$H35/$H34)","v":" "},{"$f":"IF($I35=0,\" \",AL34*$H35/$H34)","v":" "},{"$f":"IF($I35=0,\" \",AM34*$H35/$H34)","v":" "},{"$nulls":3},{"$f":"IF(H35=\"\",\"\",50*V35+83*Z35+26*AB35+44*AA35-59*W35-13*P35-28*AZ35)","v":""},{"$f":"IF(H35=\"\",\"\",V35/1000*20140+Z35/1000*48600+1100/440*I35)","v":""},{"$f":"IF($I35=0,\" \",AX35*K35+AY35*AT35-AF35-AG35)","v":" "},{"$f":"IF(H35=\"\",\" \",H35-I35-AE35-AH35-K35)","v":" "},{"$f":"IF($I35=0,\" \",AU34)","v":" "},{"$f":"IF($I35=0,\" \",AV34)","v":" "},{"$f":"IF($I35=0,\" \",AW34)","v":" "},{"$f":"IF($I35=0,\" \",AX34)","v":" "},{"$f":"IF($I35=0,\" \",AY34)","v":" "},{"$f":"IF($I35=0,\" \",AZ34*$H35/$H34)","v":" "},{"$f":"IF($I35=0,\" \",BA34*$H35/$H34*K35/K34)","v":" "},{"$f":"IF($I35=0,\" \",BB34*$H35/$H34*K35/K34)","v":" "},""]
["Roggen  11% RP ",{"$f":"IF(D36=\"\",\" \",COUNTA($D$8:D36))","v":29},null,"Roggen ",{"v":11,"d":"11 % RP"},null,"4",880,{"v":112.1,"d":"112"},{"$f":"I36*0.78","v":{"v":87.438,"d":"87"}},{"v":24.1,"d":"24"},{"$f":"I36*0.0205*AV36+0.0398*AW36*AE36+0.0173*AF36+0.016*$AG36+0.0147*AI36","v":{"v":13.350051919999999,"d":"13.35"}},{"$f":"$I36*0.021503+0.032497*$AE36+0.016309*$AF36+0.014701*$AJ36-0.021071*$K36","v":{"v":13.692944840000001,"d":"13.69"}},{"$f":"IF(I36=0,\" \",I36*0.0272+0.87)","v":{"v":3.91912,"d":"3.9"}},{"$f":"IF(N36=\" \",\" \",N36*0.7)","v":{"v":2.743384,"d":"2.7"}},{"$f":"IF(N36=\" \",\" \",I36*0.033+0.51)","v":{"v":4.2093,"d":"4.2"}},{"$f":"IF(N36=\" \",\" \",P36*(1.3*0.88+1.3*0.85)/2.6)","v":{"v":3.6410445,"d":"3.6"}},{"$f":"IF(N36=\" \",\" \",I36*0.0293+0.33)","v":{"v":3.61453,"d":"3.6"}},{"$f":"IF(N36=\" \",\" \",R36*0.85)","v":{"v":3.0723504999999998,"d":"3.1"}},{"$f":"IF(N36=\" \",\" \",I36*0.0082+0.24)","v":{"v":1.15922,"d":"1.2"}},{"$f":"IF(N36=\" \",\" \",T36*0.71)","v":{"v":0.8230462,"d":"0.8"}},0.5,{"v":3,"d":"3.0"},{"$f":"W36*0.45","v":{"v":1.35,"d":"1.4"}},{"$f":"W36*0.65","v":{"v":1.9500000000000002,"d":"2.0"}},{"v":1,"d":"1.0"},0.06,4.9,{"$f":"IF($I36=\"\",\" \",$I36*0.0136+0.28)","v":{"v":1.80456,"d":"1.8"}},{"$f":"AC36*0.85","v":{"v":1.533876,"d":"1.5"}},{"v":15.3,"d":"15"},{"v":539.8,"d":"540"},{"v":55.5,"d":"56"},{"$f":"22*0.88","v":{"v":19.36,"d":"19"}},{"$f":"(H36-AH36)*AU36-I36*AV36-AE36*AW36-AF36-AG36","v":{"v":78.94760000000008,"d":"79"}},{"$f":"$H36-($AE36+$AF36+$AH36+$I36+$K36)","v":{"v":169.34000000000003,"d":"169"}},{"$f":"AL36+AM36","v":{"v":9.945,"d":"9.9"}},{"$f":"58*AE36/100","v":{"v":8.874,"d":"8.9"}},{"$f":"7*AE36/100","v":{"v":1.0710000000000002,"d":"1.1"}},{"$nulls":3},{"v":1.3910999999999918,"d":"1"},{"v":338.92,"d":"339"},{"$f":"AX36*K36+AY36*AT36-AF36-AG36","v":{"v":71.9122000000001,"d":"72"}},{"$f":"IF(H36=\"\",\" \",H36-I36-AE36-AH36-K36)","v":{"v":709.14,"d":"709"}},{"v":0.89,"d":"89%"},{"v":0.78,"d":"78%"},{"v":0.28,"d":"28%"},{"v":0.32,"d":"32%"},{"v":0.93,"d":"93%"},{"$f":"0.2*H36/1000","v":{"v":0.176,"d":"0.18"}},{"$f":"35/$H$38*$H36*$K36/$K$38","v":{"v":37.09545227386307,"d":"37"}},{"$f":"235/$H$38*$H36*$K36/$K$38","v":{"v":249.06946526736635,"d":"249"}},{"v":14.807449733200002,"d":"14.81"}]
["Roggen  10% RP ",{"$f":"IF(D37=\"\",\" \",COUNTA($D$8:D37))","v":30},null,"Roggen ",{"v":10,"d":"10 % RP"},null,"30",880,{"v":98.8,"d":"99"},{"$f":"I37*0.78","v":{"v":77.06400000000001,"d":"77"}},{"v":24.6,"d":"25"},{"$f":"I37*0.0205*AV37+0.0398*AW37*AE37+0.0173*AF37+0.016*$AG37+0.0147*AI37","v":{"v":13.257126720000002,"d":"13.26"}},{"$f":"$I37*0.021503+0.032497*$AE37+0.016309*$AF37+0.014701*$AJ37-0.021071*$K37","v":{"v":13.57113904,"d":"13.57"}},{"$f":"IF(I37=0,\" \",I37*0.0272+0.87)","v":{"v":3.55736,"d":"3.6"}},{"$f":"IF(N37=\" \",\" \",N37*0.8)","v":{"v":2.8458880000000004,"d":"2.8"}},{"$f":"IF(N37=\" \",\" \",I37*0.033+0.51)","v":{"v":3.7704000000000004,"d":"3.8"}},{"$f":"IF(N37=\" \",\" \",P37*(1.5*0.85+2.1*0.9)/3.6)","v":{"v":3.3148100000000005,"d":"3.3"}},{"$f":"IF(N37=\" \",\" \",I37*0.0293+0.33)","v":{"v":3.22484,"d":"3.2"}},{"$f":"IF(N37=\" \",\" \",R37*0.75)","v":{"v":2.41863,"d":"2.4"}},{"$f":"IF(N37=\" \",\" \",I37*0.0082+0.24)","v":{"v":1.05016,"d":"1.1"}},{"$f":"IF(N37=\" \",\" \",T37*0.78)","v":{"v":0.8191248,"d":"0.8"}},0.5,{"v":3,"d":"3.0"},{"$f":"W37*0.45","v":{"v":1.35,"d":"1.4"}},{"$f":"W37*0.65","v":{"v":1.9500000000000002,"d":"2.0"}},{"v":1,"d":"1.0"},0.06,4.9,{"$f":"IF($I37=\"\",\" \",$I37*0.0136+0.28)","v":{"v":1.62368,"d":"1.6"}},{"$f":"AC37*0.85","v":{"v":1.380128,"d":"1.4"}},{"v":15.8,"d":"16"},{"v":525.9,"d":"526"},{"v":55.4,"d":"55"},{"v":19.36,"d":"19"},{"$f":"(H37-AH37)*AU37-I37*AV37-AE37*AW37-AF37-AG37","v":{"v":103.18160000000009,"d":"103"}},{"$f":"$H37-($AE37+$AF37+$AH37+$I37+$K37)","v":{"v":195.54000000000008,"d":"196"}},{"$f":"AL37+AM37","v":{"v":10.270000000000001,"d":"10.3"}},{"$f":"58*AE37/100","v":{"v":9.164000000000001,"d":"9.2"}},{"$f":"7*AE37/100","v":{"v":1.106,"d":"1.1"}},{"$nulls":3},{"v":7.096799999999985,"d":"7"},{"v":305.67,"d":"306"},{"$f":"AX37*K37+AY37*AT37-AF37-AG37","v":{"v":97.51120000000012,"d":"98"}},{"$f":"IF(H37=\"\",\" \",H37-I37-AE37-AH37-K37)","v":{"v":721.44,"d":"721"}},{"v":0.89,"d":"89%"},{"v":0.78,"d":"78%"},{"v":0.28,"d":"28%"},{"v":0.32,"d":"32%"},{"v":0.93,"d":"93%"},{"$f":"0.2*H37/1000","v":{"v":0.176,"d":"0.18"}},{"$f":"35/$H$38*H37*K37/$K$38","v":{"v":37.865067466266865,"d":"38"}},{"$f":"235/$H$38*$H37*$K37/$K$38","v":{"v":254.2368815592204,"d":"254"}},{"v":14.889431499199999,"d":"14.89"}]
["Roggen  9% RP DLG 2014",{"$f":"IF(D38=\"\",\" \",COUNTA($D$8:D38))","v":31},null,"Roggen ",{"v":9,"d":"9 % RP"},"DLG 2014",null,870,91,{"$f":"I38*0.78","v":{"v":70.98,"d":"71"}},23,{"$f":"I38*0.0205*AV38+0.0398*AW38*AE38+0.0173*AF38+0.016*$AG38+0.0147*AI38","v":{"v":13.159755120000002,"d":"13.16"}},{"$f":"$I38*0.021503+0.032497*$AE38+0.016309*$AF38+0.014701*$AJ38-0.021071*$K38","v":{"v":13.47383664,"d":"13.47"}},{"$f":"IF(I38=0,\" \",I38*0.0272+0.87)","v":{"v":3.3452,"d":"3.3"}},{"$f":"IF(N38=\" \",\" \",N38*0.8)","v":{"v":2.6761600000000003,"d":"2.7"}},{"$f":"IF(N38=\" \",\" \",I38*0.033+0.51)","v":{"v":3.513,"d":"3.5"}},{"$f":"IF(N38=\" \",\" \",P38*(1.5*0.85+2.1*0.9)/3.6)","v":{"v":3.0885124999999998,"d":"3.1"}},{"$f":"IF(N38=\" \",\" \",I38*0.0293+0.33)","v":{"v":2.9963,"d":"3.0"}},{"$f":"IF(N38=\" \",\" \",R38*0.75)","v":{"v":2.2472250000000003,"d":"2.2"}},{"$f":"IF(N38=\" \",\" \",I38*0.0082+0.24)","v":{"v":0.9862000000000001,"d":"1.0"}},{"$f":"IF(N38=\" \",\" \",T38*0.78)","v":{"v":0.769236,"d":"0.8"}},0.5,{"v":3,"d":"3.0"},{"$f":"W38*0.45","v":{"v":1.35,"d":"1.4"}},{"$f":"W38*0.65","v":{"v":1.9500000000000002,"d":"2.0"}},{"v":1,"d":"1.0"},0.06,4.9,{"$f":"IF($I38=\"\",\" \",$I38*0.0136+0.28)","v":{"v":1.5176,"d":"1.5"}},{"$f":"AC38*0.85","v":{"v":1.28996,"d":"1.3"}},16,552,55,{"v":19.36,"d":"19"},{"$f":"(H38-AH38)*AU38-I38*AV38-AE38*AW38-AF38-AG38","v":{"v":74.6096,"d":"75"}},{"$f":"$H38-($AE38+$AF38+$AH38+$I38+$K38)","v":{"v":168.64,"d":"169"}},{"$f":"AL38+AM38","v":{"v":10.399999999999999,"d":"10.4"}},{"$f":"58*AE38/100","v":{"v":9.28,"d":"9.3"}},{"$f":"7*AE38/100","v":{"v":1.12,"d":"1.1"}},{"$nulls":3},{"v":10.498999999999995,"d":"10"},{"v":286.17,"d":"286"},{"$f":"AX38*K38+AY38*AT38-AF38-AG38","v":{"v":70.55520000000001,"d":"71"}},{"v":720.64,"d":"721"},{"v":0.89,"d":"89%"},{"v":0.78,"d":"78%"},{"v":0.28,"d":"28%"},{"v":0.32,"d":"32%"},{"v":0.93,"d":"93%"},{"$f":"0.2*H38/1000","v":{"v":0.174,"d":"0.17"}},35,235,{"v":15.504900747200002,"d":"15.50"}]
["eigener Roggen 9% RP Ø 2016",{"$f":"IF(D39=\"\",\" \",COUNTA($D$8:D39))","v":32},null,"eigener Roggen",{"v":9,"d":"9 % RP"},{"$f":"IF(I39=85.04,\"Ø 2016\",\"\")","v":"Ø 2016"},null,880,{"v":85.04,"d":"85"},{"$f":"IF(I39=0,\" \",I39*0.78)","v":{"v":66.33120000000001,"d":"66"}},{"v":19.36,"d":"19"},{"$f":"IF($I39=\"\",\" \",I39*0.0205*AV39+0.0398*AW39*AE39+0.0173*AF39+0.016*$AG39+0.0147*AI39)","v":{"v":13.29011402,"d":"13.29"}},{"$f":"IF(I39=\"\",\" \",$I39*0.021503+0.032497*$AE39+0.016309*$AF39+0.014701*$AJ39-0.021071*$K39)","v":{"v":13.722676860000002,"d":"13.72"}},{"$f":"IF(I39=0,\" \",(I39/H39*880*0.0272+0.87)/880*H39)","v":{"v":3.183088,"d":"3.2"}},{"$f":"IF(N39=\" \",\" \",N39*0.8)","v":{"v":2.5464704000000005,"d":"2.5"}},{"$f":"IF(N39=\" \",\" \",(I39/H39*880*0.033+0.51)/880*H39)","v":{"v":3.31632,"d":"3.3"}},{"$f":"IF(N39=\" \",\" \",P39*(1.5*0.85+2.1*0.9)/3.6)","v":{"v":2.915598,"d":"2.9"}},{"$f":"IF(N39=\" \",\" \",(I39/H39*880*0.0293+0.33)/880*H39)","v":{"v":2.8216720000000004,"d":"2.8"}},{"$f":"IF(N39=\" \",\" \",R39*0.75)","v":{"v":2.1162540000000005,"d":"2.1"}},{"$f":"IF(N39=\" \",\" \",(I39/H39*880*0.0082+0.24)/880*H39)","v":{"v":0.937328,"d":"0.9"}},{"$f":"IF(N39=\" \",\" \",T39*0.78)","v":{"v":0.7311158400000001,"d":"0.7"}},{"$f":"IF($I39=0,\" \",V38*$H39/$H38)","v":{"v":0.5057471264367817,"d":"0.5"}},{"v":3.0344827586206895,"d":"3.0"},{"v":1.3655172413793104,"d":"1.4"},{"v":1.9724137931034484,"d":"2.0"},{"v":1.0114942528735633,"d":"1.0"},{"v":0.06068965517241379,"d":"0.06"},{"v":4.95632183908046,"d":"5.0"},{"$f":"IF($I39=\"\",\" \",($I39/H39*880*0.0136+0.28)/880*H39)","v":{"v":1.436544,"d":"1.4"}},{"$f":"IF($N39=\" \",\" \",AC39*0.85)","v":{"v":1.2210624,"d":"1.2"}},{"v":15.84,"d":"16"},{"v":563.71,"d":"564"},{"v":55.44,"d":"55"},{"v":19.62,"d":"20"},{"$f":"IF($I39=\"\",\" \",(H39-AH39)*AU39-I39*AV39-AE39*AW39-AF39-AG39)","v":{"v":75.8218,"d":"76"}},{"$f":"IF($I39=\"\",\" \",$H39-($AE39+$AF39+$AH39+$I39+$K39))","v":{"v":176.42999999999995,"d":"176"}},{"$f":"IF($I39=0,\" \",AK38*$H39/$H38)","v":{"v":10.519540229885056,"d":"10.5"}},{"v":9.386666666666667,"d":"9.4"},{"v":1.132873563218391,"d":"1.1"},0,0,0,{"v":13.70144919540236,"d":"14"},{"v":271.944367816092,"d":"272"},{"$f":"IF($I39=0,\" \",AX39*K39+AY39*AT39-AF39-AG39)","v":{"v":75.37539999999996,"d":"75"}},{"v":740.14,"d":"740"},{"$f":"IF($I39=0,\" \",AU38)","v":{"v":0.89,"d":"89%"}},{"$f":"IF($I39=0,\" \",AV38)","v":{"v":0.78,"d":"78%"}},{"$f":"IF($I39=0,\" \",AW38)","v":{"v":0.28,"d":"28%"}},{"$f":"IF($I39=0,\" \",AX38)","v":{"v":0.32,"d":"32%"}},{"$f":"IF($I39=0,\" \",AY38)","v":{"v":0.93,"d":"93%"}},{"$f":"IF($I39=0,\" \",AZ38*$H39/$H38)","v":{"v":0.17599999999999996,"d":"0.18"}},{"$f":"IF($I39=0,\" \",BA38/$H$38*H37*K37/$K$38)","v":{"v":37.865067466266865,"d":"38"}},{"$f":"IF($I39=0,\" \",BB38/$H$38*$H37*$K37/$K$38)","v":{"v":254.2368815592204,"d":"254"}},{"v":16.169524107800004,"d":"16.17"}]
["Roggen  9% RP ",{"$f":"IF(D40=\"\",\" \",COUNTA($D$8:D40))","v":33},null,"Roggen ",{"v":9,"d":"9 % RP"},null,"37",880,{"v":90.2,"d":"90"},{"$f":"I40*0.78","v":{"v":70.35600000000001,"d":"70"}},{"v":24.6,"d":"25"},{"$f":"I40*0.0205*AV40+0.0398*AW40*AE40+0.0173*AF40+0.016*$AG40+0.0147*AI40","v":{"v":13.222380320000001,"d":"13.22"}},{"$f":"$I40*0.021503+0.032497*$AE40+0.016309*$AF40+0.014701*$AJ40-0.021071*$K40","v":{"v":13.515214640000002,"d":"13.52"}},{"$f":"IF(I40=0,\" \",I40*0.0272+0.87)","v":{"v":3.32344,"d":"3.3"}},{"$f":"IF(N40=\" \",\" \",N40*0.8)","v":{"v":2.6587520000000002,"d":"2.7"}},{"$f":"IF(N40=\" \",\" \",I40*0.033+0.51)","v":{"v":3.4866,"d":"3.5"}},{"$f":"IF(N40=\" \",\" \",P40*(1.5*0.85+2.1*0.9)/3.6)","v":{"v":3.0653025,"d":"3.1"}},{"$f":"IF(N40=\" \",\" \",I40*0.0293+0.33)","v":{"v":2.9728600000000003,"d":"3.0"}},{"$f":"IF(N40=\" \",\" \",R40*0.75)","v":{"v":2.229645,"d":"2.2"}},{"$f":"IF(N40=\" \",\" \",I40*0.0082+0.24)","v":{"v":0.9796400000000001,"d":"1.0"}},{"$f":"IF(N40=\" \",\" \",T40*0.78)","v":{"v":0.7641192000000001,"d":"0.8"}},0.5,{"v":3,"d":"3.0"},{"$f":"W40*0.45","v":{"v":1.35,"d":"1.4"}},{"$f":"W40*0.65","v":{"v":1.9500000000000002,"d":"2.0"}},{"v":1,"d":"1.0"},0.06,4.9,{"$f":"IF($I40=\"\",\" \",$I40*0.0136+0.28)","v":{"v":1.50672,"d":"1.5"}},{"$f":"AC40*0.85","v":{"v":1.280712,"d":"1.3"}},{"v":15.8,"d":"16"},{"v":527.5,"d":"528"},{"v":55.4,"d":"55"},{"v":19.36,"d":"19"},{"$f":"(H40-AH40)*AU40-I40*AV40-AE40*AW40-AF40-AG40","v":{"v":108.28960000000004,"d":"108"}},{"$f":"$H40-($AE40+$AF40+$AH40+$I40+$K40)","v":{"v":202.53999999999996,"d":"203"}},{"$f":"AL40+AM40","v":{"v":10.270000000000001,"d":"10.3"}},{"$f":"58*AE40/100","v":{"v":9.164000000000001,"d":"9.2"}},{"$f":"7*AE40/100","v":{"v":1.106,"d":"1.1"}},{"$nulls":3},{"v":10.78619999999999,"d":"11"},{"v":284.17,"d":"284"},{"$f":"AX40*K40+AY40*AT40-AF40-AG40","v":{"v":103.90919999999991,"d":"104"}},{"v":730.04,"d":"730"},{"v":0.89,"d":"89%"},{"v":0.78,"d":"78%"},{"v":0.28,"d":"28%"},{"v":0.32,"d":"32%"},{"v":0.93,"d":"93%"},{"$f":"0.2*H40/1000","v":{"v":0.176,"d":"0.18"}},{"$f":"35/$H$38*H40*K40/$K$38","v":{"v":37.865067466266865,"d":"38"}},{"$f":"235/$H$38*$H40*$K40/$K$38","v":{"v":254.2368815592204,"d":"254"}},{"v":15.1134066872,"d":"15.11"}]
["Roggen  8% RP ",{"$f":"IF(D41=\"\",\" \",COUNTA($D$8:D41))","v":34},null,"Roggen ",{"v":8,"d":"8 % RP"},null,"29",880,{"v":80.1,"d":"80"},{"$f":"I41*0.78","v":{"v":62.477999999999994,"d":"62"}},{"v":24.6,"d":"25"},{"$f":"I41*0.0205*AV41+0.0398*AW41*AE41+0.0173*AF41+0.016*$AG41+0.0147*AI41","v":{"v":13.198007920000002,"d":"13.20"}},{"$f":"$I41*0.021503+0.032497*$AE41+0.016309*$AF41+0.014701*$AJ41-0.021071*$K41","v":{"v":13.45970004,"d":"13.46"}},{"$f":"IF(I41=0,\" \",I41*0.0272+0.87)","v":{"v":3.04872,"d":"3.0"}},{"$f":"IF(N41=\" \",\" \",N41*0.8)","v":{"v":2.4389760000000003,"d":"2.4"}},{"$f":"IF(N41=\" \",\" \",I41*0.033+0.51)","v":{"v":3.1532999999999998,"d":"3.2"}},{"$f":"IF(N41=\" \",\" \",P41*(1.5*0.85+2.1*0.9)/3.6)","v":{"v":2.77227625,"d":"2.8"}},{"$f":"IF(N41=\" \",\" \",I41*0.0293+0.33)","v":{"v":2.67693,"d":"2.7"}},{"$f":"IF(N41=\" \",\" \",R41*0.75)","v":{"v":2.0076975,"d":"2.0"}},{"$f":"IF(N41=\" \",\" \",I41*0.0082+0.24)","v":{"v":0.89682,"d":"0.9"}},{"$f":"IF(N41=\" \",\" \",T41*0.78)","v":{"v":0.6995196,"d":"0.7"}},0.5,{"v":3,"d":"3.0"},{"$f":"W41*0.45","v":{"v":1.35,"d":"1.4"}},{"$f":"W41*0.65","v":{"v":1.9500000000000002,"d":"2.0"}},{"v":1,"d":"1.0"},0.06,4.9,{"$f":"IF($I41=\"\",\" \",$I41*0.0136+0.28)","v":{"v":1.36936,"d":"1.4"}},{"$f":"AC41*0.85","v":{"v":1.163956,"d":"1.2"}},{"v":15.8,"d":"16"},{"v":535.7,"d":"536"},{"v":55.4,"d":"55"},{"v":19.36,"d":"19"},{"$f":"(H41-AH41)*AU41-I41*AV41-AE41*AW41-AF41-AG41","v":{"v":107.96760000000003,"d":"108"}},{"$f":"$H41-($AE41+$AF41+$AH41+$I41+$K41)","v":{"v":204.43999999999994,"d":"204"}},{"$f":"AL41+AM41","v":{"v":10.270000000000001,"d":"10.3"}},{"$f":"58*AE41/100","v":{"v":9.164000000000001,"d":"9.2"}},{"$f":"7*AE41/100","v":{"v":1.106,"d":"1.1"}},{"$nulls":3},{"v":15.119099999999992,"d":"15"},{"v":258.92,"d":"259"},{"$f":"AX41*K41+AY41*AT41-AF41-AG41","v":{"v":105.1021999999999,"d":"105"}},{"v":740.14,"d":"740"},{"v":0.89,"d":"89%"},{"v":0.78,"d":"78%"},{"v":0.28,"d":"28%"},{"v":0.32,"d":"32%"},{"v":0.93,"d":"93%"},{"$f":"0.2*H41/1000","v":{"v":0.176,"d":"0.18"}},{"$f":"35/$H$38*H41*K41/$K$38","v":{"v":37.865067466266865,"d":"38"}},{"$f":"235/$H$38*$H41*$K41/$K$38","v":{"v":254.2368815592204,"d":"254"}},{"v":15.478681029200002,"d":"15.48"}]
[{"$f":"IF(E42=\" \",D42&\" \"&F42,D42&\" \"&E42&\"% RP \"&F42)","v":"Triticale 12% RP "},{"$f":"IF(D42=\"\",\" \",COUNTA($D$8:D42))","v":35},null,"Triticale",{"$f":"IF(I42=0,\" \",ROUND(I42/10,0))","v":{"v":12,"d":"12 % RP"}},null,"5",880,{"v":119.4,"d":"119"},{"$f":"I42*0.84","v":{"v":100.296,"d":"100"}},{"v":26.4,"d":"26"},{"$f":"I42*0.0205*AV42+0.0398*AW42*AE42+0.0173*AF42+0.016*$AG42+0.0147*AI42","v":{"v":13.55236688,"d":"13.55"}},{"$f":"$I42*0.021503+0.032497*$AE42+0.016309*$AF42+0.014701*$AJ42-0.021071*$K42","v":{"v":13.702595360000002,"d":"13.70"}},{"$f":"IF(I42=0,\" \",I42*0.0201+1.33)","v":{"v":3.72994,"d":"3.7"}},{"$f":"IF(N42=\" \",\" \",N42*0.84)","v":{"v":3.1331496,"d":"3.1"}},{"$f":"IF(N42=\" \",\" \",I42*0.0292+1.05)","v":{"v":4.53648,"d":"4.5"}},{"$f":"IF(N42=\" \",\" \",P42*(1.8*0.88+2.6*0.87)/4.4)","v":{"v":3.965295927272727,"d":"4.0"}},{"$f":"IF(N42=\" \",\" \",I42*0.0255+0.58)","v":{"v":3.6247,"d":"3.6"}},{"$f":"IF(N42=\" \",\" \",R42*0.81)","v":{"v":2.936007,"d":"2.9"}},{"$f":"IF(N42=\" \",\" \",I42*0.0072+0.4)","v":{"v":1.25968,"d":"1.3"}},{"$f":"IF(N42=\" \",\" \",T42*0.77)","v":{"v":0.9699536,"d":"1.0"}},0.4,3.2,{"$f":"W42*0.5","v":1.6},{"$f":"W42*0.65","v":{"v":2.08,"d":"2.1"}},1.1,{"v":0.1,"d":"0.10"},4.7,{"$f":"IF($I42=\"\",\" \",$I42*0.0132+0.35)","v":{"v":1.9260800000000002,"d":"1.9"}},{"$f":"AC42*0.88","v":{"v":1.6949504000000002,"d":"1.7"}},{"v":15.8,"d":"16"},{"v":568.6,"d":"569"},{"v":35.2,"d":"35"},{"$f":"23*0.88","v":{"v":20.24,"d":"20"}},{"$f":"(H42-AH42)*AU42-I42*AV42-AE42*AW42-AF42-AG42","v":{"v":53.1904,"d":"53"}},{"$f":"$H42-($AE42+$AF42+$AH42+$I42+$K42)","v":{"v":129.56000000000006,"d":"130"}},{"$f":"AL42+AM42","v":{"v":10.033000000000001,"d":"10.0"}},{"$f":"57.5*AE42/100","v":{"v":9.085,"d":"9.1"}},{"$f":"6*AE42/100","v":{"v":0.9480000000000001,"d":"0.9"}},{"$nulls":3},{"$f":"IF(H42=\"\",\"\",50*V42+83*Z42+26*AB42+44*AA42-59*W42-13*P42-28*AZ42)","v":{"v":-22.194240000000008,"d":"-22"}},{"$f":"IF(H42=\"\",\"\",V42/1000*20140+Z42/1000*48600+1100/440*I42)","v":{"v":360.016,"d":"360"}},{"$f":"AX42*K42+AY42*AT42-AF42-AG42","v":{"v":52.61680000000017,"d":"53"}},{"v":698.1600000000001,"d":"698"},{"v":0.89,"d":"89%"},{"v":0.84,"d":"84%"},{"v":0.5,"d":"50%"},{"v":0.27,"d":"27%"},{"v":0.93,"d":"93%"},{"$f":"0.5*H42/1000","v":0.44},{"$f":"IF($I42=0,\" \",$BA$43*$H42/$H$43*K42/$K$43)","v":{"v":38.94252873563218,"d":"39"}},{"$f":"IF($I42=0,\" \",$BB$43*$H42/$H$43*K42/$K$43)","v":{"v":174.68505747126434,"d":"175"}},{"v":14.975294612800003,"d":"14.98"}]
["Triticale 11% RP DLG 2014",{"$f":"IF(D43=\"\",\" \",COUNTA($D$8:D43))","v":36},null,"Triticale",{"v":11,"d":"11 % RP"},"DLG 2014",null,870,109,{"$f":"I43*0.84","v":{"v":91.56,"d":"92"}},24,{"$f":"I43*0.0205*AV43+0.0398*AW43*AE43+0.0173*AF43+0.016*$AG43+0.0147*AI43","v":{"v":13.375314000000001,"d":"13.38"}},{"$f":"$I43*0.021503+0.032497*$AE43+0.016309*$AF43+0.014701*$AJ43-0.021071*$K43","v":{"v":13.57717,"d":"13.58"}},{"$f":"IF(I43=0,\" \",I43*0.0201+1.33)","v":{"v":3.5209,"d":"3.5"}},{"$f":"IF(N43=\" \",\" \",N43*0.84)","v":{"v":2.957556,"d":"3.0"}},{"$f":"IF(N43=\" \",\" \",I43*0.0292+1.05)","v":{"v":4.2328,"d":"4.2"}},{"v":3.699852,"d":"3.7"},{"$f":"IF(N43=\" \",\" \",I43*0.0255+0.58)","v":{"v":3.3594999999999997,"d":"3.4"}},{"$f":"IF(N43=\" \",\" \",R43*0.81)","v":{"v":2.721195,"d":"2.7"}},{"$f":"IF(N43=\" \",\" \",I43*0.0072+0.4)","v":{"v":1.1848,"d":"1.2"}},{"$f":"IF(N43=\" \",\" \",T43*0.77)","v":{"v":0.9122960000000001,"d":"0.9"}},0.4,3.2,{"$f":"W43*0.5","v":1.6},{"$f":"W43*0.65","v":{"v":2.08,"d":"2.1"}},1.1,{"v":0.1,"d":"0.10"},4.7,{"$f":"IF($I43=\"\",\" \",$I43*0.0132+0.35)","v":{"v":1.7888000000000002,"d":"1.8"}},{"$f":"AC43*0.88","v":{"v":1.5741440000000002,"d":"1.6"}},15,561,39,18,{"$f":"(H43-AH43)*AU43-I43*AV43-AE43*AW43-AF43-AG43","v":{"v":59.22000000000003,"d":"59"}},{"$f":"$H43-($AE43+$AF43+$AH43+$I43+$K43)","v":143},{"$f":"AL43+AM43","v":{"v":9.525,"d":"9.5"}},{"$f":"57.5*AE43/100","v":{"v":8.625,"d":"8.6"}},{"$f":"6*AE43/100","v":0.9},{"$nulls":3},{"v":-18.106400000000008,"d":"-18"},{"v":334.016,"d":"334"},{"$f":"AX43*K43+AY43*AT43-AF43-AG43","v":{"v":61.200000000000045,"d":"61"}},704,{"v":0.89,"d":"89%"},{"v":0.84,"d":"84%"},{"v":0.5,"d":"50%"},{"v":0.27,"d":"27%"},{"v":0.93,"d":"93%"},{"$f":"0.5*H43/1000","v":{"v":0.435,"d":"0.44"}},35,157,{"v":15.1153341,"d":"15.12"}]
["eigene Triticale 10% RP Ø 2016",{"$f":"IF(D44=\"\",\" \",COUNTA($D$8:D44))","v":37},null,"eigene Triticale",{"v":10,"d":"10 % RP"},{"$f":"IF(I44=97.2,\"Ø 2016\",\"\")","v":"Ø 2016"},null,880,{"v":97.2,"d":"97"},{"$f":"IF(I44=0,\" \",I44*0.84)","v":{"v":81.648,"d":"82"}},{"v":26.4,"d":"26"},{"$f":"IF($I44=\"\",\" \",I44*0.0205*AV44+0.0398*AW44*AE44+0.0173*AF44+0.016*$AG44+0.0147*AI44)","v":{"v":13.5285451,"d":"13.53"}},{"$f":"IF(I44=\"\",\" \",$I44*0.021503+0.032497*$AE44+0.016309*$AF44+0.014701*$AJ44-0.021071*$K44)","v":{"v":13.6059199,"d":"13.61"}},{"$f":"IF(I44=0,\" \",(I44/H44*880*0.0201+1.33)/880*H44)","v":{"v":3.28372,"d":"3.3"}},{"v":2.7583248,"d":"2.8"},{"$f":"IF(N44=\" \",\" \",(I44/H44*880*0.0292+1.05)/880*H44)","v":{"v":3.88824,"d":"3.9"}},{"v":3.398675236363636,"d":"3.4"},{"$f":"IF(N44=\" \",\" \",(I44/H44*880*0.0255+0.58)/880*H44)","v":{"v":3.0585999999999998,"d":"3.1"}},{"v":2.477466,"d":"2.5"},{"$f":"IF(N44=\" \",\" \",(I44/H44*880*0.0072+0.4)/880*H44)","v":{"v":1.09984,"d":"1.1"}},{"v":0.8468768,"d":"0.8"},{"$f":"IF($I44=0,\" \",V$42*$H44/$H$42)","v":0.4},{"$f":"IF($I44=0,\" \",W$42*$H44/$H$42)","v":3.2},1.6,{"$f":"IF($I44=0,\" \",Y$42*$H44/$H$42)","v":{"v":2.08,"d":"2.1"}},1.1,{"v":0.1,"d":"0.10"},4.7,{"$f":"IF($I44=\"\",\" \",($I44/H44*880*0.0132+0.35)/880*H44)","v":{"v":1.6330399999999998,"d":"1.6"}},{"$f":"IF($N44=\" \",\" \",AC44*0.88)","v":{"v":1.4370751999999998,"d":"1.4"}},{"v":15.9,"d":"16"},600,{"v":34.9,"d":"35"},{"v":20.1,"d":"20"},{"$f":"IF($I44=\"\",\" \",(H44-AH44)*AU44-I44*AV44-AE44*AW44-AF44-AG44)","v":{"v":40.81299999999997,"d":"41"}},{"$f":"IF($I44=\"\",\" \",$H44-($AE44+$AF44+$AH44+$I44+$K44))","v":{"v":120.39999999999998,"d":"120"}},{"$f":"IF($I44=0,\" \",AK42*$H44/$H42)","v":{"v":10.033000000000001,"d":"10.0"}},{"v":9.085,"d":"9.1"},{"v":0.9480000000000001,"d":"0.9"},0,0,0,{"v":-13.767120000000006,"d":"-14"},{"v":304.516,"d":"305"},{"$f":"IF($I44=0,\" \",AX44*K44+AY44*AT44-AF44-AG44)","v":{"v":42.200000000000024,"d":"42"}},{"v":720.4,"d":"720"},{"$f":"IF($I44=0,\" \",AU42)","v":{"v":0.89,"d":"89%"}},{"$f":"IF($I44=0,\" \",AV42)","v":{"v":0.84,"d":"84%"}},{"$f":"IF($I44=0,\" \",AW42)","v":{"v":0.5,"d":"50%"}},{"$f":"IF($I44=0,\" \",AX42)","v":{"v":0.27,"d":"27%"}},{"$f":"IF($I44=0,\" \",AY42)","v":{"v":0.93,"d":"93%"}},{"$f":"IF($I44=0,\" \",AZ$42*$H44/$H$42)","v":0.44},{"$f":"IF($I44=0,\" \",$BA$43*$H44/$H$43*K44/$K$43)","v":{"v":38.94252873563218,"d":"39"}},{"$f":"IF($I44=0,\" \",$BB$43*$H44/$H$43*K44/$K$43)","v":{"v":174.68505747126434,"d":"175"}},{"v":16.002821527,"d":"16.00"}]
["eigene Triticale 10% RP Ø 2015",{"$f":"IF(D45=\"\",\" \",COUNTA($D$8:D45))","v":38},null,"eigene Triticale",{"$f":"IF(I45=0,\" \",ROUND(I45/10,0))","v":{"v":10,"d":"10 % RP"}},{"$f":"IF(I45=97.18,\"Ø 2015\",\"\")","v":"Ø 2015"},null,880,{"v":97.18,"d":"97"},{"$f":"IF(I45=0,\" \",I45*0.84)","v":{"v":81.6312,"d":"82"}},{"v":26.4,"d":"26"},{"$f":"IF($I45=\"\",\" \",I45*0.0205*AV45+0.0398*AW45*AE45+0.0173*AF45+0.016*$AG45+0.0147*AI45)","v":{"v":13.516105079999999,"d":"13.52"}},{"$f":"IF(I45=\"\",\" \",$I45*0.021503+0.032497*$AE45+0.016309*$AF45+0.014701*$AJ45-0.021071*$K45)","v":{"v":13.608028480000002,"d":"13.61"}},{"$f":"IF(I45=0,\" \",(I45/H45*880*0.0201+1.33)/880*H45)","v":{"v":3.2833180000000004,"d":"3.3"}},{"$f":"IF(N45=\" \",\" \",N45*0.84)","v":{"v":2.75798712,"d":"2.8"}},{"$f":"IF(N45=\" \",\" \",(I45/H45*880*0.0292+1.05)/880*H45)","v":{"v":3.8876560000000007,"d":"3.9"}},{"v":3.3981647672727275,"d":"3.4"},{"$f":"IF(N45=\" \",\" \",(I45/H45*880*0.0255+0.58)/880*H45)","v":{"v":3.05809,"d":"3.1"}},{"$f":"IF(N45=\" \",\" \",R45*0.81)","v":{"v":2.4770529000000003,"d":"2.5"}},{"$f":"IF(N45=\" \",\" \",(I45/H45*880*0.0072+0.4)/880*H45)","v":{"v":1.099696,"d":"1.1"}},{"$f":"IF(N45=\" \",\" \",T45*0.77)","v":{"v":0.8467659200000001,"d":"0.8"}},{"$f":"IF($I45=0,\" \",V$42*$H45/$H$42)","v":0.4},{"$f":"IF($I45=0,\" \",W$42*$H45/$H$42)","v":3.2},1.6,{"v":2.08,"d":"2.1"},1.1,{"v":0.1,"d":"0.10"},4.7,{"$f":"IF($I45=\"\",\" \",($I45/H45*880*0.0132+0.35)/880*H45)","v":{"v":1.6327760000000002,"d":"1.6"}},{"$f":"IF($N45=\" \",\" \",AC45*0.88)","v":{"v":1.4368428800000002,"d":"1.4"}},{"v":16.28,"d":"16"},{"v":590.425,"d":"590"},{"v":33.44,"d":"33"},{"v":19.36,"d":"19"},{"$f":"IF($I45=\"\",\" \",(H45-AH45)*AU45-I45*AV45-AE45*AW45-AF45-AG45)","v":{"v":52.33340000000004,"d":"52"}},{"$f":"IF($I45=\"\",\" \",$H45-($AE45+$AF45+$AH45+$I45+$K45))","v":{"v":130.35500000000013,"d":"130"}},{"$f":"IF($I45=0,\" \",AK44*$H45/$H44)","v":{"v":10.033000000000001,"d":"10.0"}},{"v":9.085,"d":"9.1"},{"v":0.9480000000000001,"d":"0.9"},0,0,0,{"$f":"IF(H45=\"\",\"\",50*V45+83*Z45+26*AB45+44*AA45-59*W45-13*P45-28*AZ45)","v":{"v":-13.759528000000017,"d":"-14"}},{"$f":"IF(H45=\"\",\"\",V45/1000*20140+Z45/1000*48600+1100/440*I45)","v":{"v":304.466,"d":"304"}},{"$f":"IF($I45=0,\" \",AX45*K45+AY45*AT45-AF45-AG45)","v":{"v":53.58840000000015,"d":"54"}},{"v":720.78,"d":"721"},{"$f":"IF($I45=0,\" \",AU44)","v":{"v":0.89,"d":"89%"}},{"$f":"IF($I45=0,\" \",AV44)","v":{"v":0.84,"d":"84%"}},{"$f":"IF($I45=0,\" \",AW44)","v":{"v":0.5,"d":"50%"}},{"$f":"IF($I45=0,\" \",AX44)","v":{"v":0.27,"d":"27%"}},{"$f":"IF($I45=0,\" \",AY44)","v":{"v":0.93,"d":"93%"}},{"$f":"IF($I45=0,\" \",AZ$42*$H45/$H$42)","v":0.44},{"v":38.94252873563218,"d":"39"},{"v":174.68505747126434,"d":"175"},{"v":15.882195790399997,"d":"15.88"}]
["Triticale 11% RP ",{"$f":"IF(D46=\"\",\" \",COUNTA($D$8:D46))","v":39},null,"Triticale",{"v":11,"d":"11 % RP"},null,"24",880,{"v":108.2,"d":"108"},{"$f":"I46*0.84","v":{"v":90.888,"d":"91"}},{"v":26.4,"d":"26"},{"$f":"I46*0.0205*AV46+0.0398*AW46*AE46+0.0173*AF46+0.016*$AG46+0.0147*AI46","v":{"v":13.490000479999999,"d":"13.49"}},{"$f":"$I46*0.021503+0.032497*$AE46+0.016309*$AF46+0.014701*$AJ46-0.021071*$K46","v":{"v":13.621588960000002,"d":"13.62"}},{"$f":"IF(I46=0,\" \",I46*0.0201+1.33)","v":{"v":3.50482,"d":"3.5"}},{"v":2.9440488,"d":"2.9"},{"$f":"IF(N46=\" \",\" \",I46*0.0292+1.05)","v":{"v":4.20944,"d":"4.2"}},{"v":3.679433236363636,"d":"3.7"},{"$f":"IF(N46=\" \",\" \",I46*0.0255+0.58)","v":{"v":3.3391,"d":"3.3"}},{"v":2.7046710000000003,"d":"2.7"},{"$f":"IF(N46=\" \",\" \",I46*0.0072+0.4)","v":{"v":1.17904,"d":"1.2"}},{"v":0.9078608000000001,"d":"0.9"},0.4,3.2,1.6,{"$f":"W46*0.65","v":{"v":2.08,"d":"2.1"}},1.1,{"v":0.1,"d":"0.10"},4.7,{"$f":"IF($I46=\"\",\" \",$I46*0.0132+0.35)","v":{"v":1.7782399999999998,"d":"1.8"}},{"$f":"AC46*0.88","v":{"v":1.5648511999999999,"d":"1.6"}},{"v":15.8,"d":"16"},{"v":565.6,"d":"566"},{"v":35.2,"d":"35"},{"v":20.24,"d":"20"},{"$f":"(H46-AH46)*AU46-I46*AV46-AE46*AW46-AF46-AG46","v":{"v":65.59840000000001,"d":"66"}},{"$f":"$H46-($AE46+$AF46+$AH46+$I46+$K46)","v":{"v":143.76,"d":"144"}},{"$f":"AL46+AM46","v":{"v":10.033000000000001,"d":"10.0"}},{"$f":"57.5*AE46/100","v":{"v":9.085,"d":"9.1"}},{"$f":"6*AE46/100","v":{"v":0.9480000000000001,"d":"0.9"}},{"$nulls":3},{"v":-17.94272,"d":"-18"},{"v":332.016,"d":"332"},{"$f":"AX46*K46+AY46*AT46-AF46-AG46","v":{"v":66.03280000000011,"d":"66"}},{"v":709.36,"d":"709"},{"v":0.89,"d":"89%"},{"v":0.84,"d":"84%"},{"v":0.5,"d":"50%"},{"v":0.27,"d":"27%"},{"v":0.93,"d":"93%"},{"$f":"0.5*H46/1000","v":0.44},{"v":38.94252873563218,"d":"39"},{"v":174.68505747126434,"d":"175"},{"v":15.1847599408,"d":"15.18"}]
["Triticale 10% RP ",{"$f":"IF(D47=\"\",\" \",COUNTA($D$8:D47))","v":40},null,"Triticale",{"v":10,"d":"10 % RP"},null,"42",880,{"v":99.5,"d":"100"},{"$f":"I47*0.84","v":{"v":83.58,"d":"84"}},{"v":26.4,"d":"26"},{"v":13.46355908,"d":"13.46"},{"$f":"$I47*0.021503+0.032497*$AE47+0.016309*$AF47+0.014701*$AJ47-0.021071*$K47","v":{"v":13.573356760000003,"d":"13.57"}},{"$f":"IF(I47=0,\" \",I47*0.0201+1.33)","v":{"v":3.32995,"d":"3.3"}},{"v":2.797158,"d":"2.8"},{"$f":"IF(N47=\" \",\" \",I47*0.0292+1.05)","v":{"v":3.9554,"d":"4.0"}},{"v":3.457379181818182,"d":"3.5"},{"$f":"IF(N47=\" \",\" \",I47*0.0255+0.58)","v":{"v":3.11725,"d":"3.1"}},{"v":2.5249725,"d":"2.5"},{"$f":"IF(N47=\" \",\" \",I47*0.0072+0.4)","v":{"v":1.1164,"d":"1.1"}},{"v":0.8596280000000001,"d":"0.9"},0.4,3.2,1.6,{"v":2.08,"d":"2.1"},1.1,{"v":0.1,"d":"0.10"},4.7,{"$f":"IF($I47=\"\",\" \",$I47*0.0132+0.35)","v":{"v":1.6633999999999998,"d":"1.7"}},{"v":1.4637919999999998,"d":"1.5"},{"v":15.9,"d":"16"},{"v":571.3,"d":"571"},{"v":35.1,"d":"35"},{"v":20.24,"d":"20"},{"v":67.25640000000001,"d":"67"},{"v":146.66000000000008,"d":"147"},{"v":10.0965,"d":"10.1"},{"$f":"57.5*AE47/100","v":{"v":9.1425,"d":"9.1"}},{"$f":"6*AE47/100","v":{"v":0.9540000000000001,"d":"1.0"}},{"$nulls":3},{"$f":"IF(H47=\"\",\"\",50*V47+83*Z47+26*AB47+44*AA47-59*W47-13*P47-28*AZ47)","v":{"v":-14.640200000000007,"d":"-15"}},{"$f":"IF(H47=\"\",\"\",V47/1000*20140+Z47/1000*48600+1100/440*I47)","v":{"v":310.266,"d":"310"}},{"v":68.43080000000012,"d":"68"},{"v":717.96,"d":"718"},{"v":0.89,"d":"89%"},{"v":0.84,"d":"84%"},{"v":0.5,"d":"50%"},{"v":0.27,"d":"27%"},{"v":0.93,"d":"93%"},{"$f":"0.5*H47/1000","v":0.44},{"v":38.94252873563218,"d":"39"},{"v":174.68505747126434,"d":"175"},{"v":15.4841504348,"d":"15.48"}]
["Triticale 9% RP ",{"$f":"IF(D48=\"\",\" \",COUNTA($D$8:D48))","v":41},null,"Triticale",{"v":9,"d":"9 % RP"},null,"26",880,{"v":90.5,"d":"91"},{"$f":"I48*0.84","v":{"v":76.02,"d":"76"}},{"v":26.3,"d":"26"},{"v":13.43717608,"d":"13.44"},{"$f":"$I48*0.021503+0.032497*$AE48+0.016309*$AF48+0.014701*$AJ48-0.021071*$K48","v":{"v":13.525513960000001,"d":"13.53"}},{"$f":"IF(I48=0,\" \",I48*0.0201+1.33)","v":{"v":3.14905,"d":"3.1"}},{"v":2.645202,"d":"2.6"},{"$f":"IF(N48=\" \",\" \",I48*0.0292+1.05)","v":{"v":3.6925999999999997,"d":"3.7"}},{"v":3.2276680909090905,"d":"3.2"},{"$f":"IF(N48=\" \",\" \",I48*0.0255+0.58)","v":{"v":2.88775,"d":"2.9"}},{"v":2.3390775,"d":"2.3"},{"$f":"IF(N48=\" \",\" \",I48*0.0072+0.4)","v":{"v":1.0516,"d":"1.1"}},{"v":0.8097320000000001,"d":"0.8"},0.4,3.2,1.6,{"v":2.08,"d":"2.1"},1.1,{"v":0.1,"d":"0.10"},4.7,{"$f":"IF($I48=\"\",\" \",$I48*0.0132+0.35)","v":{"v":1.5446,"d":"1.5"}},{"v":1.359248,"d":"1.4"},{"v":15.8,"d":"16"},{"v":578.5,"d":"579"},{"v":35.1,"d":"35"},{"v":20.24,"d":"20"},{"v":67.6664000000001,"d":"68"},{"v":148.66000000000008,"d":"149"},{"v":10.033000000000001,"d":"10.0"},{"$f":"57.5*AE48/100","v":{"v":9.085,"d":"9.1"}},{"$f":"6*AE48/100","v":{"v":0.9480000000000001,"d":"0.9"}},{"$nulls":3},{"v":-11.223800000000004,"d":"-11"},{"v":287.766,"d":"288"},{"v":69.75980000000007,"d":"70"},{"v":727.1600000000001,"d":"727"},{"v":0.89,"d":"89%"},{"v":0.84,"d":"84%"},{"v":0.5,"d":"50%"},{"v":0.27,"d":"27%"},{"v":0.93,"d":"93%"},{"$f":"0.5*H48/1000","v":0.44},{"v":38.79501915708812,"d":"39"},{"v":174.02337164750955,"d":"174"},{"v":15.807825190800001,"d":"15.81"}]
["Triticale 8% RP ",{"$f":"IF(D49=\"\",\" \",COUNTA($D$8:D49))","v":42},null,"Triticale",{"$f":"IF(I49=0,\" \",ROUND(I49/10,0))","v":{"v":8,"d":"8 % RP"}},null,"3",880,{"v":82.1,"d":"82"},{"$f":"I49*0.84","v":{"v":68.964,"d":"69"}},{"v":26.4,"d":"26"},{"v":13.43277628,"d":"13.43"},{"$f":"$I49*0.021503+0.032497*$AE49+0.016309*$AF49+0.014701*$AJ49-0.021071*$K49","v":{"v":13.491042760000001,"d":"13.49"}},{"$f":"IF(I49=0,\" \",I49*0.0201+1.33)","v":{"v":2.98021,"d":"3.0"}},{"v":2.5033764,"d":"2.5"},{"$f":"IF(N49=\" \",\" \",I49*0.0292+1.05)","v":{"v":3.4473199999999995,"d":"3.4"}},{"v":3.0132710727272722,"d":"3.0"},{"$f":"IF(N49=\" \",\" \",I49*0.0255+0.58)","v":{"v":2.6735499999999996,"d":"2.7"}},{"$f":"IF(N49=\" \",\" \",R49*0.81)","v":{"v":2.1655754999999997,"d":"2.2"}},{"$f":"IF(N49=\" \",\" \",I49*0.0072+0.4)","v":{"v":0.99112,"d":"1.0"}},{"$f":"IF(N49=\" \",\" \",T49*0.77)","v":{"v":0.7631624,"d":"0.8"}},0.4,3.2,1.6,{"v":2.08,"d":"2.1"},1.1,{"v":0.1,"d":"0.10"},4.7,{"$f":"IF($I49=\"\",\" \",$I49*0.0132+0.35)","v":{"v":1.43372,"d":"1.4"}},{"v":1.2616736000000002,"d":"1.3"},{"v":16.1,"d":"16"},{"v":591.5,"d":"592"},{"v":34.3,"d":"34"},{"v":20.24,"d":"20"},{"v":62.372400000000155,"d":"62"},{"v":143.65999999999997,"d":"144"},{"v":10.2235,"d":"10.2"},{"$f":"57.5*AE49/100","v":{"v":9.2575,"d":"9.3"}},{"$f":"6*AE49/100","v":{"v":0.9660000000000001,"d":"1.0"}},{"$nulls":3},{"v":-8.035159999999998,"d":"-8"},{"v":266.766,"d":"267"},{"v":65.02680000000005,"d":"65"},{"v":735.16,"d":"735"},{"v":0.89,"d":"89%"},{"v":0.84,"d":"84%"},{"v":0.5,"d":"50%"},{"v":0.27,"d":"27%"},{"v":0.93,"d":"93%"},{"$f":"0.5*H49/1000","v":0.44},{"v":38.94252873563218,"d":"39"},{"v":174.68505747126434,"d":"175"},{"v":16.2252612148,"d":"16.23"}]
[{"$f":"IF(E50=\" \",D50&\" \"&F50,D50&\" \"&E50&\"% RP \"&F50)","v":"Triticale öko 7% RP Ø Hessen"},{"$f":"IF(D50=\"\",\" \",COUNTA($D$8:D50))","v":43},null,"Triticale öko",{"v":7,"d":"7 % RP"},"Ø Hessen","100",880,{"v":72.6,"d":"73"},{"$f":"I50*0.84","v":{"v":60.983999999999995,"d":"61"}},{"v":26.4,"d":"26"},{"v":13.404177279999999,"d":"13.40"},{"$f":"$I50*0.021503+0.032497*$AE50+0.016309*$AF50+0.014701*$AJ50-0.021071*$K50","v":{"v":13.43362736,"d":"13.43"}},{"$f":"IF(I50=0,\" \",I50*0.0201+1.33)","v":{"v":2.7892599999999996,"d":"2.8"}},{"v":2.3429784,"d":"2.3"},{"$f":"IF(N50=\" \",\" \",I50*0.0292+1.05)","v":{"v":3.1699200000000003,"d":"3.2"}},{"v":2.7707982545454546,"d":"2.8"},{"$f":"IF(N50=\" \",\" \",I50*0.0255+0.58)","v":{"v":2.4313,"d":"2.4"}},{"v":1.969353,"d":"2.0"},{"$f":"IF(N50=\" \",\" \",I50*0.0072+0.4)","v":{"v":0.92272,"d":"0.9"}},{"v":0.7104944,"d":"0.7"},0.4,3.2,{"$f":"W50*0.5","v":1.6},{"v":2.08,"d":"2.1"},1.1,{"v":0.1,"d":"0.10"},4.7,{"$f":"IF($I50=\"\",\" \",$I50*0.0132+0.35)","v":{"v":1.30832,"d":"1.3"}},{"v":1.1513216,"d":"1.2"},{"v":15.8,"d":"16"},{"v":599.3,"d":"599"},{"v":35.2,"d":"35"},{"v":20.24,"d":"20"},{"v":61.80240000000008,"d":"62"},{"v":145.66000000000008,"d":"146"},{"v":10.033000000000001,"d":"10.0"},{"$f":"57.5*AE50/100","v":{"v":9.085,"d":"9.1"}},{"$f":"6*AE50/100","v":{"v":0.9480000000000001,"d":"0.9"}},{"$nulls":3},{"v":-4.428960000000011,"d":"-4"},{"v":243.01600000000002,"d":"243"},{"v":65.44080000000012,"d":"65"},{"v":744.96,"d":"745"},{"v":0.89,"d":"89%"},{"v":0.84,"d":"84%"},{"v":0.5,"d":"50%"},{"v":0.27,"d":"27%"},{"v":0.93,"d":"93%"},{"$f":"0.5*H50/1000","v":0.44},{"v":38.94252873563218,"d":"39"},{"v":174.68505747126434,"d":"175"},{"v":16.549847972799995,"d":"16.55"}]
["Weizen  14% RP ",{"$f":"IF(D51=\"\",\" \",COUNTA($D$8:D51))","v":44},null,"Weizen ",{"$f":"IF(I51=0,\" \",ROUND(I51/10,0))","v":{"v":14,"d":"14 % RP"}},null,2,880,{"v":142.1,"d":"142"},{"$f":"I51*0.9","v":{"v":127.89,"d":"128"}},26,{"v":13.78648424,"d":"13.79"},{"$f":"IF(I51=\"\",\" \",$I51*0.021503+0.032497*$AE51+0.016309*$AF51+0.014701*$AJ51-0.021071*$K51)","v":{"v":14.01248828,"d":"14.01"}},{"$f":"IF(I51=0,\" \",I51*0.0182+1.13)","v":{"v":3.71622,"d":"3.7"}},{"$f":"IF(N51=\" \",\" \",N51*0.88)","v":{"v":3.2702736,"d":"3.3"}},{"$f":"IF(N51=\" \",\" \",I51*0.0305+0.75)","v":{"v":5.0840499999999995,"d":"5.1"}},{"$f":"IF(N51=\" \",\" \",P51*(2*0.88+2.8*0.92)/4.8)","v":{"v":4.5925918333333335,"d":"4.6"}},{"$f":"IF(N51=\" \",\" \",I51*0.0233+0.56)","v":{"v":3.87093,"d":"3.9"}},{"$f":"IF(N51=\" \",\" \",R51*0.9)","v":{"v":3.483837,"d":"3.5"}},{"$f":"IF(N51=\" \",\" \",I51*0.0121+0.12)","v":{"v":1.83941,"d":"1.8"}},{"$f":"IF(N51=\" \",\" \",T51*0.88)","v":{"v":1.6186808,"d":"1.6"}},0.7,3.3,{"$f":"W51*0.6","v":{"v":1.9799999999999998,"d":"2.0"}},{"v":2.145,"d":"2.1"},1.1,{"v":0.2,"d":"0.20"},3.8,{"$f":"IF($I51=\"\",\" \",$I51*0.0125+0.3)","v":{"v":2.07625,"d":"2.1"}},{"v":1.8271,"d":"1.8"},22,{"v":555.6,"d":"556"},{"v":22.9,"d":"23"},{"$f":"19*0.88","v":{"v":16.72,"d":"17"}},{"v":50.929200000000016,"d":"51"},{"v":117.57999999999993,"d":"118"},{"v":13.639999999999999,"d":"13.6"},{"$f":"57*AE51/100","v":{"v":12.54,"d":"12.5"}},{"$f":"5*AE51/100","v":1.1},{"$nulls":3},{"v":-43.155049999999946,"d":"-43"},{"v":422.808,"d":"423"},{"v":54.83739999999998,"d":"55"},{"v":673.18,"d":"673"},{"v":0.89,"d":"89%"},{"v":0.9,"d":"90%"},{"v":0.5,"d":"50%"},{"v":0.28,"d":"28%"},{"v":0.93,"d":"93%"},{"$f":"0.66*H51/1000","v":{"v":0.5808000000000001,"d":"0.58"}},{"$f":"$BA$53/$H$53*H51*K51/$K$53","v":{"v":36.4,"d":"36"}},{"$f":"$BB$53/$H$53*H51*K51/$K$53","v":{"v":169.52,"d":"170"}},{"v":14.728316444399999,"d":"14.73"}]
["Weizen  13% RP ",{"$f":"IF(D52=\"\",\" \",COUNTA($D$8:D52))","v":45},null,"Weizen ",{"$f":"IF(I52=0,\" \",ROUND(I52/10,0))","v":{"v":13,"d":"13 % RP"}},null,12,880,{"v":129.3,"d":"129"},{"$f":"I52*0.9","v":{"v":116.37000000000002,"d":"116"}},26,{"v":13.74159824,"d":"13.74"},{"v":13.93681788,"d":"13.94"},{"$f":"IF(I52=0,\" \",I52*0.0182+1.13)","v":{"v":3.48326,"d":"3.5"}},{"$f":"IF(N52=\" \",\" \",N52*0.88)","v":{"v":3.0652688,"d":"3.1"}},{"$f":"IF(N52=\" \",\" \",I52*0.0305+0.75)","v":{"v":4.69365,"d":"4.7"}},{"v":4.2399305,"d":"4.2"},{"$f":"IF(N52=\" \",\" \",I52*0.0233+0.56)","v":{"v":3.5726900000000006,"d":"3.6"}},{"$f":"IF(N52=\" \",\" \",R52*0.9)","v":{"v":3.2154210000000005,"d":"3.2"}},{"$f":"IF(N52=\" \",\" \",I52*0.0121+0.12)","v":{"v":1.68453,"d":"1.7"}},{"$f":"IF(N52=\" \",\" \",T52*0.88)","v":{"v":1.4823864,"d":"1.5"}},0.7,3.3,{"$f":"W52*0.6","v":{"v":1.9799999999999998,"d":"2.0"}},{"v":2.145,"d":"2.1"},1.1,{"v":0.2,"d":"0.20"},3.8,{"$f":"IF($I52=\"\",\" \",$I52*0.0125+0.3)","v":{"v":1.9162500000000002,"d":"1.9"}},{"v":1.6863000000000001,"d":"1.7"},{"v":21.8,"d":"22"},{"v":564.9,"d":"565"},{"v":23.1,"d":"23"},{"$f":"19*0.88","v":{"v":16.72,"d":"17"}},{"v":53.04920000000006,"d":"53"},{"v":121.27999999999997,"d":"121"},{"v":13.516000000000002,"d":"13.5"},{"$f":"57*AE52/100","v":{"v":12.426000000000002,"d":"12.4"}},{"$f":"5*AE52/100","v":{"v":1.09,"d":"1.1"}},{"$nulls":3},{"v":-38.07984999999995,"d":"-38"},{"v":390.808,"d":"391"},{"v":57.427400000000056,"d":"57"},{"v":686.1800000000001,"d":"686"},{"v":0.89,"d":"89%"},{"v":0.9,"d":"90%"},{"v":0.5,"d":"50%"},{"v":0.28,"d":"28%"},{"v":0.93,"d":"93%"},{"$f":"0.66*H52/1000","v":{"v":0.5808000000000001,"d":"0.58"}},{"$f":"$BA$53/$H$53*H52*K52/$K$53","v":{"v":36.4,"d":"36"}},{"$f":"$BB$53/$H$53*H52*K52/$K$53","v":{"v":169.52,"d":"170"}},{"v":15.1599770524,"d":"15.16"}]
["Weizen  12% RP DLG 2014",{"$f":"IF(D53=\"\",\" \",COUNTA($D$8:D53))","v":46},null,"Weizen ",{"v":12,"d":"12 % RP"},"DLG 2014",null,880,123,{"$f":"I53*0.9","v":{"v":110.7,"d":"111"}},25,{"v":13.671705999999999,"d":"13.67"},{"v":13.857928,"d":"13.86"},{"$f":"IF(I53=0,\" \",I53*0.0182+1.13)","v":{"v":3.3686,"d":"3.4"}},{"$f":"IF(N53=\" \",\" \",N53*0.88)","v":{"v":2.964368,"d":"3.0"}},{"$f":"IF(N53=\" \",\" \",I53*0.0305+0.75)","v":{"v":4.5015,"d":"4.5"}},{"$f":"IF(N53=\" \",\" \",P53*(2*0.88+2.8*0.92)/4.8)","v":{"v":4.066355000000001,"d":"4.1"}},{"$f":"IF(N53=\" \",\" \",I53*0.0233+0.56)","v":{"v":3.4259000000000004,"d":"3.4"}},{"$f":"IF(N53=\" \",\" \",R53*0.9)","v":{"v":3.0833100000000004,"d":"3.1"}},{"$f":"IF(N53=\" \",\" \",I53*0.0121+0.12)","v":{"v":1.6082999999999998,"d":"1.6"}},{"$f":"IF(N53=\" \",\" \",T53*0.88)","v":{"v":1.415304,"d":"1.4"}},0.7,3.3,{"v":1.9799999999999998,"d":"2.0"},{"v":2.145,"d":"2.1"},1.1,{"v":0.2,"d":"0.20"},3.8,{"$f":"IF($I53=\"\",\" \",$I53*0.0125+0.3)","v":{"v":1.8375000000000001,"d":"1.8"}},{"v":1.6170000000000002,"d":"1.6"},18,574,26,18,{"v":47.48000000000002,"d":"47"},{"$f":"IF($I53=\"\",\" \",$H53-($AE53+$AF53+$AH53+$I53+$K53))","v":122},{"v":11.16,"d":"11.2"},{"$f":"57*AE53/100","v":{"v":10.26,"d":"10.3"}},{"$f":"5*AE53/100","v":0.9},{"$nulls":3},{"v":-35.58189999999996,"d":"-36"},{"v":375.058,"d":"375"},{"v":54.280000000000086,"d":"54"},696,{"v":0.89,"d":"89%"},{"v":0.9,"d":"90%"},{"v":0.5,"d":"50%"},{"v":0.28,"d":"28%"},{"v":0.93,"d":"93%"},{"$f":"0.66*H53/1000","v":{"v":0.5808000000000001,"d":"0.58"}},35,163,{"v":15.24728744,"d":"15.25"}]
["Weizen  12% RP ",{"$f":"IF(D54=\"\",\" \",COUNTA($D$8:D54))","v":47},null,"Weizen ",{"$f":"IF(I54=0,\" \",ROUND(I54/10,0))","v":{"v":12,"d":"12 % RP"}},null,"23",880,{"v":119.8,"d":"120"},{"$f":"I54*0.9","v":{"v":107.82,"d":"108"}},26,{"v":13.662043239999997,"d":"13.66"},{"v":13.810995280000002,"d":"13.81"},{"$f":"IF(I54=0,\" \",I54*0.0182+1.13)","v":{"v":3.3103599999999997,"d":"3.3"}},{"$f":"IF(N54=\" \",\" \",N54*0.88)","v":{"v":2.9131167999999996,"d":"2.9"}},{"$f":"IF(N54=\" \",\" \",I54*0.0305+0.75)","v":{"v":4.4039,"d":"4.4"}},{"v":3.978189666666667,"d":"4.0"},{"$f":"IF(N54=\" \",\" \",I54*0.0233+0.56)","v":{"v":3.35134,"d":"3.4"}},{"$f":"IF(N54=\" \",\" \",R54*0.9)","v":{"v":3.016206,"d":"3.0"}},{"$f":"IF(N54=\" \",\" \",I54*0.0121+0.12)","v":{"v":1.5695799999999998,"d":"1.6"}},{"$f":"IF(N54=\" \",\" \",T54*0.88)","v":{"v":1.3812303999999997,"d":"1.4"}},0.7,3.3,{"v":1.9799999999999998,"d":"2.0"},{"v":2.145,"d":"2.1"},1.1,{"v":0.2,"d":"0.20"},3.8,{"$f":"IF($I54=\"\",\" \",$I54*0.0125+0.3)","v":{"v":1.7975,"d":"1.8"}},{"v":1.5818,"d":"1.6"},{"v":17.9,"d":"18"},570,{"v":27.5,"d":"28"},{"$f":"19*0.88","v":{"v":16.72,"d":"17"}},{"v":54.04919999999993,"d":"54"},{"v":129.58000000000004,"d":"130"},{"v":11.097999999999999,"d":"11.1"},{"$f":"57*AE54/100","v":{"v":10.203,"d":"10.2"}},{"$f":"5*AE54/100","v":{"v":0.895,"d":"0.9"}},{"$nulls":3},{"v":-34.31309999999996,"d":"-34"},{"v":367.058,"d":"367"},{"v":60.38940000000002,"d":"60"},{"v":699.58,"d":"700"},{"v":0.89,"d":"89%"},{"v":0.9,"d":"90%"},{"v":0.5,"d":"50%"},{"v":0.28,"d":"28%"},{"v":0.93,"d":"93%"},{"$f":"0.66*H54/1000","v":{"v":0.5808000000000001,"d":"0.58"}},{"$f":"$BA$53/$H$53*H54*K54/$K$53","v":{"v":36.4,"d":"36"}},{"$f":"$BB$53/$H$53*H54*K54/$K$53","v":{"v":169.52,"d":"170"}},{"v":15.196126554399997,"d":"15.20"}]
["Weizen  11% RP ",{"$f":"IF(D55=\"\",\" \",COUNTA($D$8:D57))","v":50},null,"Weizen ",{"$f":"IF(I55=0,\" \",ROUND(I55/10,0))","v":{"v":11,"d":"11 % RP"}},null,"32",880,{"v":109.9,"d":"110"},{"$f":"I55*0.9","v":{"v":98.91000000000001,"d":"99"}},26,{"v":13.621335240000002,"d":"13.62"},{"v":13.74602428,"d":"13.75"},{"$f":"IF(I55=0,\" \",I55*0.0182+1.13)","v":{"v":3.13018,"d":"3.1"}},{"$f":"IF(N55=\" \",\" \",N55*0.88)","v":{"v":2.7545584,"d":"2.8"}},{"$f":"IF(N55=\" \",\" \",I55*0.0305+0.75)","v":{"v":4.10195,"d":"4.1"}},{"v":3.7054281666666675,"d":"3.7"},{"$f":"IF(N55=\" \",\" \",I55*0.0233+0.56)","v":{"v":3.1206700000000005,"d":"3.1"}},{"$f":"IF(N55=\" \",\" \",R55*0.9)","v":{"v":2.8086030000000006,"d":"2.8"}},{"$f":"IF(N55=\" \",\" \",I55*0.0121+0.12)","v":{"v":1.4497900000000001,"d":"1.4"}},{"$f":"IF(N55=\" \",\" \",T55*0.88)","v":{"v":1.2758152,"d":"1.3"}},0.7,3.3,{"v":1.9799999999999998,"d":"2.0"},{"v":2.145,"d":"2.1"},1.1,{"v":0.2,"d":"0.20"},3.8,{"$f":"IF($I55=\"\",\" \",$I55*0.0125+0.3)","v":{"v":1.6737500000000003,"d":"1.7"}},{"v":1.4729000000000003,"d":"1.5"},{"v":17.5,"d":"18"},{"v":575.9,"d":"576"},28,{"v":16.72,"d":"17"},{"v":56.75920000000008,"d":"57"},{"v":133.98000000000002,"d":"134"},{"v":10.85,"d":"10.9"},{"$f":"57*AE55/100","v":{"v":9.975,"d":"10.0"}},{"$f":"5*AE55/100","v":{"v":0.875,"d":"0.9"}},{"$nulls":3},{"v":-30.387749999999965,"d":"-30"},{"v":342.308,"d":"342"},{"v":63.5684,"d":"64"},{"v":709.88,"d":"710"},{"v":0.89,"d":"89%"},{"v":0.9,"d":"90%"},{"v":0.5,"d":"50%"},{"v":0.28,"d":"28%"},{"v":0.93,"d":"93%"},{"$f":"0.66*H55/1000","v":{"v":0.5808000000000001,"d":"0.58"}},{"$f":"$BA$53/$H$53*H55*K55/$K$53","v":{"v":36.4,"d":"36"}},{"$f":"$BB$53/$H$53*H55*K55/$K$53","v":{"v":169.52,"d":"170"}},{"v":15.492397724399998,"d":"15.49"}]
["eigener Weizen 11% RP Ø 2016",{"$f":"IF(D56=\"\",\" \",COUNTA($D$8:D56))","v":49},null,"eigener Weizen",{"v":11,"d":"11 % RP"},{"$f":"IF(I56=108.5,\"Ø 2016\",\"\")","v":"Ø 2016"},null,880,{"v":108.5,"d":"109"},{"$f":"IF(I56=0,\" \",I56*0.9)","v":{"v":97.65,"d":"98"}},{"v":26.2,"d":"26"},{"$f":"IF($I56=\"\",\" \",I56*0.0205*AV56+0.0398*AW56*AE56+0.0173*AF56+0.016*$AG56+0.0147*AI56)","v":{"v":13.6816923,"d":"13.68"}},{"v":13.774180100000002,"d":"13.77"},{"$f":"IF(I56=0,\" \",(I56/H56*880*0.0182+1.13)/880*H56)","v":{"v":3.1047000000000002,"d":"3.1"}},{"v":2.732136,"d":"2.7"},{"$f":"IF(N56=\" \",\" \",(I56/H56*880*0.0305+0.75)/880*H56)","v":{"v":4.0592500000000005,"d":"4.1"}},{"v":3.6668558333333343,"d":"3.7"},{"$f":"IF(N56=\" \",\" \",(I56/H56*880*0.0233+0.56)/880*H56)","v":{"v":3.0880500000000004,"d":"3.1"}},{"v":2.7792450000000004,"d":"2.8"},{"$f":"IF(N56=\" \",\" \",(I56/H56*880*0.0121+0.12)/880*H56)","v":{"v":1.4328500000000002,"d":"1.4"}},{"v":1.2609080000000001,"d":"1.3"},0.7,{"$f":"IF($I56=0,\" \",W$53*$H56/$H$53)","v":3.3},{"v":1.9799999999999998,"d":"2.0"},{"v":2.145,"d":"2.1"},1.1,{"v":0.2,"d":"0.20"},3.8,{"$f":"IF($I56=\"\",\" \",($I56/H56*880*0.0125+0.3)/880*H56)","v":{"v":1.6562500000000002,"d":"1.7"}},{"$f":"IF($N56=\" \",\" \",AC56*0.88)","v":{"v":1.4575000000000002,"d":"1.5"}},{"v":17.9,"d":"18"},601,{"v":27.8,"d":"28"},{"v":16.9,"d":"17"},{"$f":"IF($I56=\"\",\" \",(H56-AH56)*AU56-I56*AV56-AE56*AW56-AF56-AG56)","v":{"v":32.75899999999997,"d":"33"}},{"v":109.5,"d":"110"},{"$f":"IF($I56=0,\" \",AK55*$H56/$H55)","v":{"v":10.85,"d":"10.9"}},{"v":9.975,"d":"10.0"},{"v":0.875,"d":"0.9"},0,0,0,{"v":-29.832649999999962,"d":"-30"},{"v":338.808,"d":"339"},{"$f":"IF($I56=0,\" \",AX56*K56+AY56*AT56-AF56-AG56)","v":{"v":39.301,"d":"39"}},{"v":710.5,"d":"711"},{"v":0.89,"d":"89%"},{"v":0.9,"d":"90%"},{"v":0.5,"d":"50%"},{"$f":"IF($I56=0,\" \",AX55)","v":{"v":0.28,"d":"28%"}},{"$f":"IF($I56=0,\" \",AY55)","v":{"v":0.93,"d":"93%"}},{"$f":"IF($I56=0,\" \",AZ$53*$H56/$H$53)","v":{"v":0.5808000000000001,"d":"0.58"}},{"$f":"IF($I56=0,\" \",BA55*$H56/$H55*K56/K55)","v":{"v":36.68,"d":"37"}},{"$f":"IF($I56=0,\" \",BB55*$H56/$H55*K56/K55)","v":{"v":170.824,"d":"171"}},{"v":15.942451473,"d":"15.94"}]
["eigener Weizen 2 11% RP Ø 2015",{"$f":"IF(D57=\"\",\" \",COUNTA($D$8:D57))","v":50},null,"eigener Weizen 2",{"$f":"IF(I57=0,\" \",ROUND(I57/10,0))","v":{"v":11,"d":"11 % RP"}},{"$f":"IF(I57=106.475,\"Ø 2015\",\"\")","v":"Ø 2015"},null,880,{"v":106.475,"d":"106"},{"$f":"IF(I57=0,\" \",I57*0.9)","v":{"v":95.8275,"d":"96"}},{"v":26.335,"d":"26"},{"$f":"IF($I57=\"\",\" \",I57*0.0205*AV57+0.0398*AW57*AE57+0.0173*AF57+0.016*$AG57+0.0147*AI57)","v":{"v":13.647484240000002,"d":"13.65"}},{"$f":"IF(I57=\"\",\" \",$I57*0.021503+0.032497*$AE57+0.016309*$AF57+0.014701*$AJ57-0.021071*$K57)","v":{"v":13.74062945,"d":"13.74"}},{"$f":"IF(I57=0,\" \",(I57/H57*880*0.0182+1.13)/880*H57)","v":{"v":3.067845,"d":"3.1"}},{"$f":"IF(N57=\" \",\" \",N57*0.88)","v":{"v":2.6997036000000003,"d":"2.7"}},{"$f":"IF(N57=\" \",\" \",(I57/H57*880*0.0305+0.75)/880*H57)","v":{"v":3.9974874999999996,"d":"4.0"}},{"v":3.611063708333333,"d":"3.6"},{"$f":"IF(N57=\" \",\" \",(I57/H57*880*0.0233+0.56)/880*H57)","v":{"v":3.0408675,"d":"3.0"}},{"$f":"IF(N57=\" \",\" \",R57*0.9)","v":{"v":2.7367807500000003,"d":"2.7"}},{"$f":"IF(N57=\" \",\" \",(I57/H57*880*0.0121+0.12)/880*H57)","v":{"v":1.4083475,"d":"1.4"}},{"$f":"IF(N57=\" \",\" \",T57*0.88)","v":{"v":1.2393458000000002,"d":"1.2"}},0.7,3.3,{"v":1.9799999999999998,"d":"2.0"},{"v":2.145,"d":"2.1"},1.1,{"v":0.2,"d":"0.20"},3.8,{"$f":"IF($I57=\"\",\" \",($I57/H57*880*0.0125+0.3)/880*H57)","v":{"v":1.6309375000000002,"d":"1.6"}},{"$f":"IF($N57=\" \",\" \",AC57*0.88)","v":{"v":1.4352250000000002,"d":"1.4"}},{"v":17.762,"d":"18"},{"v":591.586,"d":"592"},{"v":27.966,"d":"28"},{"v":16.72,"d":"17"},{"$f":"IF($I57=\"\",\" \",(H57-AH57)*AU57-I57*AV57-AE57*AW57-AF57-AG57)","v":{"v":44.05870000000005,"d":"44"}},{"v":121.12199999999996,"d":"121"},{"v":10.85,"d":"10.9"},{"v":9.975,"d":"10.0"},{"v":0.875,"d":"0.9"},0,0,0,{"$f":"IF(H57=\"\",\"\",50*V57+83*Z57+26*AB57+44*AA57-59*W57-13*P57-28*AZ57)","v":{"v":-29.02973749999995,"d":"-29"}},{"$f":"IF(H57=\"\",\"\",V57/1000*20140+Z57/1000*48600+1100/440*I57)","v":{"v":333.7455,"d":"334"}},{"$f":"IF($I57=0,\" \",AX57*K57+AY57*AT57-AF57-AG57)","v":{"v":50.64023999999984,"d":"51"}},{"v":712.7079999999999,"d":"713"},{"v":0.89,"d":"89%"},{"v":0.9,"d":"90%"},{"v":0.5,"d":"50%"},{"$f":"IF($I57=0,\" \",AX56)","v":{"v":0.28,"d":"28%"}},{"$f":"IF($I57=0,\" \",AY56)","v":{"v":0.93,"d":"93%"}},{"$f":"IF($I57=0,\" \",AZ$53*$H57/$H$53)","v":{"v":0.5808000000000001,"d":"0.58"}},{"$f":"IF($I57=0,\" \",BA56*$H57/$H56*K57/K56)","v":{"v":36.869,"d":"37"}},{"$f":"IF($I57=0,\" \",BB56*$H57/$H56*K57/K56)","v":{"v":171.70420000000004,"d":"172"}},{"v":15.8203244985,"d":"15.82"}]
["Weizen  10% RP ",{"$f":"IF(D58=\"\",\" \",COUNTA($D$8:D58))","v":51},null,"Weizen ",{"$f":"IF(I58=0,\" \",ROUND(I58/10,0))","v":{"v":10,"d":"10 % RP"}},null,"19",880,{"v":101.1,"d":"101"},{"$f":"I58*0.9","v":{"v":90.99,"d":"91"}},26,{"$f":"I58*0.0205*AV58+0.0398*AW58*AE58+0.0173*AF58+0.016*$AG58+0.0147*AI58","v":{"v":13.601399240000001,"d":"13.60"}},{"v":13.70224668,"d":"13.70"},{"$f":"IF(I58=0,\" \",I58*0.0182+1.13)","v":{"v":2.97002,"d":"3.0"}},{"v":2.6136176,"d":"2.6"},{"$f":"IF(N58=\" \",\" \",I58*0.0305+0.75)","v":{"v":3.83355,"d":"3.8"}},{"v":3.4629735000000004,"d":"3.5"},{"$f":"IF(N58=\" \",\" \",I58*0.0233+0.56)","v":{"v":2.91563,"d":"2.9"}},{"$f":"IF(N58=\" \",\" \",R58*0.9)","v":{"v":2.624067,"d":"2.6"}},{"$f":"IF(N58=\" \",\" \",I58*0.0121+0.12)","v":{"v":1.3433099999999998,"d":"1.3"}},{"$f":"IF(N58=\" \",\" \",T58*0.88)","v":{"v":1.1821127999999999,"d":"1.2"}},0.7,3.3,{"v":1.9799999999999998,"d":"2.0"},{"$f":"W58*0.65","v":{"v":2.145,"d":"2.1"}},1.1,{"v":0.2,"d":"0.20"},3.8,{"$f":"IF($I58=\"\",\" \",$I58*0.0125+0.3)","v":{"v":1.56375,"d":"1.6"}},{"v":1.3760999999999999,"d":"1.4"},{"v":17.5,"d":"18"},{"v":585.9,"d":"586"},28,{"v":16.72,"d":"17"},{"$f":"(H58-AH58)*AU58-I58*AV58-AE58*AW58-AF58-AG58","v":{"v":54.67920000000004,"d":"55"}},{"v":132.77999999999997,"d":"133"},{"$f":"AL58+AM58","v":{"v":10.85,"d":"10.9"}},{"$f":"57*AE58/100","v":{"v":9.975,"d":"10.0"}},{"$f":"5*AE58/100","v":{"v":0.875,"d":"0.9"}},{"$nulls":3},{"v":-26.898549999999954,"d":"-27"},{"v":320.308,"d":"320"},{"$f":"AX58*K58+AY58*AT58-AF58-AG58","v":{"v":61.752399999999966,"d":"62"}},{"v":718.68,"d":"719"},{"v":0.89,"d":"89%"},{"v":0.9,"d":"90%"},{"v":0.5,"d":"50%"},{"v":0.28,"d":"28%"},{"v":0.93,"d":"93%"},{"$f":"0.66*H58/1000","v":{"v":0.5808000000000001,"d":"0.58"}},{"$f":"$BA$53/$H$53*H58*K58/$K$53","v":{"v":36.4,"d":"36"}},{"$f":"$BB$53/$H$53*H58*K58/$K$53","v":{"v":169.52,"d":"170"}},{"v":15.8568400764,"d":"15.86"}]
["Weizen  9% RP ",{"$f":"IF(D59=\"\",\" \",COUNTA($D$8:D59))","v":52},null,"Weizen ",{"v":9,"d":"9 % RP"},null,"11",880,{"v":90.9,"d":"91"},{"$f":"I59*0.9","v":{"v":81.81,"d":"82"}},26,{"v":13.55604024,"d":"13.56"},{"v":13.638665880000001,"d":"13.64"},{"$f":"IF(I59=0,\" \",I59*0.0182+1.13)","v":{"v":2.78438,"d":"2.8"}},{"v":2.4502544,"d":"2.5"},{"$f":"IF(N59=\" \",\" \",I59*0.0305+0.75)","v":{"v":3.52245,"d":"3.5"}},{"v":3.1819465000000005,"d":"3.2"},{"$f":"IF(N59=\" \",\" \",I59*0.0233+0.56)","v":{"v":2.67797,"d":"2.7"}},{"v":2.4101730000000003,"d":"2.4"},{"v":1.21989,"d":"1.2"},{"v":1.0735032,"d":"1.1"},0.7,3.3,{"v":1.9799999999999998,"d":"2.0"},{"v":2.145,"d":"2.1"},1.1,{"v":0.2,"d":"0.20"},3.8,{"$f":"IF($I59=\"\",\" \",$I59*0.0125+0.3)","v":{"v":1.4362500000000002,"d":"1.4"}},{"v":1.2639000000000002,"d":"1.3"},{"v":17.6,"d":"18"},{"v":588.4,"d":"588"},{"v":28.1,"d":"28"},{"v":16.72,"d":"17"},{"v":61.20920000000003,"d":"61"},{"v":140.38,"d":"140"},{"v":10.912,"d":"10.9"},{"v":10.032,"d":"10.0"},{"v":0.88,"d":"0.9"},{"$nulls":3},{"v":-22.85424999999996,"d":"-23"},{"v":294.808,"d":"295"},{"v":68.5454,"d":"69"},{"v":728.78,"d":"729"},{"v":0.89,"d":"89%"},{"v":0.9,"d":"90%"},{"v":0.5,"d":"50%"},{"v":0.28,"d":"28%"},{"v":0.93,"d":"93%"},{"v":0.5808000000000001,"d":"0.58"},{"v":36.4,"d":"36"},{"v":169.52,"d":"170"},{"v":16.139026092399998,"d":"16.14"}]
["Weizen  8% RP ",{"$f":"IF(D60=\"\",\" \",COUNTA($D$8:D60))","v":53},null,"Weizen ",{"$f":"IF(I60=0,\" \",ROUND(I60/10,0))","v":{"v":8,"d":"8 % RP"}},null,"2",880,{"v":82.6,"d":"83"},{"$f":"I60*0.9","v":{"v":74.34,"d":"74"}},27,{"v":13.55440924,"d":"13.55"},{"v":13.56712648,"d":"13.57"},{"$f":"IF(I60=0,\" \",I60*0.0182+1.13)","v":{"v":2.63332,"d":"2.6"}},{"v":2.3173216,"d":"2.3"},{"$f":"IF(N60=\" \",\" \",I60*0.0305+0.75)","v":{"v":3.2693,"d":"3.3"}},{"v":2.953267666666667,"d":"3.0"},{"$f":"IF(N60=\" \",\" \",I60*0.0233+0.56)","v":{"v":2.4845800000000002,"d":"2.5"}},{"$f":"IF(N60=\" \",\" \",R60*0.9)","v":{"v":2.2361220000000004,"d":"2.2"}},{"v":1.11946,"d":"1.1"},{"$f":"IF(N60=\" \",\" \",T60*0.88)","v":{"v":0.9851247999999999,"d":"1.0"}},0.7,3.3,{"v":1.9799999999999998,"d":"2.0"},{"v":2.145,"d":"2.1"},1.1,{"v":0.2,"d":"0.20"},3.8,{"$f":"IF($I60=\"\",\" \",$I60*0.0125+0.3)","v":{"v":1.3325,"d":"1.3"}},{"v":1.1726,"d":"1.2"},{"v":17.1,"d":"17"},{"v":606.8,"d":"607"},{"v":28.2,"d":"28"},{"v":16.72,"d":"17"},{"v":50.42920000000008,"d":"50"},{"v":129.77999999999997,"d":"130"},{"v":10.602,"d":"10.6"},{"v":9.747,"d":"9.7"},{"v":0.855,"d":"0.9"},{"$nulls":3},{"v":-19.56329999999996,"d":"-20"},{"v":274.058,"d":"274"},{"v":57.57940000000001,"d":"58"},{"v":736.5799999999999,"d":"737"},{"v":0.89,"d":"89%"},{"v":0.9,"d":"90%"},{"v":0.5,"d":"50%"},{"v":0.28,"d":"28%"},{"v":0.93,"d":"93%"},{"v":0.5808000000000001,"d":"0.58"},{"v":37.8,"d":"38"},{"v":176.04,"d":"176"},{"v":16.526702330400003,"d":"16.53"}]
["Weizen öko 9% RP Ø Hessen",{"$f":"IF(D61=\"\",\" \",COUNTA($D$8:D61))","v":54},null,"Weizen öko",{"v":9,"d":"9 % RP"},"Ø Hessen","100",880,{"v":85.6,"d":"86"},{"$f":"I61*0.9","v":{"v":77.03999999999999,"d":"77"}},26,{"v":13.539684240000001,"d":"13.54"},{"v":13.609529679999998,"d":"13.61"},{"$f":"IF(I61=0,\" \",I61*0.0182+1.13)","v":{"v":2.68792,"d":"2.7"}},{"v":2.3653696,"d":"2.4"},{"$f":"IF(N61=\" \",\" \",I61*0.0305+0.75)","v":{"v":3.3608,"d":"3.4"}},{"v":3.035922666666667,"d":"3.0"},{"$f":"IF(N61=\" \",\" \",I61*0.0233+0.56)","v":{"v":2.55448,"d":"2.6"}},{"v":2.299032,"d":"2.3"},{"v":1.15576,"d":"1.2"},{"v":1.0170687999999999,"d":"1.0"},0.7,3.3,{"v":1.9799999999999998,"d":"2.0"},{"v":2.145,"d":"2.1"},1.1,{"v":0.2,"d":"0.20"},3.8,{"$f":"IF($I61=\"\",\" \",$I61*0.0125+0.3)","v":{"v":1.37,"d":"1.4"}},{"v":1.2056,"d":"1.2"},{"v":17.6,"d":"18"},{"v":592.7,"d":"593"},{"v":28.2,"d":"28"},{"v":16.72,"d":"17"},{"v":61.57920000000006,"d":"62"},{"v":141.37999999999988,"d":"141"},{"v":10.912,"d":"10.9"},{"v":10.032,"d":"10.0"},{"v":0.88,"d":"0.9"},{"$nulls":3},{"v":-20.752799999999954,"d":"-21"},{"v":281.558,"d":"282"},{"v":69.0743999999999,"d":"69"},{"v":734.0799999999999,"d":"734"},{"v":0.89,"d":"89%"},{"v":0.9,"d":"90%"},{"v":0.5,"d":"50%"},{"v":0.28,"d":"28%"},{"v":0.93,"d":"93%"},{"v":0.5808000000000001,"d":"0.58"},{"v":36.4,"d":"36"},{"v":169.52,"d":"170"},{"v":16.3306566664,"d":"16.33"}]
[null,{"$f":"IF(D62=\"\",\" \",COUNTA($D$8:D62))","v":55},null,"Weizen, Sommer",{"v":14,"d":"14 % RP"},"DLG 2014",null,880,138,{"$f":"I62*0.9","v":{"v":124.2,"d":"124"}},25,{"v":13.808456,"d":"13.81"},{"$f":"IF(I62=\"\",\" \",$I62*0.021503+0.032497*$AE62+0.016309*$AF62+0.014701*$AJ62-0.021071*$K62)","v":{"v":14.024602,"d":"14.02"}},{"$f":"IF(I62=0,\" \",I62*0.0199+0.96)","v":{"v":3.7062,"d":"3.7"}},{"v":3.261456,"d":"3.3"},{"$f":"IF(N62=\" \",\" \",I62*0.0308+0.81)","v":{"v":5.0604,"d":"5.1"}},{"v":4.571228,"d":"4.6"},{"$f":"IF(N62=\" \",\" \",I62*0.0247+0.45)","v":{"v":3.8586,"d":"3.9"}},{"v":3.47274,"d":"3.5"},{"$f":"IF(N62=\" \",\" \",I62*0.0085+0.44)","v":{"v":1.613,"d":"1.6"}},{"v":1.41944,"d":"1.4"},0.4,3.3,{"v":1.9799999999999998,"d":"2.0"},{"v":2.145,"d":"2.1"},1.1,{"v":0.1,"d":"0.10"},4.1,{"$f":"IF($I62=\"\",\" \",$I62*0.0125+0.3)","v":{"v":2.025,"d":"2.0"}},{"v":1.782,"d":"1.8"},21,581,28,18,{"v":23.480000000000018,"d":"23"},97,{"v":13.020000000000001,"d":"13.0"},{"v":11.97,"d":"12.0"},{"v":1.05,"d":"1.1"},{"$nulls":3},{"v":-54.447599999999966,"d":"-54"},{"v":406.516,"d":"407"},{"v":26.290000000000077,"d":"26"},678,{"v":0.89,"d":"89%"},{"v":0.9,"d":"90%"},{"v":0.5,"d":"50%"},{"v":0.19,"d":"19%"},{"v":0.93,"d":"93%"},{"v":0.5808000000000001,"d":"0.58"},35,163,{"v":15.218959459999995,"d":"15.22"}]
["Weizen, (Hart) durum 13% RP DLG 2014",{"$f":"IF(D63=\"\",\" \",COUNTA($D$8:D63))","v":56},null,"Weizen, (Hart) durum",{"v":13,"d":"13 % RP"},"DLG 2014",null,880,133,{"$f":"I63*0.95","v":{"v":126.35,"d":"126"}},26,{"v":14.254094239999997,"d":"14.25"},{"v":13.904201760000001,"d":"13.90"},{"$f":"IF(I63=0,\" \",(I63/H63*880*0.0442-2.37)/880*H63)","v":{"v":3.5086000000000004,"d":"3.5"}},{"$f":"IF(N63=\" \",\" \",N63*0.88)","v":{"v":3.0875680000000005,"d":"3.1"}},{"$f":"IF(N63=\" \",\" \",(I63/H63*880*0.034+0.44)/880*H63)","v":{"v":4.962000000000001,"d":"5.0"}},{"v":4.4823400000000015,"d":"4.5"},{"$f":"IF(N63=\" \",\" \",I63*0.038-1.31)","v":{"v":3.744,"d":"3.7"}},{"$f":"IF(N63=\" \",\" \",R63*0.9)","v":{"v":3.3696,"d":"3.4"}},{"v":1.7292999999999998,"d":"1.7"},{"$f":"IF(N63=\" \",\" \",T63*0.88)","v":{"v":1.5217839999999998,"d":"1.5"}},{"$f":"0.4*H25/1000","v":{"v":0.352,"d":"0.4"}},{"$f":"4.2*H63/1000","v":{"v":3.696,"d":"3.7"}},{"v":2.2176,"d":"2.2"},{"v":2.4024,"d":"2.4"},{"$f":"1.2*H63/1000","v":{"v":1.056,"d":"1.1"}},{"$f":"0.1*H63/1000","v":{"v":0.088,"d":"0.09"}},{"$f":"5*H63/1000","v":4.4},{"$f":"IF($I63=\"\",\" \",($I63/H63*880*0.0164+0.07)/880*H63)","v":{"v":2.2512,"d":"2.3"}},{"$f":"AC63*0.88","v":{"v":1.981056,"d":"2.0"}},21,570,33,{"$f":"23*0.88","v":{"v":20.24,"d":"20"}},{"v":46.92919999999992,"d":"47"},{"v":109.75999999999999,"d":"110"},{"v":13.020000000000001,"d":"13.0"},{"v":11.97,"d":"12.0"},{"v":1.05,"d":"1.1"},{"$nulls":3},{"v":-75.3124,"d":"-75"},{"v":390.91088,"d":"391"},{"v":46.81919999999991,"d":"47"},{"v":679.76,"d":"680"},{"v":0.92,"d":"92%"},{"v":0.95,"d":"95%"},{"v":0.7,"d":"70%"},{"v":0.94,"d":"94%"},{"v":0.92,"d":"92%"},{"v":0.5808000000000001,"d":"0.58"},{"v":36.4,"d":"36"},{"v":169.52,"d":"170"},{"v":15.0650672848,"d":"15.07"}]
["eigener Weizen, (Hart)  ",{"$f":"IF(D64=\"\",\" \",COUNTA($D$8:D64))","v":57},null,"eigener Weizen, (Hart) "," ",{"$f":"IF(I64=112,\"Ø 2007\",\"\")","v":""},{"$nulls":3},{"$f":"IF(I64=0,\" \",I64*0.95)","v":" "},null,{"$f":"IF($I64=\"\",\" \",I64*0.0205*AV64+0.0398*AW64*AE64+0.0173*AF64+0.016*$AG64+0.0147*AI64)","v":" "}," ",{"$f":"IF(I64=0,\" \",(I64/H64*880*0.0442-2.37)/880*H64)","v":" "},{"$f":"IF(N64=\" \",\" \",N64*0.88)","v":" "},{"$f":"IF(N64=\" \",\" \",(I64/H64*880*0.034+0.44)/880*H64)","v":" "},{"$f":"IF(N64=\" \",\" \",P64*0.89)","v":" "},{"$f":"IF(N64=\" \",\" \",(I64/H64*880*0.038-1.31)/880*H64)","v":" "},{"$f":"IF(N64=\" \",\" \",R64*0.9)","v":" "},{"$f":"IF(N64=\" \",\" \",(I64/H64*880*0.0121+0.12)/880*H64)","v":" "},{"$f":"IF(N64=\" \",\" \",T64*0.88)","v":" "},{"$f":"IF($I64=0,\" \",V$53*$H64/$H$53)","v":" "}," "," "," "," "," "," ",{"$f":"IF($I64=\"\",\" \",($I64/H64*880*0.0164+0.07)/880*H64)","v":" "},{"$f":"IF($N64=\" \",\" \",AC64*0.88)","v":" "},{"$nulls":4},{"$f":"IF($I64=\"\",\" \",(H64-AH64)*AU64-I64*AV64-AE64*AW64-AF64-AG64)","v":" "}," ",{"$f":"IF($I64=0,\" \",AK63*$H64/$H63)","v":" "}," "," "," "," "," ","","",{"$f":"IF($I64=0,\" \",AX64*K64+AY64*AT64-AF64-AG64)","v":" "}," ",{"$f":"IF($I64=0,\" \",AU63)","v":" "},{"$f":"IF($I64=0,\" \",AV63)","v":" "},{"$f":"IF($I64=0,\" \",AW63)","v":" "},{"$f":"IF($I64=0,\" \",AX63)","v":" "},{"$f":"IF($I64=0,\" \",AY63)","v":" "},{"$f":"IF($I64=0,\" \",AZ$53*$H64/$H$53)","v":" "},{"$f":"IF($I64=0,\" \",BA63*$H64/$H63*K64/K63)","v":" "},{"$f":"IF($I64=0,\" \",BB63*$H64/$H63*K64/K63)","v":" "},""]
["Altbrot (Brotmehl, getrocknet) 12% RP DLG 2014",{"$f":"IF(D65=\"\",\" \",COUNTA($D$8:D65))","v":58},null,"Altbrot (Brotmehl, getrocknet)",{"v":12,"d":"12 % RP"},"DLG 2014",null,800,120,{"$f":"IF(I65=0,\" \",I65*0.93)","v":{"v":111.60000000000001,"d":"112"}},12,{"$f":"M65","v":{"v":13.063631999999998,"d":"13.06"}},{"v":13.063631999999998,"d":"13.06"},{"$f":"IF(I65=0,\" \",(I65/H65*880*0.0314-0.52)/880*H65)","v":{"v":3.295272727272727,"d":"3.3"}},{"$f":"IF(N65=\" \",\" \",N65*0.92)","v":{"v":3.031650909090909,"d":"3.0"}},{"$f":"IF(N65=\" \",\" \",(I65/H65*880*0.0336+0.11)/880*H65)","v":{"v":4.132000000000001,"d":"4.1"}},{"$f":"IF(N65=\" \",\" \",P65*(1.4*0.93+2*0.88)/3.4)","v":{"v":3.7212305882352954,"d":"3.7"}},{"$f":"IF(N65=\" \",\" \",(I65/H65*880*0.0324-0.23)/880*H65)","v":{"v":3.6789090909090905,"d":"3.7"}},{"$f":"IF(N65=\" \",\" \",R65*0.92)","v":{"v":3.3845963636363634,"d":"3.4"}},{"$f":"IF(N65=\" \",\" \",(I65/H65*880*0.0116-0)/880*H65)","v":{"v":1.392,"d":"1.4"}},{"$f":"IF(N65=\" \",\" \",T65*0.91)","v":{"v":1.2667199999999998,"d":"1.3"}},0.4,{"v":1,"d":"1.0"},{"$f":"W65*0.5","v":0.5},{"v":0.65,"d":"0.7"},0.4,{"v":3.2,"d":"3.20"},{"$f":"IF($I65=0,\" \",AB$53*$H65/$H$53)","v":{"v":3.4545454545454546,"d":"3.5"}},{"$f":"IF($I65=\"\",\" \",$I65*0.0151-0.05)","v":{"v":1.762,"d":"1.8"}},{"$f":"AC65*0.93","v":{"v":1.63866,"d":"1.6"}},21,520,16,20,{"$f":"(H65-AH65)*AU65-I65*AV65-AE65*AW65-AF65-AG65","v":{"v":73.87,"d":"74"}},107,{"v":13.334999999999999,"d":"13.3"},{"$f":"57.5*AE65/100","v":{"v":12.075,"d":"12.1"}},{"$f":"6*AE65/100","v":{"v":1.26,"d":"1.3"}},{"$nulls":3},{"v":156.3181818181818,"d":"156"},{"v":327.496,"d":"327"},{"$f":"AX65*K65+AY65*AT65-AF65-AG65","v":{"v":50.710000000000036,"d":"51"}},627,{"v":0.95,"d":"95%"},{"v":0.93,"d":"93%"},{"v":0.93,"d":"93%"},{"v":0.3,"d":"30%"},{"v":0.93,"d":"93%"},{"v":0.528,"d":"0.53"},{"$f":"33*H65/1000*K65/$K$53","v":{"v":12.671999999999999,"d":"13"}},{"$f":"127*H65/1000*K65/$K$53","v":{"v":48.767999999999994,"d":"49"}},{"v":14.639451359999999,"d":"14.64"}]
["eigene Altbrotabfälle ",{"$f":"IF(D66=\"\",\" \",COUNTA($D$8:D66))","v":59},null,"eigene Altbrotabfälle"," ",{"$nulls":4},{"$f":"IF(I66=0,\" \",I66*0.9)","v":" "},null,{"$f":"IF($I66=\"\",\" \",I66*0.0205*AV66+0.0398*AW66*AE66+0.0173*AF66+0.016*$AG66+0.0147*AI66)","v":" "}," ",{"$f":"IF(I66=0,\" \",(I66/H66*880*0.0314-0.52)/880*H66)","v":" "},{"$f":"IF(N66=\" \",\" \",N66*0.92)","v":" "},{"$f":"IF(N66=\" \",\" \",(I66/H66*880*0.0336+0.11)/880*H66)","v":" "},{"$f":"IF(N66=\" \",\" \",P66*(1.4*0.93+2*0.88)/3.4)","v":" "},{"$f":"IF(N66=\" \",\" \",(I66/H66*880*0.0324-0.23)/880*H66)","v":" "},{"$f":"IF(N66=\" \",\" \",R66*0.92)","v":" "},{"$f":"IF(N66=\" \",\" \",(I66/H66*880*0.0116-0)/880*H66)","v":" "},{"$f":"IF(N66=\" \",\" \",T66*0.91)","v":" "},{"$f":"IF($I66=0,\" \",V65/$H65*$H66)","v":" "},{"$f":"IF($I66=0,\" \",W65/$H65*$H66)","v":" "},{"$f":"IF($I66=0,\" \",X65/$H65*$H66)","v":" "},{"$f":"IF($I66=0,\" \",Y65/$H65*$H66)","v":" "},{"$f":"IF($I66=0,\" \",Z65/$H65*$H66)","v":" "},{"$f":"IF($I66=0,\" \",AA$65*$H66/$H$65)","v":" "},{"$f":"IF($I66=0,\" \",AB$53*$H66/$H$53)","v":" "},{"$f":"IF($I66=\"\",\" \",($I66/H66*880*0.0151-0.05)/880*H66)","v":" "},{"$f":"IF($N66=\" \",\" \",AC66*0.93)","v":" "},{"$nulls":4},{"$f":"IF($I66=\"\",\" \",(H66-AH66)*AU66-I66*AV66-AE66*AW66-AF66-AG66)","v":" "}," ",{"$f":"IF($I66=0,\" \",AK65*$H66/$H65)","v":" "}," "," "," "," "," ","","",{"$f":"IF($I66=0,\" \",AX66*K66+AY66*AT66-AF66-AG66)","v":" "}," ",{"$f":"IF($I66=0,\" \",AU65)","v":" "},{"$f":"IF($I66=0,\" \",AV65)","v":" "},{"$f":"IF($I66=0,\" \",AW65)","v":" "},{"$f":"IF($I66=0,\" \",AX65)","v":" "},{"$f":"IF($I66=0,\" \",AY65)","v":" "},{"$f":"IF($I66=0,\" \",AZ$65*$H66/$H$65)","v":" "},{"$f":"IF($I66=0,\" \",BA65*$H66/$H65*K66/K65)","v":" "},{"$f":"IF($I66=0,\" \",BB65*$H66/$H65*K66/K65)","v":" "},""]
[{"$f":"IF(E67=\" \",D67&\" \"&F67,D67&\" \"&E67&\"% RP \"&F67)","v":"Altgebäck (Gebäckmehl, getrocknet) 5% RP DLG 2014"},{"$f":"IF(D67=\"\",\" \",COUNTA($D$8:D67))","v":60},null,"Altgebäck (Gebäckmehl, getrocknet)",{"$f":"IF(I67=0,\" \",ROUND(I67/10,0))","v":{"v":5,"d":"5 % RP"}},"DLG 2014",null,880,54,{"$f":"IF(I67=0,\" \",I67*0.93)","v":{"v":50.220000000000006,"d":"50"}},22,{"$f":"M67","v":{"v":14.223534,"d":"14.22"}},{"$f":"IF(I67=\"\",\" \",$I67*0.021503+0.032497*$AE67+0.016309*$AF67+0.014701*$AJ67-0.021071*$K67)","v":{"v":14.223534,"d":"14.22"}},{"$f":"IF(I67=0,\" \",(I67/H67*880*0.0314-0.52)/880*H67)","v":{"v":1.1755999999999998,"d":"1.2"}},{"$f":"IF(N67=\" \",\" \",N67*0.92)","v":{"v":1.0815519999999998,"d":"1.1"}},{"$f":"IF(N67=\" \",\" \",(I67/H67*880*0.0336+0.11)/880*H67)","v":{"v":1.9243999999999999,"d":"1.9"}},{"$f":"IF(N67=\" \",\" \",P67*(1.5*0.93+2.2*0.88)/3.6)","v":{"v":1.7806045555555556,"d":"1.8"}},{"$f":"IF(N67=\" \",\" \",(I67/H67*880*0.0324-0.23)/880*H67)","v":{"v":1.5195999999999998,"d":"1.5"}},{"$f":"IF(N67=\" \",\" \",R67*0.92)","v":{"v":1.398032,"d":"1.4"}},{"$f":"IF(N67=\" \",\" \",(I67/H67*880*0.0116-0)/880*H67)","v":{"v":0.6264,"d":"0.6"}},{"$f":"IF(N67=\" \",\" \",T67*0.91)","v":{"v":0.570024,"d":"0.6"}},0.1,{"v":2,"d":"2.0"},{"$f":"W67*0.5","v":{"v":1,"d":"1.0"}},{"$f":"W67*0.65","v":1.3},2.3,{"v":8.8,"d":"8.80"},{"$f":"IF($I67=0,\" \",AB$53*$H67/$H$53)","v":3.8},{"$f":"IF($I67=\"\",\" \",$I67*0.0151-0.05)","v":{"v":0.7654,"d":"0.8"}},{"$f":"AC67*0.93","v":{"v":0.711822,"d":"0.7"}},106,528,106,70,{"$f":"(H67-AH67)*AU67-I67*AV67-AE67*AW67-AF67-AG67","v":{"v":-13.300000000000068,"d":"-13"}},100,{"$f":"AK$65/$H65*$H67*AE$67/AE$65","v":{"v":74.041,"d":"74.0"}},{"$f":"AL$65/$H65*$H67*AF67/AF$65","v":{"v":13.486846153846153,"d":"13.5"}},{"$f":"AM$65/$H65*$H67*AG67/AG$65","v":{"v":9.182250000000002,"d":"9.2"}},{"$nulls":3},{"$f":"IF(H67=\"\",\"\",50*V67+83*Z67+26*AB67+44*AA67-59*W67-13*P67-28*AZ67)","v":{"v":522.6204000000001,"d":"523"}},{"$f":"IF(H67=\"\",\"\",V67/1000*20140+Z67/1000*48600+1100/440*I67)","v":{"v":248.79399999999998,"d":"249"}},{"$f":"AX67*K67+AY67*AT67-AF67-AG67","v":{"v":-43.3599999999999,"d":"-43"}},628,{"v":0.95,"d":"95%"},{"v":0.93,"d":"93%"},{"v":0.93,"d":"93%"},{"v":0.3,"d":"30%"},{"v":0.93,"d":"93%"},{"$f":"0.66*H67/1000","v":{"v":0.5808000000000001,"d":"0.58"}},{"$f":"33*H67/1000*K67/$K$53","v":{"v":25.5552,"d":"26"}},{"$f":"127*H67/1000*K67/$K$53","v":{"v":98.34880000000001,"d":"98"}},{"v":21.71917982,"d":"21.72"}]
["Keksmehl 9% RP DLG 2014",{"$f":"IF(D68=\"\",\" \",COUNTA($D$8:D68))","v":61},null,"Keksmehl",{"v":9,"d":"9 % RP"},"DLG 2014",null,860,86,{"$f":"IF(I68=0,\" \",I68*0.93)","v":{"v":79.98,"d":"80"}},11,{"$f":"M68","v":{"v":16.803551,"d":"16.80"}},{"v":16.803551,"d":"16.80"},{"$f":"IF(I68=0,\" \",(I68/H68*880*0.0314-0.52)/880*H68)","v":{"v":2.1922181818181814,"d":"2.2"}},{"$f":"IF(N68=\" \",\" \",N68*0.92)","v":{"v":2.016840727272727,"d":"2.0"}},{"$f":"IF(N68=\" \",\" \",(I68/H68*880*0.0336+0.11)/880*H68)","v":{"v":2.9970999999999997,"d":"3.0"}},{"$f":"IF(N68=\" \",\" \",P68*(1.3*0.93+1.6*0.88)/2.9)","v":{"v":2.7046243793103444,"d":"2.7"}},{"$f":"IF(N68=\" \",\" \",(I68/H68*880*0.0324-0.23)/880*H68)","v":{"v":2.5616272727272724,"d":"2.6"}},{"$f":"IF(N68=\" \",\" \",R68*0.92)","v":{"v":2.3566970909090905,"d":"2.4"}},{"$f":"IF(N68=\" \",\" \",(I68/H68*880*0.0116-0)/880*H68)","v":{"v":0.9976,"d":"1.0"}},{"$f":"IF(N68=\" \",\" \",T68*0.91)","v":{"v":0.9078160000000001,"d":"0.9"}},0.9,1.1,{"$f":"W68*0.5","v":{"v":0.55,"d":"0.6"}},{"v":0.7150000000000001,"d":"0.7"},0.4,{"v":3.4,"d":"3.40"},{"$f":"IF($I68=0,\" \",AB$53*$H68/$H$53)","v":{"v":3.713636363636364,"d":"3.7"}},{"$f":"IF($I68=\"\",\" \",$I68*0.0151-0.05)","v":{"v":1.2486,"d":"1.2"}},{"$f":"AC68*0.93","v":{"v":1.161198,"d":"1.2"}},206,344,{"$f":"140*0.92","v":{"v":128.8,"d":"129"}},17,{"$f":"(H68-AH68)*AU68-I68*AV68-AE68*AW68-AF68-AG68","v":{"v":4.769999999999925,"d":"5"}},196,{"$f":"AK$65/$H65*$H68*AE$68/AE$65","v":{"v":140.62075,"d":"140.6"}},{"$f":"AL$65/$H65*$H68*AF$68/AF$65","v":{"v":8.587182692307692,"d":"8.6"}},{"$f":"AM$65/$H65*$H68*AG$68/AG$65","v":{"v":10.903725000000001,"d":"10.9"}},{"$nulls":3},{"v":204.5994454545455,"d":"205"},{"v":252.566,"d":"253"},{"$f":"AX68*K68+AY68*AT68-AF68-AG68","v":{"v":32.48000000000002,"d":"32"}},540,{"v":0.83,"d":"83%"},{"v":0.93,"d":"93%"},{"v":0.69,"d":"69%"},{"v":0.28,"d":"28%"},{"v":0.93,"d":"93%"},{"v":0.5676,"d":"0.57"},{"$f":"33*H68/1000*K68/$K$53","v":{"v":12.4872,"d":"12"}},{"$f":"127*H68/1000*K68/$K$53","v":{"v":48.0568,"d":"48"}},{"v":25.897592229999997,"d":"25.90"}]
["eigene Keksmehl ",{"$f":"IF(D69=\"\",\" \",COUNTA($D$8:D69))","v":62},null,"eigene Keksmehl"," ",{"$nulls":4},{"$f":"IF(I69=0,\" \",I69*0.93)","v":" "},null,{"$f":"IF($I69=\"\",\" \",I69*0.0205*AV69+0.0398*AW69*AE69+0.0173*AF69+0.016*$AG69+0.0147*AI69)","v":" "}," ",{"$f":"IF(I69=0,\" \",(I69/H69*880*0.0314-0.52)/880*H69)","v":" "},{"$f":"IF(N69=\" \",\" \",N69*0.92)","v":" "},{"$f":"IF(N69=\" \",\" \",(I69/H69*880*0.0336+0.11)/880*H69)","v":" "},{"$f":"IF(N69=\" \",\" \",P69*(1.5*0.93+1.9*0.88)/3.4)","v":" "},{"$f":"IF(N69=\" \",\" \",(I69/H69*880*0.0324-0.23)/880*H69)","v":" "},{"$f":"IF(N69=\" \",\" \",R69*0.92)","v":" "},{"$f":"IF(N69=\" \",\" \",(I69/H69*880*0.0116-0)/880*H69)","v":" "},{"$f":"IF(N69=\" \",\" \",T69*0.91)","v":" "},{"$f":"IF($H69=\"\",\"\",V68/H68*H69)","v":""},{"$f":"IF($H69=\"\",\"\",W68/I68*I69)","v":""},"","","","","",{"$f":"IF($I69=\"\",\" \",($I69/H69*880*0.0151-0.05)/880*H69)","v":" "},{"$f":"IF($N69=\" \",\" \",AC69*0.93)","v":" "},{"$nulls":4},{"$f":"IF($I69=\"\",\" \",(H69-AH69)*AU69-I69*AV69-AE69*AW69-AF69-AG69)","v":" "}," ",{"$f":"IF($I69=0,\" \",AK68*$H69/$H68)","v":" "}," "," "," "," "," ","","",{"$f":"IF($I69=0,\" \",AX69*K69+AY69*AT69-AF69-AG69)","v":" "}," ",{"$f":"IF($I69=0,\" \",AU68)","v":" "},{"$f":"IF($I69=0,\" \",AV68)","v":" "},{"$f":"IF($I69=0,\" \",AW68)","v":" "},{"$f":"IF($I69=0,\" \",AX68)","v":" "},{"$f":"IF($I69=0,\" \",AY68)","v":" "},{"$f":"IF($I69=0,\" \",AZ$68*$H69/$H$68)","v":" "},{"$f":"IF($I69=0,\" \",BA68*$H69/$H68*K69/K68)","v":" "},{"$f":"IF($I69=0,\" \",BB68*$H69/$H68*K69/K68)","v":" "},""]
[" ",{"$f":"IF(D70=\"\",\" \",COUNTA($D$8:D70))","v":" "},null,null," ",{"$nulls":49},""]
["Eiweißreiche Futtermittel ",{"$f":"IF(D71=\"\",\" \",COUNTA($D$8:D71))","v":63},null,"Eiweißreiche Futtermittel"," ",{"$nulls":49},""]
[" ",{"$f":"IF(D72=\"\",\" \",COUNTA($D$8:D72))","v":" "},null,null," ",{"$nulls":49},""]
["Ackerbohnen  26% RP DLG 2014",{"$f":"IF(D73=\"\",\" \",COUNTA($D$8:D73))","v":64},null,"Ackerbohnen ",{"v":26,"d":"26 % RP"},"DLG 2014",null,880,264,{"$f":"I73*0.77","v":{"v":203.28,"d":"203"}},77,{"$f":"I73*0.0205*AV73+0.0398*AW73*AE73+0.0173*AF73+0.016*$AG73+0.0147*AI73","v":{"v":12.410639000000002,"d":"12.41"}},{"$f":"IF(I73=\"\",\" \",$I73*0.021503+0.032497*$AE73+0.016309*$AF73+0.014701*$AJ73-0.021071*$K73)","v":{"v":12.299693000000001,"d":"12.30"}},{"$f":"IF(I73=0,\" \",I73*0.0359+6.84)","v":{"v":16.3176,"d":"16.3"}},{"$f":"IF(N73=\" \",\" \",N73*0.82)","v":{"v":13.380431999999999,"d":"13.4"}},{"$f":"IF(N73=\" \",\" \",I73*0.0114+2.14)","v":{"v":5.1496,"d":"5.1"}},{"$f":"IF(N73=\" \",\" \",P73*(2*0.61+3.4*0.68)/5.4)","v":{"v":3.368219851851852,"d":"3.4"}},{"$f":"IF(N73=\" \",\" \",I73*0.023+2.87)","v":{"v":8.942,"d":"8.9"}},{"$f":"IF(N73=\" \",\" \",R73*0.75)","v":{"v":6.7065,"d":"6.7"}},{"$f":"IF(N73=\" \",\" \",I73*0.0066+0.51)","v":{"v":2.2523999999999997,"d":"2.3"}},{"$f":"IF(N73=\" \",\" \",T73*0.71)","v":{"v":1.5992039999999996,"d":"1.6"}},1.2,4.8,{"$f":"W73*0.4","v":{"v":1.92,"d":"1.9"}},{"$f":"W73*0.65","v":{"v":3.12,"d":"3.1"}},1.4,{"v":0.2,"d":"0.20"},10.7,{"$f":"IF($I73=\"\",\" \",$I73*0.0048+0.91)","v":{"v":2.1772,"d":"2.2"}},{"$f":"AC73*0.61","v":{"v":1.328092,"d":"1.3"}},14,365,35,35,{"$f":"IF($I73=\"\",\" \",(H73-AH73)*AU73-I73*AV73-AE73*AW73-AF73-AG73)","v":{"v":74.17000000000007,"d":"74"}},{"$f":"IF($I73=\"\",\" \",$H73-($AE73+$AF73+$AH73+$I73+$K73))","v":125},{"v":9,"d":"9.0"},{"$nulls":5},{"$f":"IF(H73=\"\",\"\",50*V73+83*Z73+26*AB73+44*AA73-59*W73-13*P73-28*AZ73)","v":{"v":90.8792,"d":"91"}},{"$f":"IF(H73=\"\",\"\",V73/1000*20140+Z73/1000*48600+1100/440*I73)","v":{"v":752.208,"d":"752"}},{"$f":"AX73*K73+AY73*AT73-AF73-AG73","v":{"v":64.10000000000002,"d":"64"}},{"$f":"IF(H73=\"\",\" \",H73-I73-AE73-AH73-K73)","v":490},{"v":0.81,"d":"81%"},{"v":0.77,"d":"77%"},{"v":0.5,"d":"50%"},{"v":0.3,"d":"30%"},{"v":0.9,"d":"90%"},{"$f":"0.9*H73/1000","v":{"v":0.792,"d":"0.79"}},106,273,{"$f":"IF(H73=\"\",\"\",0.73*M73+0.055*AE73+0.015*AF73-0.028*I73-0.041*K73)","v":{"v":4.67477589,"d":"4.67"}}]
["eigene Ackerbohnen 27% RP Ø 2016",{"$f":"IF(D74=\"\",\" \",COUNTA($D$8:D74))","v":65},null,"eigene Ackerbohnen",{"v":27,"d":"27 % RP"},{"$f":"IF(I74=268.6,\"Ø 2016\",\"\")","v":"Ø 2016"},null,880,{"v":268.6,"d":"269"},{"$f":"IF(I74=0,\" \",I74*0.77)","v":{"v":206.82200000000003,"d":"207"}},88,{"$f":"IF($I74=\"\",\" \",I74*0.0205*AV74+0.0398*AW74*AE74+0.0173*AF74+0.016*$AG74+0.0147*AI74)","v":{"v":12.4797384,"d":"12.48"}},{"$f":"IF(I74=\"\",\" \",$I74*0.021503+0.032497*$AE74+0.016309*$AF74+0.014701*$AJ74-0.021071*$K74)","v":{"v":11.9870798,"d":"11.99"}},{"$f":"IF(I74=0,\" \",(I74/H74*880*0.0359+6.84)/880*H74)","v":{"v":16.48274,"d":"16.5"}},{"$f":"IF(N74=\" \",\" \",N74*0.82)","v":{"v":13.515846799999998,"d":"13.5"}},{"$f":"IF(N74=\" \",\" \",(I74/H74*880*0.0114+2.14)/880*H74)","v":{"v":5.20204,"d":"5.2"}},{"$f":"IF(N74=\" \",\" \",P74*(2*0.61+3.4*0.68)/5.4)","v":{"v":3.402519496296296,"d":"3.4"}},{"$f":"IF(N74=\" \",\" \",(I74/H74*880*0.023+2.87)/880*H74)","v":{"v":9.0478,"d":"9.0"}},{"$f":"IF(N74=\" \",\" \",R74*0.75)","v":{"v":6.78585,"d":"6.8"}},{"$f":"IF(N74=\" \",\" \",(I74/H74*880*0.0066+0.51)/880*H74)","v":{"v":2.28276,"d":"2.3"}},{"$f":"IF(N74=\" \",\" \",T74*0.71)","v":{"v":1.6207596,"d":"1.6"}},{"$f":"IF($I74=0,\" \",V73*$H74/$H73)","v":1.2},4.8,{"v":1.92,"d":"1.9"},{"v":3.12,"d":"3.1"},1.4,{"v":0.2,"d":"0.20"},10.7,{"$f":"IF($I74=\"\",\" \",($I74/H74*880*0.0048+0.91)/880*H74)","v":{"v":2.19928,"d":"2.2"}},{"$f":"IF(AC74=\" \",\" \",AC74*0.61)","v":{"v":1.3415607999999999,"d":"1.3"}},{"v":12.7,"d":"13"},370,{"v":34.6,"d":"35"},{"v":30.6,"d":"31"},{"v":70.24199999999999,"d":"70"},{"v":110.09999999999991,"d":"110"},{"$f":"IF($I74=0,\" \",AK73*$H74/$H73)","v":{"v":9,"d":"9.0"}},{"v":0,"d":"0.0"},{"v":0,"d":"0.0"},0,0,0,{"$f":"IF($I74=0,\" \",91*K74/$K73*$H74/$H73)","v":104},{"v":763.708,"d":"764"},{"$f":"IF($I74=0,\" \",AX74*K74+AY74*AT74-AF74-AG74)","v":{"v":53.889999999999894,"d":"54"}},{"v":480.0999999999999,"d":"480"},{"$f":"IF($I74=0,\" \",AU73)","v":{"v":0.81,"d":"81%"}},{"$f":"IF($I74=0,\" \",AV73)","v":{"v":0.77,"d":"77%"}},{"$f":"IF($I74=0,\" \",AW73)","v":{"v":0.5,"d":"50%"}},{"$f":"IF($I74=0,\" \",AX73)","v":{"v":0.3,"d":"30%"}},{"$f":"IF($I74=0,\" \",AY73)","v":{"v":0.9,"d":"90%"}},{"$f":"IF($I74=0,\" \",AZ73*$H74/$H73)","v":{"v":0.792,"d":"0.79"}},{"$f":"IF($I74=0,\" \",BA73*$H74/$H73*K74/K73)","v":{"v":121.14285714285714,"d":"121"}},{"$f":"IF($I74=0,\" \",BB73*$H74/$H73*K74/K73)","v":312},{"v":3.870268253999997,"d":"3.87"}]
["Bierhefe, getrocknet 44% RP DLG 2014",{"$f":"IF(D75=\"\",\" \",COUNTA($D$8:D75))","v":66},null,"Bierhefe, getrocknet",{"v":44,"d":"44 % RP"},"DLG 2014",null,880,435,{"$f":"I75*0.85","v":{"v":369.75,"d":"370"}},{"$f":"24.15*H75/1000","v":{"v":21.252,"d":"21"}},{"$f":"I75*0.0205*AV75+0.0398*AW75*AE75+0.0173*AF75+0.016*$AG75+0.0147*AI75","v":{"v":12.145340000000001,"d":"12.15"}},{"v":14.090979456000001,"d":"14.09"},30.8,{"$f":"N75*0.88","v":{"v":27.104,"d":"27.1"}},{"$f":"6+3.8","v":9.8},{"$f":"P75*(6*0.82+3.8*0.69)/9.8","v":{"v":7.542,"d":"7.5"}},19.4,{"$f":"R75*0.83","v":{"v":16.101999999999997,"d":"16.1"}},5.5,{"$f":"T75*0.85","v":{"v":4.675,"d":"4.7"}},1.6,{"v":15,"d":"15.0"},{"$f":"W75*0.5","v":7.5},{"$f":"W75*0.65","v":{"v":9.75,"d":"9.8"}},2.2,{"v":0.2,"d":"0.20"},{"v":22.62,"d":"22.6"},{"v":6,"d":"6.0"},{"$f":"AC75*0.82","v":{"v":4.92,"d":"4.9"}},14,{"$f":"0*$H75/1000","v":0},13,88,{"v":286.94999999999993,"d":"287"},{"v":321.74800000000005,"d":"322"},{"$f":"6.8","v":6.8},{"$nulls":5},{"$f":"IF(H75=\"\",\"\",50*V75+83*Z75+26*AB75+44*AA75-59*W75-13*P75-28*AZ75)","v":{"v":-211.68000000000004,"d":"-212"}},{"v":1226.644,"d":"1227"},{"$f":"AX75*K75+AY75*AT75-AF75-AG75","v":{"v":282.34092,"d":"282"}},{"v":321.748,"d":"322"},{"v":0.85,"d":"85%"},{"v":0.85,"d":"85%"},{"v":0.25,"d":"25%"},{"v":0.12,"d":"12%"},{"v":0.91,"d":"91%"},{"v":2.1,"d":"2.10"},{"$f":"229*H75/1000","v":{"v":201.52,"d":"202"}},{"$f":"560*H75/1000","v":{"v":492.8,"d":"493"}},{"v":-1.99491699712,"d":"-1.99"}]
["Bierhefe frisch (inaktiviert) 5% RP DLG 2014",{"$f":"IF(D76=\"\",\" \",COUNTA($D$8:D76))","v":67},null,"Bierhefe frisch (inaktiviert)",{"v":5,"d":"5 % RP"},"DLG 2014",null,100,{"$f":"525*H76/1000","v":{"v":52.5,"d":"53"}},{"$f":"I76*0.85","v":{"v":44.625,"d":"45"}},{"$f":"17*H76/1000","v":{"v":1.7,"d":"2"}},{"$f":"I76*0.0205*AV76+0.0398*AW76*AE76+0.0173*AF76+0.016*$AG76+0.0147*AI76","v":{"v":1.4284900000000003,"d":"1.43"}},{"v":1.7021726000000004,"d":"1.70"},{"$f":"35/1000*H76","v":{"v":3.5000000000000004,"d":"3.5"}},{"$f":"N76*0.88","v":{"v":3.0800000000000005,"d":"3.1"}},{"$f":"(0.8+0.5)/1000*H76","v":{"v":0.13,"d":"0.1"}},{"$f":"P76*(6*0.82+3.8*0.69)/9.8","v":{"v":0.1000469387755102,"d":"0.1"}},{"$f":"25*H76/1000","v":2.5},{"$f":"R76*0.83","v":{"v":2.0749999999999997,"d":"2.1"}},{"$f":"6.15*H76/1000","v":{"v":0.615,"d":"0.6"}},{"$f":"T76*0.85","v":{"v":0.5227499999999999,"d":"0.5"}},{"$f":"1.8*H76/1000","v":{"v":0.18,"d":"0.2"}},{"$f":"4.5*H76/1000","v":{"v":0.45,"d":"0.5"}},{"$f":"W76*0.5","v":{"v":0.225,"d":"0.2"}},{"$f":"W76*0.65","v":{"v":0.29250000000000004,"d":"0.3"}},{"$f":"1.8*H76/1000","v":{"v":0.18,"d":"0.2"}},{"$f":"0.2605*H76/1000","v":{"v":0.02605,"d":"0.03"}},{"$f":"25.2*H76/1000","v":{"v":2.52,"d":"2.5"}},{"$f":"8*H76/1000","v":0.8},{"$f":"AC76*0.85","v":{"v":0.68,"d":"0.7"}},3,{"$f":"0*$H76/1000","v":0},{"$f":"10*$H76/1000","v":1},8,{"v":31.825000000000003,"d":"32"},{"v":34.8,"d":"35"},{"$f":"6.8*H76/900","v":{"v":0.7555555555555555,"d":"0.8"}},{"$nulls":5},{"v":55.83286666666666,"d":"56"},{"v":143.6232,"d":"144"},{"$f":"AX76*K76+AY76*AT76-AF76-AG76","v":{"v":30.872,"d":"31"}},{"v":34.8,"d":"35"},{"v":0.85,"d":"85%"},{"v":0.85,"d":"85%"},{"v":0.25,"d":"25%"},{"v":0.12,"d":"12%"},{"v":0.91,"d":"91%"},{"$f":"2.1/900*H76","v":{"v":0.23333333333333336,"d":"0.23"}},{"$f":"229*H76/1000","v":{"v":22.9,"d":"23"}},{"$f":"560*H76/1000","v":56},{"v":-0.13211400199999968,"d":"-0.13"}]
[{"$f":"IF(E77=\" \",D77&\" \"&F77,D77&\" \"&E77&\"% RP \"&F77)","v":"eigene Bierhefe "},{"$f":"IF(D77=\"\",\" \",COUNTA($D$8:D77))","v":68},null,"eigene Bierhefe",{"$f":"IF(I77=0,\" \",ROUND(I77/10,0))","v":" "},{"$f":"IF(I77=277,\"Ø 2007\",\"\")","v":""},{"$nulls":3},{"$f":"IF(I77=0,\" \",I77*0.85)","v":" "},null,{"$f":"IF($I77=\"\",\" \",I77*0.0205*AV77+0.0398*AW77*AE77+0.0173*AF77+0.016*$AG77+0.0147*AI77)","v":" "},{"$f":"IF(I77=\"\",\" \",$I77*0.021503+0.032497*$AE77+0.016309*$AF77+0.014701*$AJ77-0.021071*$K77)","v":" "},{"$f":"IF(I77=0,\" \",(I77/H77*880*0.0694-1.58)/880*H77)","v":" "},{"$f":"IF(N77=\" \",\" \",N77*0.82)","v":" "},{"$f":"IF(I77=\"\",\"\",P74/H74*H77)","v":""},{"$f":"IF(N77=\" \",\" \",P77*(2*0.61+3.4*0.68)/5.4)","v":" "},{"$f":"IF(N77=\" \",\" \",(I77/H77*880*0.0567-4.46)/880*H77)","v":" "},{"$f":"IF(N77=\" \",\" \",R77*0.75)","v":" "},{"$f":"IF(I77=\"\",\"\",T75/H74*H77)","v":""},{"$f":"IF(N77=\" \",\" \",T77*0.71)","v":" "},{"$f":"IF($I77=\"\",\"\",V75/H75*H77)","v":""},{"$f":"IF($I77=\"\",\"\",W75/H75*H77)","v":""},{"$f":"IF($I77=\"\",\"\",X75/H75*H77)","v":""},{"$f":"IF($I77=\"\",\"\",Y75/H75*H77)","v":""},{"$f":"IF($I77=\"\",\"\",Z75/L75*L77)","v":""},{"$f":"IF($I77=\"\",\"\",AA75/M75*M77)","v":""},{"$f":"IF($I77=\"\",\"\",AB75/H75*H77)","v":""},{"$f":"IF($I77=\"\",\" \",($I77/H77*880*0.0183-1.32)/880*H77)","v":" "},{"$f":"IF(AC77=\" \",\" \",AC77*0.82)","v":" "},{"$nulls":4},{"$f":"IF($I77=\"\",\" \",(H77-AH77)*AU77-I77*AV77-AE77*AW77-AF77-AG77)","v":" "}," ",{"$f":"IF($I77=0,\" \",AK76*$H77/$H76)","v":" "}," "," "," "," "," ","",{"$f":"IF(H77=\"\",\"\",V77/1000*20140+Z77/1000*48600+1100/440*I77)","v":""},{"$f":"IF($I77=0,\" \",AX77*K77+AY77*AT77-AF77-AG77)","v":" "}," ",{"$f":"IF($I77=0,\" \",AU76)","v":" "},{"$f":"IF($I77=0,\" \",AV76)","v":" "},{"$f":"IF($I77=0,\" \",AW76)","v":" "},{"$f":"IF($I77=0,\" \",AX76)","v":" "},{"$f":"IF($I77=0,\" \",AY76)","v":" "},{"$f":"IF($H$77=\"\",\"\",AZ75/$H$75*$K$77/$K$75*$H$77)","v":""},{"$f":"IF($H$77=\"\",\"\",BA75/$H$75*$K$77/$K$75*$H$77)","v":""},{"$f":"IF($H$77=\"\",\"\",BB75/$H$75*$K$77/$K$75*$H$77)","v":""},""]
["Erbsen  22% RP DLG 2014",{"$f":"IF(D78=\"\",\" \",COUNTA($D$8:D78))","v":69},null,"Erbsen ",{"v":22,"d":"22 % RP"},"DLG 2014","69",880,220,{"$f":"I78*0.79","v":{"v":173.8,"d":"174"}},57,{"$f":"I78*0.0205*AV78+0.0398*AW78*AE78+0.0173*AF78+0.016*$AG78+0.0147*AI78","v":{"v":13.397632520000002,"d":"13.40"}},{"v":12.819143440000005,"d":"12.82"},{"$f":"IF(I78=0,\" \",I78*0.0533+4.05)","v":{"v":15.776,"d":"15.8"}},{"$f":"IF(N78=\" \",\" \",N78*0.84)","v":{"v":13.25184,"d":"13.3"}},{"$f":"IF(N78=\" \",\" \",I78*0.0114+2.14)","v":{"v":4.648,"d":"4.6"}},{"$f":"IF(N78=\" \",\" \",P78*(2.1*0.73+3.2*0.66)/5.3)","v":{"v":3.196596226415094,"d":"3.2"}},{"$f":"IF(N78=\" \",\" \",I78*0.0249+2.6)","v":{"v":8.078,"d":"8.1"}},{"$f":"IF(N78=\" \",\" \",R78*0.75)","v":{"v":6.0584999999999996,"d":"6.1"}},{"$f":"IF(N78=\" \",\" \",I78*0.0064+0.57)","v":{"v":1.9780000000000002,"d":"2.0"}},{"$f":"IF(N78=\" \",\" \",T78*0.7)","v":{"v":1.3846,"d":"1.4"}},0.9,4.1,{"$f":"W78*0.5","v":{"v":2.05,"d":"2.1"}},{"$f":"W78*0.65","v":{"v":2.665,"d":"2.7"}},1.4,0.19,{"v":10,"d":"10.0"},{"$f":"IF($I78=\"\",\" \",$I78*0.0048+0.91)","v":{"v":1.9659999999999997,"d":"2.0"}},{"$f":"AC78*0.73","v":{"v":1.4351799999999997,"d":"1.4"}},13,418,53,{"$f":"37*H78/1000","v":{"v":32.56,"d":"33"}},{"v":103.5716000000001,"d":"104"},{"v":139.44000000000005,"d":"139"},{"v":8,"d":"8.0"},{"$nulls":5},{"v":102.59600000000003,"d":"103"},{"v":636.166,"d":"636"},{"$f":"AX78*K78+AY78*AT78-AF78-AG78","v":{"v":93.90800000000002,"d":"94"}},{"v":557.44,"d":"557"},{"v":0.89,"d":"89%"},{"v":0.79,"d":"79%"},{"v":0.45,"d":"45%"},{"v":0.62,"d":"62%"},{"v":0.95,"d":"95%"},{"$f":"1*H78/1000","v":0.88},95,350,{"v":7.8459747112,"d":"7.85"}]
["eigene Erbsen 21% RP Ø 2016",{"$f":"IF(D79=\"\",\" \",COUNTA($D$8:D79))","v":70},null,"eigene Erbsen",{"v":21,"d":"21 % RP"},{"$f":"IF(I79=210.9,\"Ø 2016\",\"\")","v":"Ø 2016"},null,880,{"v":210.9,"d":"211"},{"$f":"IF(I79=0,\" \",I79*0.79)","v":{"v":166.61100000000002,"d":"167"}},{"v":58.3,"d":"58"},{"$f":"IF($I79=\"\",\" \",I79*0.0205*AV79+0.0398*AW79*AE79+0.0173*AF79+0.016*$AG79+0.0147*AI79)","v":{"v":13.532380100000001,"d":"13.53"}},{"v":12.877841800000004,"d":"12.88"},{"$f":"IF(I79=0,\" \",(I79/H79*880*0.0533+4.05)/880*H79)","v":{"v":15.290970000000003,"d":"15.3"}},{"$f":"IF(N79=\" \",\" \",N79*0.84)","v":{"v":12.844414800000003,"d":"12.8"}},{"$f":"IF(N79=\" \",\" \",(I79/H79*880*0.0114+2.14)/880*H79)","v":{"v":4.54426,"d":"4.5"}},{"$f":"IF(N79=\" \",\" \",P79*(2.1*0.73+3.2*0.66)/5.3)","v":{"v":3.1252505094339624,"d":"3.1"}},{"$f":"IF(N79=\" \",\" \",(I79/H79*880*0.0249+2.6)/880*H79)","v":{"v":7.851409999999999,"d":"7.9"}},{"$f":"IF(N79=\" \",\" \",R79*0.75)","v":{"v":5.888557499999999,"d":"5.9"}},{"$f":"IF(N79=\" \",\" \",(I79/H79*880*0.0064+0.57)/880*H79)","v":{"v":1.9197600000000001,"d":"1.9"}},{"$f":"IF(N79=\" \",\" \",T79*0.7)","v":{"v":1.343832,"d":"1.3"}},{"$f":"IF($I79=0,\" \",V78*$H79/$H78)","v":0.9},4.1,{"v":2.05,"d":"2.1"},{"v":2.6649999999999996,"d":"2.7"},1.4,{"v":0.18999999999999997,"d":"0.19"},{"v":10,"d":"10.0"},{"$f":"IF($I79=\"\",\" \",($I79/H79*880*0.0048+0.91)/880*H79)","v":{"v":1.92232,"d":"1.9"}},{"$f":"IF(AC79=\" \",\" \",AC79*0.73)","v":{"v":1.4032936,"d":"1.4"}},{"v":14.5,"d":"15"},449,{"v":51.7,"d":"52"},{"v":26.4,"d":"26"},{"v":85.8680000000001,"d":"86"},{"v":120.90000000000009,"d":"121"},{"$f":"IF($I79=0,\" \",AK78*$H79/$H78)","v":{"v":8,"d":"8.0"}},{"v":0,"d":"0.0"},{"v":0,"d":"0.0"},0,0,0,{"v":103.94462000000003,"d":"104"},{"v":613.416,"d":"613"},{"$f":"IF($I79=0,\" \",AX79*K79+AY79*AT79-AF79-AG79)","v":{"v":76.85100000000004,"d":"77"}},{"v":569.9000000000001,"d":"570"},{"$f":"IF($I79=0,\" \",AU78)","v":{"v":0.89,"d":"89%"}},{"$f":"IF($I79=0,\" \",AV78)","v":{"v":0.79,"d":"79%"}},{"$f":"IF($I79=0,\" \",AW78)","v":{"v":0.45,"d":"45%"}},{"$f":"IF($I79=0,\" \",AX78)","v":{"v":0.62,"d":"62%"}},{"$f":"IF($I79=0,\" \",AY78)","v":{"v":0.95,"d":"95%"}},{"$f":"IF($I79=0,\" \",AZ78*$H79/$H78)","v":0.88},{"$f":"IF($I79=0,\" \",$BA$78*$H79/$H$78*K79/$K$78)","v":{"v":97.16666666666667,"d":"97"}},{"$f":"IF($I79=0,\" \",$BB$78*$H79/$H$78*K79/$K$78)","v":{"v":357.9824561403509,"d":"358"}},{"v":8.637824514000002,"d":"8.64"}]
["Erbsen  19% RP ",{"$f":"IF(D80=\"\",\" \",COUNTA($D$8:D80))","v":71},null,"Erbsen ",{"v":19,"d":"19 % RP"},null,"31",880,{"v":191.8,"d":"192"},{"$f":"I80*0.85","v":{"v":163.03,"d":"163"}},{"v":58.9,"d":"59"},{"$f":"I80*0.0205*AV80+0.0398*AW80*AE80+0.0173*AF80+0.016*$AG80+0.0147*AI80","v":{"v":13.4001073,"d":"13.40"}},{"v":12.681510100000002,"d":"12.68"},{"$f":"IF(I80=0,\" \",I80*0.0533+4.05)","v":{"v":14.272940000000002,"d":"14.3"}},{"$f":"IF(N80=\" \",\" \",N80*0.84)","v":{"v":11.989269600000002,"d":"12.0"}},{"$f":"IF(N80=\" \",\" \",I80*0.0114+2.14)","v":{"v":4.32652,"d":"4.3"}},{"$f":"IF(N80=\" \",\" \",P80*(2.1*0.73+3.2*0.66)/5.3)","v":{"v":2.975502905660378,"d":"3.0"}},{"$f":"IF(N80=\" \",\" \",I80*0.0249+2.6)","v":{"v":7.375820000000001,"d":"7.4"}},{"$f":"IF(N80=\" \",\" \",R80*0.75)","v":{"v":5.531865000000001,"d":"5.5"}},{"$f":"IF(N80=\" \",\" \",I80*0.0064+0.57)","v":{"v":1.79752,"d":"1.8"}},{"$f":"IF(N80=\" \",\" \",T80*0.7)","v":{"v":1.2582639999999998,"d":"1.3"}},0.9,4.1,1.8,{"$f":"W80*0.65","v":{"v":2.665,"d":"2.7"}},1.2,0.19,{"v":10,"d":"10.0"},{"$f":"IF($I80=\"\",\" \",$I80*0.0048+0.91)","v":{"v":1.83064,"d":"1.8"}},{"$f":"AC80*0.73","v":{"v":1.3363672,"d":"1.3"}},{"v":12.2,"d":"12"},{"v":452.9,"d":"453"},{"v":36.5,"d":"37"},{"v":27.1,"d":"27"},{"$f":"(H80-AH80)*AU80-I80*AV80-AE80*AW80-AF80-AG80","v":{"v":112.66899999999998,"d":"113"}},{"v":137.10000000000002,"d":"137"},{"$f":"IF($I80=0,\" \",AK79*$H80/$H78)","v":{"v":8,"d":"8.0"}},{"$nulls":5},{"v":90.17524000000004,"d":"90"},{"v":555.946,"d":"556"},{"$f":"AX80*K80+AY80*AT80-AF80-AG80","v":{"v":107.61800000000005,"d":"108"}},590,{"v":0.89,"d":"89%"},{"v":0.79,"d":"79%"},{"v":0.45,"d":"45%"},{"v":0.62,"d":"62%"},{"v":0.95,"d":"95%"},{"$f":"1*H80/1000","v":0.88},{"$f":"IF($I80=0,\" \",$BA$78*$H80/$H$78*K80/$K$78)","v":{"v":98.16666666666667,"d":"98"}},{"v":318.8070175438597,"d":"319"},{"v":8.936702373,"d":"8.94"}]
["Fischmehl 57% RP DLG 2014",{"$f":"IF(D81=\"\",\" \",COUNTA($D$8:D81))","v":72},null,"Fischmehl",{"$f":"IF(I81=0,\" \",ROUND(I81/10,0))","v":{"v":57,"d":"57 % RP"}},"DLG 2014",null,910,573,{"$f":"I81*0.83","v":{"v":475.59,"d":"476"}},14,{"$f":"I81*0.0205*AV81+0.0398*AW81*AE81+0.0173*AF81+0.016*$AG81+0.0147*AI81","v":{"v":12.817102000000002,"d":"12.82"}},{"v":14.813228000000002,"d":"14.81"},{"$f":"IF(I81=0,\" \",(I81/H81*880*0.1074-23.1)/880*H81)","v":{"v":37.65269999999999,"d":"37.7"}},{"$f":"IF(N81=\" \",\" \",N81*0.87)","v":{"v":32.75784899999999,"d":"32.8"}},{"$f":"IF(N81=\" \",\" \",(I81/H81*880*0.0483-8.85)/880*H81)","v":{"v":18.52419545454546,"d":"18.5"}},{"$f":"IF(N81=\" \",\" \",P81*(0.88*18+7*0.59)/25)","v":{"v":14.797127329090912,"d":"14.8"}},{"$f":"IF(N81=\" \",\" \",(I81/H81*880*0.0528-8.27)/880*H81)","v":{"v":21.70246818181818,"d":"21.7"}},{"$f":"IF(N81=\" \",\" \",R81*0.88)","v":{"v":19.098171999999998,"d":"19.1"}},{"$f":"IF(N81=\" \",\" \",(I81/H81*880*0.0157-3.57)/880*H81)","v":{"v":5.304395454545452,"d":"5.3"}},{"$f":"T81*0.79","v":{"v":4.190472409090908,"d":"4.2"}},63.7,{"v":30,"d":"30.0"},{"$f":"W81*0.85","v":25.5},{"$f":"X81","v":25.5},2.3,{"v":10,"d":"10.00"},{"$f":"7*H81/900","v":{"v":7.0777777777777775,"d":"7.1"}},{"$f":"IF($I81=\"\",\" \",($I81/H81*880*0.0375-7.21)/880*H81)","v":{"v":14.031704545454543,"d":"14.0"}},{"$f":"AC81*0.88","v":{"v":12.347899999999997,"d":"12.3"}},55,{"$f":"H81/1000*0","v":0},0,200,{"$f":"(H81-AH81)*AU81-I81*AV81-AE81*AW81-AF81-AG81","v":{"v":80.61000000000003,"d":"81"}},68,22.8,{"$f":"AK81/7*6","v":{"v":19.542857142857144,"d":"19.5"}},{"$f":"AK81-AL81","v":{"v":3.2571428571428562,"d":"3.3"}},{"$nulls":3},{"v":1232.3516813131314,"d":"1232"},{"v":2827.1980000000003,"d":"2827"},{"$f":"AX81*K81+AY81*AT81-AF81-AG81","v":{"v":2.72,"d":"3"}},68,{"v":0.85,"d":"85%"},{"v":0.83,"d":"83%"},{"v":0.86,"d":"86%"},{"v":0,"d":"0%"},{"v":0.04,"d":"4%"},{"$f":"29.7*H81/1000","v":{"v":27.027,"d":"27.03"}},{"$f":"K81*153%","v":{"v":21.42,"d":"21"}},{"$f":"BA81*2.23","v":{"v":47.766600000000004,"d":"48"}},{"v":-2.779343559999999,"d":"-2.78"}]
["Fischmehl proteinreich 69% RP DLG 2014",{"$f":"IF(D82=\"\",\" \",COUNTA($D$8:D82))","v":73},null,"Fischmehl proteinreich",{"v":69,"d":"69 % RP"},"DLG 2014",null,910,692,{"$f":"I82*0.9","v":{"v":622.8000000000001,"d":"623"}},6,{"$f":"I82*0.0205*AV82+0.0398*AW82*AE82+0.0173*AF82+0.016*$AG82+0.0147*AI82","v":{"v":14.527985,"d":"14.53"}},{"v":16.376953000000004,"d":"16.38"},{"$f":"IF(I82=0,\" \",(I82/H82*880*0.1074-23.1)/880*H82)","v":{"v":50.4333,"d":"50.4"}},{"$f":"IF(N82=\" \",\" \",N82*0.89)","v":{"v":44.885637,"d":"44.9"}},{"$f":"IF(N82=\" \",\" \",(I82/H82*880*0.0483-8.85)/880*H82)","v":{"v":24.271895454545454,"d":"24.3"}},{"$f":"IF(N82=\" \",\" \",P82*(17.3*0.89+6.4*0.74)/23.7)","v":{"v":20.61882156904488,"d":"20.6"}},{"$f":"IF(N82=\" \",\" \",(I82/H82*880*0.0528-8.27)/880*H82)","v":{"v":27.985668181818184,"d":"28.0"}},{"$f":"IF(N82=\" \",\" \",R82*0.88)","v":{"v":24.627388000000003,"d":"24.6"}},{"$f":"IF(N82=\" \",\" \",(I82/H82*880*0.0157-3.57)/880*H82)","v":{"v":7.172695454545455,"d":"7.2"}},{"$f":"IF(N82=\" \",\" \",T82*0.86)","v":{"v":6.168518090909091,"d":"6.2"}},45.5,27.3,{"$f":"W82*0.85","v":{"v":23.205,"d":"23.2"}},{"$f":"X82","v":{"v":23.205,"d":"23.2"}},2.7,{"v":9.1,"d":"9.10"},{"$f":"7*H82/900","v":{"v":7.0777777777777775,"d":"7.1"}},{"$f":"IF($I82=\"\",\" \",($I82/H82*880*0.0375-7.21)/880*H82)","v":{"v":18.494204545454544,"d":"18.5"}},{"$f":"AC82*0.89","v":{"v":16.459842045454543,"d":"16.5"}},59,0,0,173,{"$f":"(H82-AH82)*AU82-I82*AV82-AE82*AW82-AF82-AG82","v":{"v":-17.610000000000007,"d":"-18"}},-20,{"$f":"AK81*$AE$82/$AE$81","v":{"v":24.45818181818182,"d":"24.5"}},{"$f":"AK82/7*6","v":{"v":20.964155844155847,"d":"21.0"}},{"$f":"AK82-AL82","v":{"v":3.4940259740259734,"d":"3.5"}},{"$nulls":3},{"v":400.53158131313126,"d":"401"},{"v":2777.59,"d":"2778"},{"$f":"AX82*K82+AY82*AT82-AF82-AG82","v":0},{"$f":"IF(H82=\"\",\" \",0)","v":0},{"v":0.89,"d":"89%"},{"v":0.9,"d":"90%"},{"v":0.86,"d":"86%"},{"v":0,"d":"0%"},{"v":0.04,"d":"4%"},{"$f":"29.7*H82/1000","v":{"v":27.027,"d":"27.03"}},{"$f":"K82*153%","v":{"v":9.18,"d":"9"}},{"$f":"BA82*2.23","v":{"v":20.4714,"d":"20"}},{"v":-4.42182431,"d":"-4.42"}]
[{"$f":"IF(E83=\" \",D83&\" \"&F83,D83&\" \"&E83&\"% RP \"&F83)","v":"Fischmehl vom Hering 66% RP DLG 2014"},{"$f":"IF(D83=\"\",\" \",COUNTA($D$8:D83))","v":74},null,"Fischmehl vom Hering",{"$f":"IF(I83=0,\" \",ROUND(I83/10,0))","v":{"v":66,"d":"66 % RP"}},"DLG 2014",null,910,655,{"$f":"I83*0.9","v":{"v":589.5,"d":"590"}},0,{"$f":"I83*0.0205*AV83+0.0398*AW83*AE83+0.0173*AF83+0.016*$AG83+0.0147*AI83","v":{"v":15.382954,"d":"15.38"}},{"$f":"IF(I83=\"\",\" \",$I83*0.021503+0.032497*$AE83+0.016309*$AF83+0.014701*$AJ83-0.021071*$K83)","v":{"v":17.438619000000003,"d":"17.44"}},{"$f":"IF(I83=0,\" \",(I83/H83*880*0.1074-23.1)/880*H83)","v":{"v":46.4595,"d":"46.5"}},{"$f":"IF(N83=\" \",\" \",N83*0.89)","v":{"v":41.348955,"d":"41.3"}},{"$f":"IF(N83=\" \",\" \",(I83/H83*880*0.0483-8.85)/880*H83)","v":{"v":22.48479545454546,"d":"22.5"}},{"$f":"IF(N83=\" \",\" \",P83*(0.88*20+6*0.74)/26)","v":{"v":19.06018814685315,"d":"19.1"}},{"$f":"IF(N83=\" \",\" \",(I83/H83*880*0.0528-8.27)/880*H83)","v":{"v":26.03206818181818,"d":"26.0"}},{"$f":"IF(N83=\" \",\" \",R83*0.86)","v":{"v":22.387578636363635,"d":"22.4"}},{"$f":"IF(N83=\" \",\" \",(I83/H83*880*0.0157-3.57)/880*H83)","v":{"v":6.591795454545453,"d":"6.6"}},{"$f":"T83*0.79","v":{"v":5.207518409090908,"d":"5.2"}},45.5,27.3,{"$f":"W83*0.85","v":{"v":23.205,"d":"23.2"}},{"$f":"X83","v":{"v":23.205,"d":"23.2"}},2.7,{"v":9.1,"d":"9.10"},{"$f":"7*H83/900","v":{"v":7.0777777777777775,"d":"7.1"}},{"$f":"IF($I83=\"\",\" \",($I83/H83*880*0.0375-7.21)/880*H83)","v":{"v":17.106704545454544,"d":"17.1"}},{"$f":"AC83*0.88","v":{"v":15.053899999999999,"d":"15.1"}},91,{"$f":"H83/1000*0","v":0},0,137,{"$f":"(H83-AH83)*AU83-I83*AV83-AE83*AW83-AF83-AG83","v":{"v":12.480000000000004,"d":"12"}},27,{"$f":"AK82*$AE$82/$AE$81","v":{"v":26.236958677685955,"d":"26.2"}},{"$f":"AK83/7*6","v":{"v":22.48882172373082,"d":"22.5"}},{"$f":"AK83-AL83","v":{"v":3.748136953955136,"d":"3.7"}},{"$nulls":3},{"$f":"IF(H83=\"\",\"\",50*V83+83*Z83+26*AB83+44*AA83-59*W83-13*P83-28*AZ83)","v":{"v":423.7638813131314,"d":"424"}},{"$f":"IF(H83=\"\",\"\",V83/1000*20140+Z83/1000*48600+1100/440*I83)","v":{"v":2685.09,"d":"2685"}},{"$f":"AX83*K83+AY83*AT83-AF83-AG83","v":{"v":1.08,"d":"1"}},27,{"v":0.88,"d":"88%"},{"v":0.9,"d":"90%"},{"v":0.86,"d":"86%"},{"v":0,"d":"0%"},{"v":0.04,"d":"4%"},{"$f":"29.7*H83/1000","v":{"v":27.027,"d":"27.03"}},{"$f":"K83*153%","v":0},{"$f":"BA83*2.23","v":0},{"v":-0.6048081299999986,"d":"-0.60"}]
["eigenes Fischmehl ",{"$f":"IF(D84=\"\",\" \",COUNTA($D$8:D84))","v":75},null,"eigenes Fischmehl"," ",{"$nulls":4},{"$f":"IF(I84=0,\" \",I84*0.83)","v":" "},null,{"$f":"IF($I84=\"\",\" \",I84*0.0205*AV84+0.0398*AW84*AE84+0.0173*AF84+0.016*$AG84+0.0147*AI84)","v":" "}," ",{"$f":"IF(I84=0,\" \",(I84/H84*880*0.1074-23.1)/880*H84)","v":" "},{"$f":"IF(N84=\" \",\" \",N84*0.87)","v":" "},{"$f":"IF(N84=\" \",\" \",(I84/H84*880*0.0483-8.85)/880*H84)","v":" "},{"$f":"IF(N84=\" \",\" \",P84*0.85)","v":" "},{"$f":"IF(N84=\" \",\" \",(I84/H84*880*0.0528-8.27)/880*H84)","v":" "},{"$f":"IF(N84=\" \",\" \",R84*0.88)","v":" "},{"$f":"IF(N84=\" \",\" \",(I84/H84*880*0.0157-3.57)/880*H84)","v":" "},{"$f":"IF(N84=\" \",\" \",T84*0.85)","v":" "},{"$f":"IF($I84=0,\" \",V82*$H84/$H82)","v":" "}," "," "," "," "," "," ",{"$f":"IF($I84=\"\",\" \",($I84/H84*880*0.0375-7.21)/880*H84)","v":" "},{"$f":"IF(AC84=\" \",\" \",AC84*0.88)","v":" "},{"$nulls":4},{"$f":"IF($I84=\"\",\" \",(H84-AH84)*AU84-I84*AV84-AE84*AW84-AF84-AG84)","v":" "}," ",{"$f":"IF($I84=0,\" \",AK82*$H84/$H82)","v":" "}," "," "," "," "," ","","",{"$f":"IF($I84=0,\" \",AX84*K84+AY84*AT84-AF84-AG84)","v":" "}," ",{"$f":"IF($I84=0,\" \",AU82)","v":" "},{"$f":"IF($I84=0,\" \",AV82)","v":" "},{"$f":"IF($I84=0,\" \",AW82)","v":" "},{"$f":"IF($I84=0,\" \",AX82)","v":" "},{"$f":"IF($I84=0,\" \",AY82)","v":" "},{"$f":"IF($I84=0,\" \",AZ82*$H84/$H82)","v":" "},{"$f":"IF($I84=0,\" \",BA82*$H84/$H82*K84/K82)","v":" "},{"$f":"IF($I84=0,\" \",BB82*$H84/$H82*K84/K82)","v":" "},""]
["Kartoffeleiweiß 38% RP DLG 2014",{"$f":"IF(D91=\"\",\" \",COUNTA($D$8:D91))","v":82},null,"Kartoffeleiweiß",{"$f":"IF(I91=0,\" \",ROUND(I91/10,0))","v":{"v":38,"d":"38 % RP"}},"DLG 2014",null,910,765,{"$f":"I91*0.94","v":{"v":355.32,"d":"355"}},7,{"$f":"IF($I91=\"\",\" \",I91*0.0205*AV91+0.0398*AW91*AE91+0.0173*AF91+0.016*$AG91+0.0147*AI91)","v":{"v":13.606580000000003,"d":"13.61"}},{"$f":"IF(I91=\"\",\" \",$I91*0.021503+0.032497*$AE91+0.016309*$AF91+0.014701*$AJ91-0.021071*$K91)","v":{"v":10.538852,"d":"10.54"}},{"$f":"IF(I91=0,\" \",(I91/H91*880*0.0899-10.12)/880*H91)","v":{"v":23.8622,"d":"23.9"}},{"$f":"IF(N91=\" \",\" \",N91*0.9)","v":{"v":16.22556,"d":"16.2"}},{"$f":"IF(N91=\" \",\" \",(I91/H91*880*0.037-0.55)/880*H91)","v":{"v":13.435999999999998,"d":"13.4"}},{"$f":"IF(N91=\" \",\" \",P91*0.82)","v":{"v":7.037075999999999,"d":"7.0"}},{"$f":"IF(N91=\" \",\" \",(I91/H91*880*0.0565+0.28)/880*H91)","v":{"v":21.637,"d":"21.6"}},{"$f":"IF(N91=\" \",\" \",R91*0.86)","v":{"v":10.694099999999999,"d":"10.7"}},{"$f":"IF(N91=\" \",\" \",(I91/H91*880*0.0182-3.12)/880*H91)","v":{"v":3.7596,"d":"3.8"}},{"$f":"IF(N91=\" \",\" \",T91*0.8)","v":{"v":2.5105600000000003,"d":"2.5"}},0.4,2.6,1.8,1.8,0.5,{"v":0.2,"d":"0.20"},8.6,{"$f":"IF($I91=\"\",\" \",$P91*0.6074074)","v":{"v":5.21264882532,"d":"5.2"}},{"$f":"AC91*0.91","v":{"v":2.0939099999999997,"d":"2.1"}},15,{"$f":"0","v":0},{"$f":"6*H91/1000","v":{"v":5.28,"d":"5"}},{"$f":"32*H91/1000","v":{"v":28.16,"d":"28"}},{"$f":"(H91-AH91)*AU91-I91*AV91-AE91*AW91-AF91-AG91","v":{"v":274.0400000000001,"d":"274"}},{"$f":"IF($I91=\"\",\" \",$H91-($AE91+$AF91+$AH91+$I91+$K91))","v":219},4.9,8.2,{"$nulls":4},{"$f":"IF(H91=\"\",\"\",50*V91+83*Z91+26*AB91+44*AA91-59*W91-13*P91-28*AZ91)","v":{"v":143.08859999999999,"d":"143"}},{"$f":"IF(H91=\"\",\"\",V91/1000*20140+Z91/1000*48600+1100/440*I91)","v":{"v":1088.172,"d":"1088"}},{"$f":"AX91*K91+AY91*AT91-AF91-AG91","v":{"v":271.27,"d":"271"}},{"v":94.84,"d":"95"},{"v":0.92,"d":"92%"},{"v":0.94,"d":"94%"},{"v":0.32,"d":"32%"},{"v":0.33,"d":"33%"},{"v":0.92,"d":"92%"},{"$f":"1.09*H91/1000","v":{"v":0.9592,"d":"0.96"}},{"$f":"K91","v":148},{"$f":"BA91*2","v":{"v":235.3459649122807,"d":"235"}},{"v":-13.188638040000003,"d":"-13.19"}]
[{"$f":"IF(E86=\" \",D86&\" \"&F86,D86&\" \"&E86&\"% RP \"&F86)","v":"eigenes Kartoffeleiweiß "},{"$f":"IF(D86=\"\",\" \",COUNTA($D$8:D86))","v":77},null,"eigenes Kartoffeleiweiß"," ",{"$nulls":4},{"$f":"IF(I86=0,\" \",I86*0.94)","v":" "},null,{"$f":"IF($I86=\"\",\" \",I86*0.0205*AV86+0.0398*AW86*AE86+0.0173*AF86+0.016*$AG86+0.0147*AI86)","v":" "}," ",{"$f":"IF(I86=0,\" \",(I86/H86*880*0.0899-10.12)/880*H86)","v":" "},{"$f":"IF(N86=\" \",\" \",N86*0.9)","v":" "},{"$f":"IF(N86=\" \",\" \",(I86/H86*880*0.037-0.55)/880*H86)","v":" "},{"$f":"IF(N86=\" \",\" \",P86*0.82)","v":" "},{"$f":"IF(N86=\" \",\" \",(I86/H86*880*0.0565+0.28)/880*H86)","v":" "},{"$f":"IF(N86=\" \",\" \",R86*0.86)","v":" "},{"$f":"IF(N86=\" \",\" \",(I86/H86*880*0.0182-3.12)/880*H86)","v":" "},{"$f":"IF(N86=\" \",\" \",T86*0.8)","v":" "},{"$f":"IF($I86=0,\" \",V91*$H86/$H91)","v":" "}," "," "," "," "," "," ",{"$f":"IF($I86=\"\",\" \",($P86*0.6074074))","v":" "},{"$f":"IF(AC86=\" \",\" \",AC86*0.91)","v":" "},{"$nulls":4},{"$f":"IF($I86=\"\",\" \",(H86-AH86)*AU86-I86*AV86-AE86*AW86-AF86-AG86)","v":" "}," ",{"$f":"IF($I86=0,\" \",AK91*$H86/$H91)","v":" "}," "," "," "," "," ","","",{"$f":"IF($I86=0,\" \",AX86*K86+AY86*AT86-AF86-AG86)","v":" "}," ",{"$f":"IF($I86=0,\" \",AU91)","v":" "},{"$f":"IF($I86=0,\" \",AV91)","v":" "},{"$f":"IF($I86=0,\" \",AW91)","v":" "},{"$f":"IF($I86=0,\" \",AX91)","v":" "},{"$f":"IF($I86=0,\" \",AY91)","v":" "},{"$f":"IF($I86=0,\" \",AZ91*$H86/$H91)","v":" "},{"$f":"IF($I86=0,\" \",BA91*$H86/$H91*K86/K91)","v":" "},{"$f":"IF($I86=0,\" \",BB91*$H86/$H91*K86/K91)","v":" "},""]
["Lein, Samen 21% RP DLG 2014",{"$f":"IF(D87=\"\",\" \",COUNTA($D$8:D87))","v":78},null,"Lein, Samen",{"$f":"IF(I87=0,\" \",ROUND(I87/10,0))","v":{"v":21,"d":"21 % RP"}},"DLG 2014",null,910,207,{"$f":"I87*0.77","v":{"v":159.39000000000001,"d":"159"}},64,{"$f":"I87*0.0205*AV87+0.0398*AW87*AE87+0.0173*AF87+0.016*$AG87+0.0147*AI87","v":{"v":12.477544000000002,"d":"12.48"}},{"v":17.817522,"d":"17.82"},{"$f":"IF(I87=0,\" \",I87*0.0275+3.15)","v":{"v":8.8425,"d":"8.8"}},{"$f":"IF(N87=\" \",\" \",N87*0.83)","v":{"v":7.339274999999999,"d":"7.3"}},{"$f":"IF(N87=\" \",\" \",I87*0.034+0.09)","v":{"v":7.128,"d":"7.1"}},{"$f":"IF(N87=\" \",\" \",P87*(4.6*0.85+7.1*0.87)/11.7)","v":{"v":6.14531076923077,"d":"6.1"}},{"$f":"IF(N87=\" \",\" \",I87*0.0362+0.08)","v":{"v":7.5734,"d":"7.6"}},{"$f":"IF(N87=\" \",\" \",R87*0.82)","v":{"v":6.210188,"d":"6.2"}},{"$f":"IF(N87=\" \",\" \",I87*0.022-1.52)","v":{"v":3.0339999999999994,"d":"3.0"}},{"$f":"IF(N87=\" \",\" \",T87*0.86)","v":{"v":2.6092399999999993,"d":"2.6"}},2.7,5.5,{"$f":"W87*0.4","v":2.2},{"$f":"W87*0.65","v":{"v":3.575,"d":"3.6"}},4.1,{"v":0.7,"d":"0.70"},8.5,{"$f":"IF($I87=\"\",\" \",$I87*0.0184-0.16)","v":{"v":3.6487999999999996,"d":"3.6"}},{"$f":"AC87*0.85","v":{"v":3.1014799999999996,"d":"3.1"}},337,0,32,46,{"$f":"(H87-AH87)*AU87-I87*AV87-AE87*AW87-AF87-AG87","v":{"v":171.98999999999998,"d":"172"}},256,{"$f":"AL87+AM87","v":{"v":239.26999999999998,"d":"239.3"}},{"$f":"66*AE87/100","v":{"v":222.42,"d":"222.4"}},{"$f":"5*AE87/100","v":{"v":16.85,"d":"16.9"}},{"$nulls":3},{"v":302.2919999999999,"d":"302"},{"v":771.1379999999999,"d":"771"},{"$f":"AX87*K87+AY87*AT87-AF87-AG87","v":{"v":193.28000000000003,"d":"193"}},256,{"v":0.6,"d":"60%"},{"v":0.77,"d":"77%"},{"v":0.46,"d":"46%"},{"v":0.28,"d":"28%"},{"v":0.81,"d":"81%"},{"$f":"0.3*H87/1000","v":{"v":0.273,"d":"0.27"}},158,237,{"v":23.121791060000003,"d":"23.12"}]
["Leinextaktionschrot 34% RP DLG 2014",{"$f":"IF(D88=\"\",\" \",COUNTA($D$8:D88))","v":79},null,"Leinextaktionschrot",{"$f":"IF(I88=0,\" \",ROUND(I88/10,0))","v":{"v":34,"d":"34 % RP"}},"DLG 2014",null,890,338,{"$f":"I88*0.66","v":{"v":223.08,"d":"223"}},93,{"v":10.85977428,"d":"10.86"},{"v":11.677625260000001,"d":"11.68"},{"$f":"IF(I88=0,\" \",I88*0.0275+3.15)","v":{"v":12.445,"d":"12.4"}},{"$f":"IF(N88=\" \",\" \",N88*0.64)","v":{"v":7.9648,"d":"8.0"}},{"$f":"IF(N88=\" \",\" \",I88*0.034+0.09)","v":{"v":11.582,"d":"11.6"}},{"$f":"IF(N88=\" \",\" \",P88*(5.3*0.61+5.3*0.73)/10.6)","v":{"v":7.75994,"d":"7.8"}},{"$f":"IF(N88=\" \",\" \",I88*0.0362+0.08)","v":{"v":12.315600000000002,"d":"12.3"}},{"$f":"IF(N88=\" \",\" \",R88*0.85)","v":{"v":10.46826,"d":"10.5"}},{"$f":"IF(N88=\" \",\" \",I88*0.022-1.52)","v":{"v":5.916,"d":"5.9"}},{"$f":"IF(N88=\" \",\" \",T88*0.66)","v":{"v":3.9045600000000005,"d":"3.9"}},4.1,8.5,{"$f":"W88*0.3","v":{"v":2.55,"d":"2.6"}},{"v":5.525,"d":"5.5"},5.1,{"v":0.9,"d":"0.90"},8.5,{"$f":"IF($I88=\"\",\" \",$I88*0.0184-0.16)","v":{"v":6.0592,"d":"6.1"}},{"$f":"AC88*0.61","v":{"v":3.696112,"d":"3.7"}},24,36,48,{"$f":"66*H88/1000","v":{"v":58.74,"d":"59"}},{"v":293.41239999999993,"d":"293"},{"v":340.26,"d":"340"},{"$f":"AL88+AM88","v":{"v":17.04,"d":"17.0"}},{"$f":"66*AE88/100","v":{"v":15.84,"d":"15.8"}},{"$f":"5*AE88/100","v":1.2},{"$nulls":3},{"v":219.39,"d":"219"},{"v":1175.434,"d":"1175"},{"v":246.81060000000002,"d":"247"},{"v":376.26,"d":"376"},{"v":0.74,"d":"74%"},{"v":0.66,"d":"66%"},{"v":0.61,"d":"61%"},{"v":0.28,"d":"28%"},{"v":0.81,"d":"81%"},{"$f":"0.7*H88/1000","v":{"v":0.623,"d":"0.62"}},103,215,{"v":-2.8923335602000004,"d":"-2.89"}]
["Leinkuchen / Expeller 4-8% Fett 33% RP DLG 2014",{"$f":"IF(D89=\"\",\" \",COUNTA($D$8:D89))","v":80},null,"Leinkuchen / Expeller 4-8% Fett",{"$f":"IF(I89=0,\" \",ROUND(I89/10,0))","v":{"v":33,"d":"33 % RP"}},"DLG 2014",null,900,333,{"$f":"I89*0.75","v":{"v":249.75,"d":"250"}},95,{"v":11.627713,"d":"11.63"},{"v":12.511579000000001,"d":"12.51"},{"$f":"IF(I89=0,\" \",I89*0.0275+3.15)","v":{"v":12.307500000000001,"d":"12.3"}},{"$f":"IF(N89=\" \",\" \",N89*0.82)","v":{"v":10.09215,"d":"10.1"}},{"$f":"IF(N89=\" \",\" \",I89*0.0321+0.9)","v":{"v":11.5893,"d":"11.6"}},{"$f":"IF(N89=\" \",\" \",P89*(6*0.85+5.9*0.85)/11.9)","v":{"v":9.850905,"d":"9.9"}},{"$f":"IF(N89=\" \",\" \",I89*0.0362+0.08)","v":{"v":12.1346,"d":"12.1"}},{"$f":"IF(N89=\" \",\" \",R89*0.8)","v":{"v":9.707680000000002,"d":"9.7"}},{"$f":"IF(N89=\" \",\" \",I89*0.022-1.52)","v":{"v":5.805999999999999,"d":"5.8"}},{"$f":"IF(N89=\" \",\" \",T89*0.84)","v":{"v":4.877039999999999,"d":"4.9"}},4.1,8.1,{"$f":"W89*0.35","v":{"v":2.8349999999999995,"d":"2.8"}},{"v":5.265,"d":"5.3"},{"v":5,"d":"5.0"},{"v":0.9,"d":"0.90"},10.3,{"$f":"IF($I89=\"\",\" \",$I89*0.0184-0.16)","v":{"v":5.9672,"d":"6.0"}},{"$f":"AC89*0.85","v":{"v":5.07212,"d":"5.1"}},72,0,40,59,{"v":280.25999999999993,"d":"280"},341,{"$f":"AL89+AM89","v":{"v":38.160000000000004,"d":"38.2"}},{"$f":"48*AE89/100","v":{"v":34.56,"d":"34.6"}},{"$f":"5*AE89/100","v":3.6},{"$nulls":3},{"v":283.7191,"d":"284"},{"v":1158.074,"d":"1158"},{"v":262.81000000000006,"d":"263"},341,{"v":0.73,"d":"73%"},{"v":0.75,"d":"75%"},{"v":0.61,"d":"61%"},{"v":0.28,"d":"28%"},{"v":0.81,"d":"81%"},{"$f":"0.6*H89/1000","v":0.54},{"$f":"BA88*H89/H88*K88/K89","v":{"v":101.96451803666471,"d":"102"}},{"$f":"BB88/H88*H89*K89/K88","v":{"v":222.09133744110184,"d":"222"}},{"v":-0.1255473299999985,"d":"-0.13"}]
["Lupinen blau 30% RP DLG 2014",{"$f":"IF(D90=\"\",\" \",COUNTA($D$8:D90))","v":81},null,"Lupinen blau",{"v":30,"d":"30 % RP"},"DLG 2014",null,880,295,{"$f":"I90*0.85","v":{"v":250.75,"d":"251"}},143,{"v":13.468937999999998,"d":"13.47"},{"v":10.297074000000002,"d":"10.30"},{"$f":"IF(I90=0,\" \",(I90/H90*880*0.0375+2.56)/880*H90)","v":{"v":13.6225,"d":"13.6"}},{"$f":"N90*0.84","v":{"v":11.4429,"d":"11.4"}},{"$f":"IF(N90=\" \",\" \",(I90/H90*880*0.0331-3.93)/880*H90)","v":{"v":5.8345,"d":"5.8"}},{"$f":"P90*(1.8*0.81+4.4*0.91)/6.2","v":{"v":5.140006290322582,"d":"5.1"}},{"$f":"IF(N90=\" \",\" \",(I90/H90*880*0.028+1.65)/880*H90)","v":{"v":9.91,"d":"9.9"}},{"$f":"R90*0.83","v":{"v":8.225299999999999,"d":"8.2"}},{"$f":"IF(N90=\" \",\" \",(I90/H90*880*0.0069+0.53)/880*H90)","v":{"v":2.5655,"d":"2.6"}},{"$f":"T90*0.85","v":{"v":2.180675,"d":"2.2"}},1.8,2.8,{"$f":"W90*0.5","v":1.4},{"v":1.8199999999999998,"d":"1.8"},1.7,0.35,8.4,{"$f":"IF($I90=\"\",\" \",($I90/H90*880*0.0045+0.6)/880*H90)","v":{"v":1.9274999999999998,"d":"1.9"}},{"$f":"AC90*0.81","v":{"v":1.561275,"d":"1.6"}},48,53,49,32,{"v":359.89,"d":"360"},309,{"$f":"78*AE90/$AE$92","v":{"v":48.62337662337662,"d":"48.6"}},{"$nulls":5},{"v":194.28349999999998,"d":"194"},{"v":856.372,"d":"856"},{"v":349.06000000000006,"d":"349"},362,{"v":0.88,"d":"88%"},{"v":0.85,"d":"85%"},{"v":0.7,"d":"70%"},{"v":0.8,"d":"80%"},{"v":0.93,"d":"93%"},{"$f":"1.2*H90/1000","v":{"v":1.056,"d":"1.06"}},{"$f":"103*H90/1000*K90/$K$92","v":{"v":113.69754385964913,"d":"114"}},{"$f":"175*H90/1000*K90/$K$92","v":{"v":193.17543859649123,"d":"193"}},{"v":-3.171135979999998,"d":"-3.17"}]
["Lupinen gelb 38% RP DLG 2014",{"$f":"IF(D91=\"\",\" \",COUNTA($D$8:D91))","v":82},null,"Lupinen gelb",{"v":38,"d":"38 % RP"},"DLG 2014",null,880,378,{"$f":"I91*0.88","v":{"v":332.64,"d":"333"}},148,{"v":13.606580000000003,"d":"13.61"},{"v":10.538852,"d":"10.54"},{"$f":"IF(I91=0,\" \",I91*0.0428+1.85)","v":{"v":18.0284,"d":"18.0"}},{"$f":"N91*0.84","v":{"v":15.143856000000001,"d":"15.1"}},{"$f":"IF(N91=\" \",\" \",(I91/H91*880*0.0331-3.93)/880*H91)","v":{"v":8.5818,"d":"8.6"}},{"$f":"P91*(3.1*0.81+8.8*0.91)/11.9","v":{"v":7.585878504201681,"d":"7.6"}},{"$f":"IF(N91=\" \",\" \",(I91/H91*880*0.0225+3.93)/880*H91)","v":{"v":12.434999999999999,"d":"12.4"}},{"$f":"R91*0.83","v":{"v":10.321049999999998,"d":"10.3"}},{"$f":"IF(N91=\" \",\" \",(I91/H91*880*0.0069+0.53)/880*H91)","v":{"v":3.1382000000000003,"d":"3.1"}},{"$f":"T91*0.85","v":{"v":2.6674700000000002,"d":"2.7"}},1.8,4.9,{"$f":"W91*0.5","v":{"v":2.45,"d":"2.5"}},{"v":3.1850000000000005,"d":"3.2"},2.2,0.35,10.5,{"$f":"IF($I91=\"\",\" \",($I91/H91*880*0.0045+0.6)/880*H91)","v":{"v":2.3009999999999997,"d":"2.3"}},{"$f":"AC91*0.81","v":{"v":1.86381,"d":"1.9"}},51,40,48,44,{"v":274.0400000000001,"d":"274"},219,{"$f":"78*AE91/$AE$92","v":{"v":51.66233766233766,"d":"51.7"}},{"$nulls":5},{"v":143.08859999999999,"d":"143"},{"v":1088.172,"d":"1088"},{"v":271.27,"d":"271"},259,{"v":0.87,"d":"87%"},{"v":0.88,"d":"88%"},{"v":0.64,"d":"64%"},{"v":0.8,"d":"80%"},{"v":0.93,"d":"93%"},{"$f":"0.7*H91/1000","v":{"v":0.616,"d":"0.62"}},{"$f":"103*H91/1000*K91/$K$92","v":{"v":117.67298245614035,"d":"118"}},{"$f":"175*H91/1000*K91/$K$92","v":{"v":199.9298245614035,"d":"200"}},{"v":-5.55363804,"d":"-5.55"}]
["Lupinen weiß 33% RP DLG 2014",{"$f":"IF(D92=\"\",\" \",COUNTA($D$8:D92))","v":83},null,"Lupinen weiß",{"v":33,"d":"33 % RP"},"DLG 2014",null,880,326,{"$f":"I92*0.89","v":{"v":290.14,"d":"290"}},114,{"v":13.964832880000003,"d":"13.96"},{"v":12.022331920000003,"d":"12.02"},{"$f":"IF(I92=0,\" \",I92*0.0381+3.17)","v":{"v":15.5906,"d":"15.6"}},{"$f":"N92*0.84","v":{"v":13.096104,"d":"13.1"}},{"$f":"IF(N92=\" \",\" \",(I92/H92*880*0.0331-3.93)/880*H92)","v":{"v":6.8606,"d":"6.9"}},{"$f":"P92*(2.3*0.81+4.4*0.91)/6.7","v":{"v":6.007632865671642,"d":"6.0"}},{"$f":"IF(N92=\" \",\" \",(I92/H92*880*0.0333+0.24)/880*H92)","v":{"v":11.0958,"d":"11.1"}},{"$f":"R92*0.83","v":{"v":9.209514,"d":"9.2"}},{"$f":"IF(N92=\" \",\" \",(I92/H92*880*0.0069+0.53)/880*H92)","v":{"v":2.7794,"d":"2.8"}},{"$f":"T92*0.85","v":{"v":2.3624899999999998,"d":"2.4"}},1.8,{"v":4,"d":"4.0"},{"$f":"W92*0.5","v":{"v":2,"d":"2.0"}},2.6,1.7,0.35,9.4,{"$f":"IF($I92=\"\",\" \",($I92/H92*880*0.0051+0.32)/880*H92)","v":{"v":1.9826,"d":"2.0"}},{"$f":"AC92*0.81","v":{"v":1.605906,"d":"1.6"}},77,66,62,{"$f":"41*H92/1000","v":{"v":36.08,"d":"36"}},{"v":266.7904,"d":"267"},{"v":260.9200000000001,"d":"261"},{"v":78,"d":"78.0"},{"$nulls":5},{"v":148.4642,"d":"148"},{"v":933.872,"d":"934"},{"v":267.23560000000003,"d":"267"},{"v":326.92,"d":"327"},{"v":0.87,"d":"87%"},{"v":0.89,"d":"89%"},{"v":0.64,"d":"64%"},{"v":0.8,"d":"80%"},{"v":0.93,"d":"93%"},{"$f":"0.7*H92/1000","v":{"v":0.616,"d":"0.62"}},{"$f":"103*H92/1000*K92/$K$92","v":{"v":90.64000000000001,"d":"91"}},{"$f":"175*H92/1000*K92/$K$92","v":154},{"v":0.1993023016000004,"d":"0.20"}]
["eigene Lupinen (blau) ",{"$f":"IF(D93=\"\",\" \",COUNTA($D$8:D93))","v":84},null,"eigene Lupinen (blau)"," ",{"$nulls":4},{"$f":"IF(I93=0,\" \",I93*0.85)","v":" "},null,{"$f":"IF($I93=\"\",\" \",I93*0.0205*AV93+0.0398*AW93*AE93+0.0173*AF93+0.016*$AG93+0.0147*AI93)","v":" "}," ",{"$f":"IF(I93=0,\" \",(I93/H93*880*0.0375+2.56)/880*H93)","v":" "},{"$f":"IF(N93=\" \",\" \",N93*0.84)","v":" "},{"$f":"IF(N93=\" \",\" \",(I93/H93*880*0.0331-3.93)/880*H93)","v":" "},{"$f":"IF(N93=\" \",\" \",P93*(1.8*0.81+4.4*0.91)/6.2)","v":" "},{"$f":"IF(N93=\" \",\" \",(I93/H93*880*0.028+1.65)/880*H93)","v":" "},{"$f":"IF(N93=\" \",\" \",R93*0.81)","v":" "},{"$f":"IF(N93=\" \",\" \",(I93/H93*880*0.0069+0.53)/880*H93)","v":" "},{"$f":"IF(N93=\" \",\" \",T93*0.85)","v":" "},{"$f":"IF($I93=0,\" \",V90*$H93/$H90)","v":" "}," "," "," "," "," "," ",{"$f":"IF($I93=\"\",\" \",($I93/H93*880*0.0045+0.6)/880*H93)","v":" "},{"$f":"IF(AC93=\" \",\" \",AC93*0.81)","v":" "},{"$nulls":4},{"$f":"IF($I93=\"\",\" \",(H93-AH93)*AU93-I93*AV93-AE93*AW93-AF93-AG93)","v":" "}," ",{"$f":"IF($I93=0,\" \",AK90*$H93/$H90)","v":" "}," "," "," "," "," ","","",{"$f":"IF($I93=0,\" \",AX93*K93+AY93*AT93-AF93-AG93)","v":" "}," ",{"$f":"IF($I93=0,\" \",AU90)","v":" "},{"$f":"IF($I93=0,\" \",AV90)","v":" "},{"$f":"IF($I93=0,\" \",AW90)","v":" "},{"$f":"IF($I93=0,\" \",AX90)","v":" "},{"$f":"IF($I93=0,\" \",AY90)","v":" "},{"$f":"IF($I93=0,\" \",AZ90*$H93/$H90)","v":" "},{"$f":"IF($I93=0,\" \",BA92*$H93/$H92*K93/K92)","v":" "},{"$f":"IF($I93=0,\" \",BB92*$H93/$H92*K93/K92)","v":" "},""]
["Malzkeime 27% RP DLG 2005",{"$f":"IF(D94=\"\",\" \",COUNTA($D$8:D94))","v":85},null,"Malzkeime",{"v":27,"d":"27 % RP"},"DLG 2005",null,920,273,{"$f":"I94*0.75","v":{"v":204.75,"d":"205"}},133,{"$f":"I94*0.0205*AV94+0.0398*AW94*AE94+0.0173*AF94+0.016*$AG94+0.0147*AI94","v":{"v":8.232314399999998,"d":"8.23"}},{"v":9.922941600000001,"d":"9.92"},{"$f":"IF(I94=0,\" \",(I94/H94*880*0.0561-1.69)/880*H94)","v":{"v":13.548481818181818,"d":"13.5"}},{"$f":"N94*0.71","v":{"v":9.61942209090909,"d":"9.6"}},{"$f":"IF(N94=\" \",\" \",(I94/H94*880*0.0212+1.29)/880*H94)","v":{"v":7.136236363636363,"d":"7.1"}},{"$f":"P94*0.71","v":{"v":5.066727818181818,"d":"5.1"}},{"$f":"IF(N94=\" \",\" \",(I94/H94*880*0.0331+0.19)/880*H94)","v":{"v":9.234936363636363,"d":"9.2"}},{"$f":"R94*0.71","v":{"v":6.556804818181817,"d":"6.6"}},{"$f":"IF(N94=\" \",\" \",(I94/H94*880*0.01-0.09)/880*H94)","v":{"v":2.635909090909091,"d":"2.6"}},{"$f":"T94*0.71","v":{"v":1.8714954545454547,"d":"1.9"}},2.7,7.2,1.8,{"$f":"W94*0.65","v":{"v":4.680000000000001,"d":"4.7"}},1.6,0.57,16.9,{"$f":"IF($I94=\"\",\" \",($I94/H94*880*0.0124+0.46)/880*H94)","v":{"v":3.8661090909090907,"d":"3.9"}},{"$f":"AC94*0.71","v":{"v":2.7449374545454543,"d":"2.7"}},10,42,128,{"$f":"70*H94/1000","v":{"v":64.4,"d":"64"}},{"$f":"(H94-AH94)*AU94-I94*AV94-AE94*AW94-AF94-AG94","v":{"v":185.5519999999999,"d":"186"}},{"v":397.6,"d":"398"},4.4,{"$nulls":5},{"v":160.29246530089637,"d":"160"},{"v":814.638,"d":"815"},{"$f":"AX94*K94+AY94*AT94-AF94-AG94","v":{"v":188.666,"d":"189"}},{"v":439.6,"d":"440"},{"v":0.57,"d":"57%"},{"v":0.48,"d":"48%"},{"v":0.11,"d":"11%"},{"v":0.35,"d":"35%"},{"v":0.71,"d":"71%"},{"$f":"(0.93*23*AA94)/35.5+Z94","v":{"v":1.9434450704225352,"d":"1.94"}},{"$f":"63*H94/1000*K94/$K$94","v":{"v":57.96,"d":"58"}},{"$f":"198*H94/1000*K94/$K$94","v":{"v":182.16,"d":"182"}},{"v":-4.673252632,"d":"-4.67"}]
["Magermilchpulver 35% RP DLG 2014",{"$f":"IF(D95=\"\",\" \",COUNTA($D$8:D95))","v":86},null,"Magermilchpulver",{"v":35,"d":"35 % RP"},"DLG 2014",null,960,350,{"$f":"I95*0.95","v":{"v":332.5,"d":"333"}},0,{"$f":"I95*0.0205*AV95+0.0398*AW95*AE95+0.0173*AF95+0.016*$AG95+0.0147*AI95","v":{"v":15.010265839999999,"d":"15.01"}},{"v":15.41126432,"d":"15.41"},26.9,{"$f":"N95*0.97","v":{"v":26.092999999999996,"d":"26.1"}},{"$f":"8.6+2.9","v":11.5},{"$f":"P95*(0.97*8.6+2.9*0.91)/11.5","v":{"v":10.980999999999998,"d":"11.0"}},15.4,{"$f":"R95*0.93","v":{"v":14.322000000000001,"d":"14.3"}},4.7,{"$f":"T95*0.91","v":{"v":4.277,"d":"4.3"}},{"v":13,"d":"13.0"},10.1,{"$f":"W95*0.85","v":{"v":8.584999999999999,"d":"8.6"}},{"$f":"X95","v":{"v":8.584999999999999,"d":"8.6"}},1.2,{"v":5.2,"d":"5.20"},15.2,{"$f":"IF($I95=\"\",\" \",($I95/H95*880*0.0374-4.57)/880*H95)","v":{"v":8.104545454545454,"d":"8.1"}},{"$f":"AC95*0.97","v":{"v":7.86140909090909,"d":"7.9"}},5,0,470,{"$f":"83*H95/1000","v":{"v":79.68,"d":"80"}},{"$f":"(H95-AH95)*AU95-I95*AV95-AE95*AW95-AF95-AG95","v":{"v":40.70719999999994,"d":"41"}},{"v":525.3199999999999,"d":"525"},0.4,{"$nulls":5},{"v":155.1119999999999,"d":"155"},{"$f":"IF(H95=\"\",\"\",V95/1000*20140+Z95/1000*48600+1300/430*I95)","v":{"v":1378.2795348837208,"d":"1378"}},{"$f":"AX95*K95+AY95*AT95-AF95-AG95","v":{"v":44.81359999999995,"d":"45"}},{"v":525.3199999999999,"d":"525"},{"v":0.96,"d":"96%"},{"v":0.95,"d":"95%"},{"v":0.38,"d":"38%"},{"v":0,"d":"0%"},{"v":0.98,"d":"98%"},{"$f":"17.6*H95/1000","v":{"v":16.896,"d":"16.90"}},{"$f":"K95","v":0},{"$f":"0*H95/1000","v":0},{"v":1.7252229535999994,"d":"1.73"}]
["Rapsschrot-00Typ (RES) 36% RP DLG 2014",{"$f":"IF(D96=\"\",\" \",COUNTA($D$8:D96))","v":87},null,"Rapsschrot-00Typ (RES)",{"v":36,"d":"36 % RP"},"DLG 2014","6",890,355,{"$f":"I96*0.71","v":{"v":252.04999999999998,"d":"252"}},116,{"$f":"I96*0.0205*AV96+0.0398*AW96*AE96+0.0173*AF96+0.016*$AG96+0.0147*AI96","v":{"v":9.924853000000002,"d":"9.92"}},{"v":10.815171,"d":"10.82"},{"$f":"IF(I96=0,\" \",(I96/H96*880*0.0547+0.52)/880*H96)","v":{"v":19.944409090909087,"d":"19.9"}},{"$f":"IF(N96=\" \",\" \",N96*0.73)","v":{"v":14.559418636363633,"d":"14.6"}},{"$f":"IF(N96=\" \",\" \",(I96/H96*880*0.049-2.17)/880*H96)","v":{"v":15.20034090909091,"d":"15.2"}},{"$f":"IF(N96=\" \",\" \",P96*0.82)","v":{"v":12.464279545454545,"d":"12.5"}},15.1,{"$f":"IF(N96=\" \",\" \",R96*0.68)","v":{"v":10.268,"d":"10.3"}},4.9,{"$f":"IF(N96=\" \",\" \",T96*0.72)","v":{"v":3.528,"d":"3.5"}},7.7,10.7,{"$f":"W96*0.3","v":{"v":3.2099999999999995,"d":"3.2"}},{"$f":"W96*0.65","v":{"v":6.955,"d":"7.0"}},5.3,{"v":0.5,"d":"0.50"},11.7,{"$f":"IF($I96=\"\",\" \",($I96/H96*880*0.0169+0.87)/880*H96)","v":{"v":6.879386363636363,"d":"6.9"}},{"$f":"AC96*0.82","v":{"v":5.6410968181818175,"d":"5.6"}},27,0,71,69,{"$f":"(H96-AH96)*AU96-I96*AV96-AE96*AW96-AF96-AG96","v":{"v":215.68000000000012,"d":"216"}},323,{"$f":"AL96+AM96","v":{"v":7.83,"d":"7.8"}},{"$f":"20*AE96/100","v":5.4},{"$f":"9*AE96/100","v":{"v":2.43,"d":"2.4"}},{"$nulls":3},{"v":314.7195681818181,"d":"315"},{"$f":"IF(H96=\"\",\"\",V96/1000*20140+Z96/1000*48600+1100/440*I96)","v":{"v":1300.158,"d":"1300"}},{"$f":"AX96*K96+AY96*AT96-AF96-AG96","v":{"v":191.06,"d":"191"}},323,{"v":0.67,"d":"67%"},{"v":0.71,"d":"71%"},{"v":0.42,"d":"42%"},{"v":0.31,"d":"31%"},{"v":0.7,"d":"70%"},{"$f":"0.3*H96/1000","v":{"v":0.267,"d":"0.27"}},193,279,{"v":-5.31592517,"d":"-5.32"}]
["eigenes Rapsschrot ",{"$f":"IF(D97=\"\",\" \",COUNTA($D$8:D97))","v":88},null,"eigenes Rapsschrot"," ",{"$nulls":4},{"$f":"IF(I97=0,\" \",I97*0.71)","v":" "},null,{"$f":"IF($I97=\"\",\" \",I97*0.0205*AV97+0.0398*AW97*AE97+0.0173*AF97+0.016*$AG97+0.0147*AI97)","v":" "}," ",{"$f":"IF(I97=0,\" \",(I97/H97*880*0.0547+0.52)/880*H97)","v":" "},{"$f":"IF(N97=\" \",\" \",N97*0.73)","v":" "},{"$f":"IF(N97=\" \",\" \",(I97/H97*880*0.049-2.17)/880*H97)","v":" "},{"$f":"IF(N97=\" \",\" \",P97*0.82)","v":" "},{"$f":"IF(N97=\" \",\" \",(I97/H97*880*0.0245+6.2)/880*H97)","v":" "},{"$f":"IF(N97=\" \",\" \",R97*0.68)","v":" "},{"$f":"IF(N97=\" \",\" \",(I97/H97*880*0.0147-0.42)/880*H97)","v":" "},{"$f":"IF(N97=\" \",\" \",T97*0.72)","v":" "},{"$f":"IF($I97=0,\" \",V96*$H97/$H96)","v":" "}," "," "," "," "," "," ",{"$f":"IF($I97=\"\",\" \",($I97/H97*880*0.0169+0.87)/880*H97)","v":" "},{"$f":"IF(AC97=\" \",\" \",AC97*0.82)","v":" "},{"$nulls":4},{"$f":"IF($I97=\"\",\" \",(H97-AH97)*AU97-I97*AV97-AE97*AW97-AF97-AG97)","v":" "}," ",{"$f":"IF($I97=0,\" \",AK96*$H97/$H96)","v":" "}," "," "," "," "," ","","",{"$f":"IF($I97=0,\" \",AX97*K97+AY97*AT97-AF97-AG97)","v":" "},{"$f":"IF(H97=\"\",\" \",H97-I97-AE97-AH97-K97)","v":" "},{"$f":"IF($I97=0,\" \",AU96)","v":" "},{"$f":"IF($I97=0,\" \",AV96)","v":" "},{"$f":"IF($I97=0,\" \",AW96)","v":" "},{"$f":"IF($I97=0,\" \",AX96)","v":" "},{"$f":"IF($I97=0,\" \",AY96)","v":" "},{"$f":"IF($I97=0,\" \",AZ96*$H97/$H96)","v":" "},{"$f":"IF($I97=0,\" \",BA96*$H97/$H96*K97/K96)","v":" "},{"$f":"IF($I97=0,\" \",BB96*$H97/$H96*K97/K96)","v":" "},""]
["RES Ø RES-Monitoring 2005-2014 34% RP Ø BRD",{"$f":"IF(D98=\"\",\" \",COUNTA($D$8:D98))","v":89},null,"RES Ø RES-Monitoring 2005-2014",{"v":34,"d":"34 % RP"},"Ø BRD",null,889,339,{"$f":"I98*0.71","v":{"v":240.69,"d":"241"}},116,{"$f":"I98*0.0205*AV98+0.0398*AW98*AE98+0.0173*AF98+0.016*$AG98+0.0147*AI98","v":{"v":9.8607815,"d":"9.86"}},{"v":10.7115231,"d":"10.71"},19.6,{"$f":"IF(N98=\" \",\" \",N98*0.73)","v":{"v":14.308,"d":"14.3"}},{"$f":"7.9+7","v":14.9},{"$f":"IF(N98=\" \",\" \",P98*0.82)","v":{"v":12.218,"d":"12.2"}},15.4,{"$f":"IF(N98=\" \",\" \",R98*0.68)","v":{"v":10.472000000000001,"d":"10.5"}},4.8,{"$f":"IF(N98=\" \",\" \",T98*0.72)","v":{"v":3.456,"d":"3.5"}},7.6,10.5,{"$f":"W98*0.3","v":{"v":3.15,"d":"3.2"}},{"$f":"W98*0.65","v":{"v":6.825,"d":"6.8"}},5.3,{"v":0.5,"d":"0.50"},12.6,{"v":7,"d":"7.0"},{"$f":"AC98*0.82","v":{"v":5.739999999999999,"d":"5.7"}},{"v":28.2,"d":"28"},0,71,{"v":69.1,"d":"69"},{"$f":"IF($I98=\"\",\" \",(H98-AH98)*AU98-I98*AV98-AE98*AW98-AF98-AG98)","v":{"v":225.79899999999998,"d":"226"}},{"v":336.70000000000005,"d":"337"},{"$f":"AL98+AM98","v":{"v":8.177999999999999,"d":"8.2"}},{"$f":"20*AE98/100","v":{"v":5.64,"d":"5.6"}},{"$f":"9*AE98/100","v":{"v":2.538,"d":"2.5"}},{"$nulls":3},{"v":350.69999999999993,"d":"351"},{"v":1258.144,"d":"1258"},{"$f":"AX98*K98+AY98*AT98-AF98-AG98","v":{"v":200.64999999999992,"d":"201"}},{"v":336.69999999999993,"d":"337"},{"v":0.67,"d":"67%"},{"v":0.71,"d":"71%"},{"v":0.42,"d":"42%"},{"v":0.31,"d":"31%"},{"v":0.7,"d":"70%"},{"v":0.2,"d":"0.20"},206,255,{"v":-4.877588137000002,"d":"-4.88"}]
["Rapskuchen  > 20 % Fett 22% RP ",{"$f":"IF(D99=\"\",\" \",COUNTA($D$8:D99))","v":90},null,"Rapskuchen  > 20 % Fett",{"v":22,"d":"22 % RP"},null,"1",900,220,{"$f":"I99*0.85","v":187},96,{"$f":"I99*0.0205*AV99+0.0398*AW99*AE99+0.0173*AF99+0.016*$AG99+0.0147*AI99","v":{"v":15.185009999999998,"d":"15.19"}},{"v":14.440027,"d":"14.44"},{"v":13.838709677419354,"d":"13.8"},{"$f":"N99*0.74","v":{"v":10.240645161290322,"d":"10.2"}},{"v":11.567741935483872,"d":"11.6"},{"$f":"P99*(6.3*0.81+7.2*0.7)/13.5","v":{"v":8.691230107526883,"d":"8.7"}},{"v":10.148387096774194,"d":"10.1"},{"$f":"R99*0.71","v":{"v":7.2053548387096775,"d":"7.2"}},{"v":2.9806451612903224,"d":"3.0"},{"$f":"T99*0.71","v":{"v":2.1162580645161286,"d":"2.1"}},{"v":4.967741935483871,"d":"5.0"},{"v":9.296774193548387,"d":"9.3"},{"$f":"W99*0.35","v":{"v":3.2538709677419355,"d":"3.3"}},{"v":6.042903225806452,"d":"6.0"},{"v":3.2645161290322577,"d":"3.3"},{"v":0.1,"d":"0.10"},{"v":8.516129032258064,"d":"8.5"},{"$f":"IF($I99=\"\",\" \",$I99*0.0195-0.01)","v":{"v":4.28,"d":"4.3"}},{"$f":"AC99*0.81","v":{"v":3.4668000000000005,"d":"3.5"}},214,0,75,45,{"$f":"(H99-AH99)*AU99-I99*AV99-AE99*AW99-AF99-AG99","v":{"v":225.69999999999993,"d":"226"}},325,{"v":62.06,"d":"62.1"},{"$f":"20*AE99/100","v":42.8},{"$f":"9*AE99/100","v":{"v":19.26,"d":"19.3"}},{"$nulls":3},{"v":38.71096774193535,"d":"39"},{"v":808.705806451613,"d":"809"},{"$f":"AX99*K99+AY99*AT99-AF99-AG99","v":{"v":233.74,"d":"234"}},325,{"v":0.76,"d":"76%"},{"v":0.76,"d":"76%"},{"v":0.85,"d":"85%"},{"v":0.44,"d":"44%"},{"v":0.82,"d":"82%"},{"$f":"0.3*H99/1000","v":0.27},198,288,{"v":12.21521971,"d":"12.22"}]
["Rapskuchen 16 - 20 % Fett 27% RP ",{"$f":"IF(D100=\"\",\" \",COUNTA($D$8:D100))","v":91},null,"Rapskuchen 16 - 20 % Fett",{"v":27,"d":"27 % RP"},null,"33",900,267,{"$f":"I100*0.85","v":{"v":226.95,"d":"227"}},112,{"$f":"I100*0.0205*AV100+0.0398*AW100*AE100+0.0173*AF100+0.016*$AG100+0.0147*AI100","v":{"v":14.427065999999998,"d":"14.43"}},{"v":13.328519,"d":"13.33"},{"v":16.8551612903226,"d":"16.9"},{"$f":"N100*0.74","v":{"v":12.472819354838723,"d":"12.5"}},{"v":14.039032258064518,"d":"14.0"},{"$f":"P100*(6.3*0.81+7.2*0.7)/13.5","v":{"v":10.547992903225808,"d":"10.5"}},{"v":12.316451612903228,"d":"12.3"},{"$f":"R100*0.71","v":{"v":8.74468064516129,"d":"8.7"}},{"v":3.61741935483871,"d":"3.6"},{"$f":"T100*0.71","v":{"v":2.568367741935484,"d":"2.6"}},{"v":6.029032258064516,"d":"6.0"},{"v":11.282903225806452,"d":"11.3"},{"$f":"W100*0.35","v":{"v":3.949016129032258,"d":"3.9"}},{"v":7.333887096774194,"d":"7.3"},{"v":3.9619354838709673,"d":"4.0"},{"v":0.1,"d":"0.10"},{"v":10.335483870967742,"d":"10.3"},{"$f":"IF($I100=\"\",\" \",$I100*0.0195-0.01)","v":{"v":5.1965,"d":"5.2"}},{"$f":"AC100*0.81","v":{"v":4.2091650000000005,"d":"4.2"}},174,0,75,55,{"$f":"(H100-AH100)*AU100-I100*AV100-AE100*AW100-AF100-AG100","v":{"v":216.38,"d":"216"}},292,{"v":50.459999999999994,"d":"50.5"},{"$f":"20*AE100/100","v":34.8},{"$f":"9*AE100/100","v":{"v":15.66,"d":"15.7"}},{"$nulls":3},{"v":47.65612903225795,"d":"48"},{"v":981.4747741935485,"d":"981"},{"$f":"AX100*K100+AY100*AT100-AF100-AG100","v":{"v":213.72000000000003,"d":"214"}},292,{"v":0.76,"d":"76%"},{"v":0.76,"d":"76%"},{"v":0.85,"d":"85%"},{"v":0.44,"d":"44%"},{"v":0.82,"d":"82%"},{"$f":"0.3*H100/1000","v":0.27},198,288,{"v":7.23181887,"d":"7.23"}]
["Rapskuchen 12 - 16 % Fett 28% RP ",{"$f":"IF(D101=\"\",\" \",COUNTA($D$8:D101))","v":92},null,"Rapskuchen 12 - 16 % Fett",{"$f":"IF(I101=0,\" \",ROUND(I101/10,0))","v":{"v":28,"d":"28 % RP"}},null,"42",900,280,{"$f":"I101*0.85","v":238},108,{"$f":"I101*0.0205*AV101+0.0398*AW101*AE101+0.0173*AF101+0.016*$AG101+0.0147*AI101","v":{"v":13.693966000000001,"d":"13.69"}},{"v":12.889975,"d":"12.89"},{"v":17.424193548387098,"d":"17.4"},{"$f":"N101*0.74","v":{"v":12.893903225806453,"d":"12.9"}},{"v":14.56483870967742,"d":"14.6"},{"$f":"P101*(6.3*0.81+7.2*0.7)/13.5","v":{"v":10.943048817204303,"d":"10.9"}},{"v":12.777741935483872,"d":"12.8"},{"$f":"R101*0.71","v":{"v":9.072196774193548,"d":"9.1"}},{"v":3.752903225806452,"d":"3.8"},{"$f":"T101*0.71","v":{"v":2.664561290322581,"d":"2.7"}},{"v":6.254838709677419,"d":"6.3"},{"v":11.705483870967742,"d":"11.7"},{"$f":"W101*0.35","v":{"v":4.096919354838709,"d":"4.1"}},{"v":7.608564516129032,"d":"7.6"},{"v":4.11032258064516,"d":"4.1"},{"v":0.1,"d":"0.10"},{"v":10.72258064516129,"d":"10.7"},{"$f":"IF($I101=\"\",\" \",$I101*0.0195-0.01)","v":{"v":5.45,"d":"5.5"}},{"$f":"AC101*0.81","v":{"v":4.4145,"d":"4.4"}},138,0,75,57,{"$f":"IF($I101=\"\",\" \",(H101-AH101)*AU101-I101*AV101-AE101*AW101-AF101-AG101)","v":{"v":235.58000000000004,"d":"236"}},317,{"v":40.02,"d":"40.0"},{"$f":"20*AE101/100","v":27.6},{"$f":"9*AE101/100","v":{"v":12.42,"d":"12.4"}},{"$nulls":3},{"v":49.55935483870945,"d":"50"},{"v":1025.734129032258,"d":"1026"},{"$f":"AX101*K101+AY101*AT101-AF101-AG101","v":{"v":232.45999999999998,"d":"232"}},{"$f":"IF(H101=\"\",\" \",H101-I101-AE101-AH101-K101)","v":317},{"v":0.76,"d":"76%"},{"v":0.76,"d":"76%"},{"v":0.85,"d":"85%"},{"v":0.44,"d":"44%"},{"v":0.82,"d":"82%"},{"$f":"0.3*H101/1000","v":0.27},198,288,{"v":4.731681750000001,"d":"4.73"}]
["Rapskuchen   8 - 12 % Fett 30% RP ",{"$f":"IF(D102=\"\",\" \",COUNTA($D$8:D102))","v":93},null,"Rapskuchen   8 - 12 % Fett",{"v":30,"d":"30 % RP"},null,"24",900,299,{"$f":"I102*0.85","v":{"v":254.15,"d":"254"}},114,{"$f":"I102*0.0205*AV102+0.0398*AW102*AE102+0.0173*AF102+0.016*$AG102+0.0147*AI102","v":{"v":13.092979999999999,"d":"13.09"}},{"v":12.211897,"d":"12.21"},{"v":18.74516129032258,"d":"18.7"},{"$f":"N102*0.74","v":{"v":13.87141935483871,"d":"13.9"}},{"v":15.669032258064519,"d":"15.7"},{"$f":"P102*(6.3*0.81+7.2*0.7)/13.5","v":{"v":11.772666236559143,"d":"11.8"}},{"v":13.746451612903227,"d":"13.7"},{"$f":"R102*0.71","v":{"v":9.75998064516129,"d":"9.8"}},{"v":4.03741935483871,"d":"4.0"},{"$f":"T102*0.71","v":{"v":2.866567741935484,"d":"2.9"}},{"v":6.7290322580645165,"d":"6.7"},{"v":12.59290322580645,"d":"12.6"},{"$f":"W102*0.35","v":{"v":4.407516129032257,"d":"4.4"}},{"v":8.185387096774193,"d":"8.2"},{"v":4.421935483870968,"d":"4.4"},{"v":0.1,"d":"0.10"},{"v":11.535483870967742,"d":"11.5"},{"$f":"IF($I102=\"\",\" \",$I102*0.0195-0.01)","v":{"v":5.8205,"d":"5.8"}},{"$f":"AC102*0.81","v":{"v":4.714605000000001,"d":"4.7"}},108,0,75,61,{"$f":"(H102-AH102)*AU102-I102*AV102-AE102*AW102-AF102-AG102","v":{"v":243.59999999999997,"d":"244"}},318,{"v":31.32,"d":"31.3"},{"$f":"20*AE102/100","v":21.6},{"$f":"9*AE102/100","v":{"v":9.72,"d":"9.7"}},{"$nulls":3},{"v":53.556129032258184,"d":"54"},{"v":1097.9287741935484,"d":"1098"},{"$f":"AX102*K102+AY102*AT102-AF102-AG102","v":{"v":235.92000000000002,"d":"236"}},{"$f":"IF(H102=\"\",\" \",H102-I102-AE102-AH102-K102)","v":318},{"v":0.76,"d":"76%"},{"v":0.76,"d":"76%"},{"v":0.85,"d":"85%"},{"v":0.44,"d":"44%"},{"v":0.82,"d":"82%"},{"$f":"0.3*H102/1000","v":0.27},198,288,{"v":1.8086848100000017,"d":"1.81"}]
[{"$f":"IF(E103=\" \",D103&\" \"&F103,D103&\" \"&E103&\"% RP \"&F103)","v":"Sojabohne (dampferhitzt) 36% RP DLG 2014"},{"$f":"IF(D103=\"\",\" \",COUNTA($D$8:D103))","v":94},null,"Sojabohne (dampferhitzt)",{"v":36,"d":"36 % RP"},"DLG 2014",null,890,356,{"$f":"IF(I103=0,\" \",I103*0.76)","v":{"v":270.56,"d":"271"}},55,{"$f":"IF($I103=\"\",\" \",I103*0.0205*AV103+0.0398*AW103*AE103+0.0173*AF103+0.016*$AG103+0.0147*AI103)","v":{"v":15.76002783,"d":"15.76"}},{"v":16.14918783,"d":"16.15"},{"$f":"IF(I103=0,\" \",(I103/H103*880*0.0523+4.14)/880*H103)","v":{"v":22.805845454545455,"d":"22.8"}},{"$f":"IF(N103=\" \",\" \",N103*0.8)","v":{"v":18.244676363636366,"d":"18.2"}},{"$f":"IF(N103=\" \",\" \",(I103/H103*880*0.0274+0.33)/880*H103)","v":{"v":10.088149999999999,"d":"10.1"}},{"$f":"IF(N103=\" \",\" \",P103*(4.8*0.78+5.3*0.75)/10.1)","v":{"v":7.709943549504949,"d":"7.7"}},{"$f":"IF(N103=\" \",\" \",(I103/H103*880*0.035+1.52)/880*H103)","v":{"v":13.997272727272728,"d":"14.0"}},{"$f":"IF(N103=\" \",\" \",R103*0.74)","v":{"v":10.357981818181818,"d":"10.4"}},{"$f":"IF(N103=\" \",\" \",(I103/H103*880*0.0136-0.13)/880*H103)","v":{"v":4.7101227272727275,"d":"4.7"}},{"$f":"IF(N103=\" \",\" \",T103*0.76)","v":{"v":3.579693272727273,"d":"3.6"}},{"$f":"2.8*H103/1000","v":{"v":2.492,"d":"2.5"}},5.8,{"$f":"W103*0.4","v":{"v":2.32,"d":"2.3"}},{"$f":"IF($H103=0,\" \",W103*0.65)","v":{"v":3.77,"d":"3.8"}},2.5,{"v":0.2,"d":"0.20"},14.7,{"$f":"IF($I103=\"\",\" \",($I103/H103*880*0.013+0.19)/880*H103)","v":{"v":4.820159090909091,"d":"4.8"}},{"$f":"IF(AC103=\" \",\" \",AC103*0.78)","v":{"v":3.759724090909091,"d":"3.8"}},181,52,71,{"$f":"53*H103/1000","v":{"v":47.17,"d":"47"}},{"$f":"IF($I103=\"\",\" \",(H103-AH103)*AU103-I103*AV103-AE103*AW103-AF103-AG103)","v":{"v":159.3789,"d":"159"}},{"v":198.82999999999993,"d":"199"},{"$f":"116.5*935/1000","v":{"v":108.9275,"d":"108.9"}},{"$f":"54*AE103/100","v":{"v":97.74,"d":"97.7"}},{"$f":"4*AE103/100","v":{"v":7.24,"d":"7.2"}},{"$f":"IF($I103=0,\" \",AN102*$H103/$H102)","v":0},{"$f":"IF($I103=0,\" \",AO102*$H103/$H102)","v":0},{"$f":"IF($I103=0,\" \",AP102*$H103/$H102)","v":0},{"v":229.81804999999994,"d":"230"},{"v":1061.68888,"d":"1062"},{"$f":"IF($I103=0,\" \",AX103*K103+AY103*AT103-AF103-AG103)","v":{"v":129.0138,"d":"129"}},{"$f":"IF(H103=\"\",\" \",H103-I103-AE103-AH103-K103)","v":{"v":250.82999999999998,"d":"251"}},{"$f":"IF($I103=0,\" \",83%)","v":{"v":0.83,"d":"83%"}},{"v":0.76,"d":"76%"},{"$f":"IF($I103=0,\" \",81%)","v":{"v":0.81,"d":"81%"}},{"$f":"IF($I103=0,\" \",66%)","v":{"v":0.66,"d":"66%"}},{"$f":"IF($I103=0,\" \",86%)","v":{"v":0.86,"d":"86%"}},{"$f":"0.8*H103/1000","v":{"v":0.712,"d":"0.71"}},138,168,{"v":10.300907115900003,"d":"10.30"}]
["Sojakuchen / Expeller, Bioland 42% RP ",{"$f":"IF(D104=\"\",\" \",COUNTA($D$8:D104))","v":95},null,"Sojakuchen / Expeller, Bioland",{"v":42,"d":"42 % RP"},null,null,910,420,{"$f":"IF(I104=0,\" \",I104*0.87)","v":{"v":365.4,"d":"365"}},60,{"$f":"I104*0.0205*AV104+0.0398*AW104*AE104+0.0173*AF104+0.016*$AG104+0.0147*AI104","v":{"v":14.39615,"d":"14.40"}},{"v":14.718490000000003,"d":"14.72"},{"$f":"IF(I104=0,\" \",(I104/H104*880*0.0685-3.28)/880*H104)","v":{"v":25.378181818181822,"d":"25.4"}},{"$f":"IF(N104=\" \",\" \",N104*0.89)","v":{"v":22.586581818181823,"d":"22.6"}},{"$f":"IF(N104=\" \",\" \",(I104/H104*880*0.0252+1.38)/880*H104)","v":{"v":12.011045454545457,"d":"12.0"}},{"$f":"IF(N104=\" \",\" \",P104*(6.1*0.9+8.9*0.83)/15)","v":{"v":10.311082154545456,"d":"10.3"}},{"$f":"IF(N104=\" \",\" \",(I104/H104*880*0.034+2.11)/880*H104)","v":{"v":16.46193181818182,"d":"16.5"}},{"$f":"IF(N104=\" \",\" \",R104*0.85)","v":{"v":13.992642045454547,"d":"14.0"}},{"$f":"IF(N104=\" \",\" \",(I104/H104*880*0.0102+1.32)/880*H104)","v":{"v":5.649000000000001,"d":"5.6"}},{"$f":"IF(N104=\" \",\" \",T104*0.88)","v":{"v":4.971120000000001,"d":"5.0"}},2.5,5.6,{"$f":"W104*0.4","v":{"v":2.2399999999999998,"d":"2.2"}},{"$f":"IF($H104=0,\" \",W104*0.65)","v":{"v":3.6399999999999997,"d":"3.6"}},2.5,{"v":0.4,"d":"0.40"},14.7,{"$f":"IF($I104=\"\",\" \",($I104/H104*880*0.0121+0.68)/880*H104)","v":{"v":5.785181818181818,"d":"5.8"}},{"$f":"AC104*0.88","v":{"v":5.09096,"d":"5.1"}},80,55,105,60,{"$f":"(H104-AH104)*AU104-I104*AV104-AE104*AW104-AF104-AG104","v":{"v":115.30000000000001,"d":"115"}},235,{"v":46.400000000000006,"d":"46.4"},{"$f":"54*AE104/100","v":43.2},{"$f":"4*AE104/100","v":3.2},{"$nulls":3},{"v":217.72840909090917,"d":"218"},{"v":1221.85,"d":"1222"},{"$f":"AX104*K104+AY104*AT104-AF104-AG104","v":{"v":158.3,"d":"158"}},290,{"v":0.83,"d":"83%"},{"v":0.87,"d":"87%"},{"v":0.81,"d":"81%"},{"v":0.81,"d":"81%"},{"v":0.93,"d":"93%"},{"$f":"1.1*H104/1000","v":{"v":1.0010000000000001,"d":"1.00"}},{"$f":"91*H104/1000*K104/$K$108","v":{"v":139.18465792105417,"d":"139"}},{"$f":"152.4*H104/1000*K104/$K$108","v":{"v":233.0960644743808,"d":"233"}},{"v":1.7494977000000018,"d":"1.75"}]
[{"$f":"IF(E105=\" \",D105&\" \"&F105,D105&\" \"&E105&\"% RP \"&F105)","v":"Sojakuchen 41% RP DLG 2014"},{"$f":"IF(D105=\"\",\" \",COUNTA($D$8:D105))","v":96},null,"Sojakuchen",{"$f":"IF(I105=0,\" \",ROUND(I105/10,0))","v":{"v":41,"d":"41 % RP"}},"DLG 2014",null,890,405,{"$f":"IF(I105=0,\" \",I105*0.87)","v":{"v":352.35,"d":"352"}},53,{"$f":"I105*0.0205*AV105+0.0398*AW105*AE105+0.0173*AF105+0.016*$AG105+0.0147*AI105","v":{"v":14.19426,"d":"14.19"}},{"$f":"IF(I105=\"\",\" \",$I105*0.021503+0.032497*$AE105+0.016309*$AF105+0.014701*$AJ105-0.021071*$K105)","v":{"v":14.738303,"d":"14.74"}},{"$f":"IF(I105=0,\" \",(I105/H105*880*0.0685-3.28)/880*H105)","v":{"v":24.425227272727273,"d":"24.4"}},{"$f":"IF(N105=\" \",\" \",N105*0.86)","v":{"v":21.005695454545453,"d":"21.0"}},{"$f":"IF(N105=\" \",\" \",(I105/H105*880*0.0252+1.38)/880*H105)","v":{"v":11.601681818181818,"d":"11.6"}},{"$f":"IF(N105=\" \",\" \",P105*(6.1*0.9+8.9*0.83)/15)","v":{"v":9.959657118181816,"d":"10.0"}},{"$f":"IF(N105=\" \",\" \",(I105/H105*880*0.034+2.11)/880*H105)","v":{"v":15.903977272727273,"d":"15.9"}},{"$f":"IF(N105=\" \",\" \",R105*0.85)","v":{"v":13.518380681818181,"d":"13.5"}},{"$f":"IF(N105=\" \",\" \",(I105/H105*880*0.0102+1.32)/880*H105)","v":{"v":5.466000000000001,"d":"5.5"}},{"$f":"IF(N105=\" \",\" \",T105*0.88)","v":{"v":4.810080000000001,"d":"4.8"}},2.7,6.1,{"$f":"W105*0.4","v":{"v":2.44,"d":"2.4"}},{"$f":"IF($H105=0,\" \",W105*0.65)","v":{"v":3.965,"d":"4.0"}},2.6,{"v":0.2,"d":"0.20"},14.7,{"$f":"IF($I105=\"\",\" \",($I105/H105*880*0.0121+0.68)/880*H105)","v":{"v":5.588227272727272,"d":"5.6"}},{"$f":"AC105*0.88","v":{"v":4.91764,"d":"4.9"}},87,53,62,57,{"v":153.56999999999994,"d":"154"},235,{"$f":"AL105+AM105","v":{"v":50.459999999999994,"d":"50.5"}},{"$f":"54*AE105/100","v":{"v":46.98,"d":"47.0"}},{"$f":"4*AE105/100","v":{"v":3.48,"d":"3.5"}},{"$nulls":3},{"$f":"IF(H105=\"\",\"\",50*V105+83*Z105+26*AB105+44*AA105-59*W105-13*P105-28*AZ105)","v":{"v":203.66613636363633,"d":"204"}},{"$f":"IF(H105=\"\",\"\",V105/1000*20140+Z105/1000*48600+1100/440*I105)","v":{"v":1193.238,"d":"1193"}},{"$f":"AX105*K105+AY105*AT105-AF105-AG105","v":{"v":195.77000000000004,"d":"196"}},288,{"v":0.83,"d":"83%"},{"v":0.87,"d":"87%"},{"v":0.81,"d":"81%"},{"v":0.81,"d":"81%"},{"v":0.93,"d":"93%"},{"$f":"1.1*H105/1000","v":{"v":0.9790000000000001,"d":"0.98"}},{"$f":"91*H105/1000*K105/$K$108","v":{"v":120.24432809773121,"d":"120"}},{"$f":"152.4*H105/1000*K105/$K$108","v":{"v":201.376215407629,"d":"201"}},{"v":2.8259611899999992,"d":"2.83"}]
["Sojaschrot HP 49% RP ",{"$f":"IF(D106=\"\",\" \",COUNTA($D$8:D106))","v":97},null,"Sojaschrot HP",{"v":49,"d":"49 % RP"},null,"12",890,485,{"$f":"I106*0.82","v":{"v":397.7,"d":"398"}},44,{"v":13.961272000000001,"d":"13.96"},{"$f":"IF(I106=\"\",\" \",$I106*0.021503+0.032497*$AE106+0.016309*$AF106+0.014701*$AJ106-0.021071*$K106)","v":{"v":14.324876,"d":"14.32"}},{"$f":"IF(I106=0,\" \",(I106/H106*880*0.0523+4.14)/880*H106)","v":{"v":29.552545454545456,"d":"29.6"}},{"$f":"IF(N106=\" \",\" \",N106*0.87)","v":{"v":25.710714545454547,"d":"25.7"}},{"$f":"IF(N106=\" \",\" \",(I106/H106*880*0.0274+0.33)/880*H106)","v":{"v":13.622750000000002,"d":"13.6"}},{"$f":"IF(N106=\" \",\" \",P106*(6.2*0.88+6.8*0.79)/13)","v":{"v":11.346702846153846,"d":"11.3"}},{"$f":"IF(N106=\" \",\" \",(I106/H106*880*0.0339+2.43)/880*H106)","v":{"v":18.899113636363637,"d":"18.9"}},{"$f":"IF(N106=\" \",\" \",R106*0.86)","v":{"v":16.253237727272726,"d":"16.3"}},{"$f":"IF(N106=\" \",\" \",(I106/H106*880*0.0109+1.23)/880*H106)","v":{"v":6.530477272727272,"d":"6.5"}},{"$f":"IF(N106=\" \",\" \",T106*0.86)","v":{"v":5.616210454545454,"d":"5.6"}},{"$f":"IF($I106=0,\" \",IF(I106>459.99,$V$108*$I$108/$I106,$V$112*$I$112/$I106))","v":{"v":3.0856133010309286,"d":"3.1"}},{"$f":"IF($I106=0,\" \",IF(I106>459.99,$W$108*$I106/$I$108,$W$112*$I106/$I$112))","v":{"v":6.916854565952648,"d":"6.9"}},{"$f":"W106*0.4","v":{"v":2.7667418263810593,"d":"2.8"}},{"v":4.495955467869221,"d":"4.5"},{"$f":"IF($I106=0,\" \",IF(I106>459.99,$Z$108*$I$108/$I106,$Z$112*$I$112/$I106))","v":{"v":2.7345204123711344,"d":"2.7"}},{"$f":"IF($I106=0,\" \",IF(I106>459.99,$AA$108*$I$108/$I106,$AA$112*$I$112/$I106))","v":{"v":0.16514550061855673,"d":"0.17"}},{"$f":"IF($I106=0,\" \",IF(I106>459.99,$AB$108*$I106/$I$108,$AB$112*$I106/$I$112))","v":{"v":21.142427658774896,"d":"21.1"}},{"$f":"IF($I106=\"\",\" \",($I106/H106*880*0.013+0.19)/880*H106)","v":{"v":6.497159090909092,"d":"6.5"}},{"v":5.717500000000001,"d":"5.7"},25,44,88,68,{"v":227.26000000000005,"d":"227"},{"$f":"IF($I106=\"\",\" \",$H106-($AE106+$AF106+$AH106+$I106+$K106))","v":224},13.5,{"$f":"50*AE106/100","v":12.5},{"v":1,"d":"1.0"},{"$nulls":3},{"v":338.820811042508,"d":"339"},{"v":1407.541943924,"d":"1408"},{"v":154.79999999999995,"d":"155"},268,{"v":0.93,"d":"93%"},{"v":0.82,"d":"82%"},{"v":0.3,"d":"30%"},{"v":0.61,"d":"61%"},{"v":0.97,"d":"97%"},{"$f":"0.57*H106/1000","v":{"v":0.5073,"d":"0.51"}},{"$f":"$BA$107/$H$107*H106*K106/$K$107","v":{"v":78.82857142857142,"d":"79"}},{"$f":"$BB$107/$H$107*H106*K106/$K$107","v":{"v":109.34285714285716,"d":"109"}},{"v":-2.8918405200000006,"d":"-2.89"}]
[{"$f":"IF(E107=\" \",D107&\" \"&F107,D107&\" \"&E107&\"% RP \"&F107)","v":"Sojaschrot HP 48% RP DLG 2014"},{"$f":"IF(D107=\"\",\" \",COUNTA($D$8:D107))","v":98},null,"Sojaschrot HP",{"$f":"IF(I107=0,\" \",ROUND(I107/10,0))","v":{"v":48,"d":"48 % RP"}},"DLG 2014","6",880,480,{"v":393.59999999999997,"d":"394"},35,{"$f":"I107*0.0205*AV107+0.0398*AW107*AE107+0.0173*AF107+0.016*$AG107+0.0147*AI107","v":{"v":13.888607839999999,"d":"13.89"}},{"$f":"IF(I107=\"\",\" \",$I107*0.021503+0.032497*$AE107+0.016309*$AF107+0.014701*$AJ107-0.021071*$K107)","v":{"v":14.40926904,"d":"14.41"}},{"$f":"IF(I107=0,\" \",(I107/H107*880*0.0523+4.14)/880*H107)","v":{"v":29.243999999999993,"d":"29.2"}},{"$f":"IF(N107=\" \",\" \",N107*0.87)","v":{"v":25.442279999999993,"d":"25.4"}},{"$f":"IF(N107=\" \",\" \",(I107/H107*880*0.0274+0.33)/880*H107)","v":{"v":13.482,"d":"13.5"}},{"v":11.229468923076922,"d":"11.2"},{"$f":"IF(N107=\" \",\" \",(I107/H107*880*0.0339+2.43)/880*H107)","v":{"v":18.701999999999998,"d":"18.7"}},{"v":16.08372,"d":"16.1"},{"$f":"IF(N107=\" \",\" \",(I107/H107*880*0.0109+1.23)/880*H107)","v":{"v":6.462,"d":"6.5"}},{"$f":"T107*0.86","v":{"v":5.55732,"d":"5.6"}},2.8,6.6,{"v":2.64,"d":"2.6"},{"$f":"W107*0.65","v":{"v":4.29,"d":"4.3"}},2.8,0.16,21.6,{"$f":"IF($I107=\"\",\" \",($I107/H107*880*0.013+0.19)/880*H107)","v":{"v":6.43,"d":"6.4"}},{"$f":"AC107*0.88","v":{"v":5.658399999999999,"d":"5.7"}},13,59,100,{"$f":"67*H107/1000","v":{"v":58.96,"d":"59"}},{"v":207.0672,"d":"207"},{"$f":"IF($I107=\"\",\" \",$H107-($AE107+$AF107+$AH107+$I107+$K107))","v":{"v":234.03999999999996,"d":"234"}},{"v":7.02,"d":"7.0"},6.5,{"v":0.52,"d":"0.5"},{"$nulls":3},{"$f":"IF(H107=\"\",\"\",50*V107+83*Z107+26*AB107+44*AA107-59*W107-13*P107-28*AZ107)","v":{"v":362.3292,"d":"362"}},{"$f":"IF(H107=\"\",\"\",V107/1000*20140+Z107/1000*48600+1100/440*I107)","v":{"v":1392.472,"d":"1392"}},{"$f":"AX107*K107+AY107*AT107-AF107-AG107","v":{"v":146.59880000000004,"d":"147"}},{"v":293.04,"d":"293"},{"v":0.93,"d":"93%"},{"v":0.82,"d":"82%"},{"v":0.3,"d":"30%"},{"v":0.61,"d":"61%"},{"v":0.97,"d":"97%"},{"$f":"0.57*H107/1000","v":{"v":0.5015999999999999,"d":"0.50"}},62,86,{"v":-2.7562336007999995,"d":"-2.76"}]
["Sojaschrot HP 47% RP DLG FuDb",{"$f":"IF(D108=\"\",\" \",COUNTA($D$8:D108))","v":99},null,"Sojaschrot HP",{"v":47,"d":"47 % RP"},"DLG FuDb",null,890,{"$f":"532.2*H108/1000","v":{"v":473.6580000000001,"d":"474"}},{"v":388.39956,"d":"388"},{"$f":"40.11*H108/1000","v":{"v":35.697900000000004,"d":"36"}},{"v":13.980995938,"d":"13.98"},{"v":14.5026216272,"d":"14.50"},{"v":28.95935885454546,"d":"29.0"},{"v":25.19464220345455,"d":"25.2"},{"v":13.311979200000003,"d":"13.3"},{"v":11.087854675200003,"d":"11.1"},{"v":18.514619836363643,"d":"18.5"},{"v":15.922573059272732,"d":"15.9"},{"v":6.4068494727272745,"d":"6.4"},{"v":5.5098905465454555,"d":"5.5"},{"$f":"3.55*H108/1000","v":{"v":3.1595,"d":"3.2"}},{"$f":"7.59*H108/1000","v":{"v":6.7551,"d":"6.8"}},{"v":2.70204,"d":"2.7"},{"v":4.390815,"d":"4.4"},2.8,{"$f":"0.19*$H$108/1000","v":{"v":0.1691,"d":"0.17"}},{"$f":"23.2*$H$108/1000","v":{"v":20.648,"d":"20.6"}},{"v":6.349713090909093,"d":"6.3"},{"v":5.5877475200000015,"d":"5.6"},{"$f":"18*0.89","v":{"v":16.02,"d":"16"}},{"$f":"64*0.89","v":{"v":56.96,"d":"57"}},{"$f":"114*0.89","v":{"v":101.46000000000001,"d":"101"}},{"$f":"69*0.89","v":{"v":61.410000000000004,"d":"61"}},{"v":218.96314000000004,"d":"219"},{"v":246.25409999999988,"d":"246"},{"v":8.6508,"d":"8.7"},{"v":8.01,"d":"8.0"},{"v":0.6408,"d":"0.6"},{"$nulls":3},{"v":348.85237039999987,"d":"349"},{"v":1383.8573300000003,"d":"1384"},{"v":157.4733959999999,"d":"157"},{"v":303.2140999999999,"d":"303"},{"v":0.93,"d":"93%"},{"v":0.82,"d":"82%"},{"v":0.3,"d":"30%"},{"v":0.61,"d":"61%"},{"v":0.97,"d":"97%"},{"v":0.5073,"d":"0.51"},{"$f":"$BA$107/$H$107*H108*K108/$K$107","v":{"v":63.954874090909094,"d":"64"}},{"$f":"$BB$107/$H$107*H108*K108/$K$107","v":{"v":88.71159954545458,"d":"89"}},{"v":-2.403624112144003,"d":"-2.40"}]
["Sojaschrot HP 47% RP ",{"$f":"IF(D109=\"\",\" \",COUNTA($D$8:D109))","v":100},null,"Sojaschrot HP",{"v":47,"d":"47 % RP"},null,"26",890,470,{"v":385.4,"d":"385"},52,{"v":13.857122999999998,"d":"13.86"},{"v":13.841379,"d":"13.84"},{"v":28.76804545454545,"d":"28.8"},{"v":25.02819954545454,"d":"25.0"},{"v":13.211749999999999,"d":"13.2"},{"v":11.004371461538458,"d":"11.0"},{"v":18.390613636363636,"d":"18.4"},{"v":15.815927727272726,"d":"15.8"},{"v":6.366977272727271,"d":"6.4"},{"v":5.475600454545453,"d":"5.5"},{"$f":"IF($I109=0,\" \",IF(I109>459.99,$V$108*$I$108/$I109,$V$112*$I$112/$I109))","v":{"v":3.1840903212765963,"d":"3.2"}},{"$f":"IF($I109=0,\" \",IF(I109>459.99,$W$108*$I109/$I$108,$W$112*$I109/$I$112))","v":{"v":6.702931228861329,"d":"6.7"}},{"v":2.681172491544532,"d":"2.7"},{"$f":"IF($I109=0,\" \",W109*0.65)","v":{"v":4.356905298759864,"d":"4.4"}},{"$f":"IF($I109=0,\" \",IF(I109>459.99,$Z$108*$I$108/$I109,$Z$112*$I$112/$I109))","v":{"v":2.821792340425532,"d":"2.8"}},{"$f":"0.19*$H$108/1000","v":{"v":0.1691,"d":"0.17"}},{"$f":"23.2*$H$108/1000","v":{"v":20.648,"d":"20.6"}},{"v":6.3021590909090905,"d":"6.3"},{"v":5.5459,"d":"5.5"},19,42,91,67,{"v":241.29000000000002,"d":"241"},240,{"v":10.26,"d":"10.3"},9.5,{"v":0.76,"d":"0.8"},{"$nulls":3},{"v":356.2715878163304,"d":"356"},{"v":1376.2666868151914,"d":"1376"},{"v":172.26,"d":"172"},282,{"v":0.93,"d":"93%"},{"v":0.82,"d":"82%"},{"v":0.3,"d":"30%"},{"v":0.61,"d":"61%"},{"v":0.97,"d":"97%"},{"v":0.5073,"d":"0.51"},{"$f":"$BA$107/$H$107*H109*K109/$K$107","v":{"v":93.16103896103895,"d":"93"}},{"$f":"$BB$107/$H$107*H109*K109/$K$107","v":{"v":129.22337662337662,"d":"129"}},{"v":-3.5127933299999996,"d":"-3.51"}]
["Sojaschrot HP 46% RP ",{"$f":"IF(D110=\"\",\" \",COUNTA($D$8:D110))","v":101},null,"Sojaschrot HP",{"v":46,"d":"46 % RP"},null,"29",890,459,{"v":376.38,"d":"376"},47,{"v":13.838337,"d":"13.84"},{"v":13.974469,"d":"13.97"},{"v":28.192745454545456,"d":"28.2"},{"v":24.527688545454545,"d":"24.5"},{"v":12.910350000000001,"d":"12.9"},{"v":10.753328446153846,"d":"10.8"},{"v":18.017713636363638,"d":"18.0"},{"v":15.495233727272728,"d":"15.5"},{"v":6.247077272727273,"d":"6.2"},{"v":5.372486454545455,"d":"5.4"},{"$f":"IF($I110=0,\" \",IF(I110>459.99,$V$108*$I$108/$I110,$V$112*$I$112/$I110))","v":{"v":3.1493900188235293,"d":"3.1"}},{"$f":"IF($I110=0,\" \",IF(I110>459.99,$W$108*$I110/$I$108,$W$112*$I110/$I$112))","v":{"v":6.798983253588516,"d":"6.8"}},{"v":2.7195933014354066,"d":"2.7"},{"$f":"IF($I110=0,\" \",W110*0.65)","v":{"v":4.419339114832535,"d":"4.4"}},{"$f":"IF($I110=0,\" \",IF(I110>459.99,$Z$108*$I$108/$I110,$Z$112*$I$112/$I110))","v":{"v":2.723283660130719,"d":"2.7"}},{"$f":"0.19*$H$108/1000","v":{"v":0.1691,"d":"0.17"}},{"$f":"23.2*$H$108/1000","v":{"v":20.648,"d":"20.6"}},{"v":6.159159090909092,"d":"6.2"},{"v":5.42006,"d":"5.4"},20,49,97,67,{"$f":"IF($I110=\"\",\" \",(H110-AH110)*AU110-I110*AV110-AE110*AW110-AF110-AG110)","v":{"v":237.01,"d":"237"}},248,10.8,{"v":10,"d":"10.0"},0.8,{"$nulls":3},{"v":344.61148277030367,"d":"345"},{"v":1343.2803008614587,"d":"1343"},{"v":170.76,"d":"171"},297,{"v":0.93,"d":"93%"},{"v":0.82,"d":"82%"},{"v":0.3,"d":"30%"},{"v":0.61,"d":"61%"},{"v":0.97,"d":"97%"},{"v":0.5073,"d":"0.51"},{"$f":"$BA$107/$H$107*H110*K110/$K$107","v":{"v":84.20324675324676,"d":"84"}},{"$f":"$BB$107/$H$107*H110*K110/$K$107","v":{"v":116.79805194805196,"d":"117"}},{"v":-2.7426376300000013,"d":"-2.74"}]
[{"$f":"IF(E111=\" \",D111&\" \"&F111,D111&\" \"&E111&\"% RP \"&F111)","v":"Sojaschrot GVO-frei, Brasil 45% RP "},{"$f":"IF(D111=\"\",\" \",COUNTA($D$8:D111))","v":102},null,"Sojaschrot GVO-frei, Brasil",{"$f":"IF(I111=0,\" \",ROUND(I111/10,0))","v":{"v":45,"d":"45 % RP"}},null,null,870,448,{"v":367.35999999999996,"d":"367"},{"$f":"69.4*0.89","v":{"v":61.766000000000005,"d":"62"}},{"v":13.626042000000002,"d":"13.63"},{"v":13.266680648000001,"d":"13.27"},{"v":27.523354545454545,"d":"27.5"},{"$f":"IF(N111=\" \",\" \",N111*0.87)","v":{"v":23.945318454545454,"d":"23.9"}},{"$f":"IF(N111=\" \",\" \",(I111/H111*880*0.0274+0.33)/880*H111)","v":{"v":12.601450000000002,"d":"12.6"}},{"v":10.496038507692308,"d":"10.5"},{"v":17.589586363636364,"d":"17.6"},{"v":15.127044272727273,"d":"15.1"},{"v":6.099222727272728,"d":"6.1"},{"$f":"IF(N111=\" \",\" \",T111*0.86)","v":{"v":5.245331545454547,"d":"5.2"}},2.9,5.5,2.2,{"$f":"IF($I111=0,\" \",W111*0.65)","v":{"v":3.575,"d":"3.6"}},2.8,{"$f":"0.26*0.89","v":{"v":0.23140000000000002,"d":"0.23"}},{"$f":"22.95*0.89","v":{"v":20.4255,"d":"20.4"}},{"$f":"IF($I111=\"\",\" \",($I111/H111*880*0.013+0.19)/880*H111)","v":{"v":6.0118409090909095,"d":"6.0"}},{"$f":"AC111*0.88","v":{"v":5.29042,"d":"5.3"}},22,44,67,56,{"$f":"(H111-AH111)*AU111-I111*AV111-AE111*AW111-AF111-AG111","v":{"v":272.0600000000001,"d":"272"}},{"v":238.23400000000004,"d":"238"},{"v":11.88,"d":"11.9"},{"v":11,"d":"11.0"},{"v":0.88,"d":"0.9"},{"$nulls":3},{"v":416.44055,"d":"416"},{"v":1314.486,"d":"1314"},{"v":191.97721999999993,"d":"192"},{"v":282.234,"d":"282"},{"v":0.93,"d":"93%"},{"v":0.82,"d":"82%"},{"v":0.3,"d":"30%"},{"v":0.61,"d":"61%"},{"v":0.94,"d":"94%"},{"v":0.49589999999999995,"d":"0.50"},{"$f":"$BA$107/$H$107*H111*K111/$K$107","v":{"v":108.17071558441559,"d":"108"}},{"$f":"$BB$107/$H$107*H111*K111/$K$107","v":{"v":150.04325064935068,"d":"150"}},{"v":-3.521729126959999,"d":"-3.52"}]
["Sojaschrot  45% RP DLG FuDb",{"$f":"IF(D112=\"\",\" \",COUNTA($D$8:D112))","v":103},null,"Sojaschrot ",{"v":45,"d":"45 % RP"},"DLG FuDb",null,890,{"$f":"501.6*0.89","v":{"v":446.42400000000004,"d":"446"}},{"v":366.06768,"d":"366"},{"$f":"69.4*0.89","v":{"v":61.766000000000005,"d":"62"}},{"v":13.167056139,"d":"13.17"},{"v":13.374436534200003,"d":"13.37"},{"v":27.535020654545455,"d":"27.5"},{"v":23.955467969454546,"d":"24.0"},{"v":12.565767600000001,"d":"12.6"},{"$f":"IF(N112=\" \",\" \",P112*0.86)","v":{"v":10.806560136,"d":"10.8"}},{"v":17.591387236363637,"d":"17.6"},{"$f":"IF(N112=\" \",\" \",R112*0.86)","v":{"v":15.128593023272728,"d":"15.1"}},{"v":6.109998872727273,"d":"6.1"},{"v":5.254599030545455,"d":"5.3"},{"$f":"3.618*0.895","v":{"v":3.23811,"d":"3.2"}},{"$f":"7.43*0.89","v":{"v":6.6127,"d":"6.6"}},{"v":2.64508,"d":"2.6"},{"$f":"IF($I112=0,\" \",W112*0.65)","v":{"v":4.298255,"d":"4.3"}},2.8,{"$f":"0.26*0.89","v":{"v":0.23140000000000002,"d":"0.23"}},{"$f":"22.95*0.89","v":{"v":20.4255,"d":"20.4"}},{"v":5.995671090909092,"d":"6.0"},{"v":5.276190560000001,"d":"5.3"},{"$f":"17.67*0.89","v":{"v":15.726300000000002,"d":"16"}},{"$f":"67.86*0.89","v":{"v":60.3954,"d":"60"}},{"$f":"108.6*0.89","v":{"v":96.654,"d":"97"}},{"$f":"69.82*0.89","v":{"v":62.139799999999994,"d":"62"}},{"$f":"(H112-AH112)*AU112-I112*AV112-AE112*AW112-AF112-AG112","v":{"v":190.2017219999999,"d":"190"}},{"v":243.5485,"d":"244"},{"v":8.492202,"d":"8.5"},{"v":7.863150000000001,"d":"7.9"},{"v":0.6290520000000001,"d":"0.6"},{"$nulls":3},{"v":367.84142119999984,"d":"368"},{"v":1317.3555354000002,"d":"1317"},{"v":173.12938599999995,"d":"173"},{"v":303.9439,"d":"304"},{"v":0.87,"d":"87%"},{"v":0.82,"d":"82%"},{"v":0.44,"d":"44%"},{"v":0.72,"d":"72%"},{"v":0.94,"d":"94%"},{"v":0.5073,"d":"0.51"},{"$f":"91*H112/1000*K112/$K$108","v":{"v":140.1322862129145,"d":"140"}},{"$f":"152.4*H112/1000*K112/$K$108","v":{"v":234.68308152580403,"d":"235"}},{"v":-3.498061830033999,"d":"-3.50"}]
["eigenes Sojaschrot ",{"$f":"IF(D113=\"\",\" \",COUNTA($D$8:D113))","v":104},null,"eigenes Sojaschrot"," ",{"$nulls":4},{"$f":"IF(I113=0,\" \",I113*0.82)","v":" "},null,{"$f":"IF($I113=\"\",\" \",I113*0.0205*AV113+0.0398*AW113*AE113+0.0173*AF113+0.016*$AG113+0.0147*AI113)","v":" "}," "," "," "," ",{"$f":"IF(N113=\" \",\" \",P113*(5.9*0.88+6.8*0.79)/12.7)","v":" "}," "," "," "," ",{"$f":"IF($I113=0,\" \",IF(I113>459.99,$V$108*$I$108/$I113*$H$113/$H$108,$V$112*$I$112/$I113*$H$113/$H$112))","v":" "},{"$f":"IF($I113=0,\" \",IF(I113>459.99,$W$108*$I113/$I$108*$H$113/$H$108,$W$112*$I113/I$112*H$113/H$112))","v":" "},{"$f":"IF($I113=0,\" \",W113*0.4)","v":" "}," ",{"$f":"IF($I113=0,\" \",IF(I113>459.99,$Z$108*$I$108/$I113*$H$113/$H$108,$Z$112*$I$112/$I113*$H$113/$H$112))","v":" "},{"$f":"IF($I113=0,\" \",IF(I113>459.99,$AA$108*$I$108/$I113*$H$113/$H$108,$AA$112*$I$112/$I113*$H$113/$H$112))","v":" "},{"$f":"IF($I113=0,\" \",IF(I113>459.99,$AB$108*$I113/$I$108*$H$113/$H$108,$AB$112*$I113/$I$112*$H$113/$H$112))","v":" "}," ",{"$f":"IF(AC113=\" \",\" \",AC113*0.88)","v":" "},{"$nulls":4},{"$f":"IF($I113=\"\",\" \",(H113-AH113)*AU113-I113*AV113-AE113*AW113-AF113-AG113)","v":" "}," ",{"$f":"IF($I113=0,\" \",AK112*$H113/$H112)","v":" "}," "," "," "," "," ","","",{"$f":"IF($I113=0,\" \",AX113*K113+AY113*AT113-AF113-AG113)","v":" "},{"$f":"IF(H113=\"\",\" \",H113-I113-AE113-AH113-K113)","v":" "},{"$f":"IF($I113=0,\" \",AU112)","v":" "},{"$f":"IF($I113=0,\" \",AV112)","v":" "},{"$f":"IF($I113=0,\" \",AW112)","v":" "},{"$f":"IF($I113=0,\" \",AX112)","v":" "},{"$f":"IF($I113=0,\" \",AY112)","v":" "},{"$f":"IF($I113=0,\" \",AZ112*$H113/$H112)","v":" "},{"$f":"IF($I113=0,\" \",$BA$115*$H113/$H$115*K113/$K$115)","v":" "},{"$f":"IF($I113=0,\" \",$BB$115*$H113/$H$115*K113/$K$115)","v":" "},""]
["Sojaschrot 44% RP ",{"$f":"IF(D114=\"\",\" \",COUNTA($D$8:D114))","v":105},null,"Sojaschrot",{"v":44,"d":"44 % RP"},null,"14",890,440,{"$f":"I114*0.82","v":{"v":360.79999999999995,"d":"361"}},67,{"$f":"I114*0.0205*AV114+0.0398*AW114*AE114+0.0173*AF114+0.016*$AG114+0.0147*AI114","v":{"v":13.154765999999999,"d":"13.15"}},{"v":13.227282000000002,"d":"13.23"},{"v":27.199045454545455,"d":"27.2"},{"v":23.663169545454547,"d":"23.7"},{"v":12.389750000000001,"d":"12.4"},{"$f":"IF(N114=\" \",\" \",P114*(5.9*0.88+6.8*0.79)/12.7)","v":{"v":10.305930629921262,"d":"10.3"}},{"v":17.373613636363633,"d":"17.4"},{"v":14.941307727272724,"d":"14.9"},{"v":6.039977272727272,"d":"6.0"},{"v":5.194380454545454,"d":"5.2"},3.1,6.1,{"$f":"W114*0.4","v":{"v":2.44,"d":"2.4"}},{"v":3.965,"d":"4.0"},{"$f":"IF($I114=0,\" \",IF(I114>459.99,$Z$108*$I$108/$I114,$Z$112*$I$112/$I114))","v":{"v":2.84088,"d":"2.8"}},0.15,20.4,{"v":5.912159090909091,"d":"5.9"},{"$f":"AC114*0.88","v":{"v":5.2027,"d":"5.2"}},23,49,90,64,{"$f":"(H114-AH114)*AU114-I114*AV114-AE114*AW114-AF114-AG114","v":{"v":208.70000000000005,"d":"209"}},247,{"$f":"AL114+AM114","v":{"v":12.42,"d":"12.4"}},{"$f":"50*AE114/100","v":11.5},{"$f":"4*AE114/100","v":{"v":0.92,"d":"0.9"}},{"$nulls":3},{"v":392.62189,"d":"393"},{"v":1300.5007679999999,"d":"1301"},{"$f":"AX114*K114+AY114*AT114-AF114-AG114","v":{"v":187.48000000000002,"d":"187"}},296,{"v":0.87,"d":"87%"},{"v":0.82,"d":"82%"},{"v":0.44,"d":"44%"},{"v":0.72,"d":"72%"},{"v":0.94,"d":"94%"},{"$f":"0.57*H114/1000","v":{"v":0.5073,"d":"0.51"}},{"$f":"$BA$115/$H$115*H114*K114/$K$115","v":{"v":119.71174242424242,"d":"120"}},{"$f":"$BB$115/$H$115*H114*K114/$K$115","v":{"v":188.6024621212121,"d":"189"}},{"v":-3.4110841399999985,"d":"-3.41"}]
[{"$f":"IF(E115=\" \",D115&\" \"&F115,D115&\" \"&E115&\"% RP \"&F115)","v":"Sojaschrot 44% RP DLG 2014"},{"$f":"IF(D115=\"\",\" \",COUNTA($D$8:D116))","v":107},null,"Sojaschrot",{"$f":"IF(I115=0,\" \",ROUND(I115/10,0))","v":{"v":44,"d":"44 % RP"}},"DLG 2014",null,880,440,{"v":360.79999999999995,"d":"361"},60,{"$f":"I115*0.0205*AV115+0.0398*AW115*AE115+0.0173*AF115+0.016*$AG115+0.0147*AI115","v":{"v":13.002691999999998,"d":"13.00"}},{"$f":"IF(I115=\"\",\" \",$I115*0.021503+0.032497*$AE115+0.016309*$AF115+0.014701*$AJ115-0.021071*$K115)","v":{"v":13.229208000000002,"d":"13.23"}},{"$f":"IF(I115=0,\" \",(I115/H115*880*0.0523+4.14)/880*H115)","v":{"v":27.152,"d":"27.2"}},{"$f":"IF(N115=\" \",\" \",N115*0.87)","v":{"v":23.62224,"d":"23.6"}},{"$f":"IF(N115=\" \",\" \",(I115/H115*880*0.0274+0.33)/880*H115)","v":{"v":12.386000000000001,"d":"12.4"}},{"$f":"IF(N115=\" \",\" \",P115*(5.9*0.88+6.8*0.79)/12.7)","v":{"v":10.302811338582679,"d":"10.3"}},{"$f":"IF(N115=\" \",\" \",(I115/H115*880*0.0339+2.43)/880*H115)","v":{"v":17.346,"d":"17.3"}},{"v":14.91756,"d":"14.9"},{"$f":"IF(N115=\" \",\" \",(I115/H115*880*0.0109+1.23)/880*H115)","v":{"v":6.026,"d":"6.0"}},{"$f":"IF(N115=\" \",\" \",T115*0.86)","v":{"v":5.18236,"d":"5.2"}},{"v":3,"d":"3.0"},6.4,{"v":2.5600000000000005,"d":"2.6"},{"$f":"IF($I115=0,\" \",W115*0.65)","v":{"v":4.16,"d":"4.2"}},2.7,{"$f":"IF($I115=0,\" \",IF(I115>459.99,$AA$108*$I$108/$I115,$AA$112*$I$112/$I115))","v":{"v":0.23477844000000003,"d":"0.23"}},21.2,{"$f":"IF($I115=\"\",\" \",($I115/H115*880*0.013+0.19)/880*H115)","v":{"v":5.91,"d":"5.9"}},{"$f":"AC115*0.88","v":{"v":5.2008,"d":"5.2"}},13,60,95,60,{"$f":"(H115-AH115)*AU115-I115*AV115-AE115*AW115-AF115-AG115","v":{"v":191.88,"d":"192"}},{"$f":"IF($I115=\"\",\" \",$H115-($AE115+$AF115+$AH115+$I115+$K115))","v":247},{"v":7.02,"d":"7.0"},6.5,{"v":0.52,"d":"0.5"},{"$nulls":3},{"$f":"IF(H115=\"\",\"\",50*V115+83*Z115+26*AB115+44*AA115-59*W115-13*P115-28*AZ115)","v":{"v":362.51625135999996,"d":"363"}},{"$f":"IF(H115=\"\",\"\",V115/1000*20140+Z115/1000*48600+1100/440*I115)","v":{"v":1291.6399999999999,"d":"1292"}},{"$f":"AX115*K115+AY115*AT115-AF115-AG115","v":{"v":160.16000000000003,"d":"160"}},307,{"v":0.87,"d":"87%"},{"v":0.82,"d":"82%"},{"v":0.44,"d":"44%"},{"v":0.75,"d":"75%"},{"v":0.88,"d":"88%"},{"$f":"1.4*H115/1000","v":{"v":1.232,"d":"1.23"}},106,167,{"v":-3.5076781599999984,"d":"-3.51"}]
["Sojaschrot 43% RP ",{"$f":"IF(D116=\"\",\" \",COUNTA($D$8:D116))","v":107},null,"Sojaschrot",{"$f":"IF(I116=0,\" \",ROUND(I116/10,0))","v":{"v":43,"d":"43 % RP"}},null,"19",890,429,{"v":351.78,"d":"352"},69,{"v":13.097461,"d":"13.10"},{"v":13.071039000000003,"d":"13.07"},{"v":26.623745454545457,"d":"26.6"},{"v":23.162658545454548,"d":"23.2"},{"v":12.08835,"d":"12.1"},{"$f":"IF(N116=\" \",\" \",P116*(5.9*0.88+6.8*0.79)/12.7)","v":{"v":10.055222787401576,"d":"10.1"}},{"v":17.000713636363642,"d":"17.0"},{"v":14.620613727272731,"d":"14.6"},{"v":5.920077272727273,"d":"5.9"},{"$f":"IF(N116=\" \",\" \",T116*0.86)","v":{"v":5.091266454545455,"d":"5.1"}},{"v":4,"d":"4.0"},6.1,{"v":2.44,"d":"2.4"},{"$f":"IF($I116=0,\" \",W116*0.65)","v":{"v":3.965,"d":"4.0"}},{"$f":"IF($I116=0,\" \",IF(I116>459.99,$Z$108*$I$108/$I116,$Z$112*$I$112/$I116))","v":{"v":2.913723076923077,"d":"2.9"}},0.13,20.4,{"v":5.769159090909091,"d":"5.8"},{"v":5.07686,"d":"5.1"},23,52,90,65,{"$f":"IF($I116=\"\",\" \",(H116-AH116)*AU116-I116*AV116-AE116*AW116-AF116-AG116)","v":{"v":213.85000000000002,"d":"214"}},252,{"v":12.42,"d":"12.4"},11.5,{"v":0.92,"d":"0.9"},{"$nulls":3},{"v":446.70606538461544,"d":"447"},{"v":1294.6669415384615,"d":"1295"},{"v":193.44,"d":"193"},304,{"v":0.87,"d":"87%"},{"v":0.82,"d":"82%"},{"v":0.44,"d":"44%"},{"v":0.72,"d":"72%"},{"v":0.94,"d":"94%"},{"$f":"0.57*H116/1000","v":{"v":0.5073,"d":"0.51"}},{"$f":"$BA$115/$H$115*H116*K116/$K$115","v":{"v":123.28522727272727,"d":"123"}},{"$f":"$BB$115/$H$115*H116*K116/$K$115","v":{"v":194.23238636363632,"d":"194"}},{"v":-3.2541415299999996,"d":"-3.25"}]
[{"$f":"IF(E117=\" \",D117&\" \"&F117,D117&\" \"&E117&\"% RP \"&F117)","v":"Sojaschrot, schalenreich 43% RP DLG 2014"},{"$f":"IF(D117=\"\",\" \",COUNTA($D$8:D117))","v":108},null,"Sojaschrot, schalenreich",{"$f":"IF(I117=0,\" \",ROUND(I117/10,0))","v":{"v":43,"d":"43 % RP"}},"DLG 2014",null,880,427,{"v":350.14,"d":"350"},82,{"$f":"I117*0.0205*AV117+0.0398*AW117*AE117+0.0173*AF117+0.016*$AG117+0.0147*AI117","v":{"v":12.591884367999999,"d":"12.59"}},{"$f":"IF(I117=\"\",\" \",$I117*0.021503+0.032497*$AE117+0.016309*$AF117+0.014701*$AJ117-0.021071*$K117)","v":{"v":12.382658296,"d":"12.38"}},{"$f":"IF(I117=0,\" \",(I117/H117*880*0.0523+4.14)/880*H117)","v":{"v":26.4721,"d":"26.5"}},{"$f":"IF(N117=\" \",\" \",N117*0.89)","v":{"v":23.560169000000002,"d":"23.6"}},{"$f":"IF(N117=\" \",\" \",(I117/H117*880*0.0274+0.33)/880*H117)","v":{"v":12.0298,"d":"12.0"}},{"$f":"IF(N117=\" \",\" \",P117*(6*0.88+5.7*0.79)/12.7)","v":{"v":9.266734913385827,"d":"9.3"}},{"$f":"IF(N117=\" \",\" \",(I117/H117*880*0.0339+2.43)/880*H117)","v":{"v":16.9053,"d":"16.9"}},{"v":14.538558,"d":"14.5"},{"$f":"IF(N117=\" \",\" \",(I117/H117*880*0.0109+1.23)/880*H117)","v":{"v":5.8843,"d":"5.9"}},{"$f":"IF(N117=\" \",\" \",T117*0.86)","v":{"v":5.060498,"d":"5.1"}},{"$f":"3.618*0.885","v":{"v":3.20193,"d":"3.2"}},{"$f":"7.292*0.88","v":{"v":6.4169599999999996,"d":"6.4"}},{"v":2.566784,"d":"2.6"},{"$f":"IF($I117=0,\" \",W117*0.65)","v":{"v":4.171024,"d":"4.2"}},2.8,{"$f":"0.1835*0.88","v":{"v":0.16147999999999998,"d":"0.16"}},{"$f":"22.96*0.88","v":{"v":20.204800000000002,"d":"20.2"}},{"$f":"IF($I117=\"\",\" \",($I117/H117*880*0.013+0.19)/880*H117)","v":{"v":5.7410000000000005,"d":"5.7"}},{"$f":"AC117*0.88","v":{"v":5.05208,"d":"5.1"}},{"$f":"18.6*0.88","v":{"v":16.368000000000002,"d":"16"}},{"$f":"60.1*0.88","v":{"v":52.888,"d":"53"}},{"$f":"106.3*0.88","v":{"v":93.544,"d":"94"}},{"$f":"69.7*0.88","v":{"v":61.336000000000006,"d":"61"}},{"$f":"(H117-AH117)*AU117-I117*AV117-AE117*AW117-AF117-AG117","v":{"v":183.41279999999995,"d":"183"}},{"v":240.40800000000002,"d":"240"},{"v":8.83872,"d":"8.8"},{"v":8.184000000000001,"d":"8.2"},{"v":0.6547200000000001,"d":"0.7"},{"$nulls":3},{"$f":"IF(H117=\"\",\"\",50*V117+83*Z117+26*AB117+44*AA117-59*W117-13*P117-28*AZ117)","v":{"v":355.44238000000007,"d":"355"}},{"$f":"IF(H117=\"\",\"\",V117/1000*20140+Z117/1000*48600+1100/440*I117)","v":{"v":1268.0668702,"d":"1268"}},{"$f":"AX117*K117+AY117*AT117-AF117-AG117","v":{"v":173.16848000000005,"d":"173"}},{"v":293.296,"d":"293"},{"v":0.84,"d":"84%"},{"v":0.82,"d":"82%"},{"v":0.47,"d":"47%"},{"v":0.75,"d":"75%"},{"v":0.88,"d":"88%"},{"$f":"1.4*H117/1000","v":{"v":1.232,"d":"1.23"}},140,210,{"v":-4.585099443919999,"d":"-4.59"}]
["Sojaschrot, schalenreich 42% RP DLG FuDb",{"$f":"IF(D118=\"\",\" \",COUNTA($D$8:D118))","v":109},null,"Sojaschrot, schalenreich",{"$f":"IF(I118=0,\" \",ROUND(I118/10,0))","v":{"v":42,"d":"42 % RP"}},"DLG FuDb",null,880,{"$f":"482*0.88","v":{"v":424.16,"d":"424"}},{"v":347.8112,"d":"348"},{"$f":"94.36*0.88","v":{"v":83.0368,"d":"83"}},{"v":12.583161328,"d":"12.58"},{"v":12.3296483024,"d":"12.33"},{"v":26.323568,"d":"26.3"},{"$f":"IF(N118=\" \",\" \",N118*0.89)","v":{"v":23.42797552,"d":"23.4"}},{"v":11.951984000000001,"d":"12.0"},{"$f":"IF(N118=\" \",\" \",P118*(6*0.88+5.7*0.79)/12.7)","v":{"v":9.206792084409452,"d":"9.2"}},{"v":16.809024,"d":"16.8"},{"$f":"IF(N118=\" \",\" \",R118*0.86)","v":{"v":14.455760640000001,"d":"14.5"}},{"v":5.853344,"d":"5.9"},{"$f":"IF(N118=\" \",\" \",T118*0.86)","v":{"v":5.033875839999999,"d":"5.0"}},3.4,6.3,{"v":2.52,"d":"2.5"},{"$f":"IF($I118=0,\" \",W118*0.65)","v":{"v":4.095,"d":"4.1"}},2.6,{"$f":"0.1835*0.88","v":{"v":0.16147999999999998,"d":"0.16"}},{"$f":"22.96*0.88","v":{"v":20.204800000000002,"d":"20.2"}},{"v":5.70408,"d":"5.7"},{"v":5.0195904,"d":"5.0"},{"$f":"18.6*0.88","v":{"v":16.368000000000002,"d":"16"}},55,93,{"$f":"69.7*0.88","v":{"v":61.336000000000006,"d":"61"}},{"$f":"(H118-AH118)*AU118-I118*AV118-AE118*AW118-AF118-AG118","v":{"v":184.1735999999999,"d":"184"}},{"v":240.0992,"d":"240"},{"v":8.83872,"d":"8.8"},{"v":8.184000000000001,"d":"8.2"},{"v":0.6547200000000001,"d":"0.7"},{"$nulls":3},{"v":356.6581279999999,"d":"357"},{"v":1255.236,"d":"1255"},{"v":173.964896,"d":"174"},{"v":295.0992,"d":"295"},{"v":0.84,"d":"84%"},{"v":0.82,"d":"82%"},{"v":0.47,"d":"47%"},{"v":0.75,"d":"75%"},{"v":0.88,"d":"88%"},{"$f":"1.4*H118/1000","v":{"v":1.232,"d":"1.23"}},{"$f":"$BA$117/$H$117*H118*K118/$K$117","v":{"v":141.7701463414634,"d":"142"}},{"$f":"$BB$117/$H$117*H118*K118/$K$117","v":{"v":212.65521951219512,"d":"213"}},{"v":-4.555105539248002,"d":"-4.56"}]
["Sojaschrot, schalenreich 42% RP ",{"$f":"IF(D119=\"\",\" \",COUNTA($D$8:D119))","v":110},null,"Sojaschrot, schalenreich",{"v":42,"d":"42 % RP"},null,"13",890,420,{"v":344.4,"d":"344"},72,{"v":12.690603000000001,"d":"12.69"},{"v":12.886196000000002,"d":"12.89"},{"v":26.153045454545452,"d":"26.2"},{"$f":"IF(N119=\" \",\" \",N119*0.89)","v":{"v":23.276210454545453,"d":"23.3"}},{"v":11.84175,"d":"11.8"},{"$f":"IF(N119=\" \",\" \",P119*(6*0.88+5.7*0.79)/12.7)","v":{"v":9.12187718503937,"d":"9.1"}},{"v":16.695613636363635,"d":"16.7"},{"$f":"IF(N119=\" \",\" \",R119*0.86)","v":{"v":14.358227727272727,"d":"14.4"}},{"v":5.821977272727273,"d":"5.8"},{"v":5.0069004545454545,"d":"5.0"},4.5,6.3,{"v":2.52,"d":"2.5"},{"v":4.095,"d":"4.1"},{"$f":"IF($I119=0,\" \",IF(I119>459.99,$Z$108*$I$108/$I119,$Z$112*$I$112/$I119))","v":{"v":2.97616,"d":"3.0"}},0.13,20.2,{"v":5.65215909090909,"d":"5.7"},{"v":4.9738999999999995,"d":"5.0"},23,51,88,66,{"v":197.95,"d":"198"},258,{"v":12.42,"d":"12.4"},11.5,{"v":0.92,"d":"0.9"},{"$nulls":3},{"v":442.41053,"d":"442"},{"v":1285.271376,"d":"1285"},{"v":186.92000000000002,"d":"187"},309,{"v":0.84,"d":"84%"},{"v":0.82,"d":"82%"},{"v":0.47,"d":"47%"},{"v":0.75,"d":"75%"},{"v":0.88,"d":"88%"},{"$f":"1.4*H119/1000","v":{"v":1.246,"d":"1.25"}},{"$f":"$BA$117/$H$117*H119*K119/$K$117","v":{"v":124.32372505543236,"d":"124"}},{"$f":"$BB$117/$H$117*H119*K119/$K$117","v":{"v":186.48558758314857,"d":"186"}},{"v":-3.2750769199999983,"d":"-3.28"}]
[{"$f":"IF(E120=\" \",D120&\" \"&F120,D120&\" \"&E120&\"% RP \"&F120)","v":"Sojaschrot, schalenreich 41% RP "},{"$f":"IF(D120=\"\",\" \",COUNTA($D$8:D120))","v":111},null,"Sojaschrot, schalenreich",{"v":41,"d":"41 % RP"},null,"6",890,410,{"v":336.2,"d":"336"},77,{"v":12.729226999999998,"d":"12.73"},{"v":12.746334000000001,"d":"12.75"},{"v":25.630045454545453,"d":"25.6"},{"$f":"IF(N120=\" \",\" \",N120*0.89)","v":{"v":22.810740454545453,"d":"22.8"}},{"v":11.56775,"d":"11.6"},{"$f":"IF(N120=\" \",\" \",P120*(6*0.88+5.7*0.79)/12.7)","v":{"v":8.910810885826773,"d":"8.9"}},{"v":16.356613636363637,"d":"16.4"},{"$f":"IF(N120=\" \",\" \",R120*0.86)","v":{"v":14.066687727272727,"d":"14.1"}},{"v":5.712977272727274,"d":"5.7"},{"v":4.913160454545456,"d":"4.9"},{"v":4,"d":"4.0"},6.1,{"v":2.44,"d":"2.4"},{"v":3.965,"d":"4.0"},{"$f":"IF($I120=0,\" \",IF(I120>459.99,$Z$108*$I$108/$I120,$Z$112*$I$112/$I120))","v":{"v":3.048749268292683,"d":"3.0"}},0.13,20.2,{"v":5.522159090909091,"d":"5.5"},{"v":4.859500000000001,"d":"4.9"},27,55,91,64,{"v":198.94999999999993,"d":"199"},257,{"v":14.58,"d":"14.6"},13.5,{"v":1.08,"d":"1.1"},{"$nulls":3},{"v":438.79743926829264,"d":"439"},{"v":1253.7292144390244,"d":"1254"},{"v":186.31,"d":"186"},312,{"v":0.84,"d":"84%"},{"v":0.82,"d":"82%"},{"v":0.47,"d":"47%"},{"v":0.75,"d":"75%"},{"v":0.88,"d":"88%"},{"$f":"1.4*H120/1000","v":{"v":1.246,"d":"1.25"}},{"$f":"$BA$117/$H$117*H120*K120/$K$117","v":{"v":132.95731707317074,"d":"133"}},{"$f":"$BB$117/$H$117*H120*K120/$K$117","v":{"v":199.43597560975613,"d":"199"}},{"v":-3.0221761800000007,"d":"-3.02"}]
["Sojaschrot, schalenreich 40% RP ",{"$f":"IF(D121=\"\",\" \",COUNTA($D$8:D121))","v":112},null,"Sojaschrot, schalenreich",{"v":40,"d":"40 % RP"},null,"3",890,402,{"v":329.64,"d":"330"},88,{"v":12.663584,"d":"12.66"},{"v":12.269616000000001,"d":"12.27"},{"v":25.211645454545458,"d":"25.2"},{"$f":"IF(N121=\" \",\" \",N121*0.89)","v":{"v":22.438364454545457,"d":"22.4"}},{"v":11.348550000000001,"d":"11.3"},{"$f":"IF(N121=\" \",\" \",P121*(6*0.88+5.7*0.79)/12.7)","v":{"v":8.741957846456696,"d":"8.7"}},{"v":16.085413636363636,"d":"16.1"},{"$f":"IF(N121=\" \",\" \",R121*0.86)","v":{"v":13.833455727272726,"d":"13.8"}},{"v":5.625777272727274,"d":"5.6"},{"v":4.838168454545455,"d":"4.8"},{"v":4,"d":"4.0"},6.1,{"v":2.44,"d":"2.4"},{"v":3.965,"d":"4.0"},{"$f":"IF($I121=0,\" \",IF(I121>459.99,$Z$108*$I$108/$I121,$Z$112*$I$112/$I121))","v":{"v":3.1094208955223883,"d":"3.1"}},0.13,20.2,{"v":5.418159090909091,"d":"5.4"},{"v":4.7679800000000006,"d":"4.8"},24,52,84,62,{"v":218.60000000000002,"d":"219"},262,{"v":12.96,"d":"13.0"},{"v":12,"d":"12.0"},{"v":0.96,"d":"1.0"},{"$nulls":3},{"v":446.6827843283582,"d":"447"},{"v":1236.6778555223882,"d":"1237"},{"v":206.32,"d":"206"},314,{"v":0.84,"d":"84%"},{"v":0.82,"d":"82%"},{"v":0.47,"d":"47%"},{"v":0.75,"d":"75%"},{"v":0.88,"d":"88%"},{"$f":"1.4*H121/1000","v":{"v":1.246,"d":"1.25"}},{"$f":"$BA$117/$H$117*H121*K121/$K$117","v":{"v":151.9512195121951,"d":"152"}},{"$f":"$BB$117/$H$117*H121*K121/$K$117","v":{"v":227.9268292682927,"d":"228"}},{"v":-3.80718032,"d":"-3.81"}]
[{"$f":"IF(E122=\" \",D122&\" \"&F122,D122&\" \"&E122&\"% RP \"&F122)","v":"Sonnenblumenkuchen kaltgepresst 22% RP "},{"$f":"IF(D122=\"\",\" \",COUNTA($D$8:D122))","v":113},null,"Sonnenblumenkuchen kaltgepresst",{"$f":"IF(I122=0,\" \",ROUND(I122/10,0))","v":{"v":22,"d":"22 % RP"}},null,null,880,219,{"$f":"I122*0.8","v":{"v":175.20000000000002,"d":"175"}},278,{"v":10.943737999999998,"d":"10.94"},{"v":5.770954,"d":"5.77"},{"$f":"IF(I122=0,\" \",(I122/H122*880*0.0277+2.37)/880*H122)","v":{"v":8.4363,"d":"8.4"}},{"$f":"IF(N122=\" \",\" \",N122*0.79)","v":{"v":6.664676999999999,"d":"6.7"}},{"$f":"IF(N122=\" \",\" \",(I122/H122*880*0.0252+1.38)/880*H122)","v":{"v":6.8988000000000005,"d":"6.9"}},{"$f":"IF(N122=\" \",\" \",P122*(4.5*0.88+3.6*0.77)/8.1)","v":{"v":5.733669333333334,"d":"5.7"}},{"$f":"IF(N122=\" \",\" \",(I122/H122*880*0.034+2.11)/880*H122)","v":{"v":9.556000000000001,"d":"9.6"}},{"$f":"IF(N122=\" \",\" \",R122*0.8)","v":{"v":7.644800000000001,"d":"7.6"}},{"$f":"IF(N122=\" \",\" \",(I122/H122*880*0.0102+1.32)/880*H122)","v":{"v":3.5538,"d":"3.6"}},{"$f":"IF(N122=\" \",\" \",T122*0.83)","v":{"v":2.9496539999999998,"d":"2.9"}},3.4,8.3,{"$f":"W122*0.35","v":{"v":2.9050000000000002,"d":"2.9"}},{"$f":"IF($I122=0,\" \",W122*0.65)","v":{"v":5.3950000000000005,"d":"5.4"}},4.9,{"v":0.2,"d":"0.20"},11.8,{"$f":"IF($I122=\"\",\" \",($I122/H122*880*0.0121+0.68)/880*H122)","v":{"v":3.3299,"d":"3.3"}},{"$f":"AC122*0.88","v":{"v":2.930312,"d":"2.9"}},122,{"$f":"0","v":0},77,60,{"v":188.4199999999999,"d":"188"},201,{"v":23,"d":"23.0"},{"$f":"AK122*$AL$104/$AK$104","v":{"v":21.413793103448274,"d":"21.4"}},{"$f":"AK122*$AM$104/$AK$104","v":{"v":1.5862068965517242,"d":"1.6"}},{"$nulls":3},{"v":285.81159999999994,"d":"286"},{"v":854.116,"d":"854"},{"v":129.18,"d":"129"},201,{"v":0.64,"d":"64%"},{"v":0.8,"d":"80%"},{"v":0.69,"d":"69%"},{"v":0.25,"d":"25%"},{"v":0.68,"d":"68%"},{"$f":"1.1*H122/1000","v":{"v":0.9680000000000001,"d":"0.97"}},250,348,{"v":-6.607203579999999,"d":"-6.61"}]
["Sonnenblumenschrot teilgeschält 34% RP DLG 2014",{"$f":"IF(D123=\"\",\" \",COUNTA($D$8:D123))","v":114},null,"Sonnenblumenschrot teilgeschält",{"v":34,"d":"34 % RP"},"DLG 2014",null,890,338,{"$f":"I123*0.77","v":{"v":260.26,"d":"260"}},200,{"v":9.860483,"d":"9.86"},{"v":7.764325000000001,"d":"7.76"},{"$f":"IF(I123=0,\" \",(I123/H123*880*0.0283+2.1)/880*H123)","v":{"v":11.689263636363636,"d":"11.7"}},{"$f":"IF(N123=\" \",\" \",N123*0.77)","v":{"v":9.000733,"d":"9.0"}},{"$f":"IF(N123=\" \",\" \",(I123/H123*880*0.0356+0.82)/880*H123)","v":{"v":12.86211818181818,"d":"12.9"}},{"$f":"IF(N123=\" \",\" \",P123*(7.1*0.76+5.3*0.81)/12.4)","v":{"v":10.050085730938415,"d":"10.1"}},{"$f":"IF(N123=\" \",\" \",(I123/H123*880*0.032+1.34)/880*H123)","v":{"v":12.171227272727272,"d":"12.2"}},{"$f":"IF(N123=\" \",\" \",R123*0.77)","v":{"v":9.371845,"d":"9.4"}},{"$f":"IF(N123=\" \",\" \",(I123/H123*880*0.0138-0.22)/880*H123)","v":{"v":4.4419,"d":"4.4"}},{"$f":"IF(N123=\" \",\" \",T123*0.8)","v":{"v":3.5535200000000007,"d":"3.6"}},3.9,9.8,{"$f":"W123*0.4","v":{"v":3.9200000000000004,"d":"3.9"}},{"$f":"IF($I123=0,\" \",W123*0.65)","v":{"v":6.370000000000001,"d":"6.4"}},4.9,{"v":0.2,"d":"0.20"},13.2,{"$f":"IF($I123=\"\",\" \",($I123/H123*880*0.0192+0.75)/880*H123)","v":{"v":7.248122727272726,"d":"7.2"}},{"$f":"AC123*0.76","v":{"v":5.508573272727272,"d":"5.5"}},21,{"$f":"0","v":0},58,57,{"v":210.59000000000003,"d":"211"},274,14.1,{"v":13.12758620689655,"d":"13.1"},{"v":0.9724137931034482,"d":"1.0"},{"$nulls":3},{"v":153.46846363636365,"d":"153"},{"v":1161.6860000000001,"d":"1162"},{"v":178.32000000000002,"d":"178"},274,{"v":0.65,"d":"65%"},{"v":0.77,"d":"77%"},{"v":0.6,"d":"60%"},{"v":0.25,"d":"25%"},{"v":0.68,"d":"68%"},{"$f":"2.2*H123/1000","v":{"v":1.9580000000000002,"d":"1.96"}},240,320,{"v":-10.84104275,"d":"-10.84"}]
["Trockenschlempe 29% RP ",{"$f":"IF(D124=\"\",\" \",COUNTA($D$8:D124))","v":115},null,"Trockenschlempe",{"v":29,"d":"29 % RP"},null,null,930,{"$f":"314*$H$124/1000","v":{"v":292.02,"d":"292"}},{"$f":"I124*0.72","v":{"v":210.25439999999998,"d":"210"}},{"$f":"75*$H$124/1000","v":{"v":69.75,"d":"70"}},{"v":11.897758770000001,"d":"11.90"},{"v":13.898262240000003,"d":"13.90"},{"$f":"7.1*$H$124/1000","v":{"v":6.603,"d":"6.6"}},{"$f":"IF(N124=\" \",\" \",N124*0.69)","v":{"v":4.556069999999999,"d":"4.6"}},{"$f":"IF(N124=\" \",\" \",(I124/H124*880*0.0327+0.39)/880*H124)","v":{"v":9.96121309090909,"d":"10.0"}},{"$f":"IF(N124=\" \",\" \",P124*(5.6*0.67+7*0.7)/12.6)","v":{"v":6.840032989090909,"d":"6.8"}},{"$f":"IF(N124=\" \",\" \",(I124/H124*880*0.0243+1.95)/880*H124)","v":{"v":9.156881454545454,"d":"9.2"}},{"$f":"IF(N124=\" \",\" \",R124*0.69)","v":{"v":6.3182482036363625,"d":"6.3"}},{"$f":"IF(N124=\" \",\" \",(I124/H124*880*0.011-0.26)/880*H124)","v":{"v":2.9374472727272725,"d":"2.9"}},{"$f":"IF(N124=\" \",\" \",T124*0.86)","v":{"v":2.526204654545454,"d":"2.5"}},{"$f":"0.9*$H$124/1000","v":{"v":0.837,"d":"0.8"}},{"$f":"8.7*$H$124/1000","v":{"v":8.091,"d":"8.1"}},{"$f":"W124*0.65","v":{"v":5.25915,"d":"5.3"}},{"$f":"W124*0.65","v":{"v":5.25915,"d":"5.3"}},{"$f":"3.1*$H$124/1000","v":{"v":2.883,"d":"2.9"}},{"$f":"5.7*$H$124/1000","v":{"v":5.301,"d":"5.30"}},{"$f":"14.8*$H$124/1000","v":{"v":13.764,"d":"13.8"}},{"$f":"IF($I124=\"\",\" \",($I124/H124*880*0.0139+0.34)/880*H124)","v":{"v":4.418396181818182,"d":"4.4"}},{"$f":"AC124*0.67","v":{"v":2.960325441818182,"d":"3.0"}},{"$f":"91*$H$124/1000","v":{"v":84.63,"d":"85"}},{"$f":"33*$H$124/1000","v":{"v":30.69,"d":"31"}},{"$f":"45*$H$124/1000","v":{"v":41.85,"d":"42"}},{"$f":"60*$H$124/1000","v":{"v":55.8,"d":"56"}},{"v":239.72610000000006,"d":"240"},{"$f":"$H124-($AE124+$AF124+$AH124+$I124+$K124)","v":{"v":397.11,"d":"397"}},{"$f":"32.1/880*H124","v":{"v":33.923863636363635,"d":"33.9"}},{"v":31.584286833855796,"d":"31.6"},{"v":2.3395768025078367,"d":"2.3"},{"$nulls":3},{"v":217.78222981818183,"d":"218"},{"v":887.02098,"d":"887"},{"v":238.40550000000005,"d":"238"},{"v":427.8,"d":"428"},{"v":0.68,"d":"68%"},{"v":0.72,"d":"72%"},{"v":0.85,"d":"85%"},{"v":0.41,"d":"41%"},{"v":0.66,"d":"66%"},{"$f":"1.7","v":{"v":1.7,"d":"1.70"}},{"$f":"193*H124/1000","v":{"v":179.49,"d":"179"}},{"$f":"335*H124/1000","v":{"v":311.55,"d":"312"}},{"v":4.224421435200002,"d":"4.22"}]
["Trockenschlempe Gerste getrocknet 26% RP DLG 2014",{"$f":"IF(D125=\"\",\" \",COUNTA($D$8:D125))","v":116},null,"Trockenschlempe Gerste getrocknet",{"v":26,"d":"26 % RP"},"DLG 2014",null,910,255,{"$f":"I125*0.78","v":{"v":198.9,"d":"199"}},113,{"v":11.033172,"d":"11.03"},{"v":11.53679,"d":"11.54"},8.2,{"$f":"IF(N125=\" \",\" \",N125*0.82)","v":{"v":6.723999999999999,"d":"6.7"}},{"$f":"3.7+4.7","v":8.4},{"$f":"IF(N125=\" \",\" \",P125*(4.1*0.89+5.2*0.77)/9.3)","v":{"v":6.912387096774193,"d":"6.9"}},9.1,{"$f":"IF(N125=\" \",\" \",R125*0.82)","v":{"v":7.461999999999999,"d":"7.5"}},2.5,{"$f":"IF(N125=\" \",\" \",T125*0.83)","v":{"v":2.0749999999999997,"d":"2.1"}},1.2,6.6,{"$f":"W125*0.6","v":{"v":3.9599999999999995,"d":"4.0"}},{"$f":"W125*0.65","v":{"v":4.29,"d":"4.3"}},{"v":2,"d":"2.0"},{"v":4,"d":"4.00"},{"$f":"14.8*$H$124/1000","v":{"v":13.764,"d":"13.8"}},3.7,{"$f":"AC125*0.89","v":{"v":3.293,"d":"3.3"}},64,39,16,50,{"v":257.38000000000005,"d":"257"},{"$f":"$H125-($AE125+$AF125+$AH125+$I125+$K125)","v":389},{"$f":"32.1/880*H125","v":{"v":33.19431818181818,"d":"33.2"}},{"v":30.90505485893417,"d":"30.9"},{"v":2.2892633228840125,"d":"2.3"},{"$nulls":3},{"v":213.66400000000007,"d":"214"},{"v":758.8679999999999,"d":"759"},{"v":273.81,"d":"274"},428,{"v":0.66,"d":"66%"},{"v":0.78,"d":"78%"},{"v":0.88,"d":"88%"},{"v":0.41,"d":"41%"},{"v":0.66,"d":"66%"},{"$f":"1.7","v":{"v":1.7,"d":"1.70"}},170,476,{"v":0.7538566999999992,"d":"0.75"}]
["Trockenschlempe Weizen getrocknet 35% RP DLG 2014",{"$f":"IF(D126=\"\",\" \",COUNTA($D$8:D126))","v":117},null,"Trockenschlempe Weizen getrocknet",{"v":35,"d":"35 % RP"},"DLG 2014",null,920,351,{"$f":"I126*0.72","v":{"v":252.72,"d":"253"}},69,{"$f":"I126*0.0205*AV126+0.0398*AW126*AE126+0.0173*AF126+0.016*$AG126+0.0147*AI126","v":{"v":11.453660000000001,"d":"11.45"}},{"$f":"IF(I126=\"\",\" \",$I126*0.021503+0.032497*$AE126+0.016309*$AF126+0.014701*$AJ126-0.021071*$K126)","v":{"v":13.731179000000001,"d":"13.73"}},7.1,{"$f":"IF(N126=\" \",\" \",N126*0.69)","v":{"v":4.898999999999999,"d":"4.9"}},{"$f":"5.1+6.3","v":{"v":11.399999999999999,"d":"11.4"}},{"$f":"IF(N126=\" \",\" \",P126*(5.5*0.67+6.9*0.7)/12.4)","v":{"v":7.828306451612903,"d":"7.8"}},10.1,{"$f":"IF(N126=\" \",\" \",R126*0.69)","v":{"v":6.968999999999999,"d":"7.0"}},3.2,{"$f":"IF(N126=\" \",\" \",T126*0.86)","v":{"v":2.7520000000000002,"d":"2.8"}},1.2,8.3,{"$f":"W126*0.7","v":{"v":5.8100000000000005,"d":"5.8"}},{"$f":"X126","v":{"v":5.8100000000000005,"d":"5.8"}},2.8,{"v":8.1,"d":"8.10"},{"$f":"14.8*$H$124/1000","v":{"v":13.764,"d":"13.8"}},5.1,{"$f":"AC126*0.67","v":{"v":3.417,"d":"3.4"}},56,25,32,51,{"$f":"(H126-AH126)*AU126-I126*AV126-AE126*AW126-AF126-AG126","v":{"v":233.60000000000002,"d":"234"}},{"$f":"$H126-($AE126+$AF126+$AH126+$I126+$K126)","v":368},{"$f":"32.1/880*H126","v":{"v":33.559090909090905,"d":"33.6"}},{"v":31.244670846394982,"d":"31.2"},{"v":2.314420062695924,"d":"2.3"},{"$nulls":3},{"$f":"IF(H126=\"\",\"\",50*V126+83*Z126+26*AB126+44*AA126-59*W126-13*P126-28*AZ126)","v":{"v":321.1639999999998,"d":"321"}},{"$f":"IF(H126=\"\",\"\",V126/1000*20140+Z126/1000*48600+1100/440*I126)","v":{"v":1037.748,"d":"1038"}},{"$f":"AX126*K126+AY126*AT126-AF126-AG126","v":{"v":230.67000000000002,"d":"231"}},393,{"v":0.68,"d":"68%"},{"v":0.72,"d":"72%"},{"v":0.85,"d":"85%"},{"v":0.41,"d":"41%"},{"v":0.66,"d":"66%"},{"$f":"1.7","v":{"v":1.7,"d":"1.70"}},121,292,{"v":0.8217606700000002,"d":"0.82"}]
["Trockenschlempe Weizen, Gerste getrocknet 34% RP DLG 2014",{"$f":"IF(D127=\"\",\" \",COUNTA($D$8:D127))","v":118},null,"Trockenschlempe Weizen, Gerste getrocknet",{"v":34,"d":"34 % RP"},"DLG 2014",null,920,340,{"$f":"I127*0.72","v":{"v":244.79999999999998,"d":"245"}},68,{"$f":"I127*0.0205*AV127+0.0398*AW127*AE127+0.0173*AF127+0.016*$AG127+0.0147*AI127","v":{"v":11.547073000000001,"d":"11.55"}},{"$f":"IF(I127=\"\",\" \",$I127*0.021503+0.032497*$AE127+0.016309*$AF127+0.014701*$AJ127-0.021071*$K127)","v":{"v":13.802,"d":"13.80"}},7.1,{"$f":"IF(N127=\" \",\" \",N127*0.69)","v":{"v":4.898999999999999,"d":"4.9"}},{"$f":"5.2+6.4","v":{"v":11.600000000000001,"d":"11.6"}},{"$f":"IF(N127=\" \",\" \",P127*(5.6*0.67+7*0.7)/12.6)","v":{"v":7.9653333333333345,"d":"8.0"}},10.2,{"$f":"IF(N127=\" \",\" \",R127*0.69)","v":{"v":7.037999999999999,"d":"7.0"}},3.2,{"$f":"IF(N127=\" \",\" \",T127*0.86)","v":{"v":2.7520000000000002,"d":"2.8"}},1.2,8.2,{"$f":"W127*0.65","v":{"v":5.33,"d":"5.3"}},{"$f":"W127*0.65","v":{"v":5.33,"d":"5.3"}},2.8,{"v":8.1,"d":"8.10"},{"$f":"14.8*$H$124/1000","v":{"v":13.764,"d":"13.8"}},5.2,{"$f":"AC127*0.67","v":{"v":3.4840000000000004,"d":"3.5"}},63,25,32,52,{"$f":"(H127-AH127)*AU127-I127*AV127-AE127*AW127-AF127-AG127","v":{"v":234.89000000000004,"d":"235"}},{"$f":"$H127-($AE127+$AF127+$AH127+$I127+$K127)","v":372},{"$f":"32.1/880*H127","v":{"v":33.559090909090905,"d":"33.6"}},{"v":31.244670846394982,"d":"31.2"},{"v":2.314420062695924,"d":"2.3"},{"$nulls":3},{"$f":"IF(H127=\"\",\"\",50*V127+83*Z127+26*AB127+44*AA127-59*W127-13*P127-28*AZ127)","v":{"v":324.4639999999999,"d":"324"}},{"$f":"IF(H127=\"\",\"\",V127/1000*20140+Z127/1000*48600+1100/440*I127)","v":{"v":1010.248,"d":"1010"}},{"$f":"AX127*K127+AY127*AT127-AF127-AG127","v":{"v":232.90000000000003,"d":"233"}},397,{"v":0.68,"d":"68%"},{"v":0.72,"d":"72%"},{"v":0.85,"d":"85%"},{"v":0.41,"d":"41%"},{"v":0.66,"d":"66%"},{"$f":"1.7","v":{"v":1.7,"d":"1.70"}},121,292,{"v":1.6074599999999997,"d":"1.61"}]
[" ",{"$f":"IF(D128=\"\",\" \",COUNTA($D$8:D128))","v":" "},null,null," ",{"$nulls":40}," ",{"$nulls":8},""]
["Aminosäuren*** ",{"$f":"IF(D129=\"\",\" \",COUNTA($D$8:D129))","v":119},null,"Aminosäuren***"," ",{"$nulls":40}," ",{"$nulls":8},""]
[" ",{"$f":"IF(D130=\"\",\" \",COUNTA($D$8:D130))","v":" "},null,null," ",{"$nulls":40}," ",{"$nulls":8},""]
["L-Lysin-HCL 95% RP ",{"$f":"IF(D131=\"\",\" \",COUNTA($D$8:D131))","v":120},null,"L-Lysin-HCL",{"v":95,"d":"95 % RP"},null,null,995,954,{"$f":"I131","v":954},null,{"$f":"I131*0.0205*AV131+0.0398*AW131*AE131+0.0173*AF131+0.016*$AG131+0.0147*AI131","v":{"v":19.557000000000002,"d":"19.56"}},{"$f":"IF(I131=\"\",\" \",$I131*0.021503+0.032497*$AE131+0.016309*$AF131+0.014701*$AJ131-0.021071*$K131)","v":{"v":20.513862,"d":"20.51"}},{"v":780,"d":"780.0"},{"v":780,"d":"780.0"},{"$nulls":28},{"$f":"IF(H131=\"\",\"\",V131/1000*20140+Z131/1000*48600+1100/440*I131)","v":2385},null,null,{"v":1,"d":"100%"},{"v":1,"d":"100%"},{"v":1,"d":"100%"},{"v":1,"d":"100%"},{"v":1,"d":"100%"},{"$nulls":3},{"v":-11.73688074,"d":"-11.74"}]
["Methionin (DL-Meth.) 58% RP ",{"$f":"IF(D132=\"\",\" \",COUNTA($D$8:D132))","v":121},null,"Methionin (DL-Meth.)",{"v":58,"d":"58 % RP"},null,null,995,584,{"$f":"I132","v":584},null,{"$f":"I132*0.0205*AV132+0.0398*AW132*AE132+0.0173*AF132+0.016*$AG132+0.0147*AI132","v":{"v":11.972000000000001,"d":"11.97"}},{"$f":"IF(I132=\"\",\" \",$I132*0.021503+0.032497*$AE132+0.016309*$AF132+0.014701*$AJ132-0.021071*$K132)","v":{"v":12.557752,"d":"12.56"}},null,null,{"v":990,"d":"990.0"},{"v":990,"d":"990.0"},{"$nulls":11},{"v":990,"d":"990.0"},{"v":990,"d":"990.0"},{"$nulls":12},{"$f":"IF(H132=\"\",\"\",50*V132+83*Z132+26*AB132+44*AA132-59*W132-13*P132-28*AZ132)","v":-12870},{"$f":"IF(H132=\"\",\"\",V132/1000*20140+Z132/1000*48600+1100/440*I132)","v":1460},null,null,{"v":1,"d":"100%"},{"v":1,"d":"100%"},{"v":1,"d":"100%"},{"v":1,"d":"100%"},{"v":1,"d":"100%"},{"$nulls":3},{"v":-7.18484104,"d":"-7.18"}]
["Threonin (L-Thr.) 73% RP ",{"$f":"IF(D133=\"\",\" \",COUNTA($D$8:D133))","v":122},null,"Threonin (L-Thr.)",{"v":73,"d":"73 % RP"},null,null,995,731,{"$f":"I133","v":731},null,{"$f":"I133*0.0205*AV133+0.0398*AW133*AE133+0.0173*AF133+0.016*$AG133+0.0147*AI133","v":{"v":14.9855,"d":"14.99"}},{"$f":"IF(I133=\"\",\" \",$I133*0.021503+0.032497*$AE133+0.016309*$AF133+0.014701*$AJ133-0.021071*$K133)","v":{"v":15.718693000000002,"d":"15.72"}},{"$nulls":4},{"v":980,"d":"980.0"},{"v":980,"d":"980.0"},{"$nulls":24},{"$f":"IF(H133=\"\",\"\",V133/1000*20140+Z133/1000*48600+1100/440*I133)","v":{"v":1827.5,"d":"1828"}},null,null,{"v":1,"d":"100%"},{"v":1,"d":"100%"},{"v":1,"d":"100%"},{"v":1,"d":"100%"},{"v":1,"d":"100%"},{"$nulls":3},{"v":-8.993354109999999,"d":"-8.99"}]
["Tryptophan (L-Try.) 85% RP ",{"$f":"IF(D134=\"\",\" \",COUNTA($D$8:D134))","v":123},null,"Tryptophan (L-Try.)",{"v":85,"d":"85 % RP"},null,null,995,853,{"$f":"I134","v":853},null,{"$f":"I134*0.0205*AV134+0.0398*AW134*AE134+0.0173*AF134+0.016*$AG134+0.0147*AI134","v":{"v":17.4865,"d":"17.49"}},{"$f":"IF(I134=\"\",\" \",$I134*0.021503+0.032497*$AE134+0.016309*$AF134+0.014701*$AJ134-0.021071*$K134)","v":{"v":18.342059000000003,"d":"18.34"}},{"$nulls":6},{"v":980,"d":"980.0"},{"v":980,"d":"980.0"},{"$nulls":22},{"$f":"IF(H134=\"\",\"\",V134/1000*20140+Z134/1000*48600+1100/440*I134)","v":{"v":2132.5,"d":"2133"}},null,null,{"v":1,"d":"100%"},{"v":1,"d":"100%"},{"v":1,"d":"100%"},{"v":1,"d":"100%"},{"v":1,"d":"100%"},{"$nulls":3},{"v":-10.494296929999999,"d":"-10.49"}]
[" ",{"$f":"IF(D135=\"\",\" \",COUNTA($D$8:D135))","v":" "},null,null," ",{"$nulls":40}," ",{"$nulls":8},""]
["Sonstige Futtermittel ",{"$f":"IF(D136=\"\",\" \",COUNTA($D$8:D136))","v":124},null,"Sonstige Futtermittel"," ",{"$nulls":40}," ",{"$nulls":8},""]
[" ",{"$f":"IF(D137=\"\",\" \",COUNTA($D$8:D137))","v":" "},null,null," ",{"$nulls":40}," ",{"$nulls":8},{"$f":"IF(H137=\"\",\"\",0.73*M137+0.055*AE137+0.015*AF137-0.028*I137-0.041*K137)","v":""}]
["Ameisensäure ",{"$f":"IF(D138=\"\",\" \",COUNTA($D$8:D138))","v":125},null,"Ameisensäure"," ",null,null,850,{"$nulls":3},{"v":5.8,"d":"5.80"},{"v":5.8,"d":"5.80"},{"$nulls":30},-6500,{"$nulls":10},{"v":4.234,"d":"4.23"}]
["Futterkalk CaCO3 ",{"$f":"IF(D139=\"\",\" \",COUNTA($D$8:D139))","v":126},null,"Futterkalk CaCO3",{"$f":"IF(I139=0,\" \",ROUND(I139/10,0))","v":" "},null,null,999,{"$nulls":3},{"v":0,"d":"0.00"},{"v":0,"d":"0.00"},{"$nulls":8},381.4,0.4,null,null,1.6,{"$nulls":16},{"$f":"IF(H139=\"\",\"\",50*V139+83*Z139+26*AB139+44*AA139-59*W139-13*P139-28*AZ139)","v":19154},20140,{"$nulls":7},{"v":0.9,"d":"0.90"},null,null,{"v":0,"d":"0.00"}]
[{"$f":"IF(E140=\" \",D140&\" \"&F140,D140&\" \"&E140&\"% RP \"&F140)","v":"Ca-Formiat Ca(COOH)2 "},{"$f":"IF(D140=\"\",\" \",COUNTA($D$8:D140))","v":127},null,"Ca-Formiat Ca(COOH)2",{"$f":"IF(I140=0,\" \",ROUND(I140/10,0))","v":" "},null,null,999,{"$nulls":3},{"v":0,"d":"0.00"},{"v":0,"d":"0.00"},{"$nulls":8},{"v":303,"d":"303.0"},{"$nulls":3},1.6,{"$nulls":16},{"v":15257.599999999999,"d":"15258"},{"$f":"AR139/$V$139*V140","v":{"v":16000.052438384899,"d":"16000"}},{"$nulls":7},{"v":0.9,"d":"0.90"},null,null,{"v":0,"d":"0.00"}]
[{"$f":"IF(E141=\" \",D141&\" \"&F141,D141&\" \"&E141&\"% RP \"&F141)","v":"Haferschälkleie 6% RP DLG 2014"},{"$f":"IF(D141=\"\",\" \",COUNTA($D$8:D141))","v":128},null,"Haferschälkleie",{"$f":"IF(I141=0,\" \",ROUND(I141/10,0))","v":{"v":6,"d":"6 % RP"}},"DLG 2014",null,900,63,{"$f":"0.9*I141","v":{"v":56.7,"d":"57"}},230,{"$f":"I141*0.0205*AV141+0.0398*AW141*AE141+0.0173*AF141+0.016*$AG141+0.0147*AI141","v":{"v":5.412371,"d":"5.41"}},{"$f":"IF(I141=\"\",\" \",$I141*0.021503+0.032497*$AE141+0.016309*$AF141+0.014701*$AJ141-0.021071*$K141)","v":{"v":5.372797,"d":"5.37"}},2.3,{"$f":"N141*0.88","v":{"v":2.024,"d":"2.0"}},{"$f":"1+0.8","v":1.8},{"$f":"P141*(0.92+0.8*0.85)/1.8","v":1.6},2.7,{"$f":"R141*0.87","v":{"v":2.349,"d":"2.3"}},1.1,{"$f":"T141*0.89","v":{"v":0.9790000000000001,"d":"1.0"}},1.3,1.5,{"$f":"W141*0.25","v":{"v":0.375,"d":"0.4"}},{"$f":"W141*0.65","v":{"v":0.9750000000000001,"d":"1.0"}},1.3,{"v":0.3,"d":"0.30"},9.1,{"v":1,"d":"1.0"},{"$f":"AC141*0.92","v":{"v":0.92,"d":"0.9"}},27,149,10,53,{"$f":"(H141-AH141)*AU141-I141*AV141-AE141*AW141-AF141-AG141","v":{"v":67.78999999999999,"d":"68"}},{"$f":"IF($I141=\"\",\" \",$H141-($AE141+$AF141+$AH141+$I141+$K141))","v":378},11.1,{"$nulls":5},224,{"$f":"IF(H141=\"\",\"\",V141/1000*20140+Z141/1000*48600+1100/440*I141)","v":{"v":246.862,"d":"247"}},{"$f":"AX141*K141+AY141*AT141-AF141-AG141","v":{"v":122.52000000000004,"d":"123"}},527,{"v":0.35,"d":"35%"},{"v":0.9,"d":"90%"},{"v":0.48,"d":"48%"},{"v":0.17,"d":"17%"},{"v":0.46,"d":"46%"},{"v":3.1,"d":"3.10"},375,713,{"v":-3.55185819,"d":"-3.55"}]
[{"$f":"IF(E142=\" \",D142&\" \"&F142,D142&\" \"&E142&\"% RP \"&F142)","v":"Heu Mitte bis Ende Blüte 11% RP DLG 2014"},{"$f":"IF(D142=\"\",\" \",COUNTA($D$8:D142))","v":129},null,"Heu Mitte bis Ende Blüte",{"$f":"IF(I142=0,\" \",ROUND(I142/10,0))","v":{"v":11,"d":"11 % RP"}},"DLG 2014",null,880,106,{"$f":"I142*0.48","v":{"v":50.879999999999995,"d":"51"}},246,{"v":6.14809,"d":"6.15"},{"$f":"IF(I142=\"\",\" \",$I142*0.021503+0.032497*$AE142+0.016309*$AF142+0.014701*$AJ142-0.021071*$K142)","v":{"v":4.182508999999999,"d":"4.18"}},{"$f":"IF(I142=0,\" \",(I142/H142*880*0.0455-0.09)/880*H142)","v":{"v":4.733,"d":"4.7"}},{"$f":"IF(N142=\" \",\" \",N142*0.31)","v":{"v":1.4672299999999998,"d":"1.5"}},{"$f":"IF(N142=\" \",\" \",(I142/H142*880*0.0258+0.03)/880*H142)","v":{"v":2.7647999999999997,"d":"2.8"}},{"$f":"IF(N142=\" \",\" \",P142*(1.9*0.71+1.3*0.29)/3.2)","v":{"v":1.491264,"d":"1.5"}},{"$f":"IF(N142=\" \",\" \",(I142/H142*880*0.0383+0.31)/880*H142)","v":{"v":4.3698,"d":"4.4"}},{"$f":"IF(N142=\" \",\" \",R142*0.41)","v":{"v":1.7916179999999997,"d":"1.8"}},{"$f":"IF(N142=\" \",\" \",(I142/H142*880*0.0152-0.02)/880*H142)","v":{"v":1.5912,"d":"1.6"}},{"$f":"IF(N142=\" \",\" \",T142*0.48)","v":{"v":0.7637759999999999,"d":"0.8"}},{"v":4,"d":"4.0"},2.6,{"$f":"W142*0.2","v":{"v":0.52,"d":"0.5"}},{"$f":"W142*0.65","v":{"v":1.6900000000000002,"d":"1.7"}},1.6,0.43,18.5,{"$f":"IF($I142=\"\",\" \",($I142/H142*880*0.0151+0.05)/880*H142)","v":{"v":1.6506,"d":"1.7"}},{"$f":"AC142*0.71","v":{"v":1.171926,"d":"1.2"}},24,null,88,75,{"$f":"(H142-AH142)*AU142-I142*AV142-AE142*AW142-AF142-AG142","v":{"v":219.66000000000003,"d":"220"}},{"$f":"IF($I142=\"\",\" \",$H142-($AE142+$AF142+$AH142+$I142+$K142))","v":429},7.2,{"$nulls":5},{"v":367.4095999999999,"d":"367"},{"v":423.32,"d":"423"},{"v":297.89,"d":"298"},429,{"v":0.46,"d":"46%"},{"v":0.48,"d":"48%"},{"v":0.49,"d":"49%"},{"v":0.47,"d":"47%"},{"v":0.63,"d":"63%"},{"$f":"11.2*H142/1000","v":{"v":9.856,"d":"9.86"}},317,458,{"v":-8.68076843,"d":"-8.68"}]
["Lignocellulose (Faserkonzentrat) 1% RP ",{"$f":"IF(D143=\"\",\" \",COUNTA($D$8:D143))","v":130},null,"Lignocellulose (Faserkonzentrat)",{"v":1,"d":"1 % RP"},null,null,927,12,{"$f":"I143*0.45","v":{"v":5.4,"d":"5"}},671,{"v":0,"d":"0.00"},{"v":0,"d":"0.00"},{"$nulls":17},2,null,null,4,{"$nulls":8},0,30,{"v":188.25000000000003,"d":"188"},238,{"$nulls":3},{"v":0.05,"d":"5%"},{"v":0.65,"d":"65%"},{"$f":"(0.93*23*AA143)/35.5+Z143","v":{"v":0,"d":"0.00"}},700,820,{"v":-27.737000000000002,"d":"-27.74"}]
[{"$f":"IF(E144=\" \",D144&\" \"&F144,D144&\" \"&E144&\"% RP \"&F144)","v":"Luzerne, frisch 4% RP DLG 2014"},{"$f":"IF(D144=\"\",\" \",COUNTA($D$8:D144))","v":131},null,"Luzerne, frisch",{"$f":"IF(I144=0,\" \",ROUND(I144/10,0))","v":{"v":4,"d":"4 % RP"}},"DLG 2014",null,170,37,{"$f":"I144*0.47","v":{"v":17.39,"d":"17"}},43,{"v":1.558573,"d":"1.56"},{"$f":"IF(I144=\"\",\" \",$I144*0.021503+0.032497*$AE144+0.016309*$AF144+0.014701*$AJ144-0.021071*$K144)","v":{"v":1.0223090000000001,"d":"1.02"}},{"$f":"IF(I144=0,\" \",(I144/H144*880*0.0446-0.17)/880*H144)","v":{"v":1.6173590909090911,"d":"1.6"}},{"$f":"IF(N144=\" \",\" \",N144*0.5)","v":{"v":0.8086795454545456,"d":"0.8"}},{"$f":"IF(N144=\" \",\" \",(I144/H144*880*0.0213+0.3)/880*H144)","v":{"v":0.8460545454545455,"d":"0.8"}},{"$f":"IF(N144=\" \",\" \",P144*(0.5*0.75+0.4*0.1)/0.9)","v":{"v":0.3901251515151516,"d":"0.4"}},{"$f":"IF(N144=\" \",\" \",(I144/H144*880*0.0405-0.22)/880*H144)","v":{"v":1.456,"d":"1.5"}},{"$f":"IF(N144=\" \",\" \",R144*0.6)","v":{"v":0.8735999999999999,"d":"0.9"}},{"$f":"IF(N144=\" \",\" \",(I144/H144*880*0.02-0.97)/880*H144)","v":{"v":0.5526136363636364,"d":"0.6"}},{"$f":"IF(N144=\" \",\" \",T144*0.55)","v":{"v":0.3039375,"d":"0.3"}},3.1,0.5,{"$f":"W144*0.5","v":{"v":0.25,"d":"0.3"}},{"$f":"W144*0.65","v":{"v":0.325,"d":"0.3"}},0.5,{"v":0.1,"d":"0.10"},{"$f":"AB146/H146*H144","v":{"v":4.042222222222222,"d":"4.0"}},{"$f":"IF($I144=\"\",\" \",($I144/H144*880*0.012+0.13)/880*H144)","v":{"v":0.46911363636363634,"d":"0.5"}},{"$f":"AC144*0.75","v":{"v":0.35183522727272726,"d":"0.4"}},5,null,7,19,{"$f":"(H144-AH144)*AU144-I144*AV144-AE144*AW144-AF144-AG144","v":{"v":68.74,"d":"69"}},{"$f":"IF($I144=\"\",\" \",$H144-($AE144+$AF144+$AH144+$I144+$K144))","v":66},8.4,{"$nulls":5},{"$f":"IF(H144=\"\",\"\",50*V144+83*Z144+26*AB144+44*AA144-59*W144-13*P144-28*AZ144)","v":{"v":236.93906868686867,"d":"237"}},{"$f":"IF(H144=\"\",\"\",V144/1000*20140+Z144/1000*48600+1100/440*I144)","v":{"v":179.23399999999998,"d":"179"}},{"v":52.010000000000005,"d":"52"},66,{"v":0.63,"d":"63%"},{"v":0.47,"d":"47%"},{"v":0.4,"d":"40%"},{"v":0.39,"d":"39%"},{"v":0.64,"d":"64%"},{"$f":"6*H144/1000","v":1.02},56,70,{"v":-1.77771443,"d":"-1.78"}]
["Luzernegrünmehl jung unter 23% XF 20% RP DLG 2005",{"$f":"IF(D145=\"\",\" \",COUNTA($D$8:D145))","v":132},null,"Luzernegrünmehl jung unter 23% XF",{"$f":"IF(I145=0,\" \",ROUND(I145/10,0))","v":{"v":20,"d":"20 % RP"}},"DLG 2005",null,900,196,{"$f":"I145*0.45","v":{"v":88.2,"d":"88"}},200,{"v":7.211719,"d":"7.21"},{"$f":"IF(I145=\"\",\" \",$I145*0.021503+0.032497*$AE145+0.016309*$AF145+0.014701*$AJ145-0.021071*$K145)","v":{"v":6.3649942,"d":"6.36"}},{"$f":"IF(I145=0,\" \",(I145/H145*880*0.0446-0.17)/880*H145)","v":{"v":8.567736363636365,"d":"8.6"}},{"$f":"IF(N145=\" \",\" \",N145*0.46)","v":{"v":3.9411587272727284,"d":"3.9"}},{"$f":"IF(N145=\" \",\" \",(I145/H145*880*0.0213+0.3)/880*H145)","v":{"v":4.481618181818182,"d":"4.5"}},{"$f":"IF(N145=\" \",\" \",P145*(2.3*0.75+1.8*0.09)/4.1)","v":{"v":2.062637441241685,"d":"2.1"}},{"$f":"IF(N145=\" \",\" \",(I145/H145*880*0.0405-0.22)/880*H145)","v":{"v":7.713000000000001,"d":"7.7"}},{"$f":"IF(N145=\" \",\" \",R145*0.55)","v":{"v":4.2421500000000005,"d":"4.2"}},{"$f":"IF(N145=\" \",\" \",(I145/H145*880*0.02-0.97)/880*H145)","v":{"v":2.9279545454545453,"d":"2.9"}},{"$f":"IF(N145=\" \",\" \",T145*0.54)","v":{"v":1.5810954545454545,"d":"1.6"}},15.4,2.6,{"$f":"0.5*W145","v":1.3},{"$f":"W145*0.65","v":{"v":1.6900000000000002,"d":"1.7"}},2.8,{"v":0.9,"d":"0.90"},21.4,{"$f":"IF($I145=\"\",\" \",($I145/H145*880*0.012+0.13)/880*H145)","v":{"v":2.484954545454545,"d":"2.5"}},{"$f":"AC145*0.72","v":{"v":1.7891672727272725,"d":"1.8"}},32,null,48,{"$f":"122*H145/1000","v":{"v":109.8,"d":"110"}},{"$f":"(H145-AH145)*AU145-I145*AV145-AE145*AW145-AF145-AG145","v":{"v":288.49000000000007,"d":"288"}},{"v":362.20000000000005,"d":"362"},8.4,{"$nulls":5},{"v":1235.5389636363634,"d":"1236"},{"v":936.236,"d":"936"},{"v":261.808,"d":"262"},{"v":362.20000000000005,"d":"362"},{"v":0.55,"d":"55%"},{"v":0.45,"d":"45%"},{"v":0.31,"d":"31%"},{"v":0.39,"d":"39%"},{"v":0.64,"d":"64%"},{"$f":"6*H145/1000","v":{"v":5.4,"d":"5.40"}},{"$f":"289*H145/900*K145/K146","v":{"v":243.88185654008439,"d":"244"}},{"$f":"392*H145/900*K145/K146","v":{"v":330.80168776371306,"d":"331"}},{"v":-7.2815542340000015,"d":"-7.28"}]
["Luzernegrünmehl älter über 23% XF 17% RP DLG 2014",{"$f":"IF(D146=\"\",\" \",COUNTA($D$8:D146))","v":133},null,"Luzernegrünmehl älter über 23% XF",{"$f":"IF(I146=0,\" \",ROUND(I146/10,0))","v":{"v":17,"d":"17 % RP"}},"DLG 2014",null,900,167,{"$f":"I146*0.45","v":{"v":75.15,"d":"75"}},237,{"v":7.188323,"d":"7.19"},{"v":4.931759000000001,"d":"4.93"},{"$f":"IF(I146=0,\" \",(I146/H146*880*0.0446-0.17)/880*H146)","v":{"v":7.274336363636364,"d":"7.3"}},{"$f":"IF(N146=\" \",\" \",N146*0.46)","v":{"v":3.3461947272727275,"d":"3.3"}},{"$f":"IF(N146=\" \",\" \",(I146/H146*880*0.02+0.44)/880*H146)","v":{"v":3.7900000000000005,"d":"3.8"}},{"$f":"IF(N146=\" \",\" \",P146*(2.3*0.75+1.8*0.09)/4.1)","v":{"v":1.7443243902439025,"d":"1.7"}},{"$f":"IF(N146=\" \",\" \",(I146/H146*880*0.0405-0.22)/880*H146)","v":{"v":6.538500000000001,"d":"6.5"}},{"$f":"IF(N146=\" \",\" \",R146*0.55)","v":{"v":3.5961750000000006,"d":"3.6"}},{"$f":"IF(N146=\" \",\" \",(I146/H146*880*0.02-0.97)/880*H146)","v":{"v":2.347954545454546,"d":"2.3"}},{"$f":"IF(N146=\" \",\" \",T146*0.54)","v":{"v":1.267895454545455,"d":"1.3"}},16.2,3.2,{"$f":"0.5*W146","v":1.6},{"$f":"W146*0.65","v":{"v":2.08,"d":"2.1"}},2.5,{"v":0.5,"d":"0.50"},21.4,{"$f":"IF($I146=\"\",\" \",($I146/H146*880*0.012+0.13)/880*H146)","v":{"v":2.1369545454545453,"d":"2.1"}},{"$f":"AC146*0.72","v":{"v":1.5386072727272726,"d":"1.5"}},28,null,45,99,{"$f":"(H146-AH146)*AU146-I146*AV146-AE146*AW146-AF146-AG146","v":{"v":311.71999999999997,"d":"312"}},369,8.4,{"$nulls":5},{"v":1206.63,"d":"1207"},{"v":865.268,"d":"865"},{"v":283.59000000000003,"d":"284"},369,{"v":0.55,"d":"55%"},{"v":0.45,"d":"45%"},{"v":0.31,"d":"31%"},{"v":0.39,"d":"39%"},{"v":0.64,"d":"64%"},{"$f":"6*H146/1000","v":{"v":5.4,"d":"5.40"}},289,392,{"v":-9.25281593,"d":"-9.25"}]
["eigenes Grünmehl ",{"$f":"IF(D147=\"\",\" \",COUNTA($D$8:D147))","v":134},null,"eigenes Grünmehl"," ",{"$nulls":4},{"$f":"IF(I147=0,\" \",I147*0.6)","v":" "},null,{"$f":"IF($I147=\"\",\" \",I147*0.0205*AV147+0.0398*AW147*AE147+0.0173*AF147+0.016*$AG147+0.0147*AI147)","v":" "}," ",{"$f":"IF(I147=0,\" \",(I147/H147*880*0.0446-0.17)/880*H147)","v":" "},{"$f":"IF(N147=\" \",\" \",N147*0.46)","v":" "},{"$f":"IF(N147=\" \",\" \",(I147/H147*880*0.02+0.44)/880*H147)","v":" "},{"$f":"IF(N147=\" \",\" \",P147*0.46)","v":" "},{"$f":"IF(N147=\" \",\" \",(I147/H147*880*0.0405-0.22)/880*H147)","v":" "},{"$f":"IF(N147=\" \",\" \",R147*0.55)","v":" "},{"$f":"IF(N147=\" \",\" \",(I147/H147*880*0.02-0.97)/880*H147)","v":" "},{"$f":"IF(N147=\" \",\" \",T147*0.54)","v":" "},{"$f":"IF($I147=0,\" \",V146*$H147/$H146)","v":" "}," "," "," "," "," "," ",{"$f":"IF($I147=\"\",\" \",($I147/H147*880*0.012+0.13)/880*H147)","v":" "},{"$f":"IF(AC147=\" \",\" \",AC147*0.72)","v":" "},{"$nulls":4},{"$f":"IF($I147=\"\",\" \",(H147-AH147)*AU147-I147*AV147-AE147*AW147-AF147-AG147)","v":" "}," ",{"$f":"IF($I147=0,\" \",AK146*$H147/$H146)","v":" "}," "," "," "," "," ","","",{"$f":"IF($I147=0,\" \",AX147*K147+AY147*AT147-AF147-AG147)","v":" "}," ",{"$f":"IF($I147=0,\" \",AU146)","v":" "},{"$f":"IF($I147=0,\" \",AV146)","v":" "},{"$f":"IF($I147=0,\" \",AW146)","v":" "},{"$f":"IF($I147=0,\" \",AX146)","v":" "},{"$f":"IF($I147=0,\" \",AY146)","v":" "},{"$f":"IF($I147=0,\" \",AZ146*$H147/$H146)","v":" "},{"$f":"IF($I147=0,\" \",BA146*$H147/$H146*K147/K146)","v":" "},{"$f":"IF($I147=0,\" \",BB146*$H147/$H146*K147/K146)","v":" "},""]
["Melasseschnitzel 9% RP DLG 2014",{"$f":"IF(D148=\"\",\" \",COUNTA($D$8:D148))","v":135},null,"Melasseschnitzel",{"v":9,"d":"9 % RP"},"DLG 2014",null,910,91,{"$f":"I148*0.25","v":{"v":22.75,"d":"23"}},137,{"$f":"I148*0.0205*AV148+0.0398*AW148*AE148+0.0173*AF148+0.016*$AG148+0.0147*AI148","v":{"v":10.532319000000001,"d":"10.53"}},{"v":8.206330999999999,"d":"8.21"},{"$f":"IF(I148=0,\" \",(I148/H148*880*0.0659-1)/880*H148)","v":{"v":4.962809090909091,"d":"5.0"}},{"$f":"N148*0.75","v":{"v":3.7221068181818184,"d":"3.7"}},{"$f":"IF(N148=\" \",\" \",(I148/H148*880*0.026+0.2)/880*H148)","v":{"v":2.5728181818181817,"d":"2.6"}},{"$f":"P148*(1.5*0.74+1.1*0.26)/2.6","v":{"v":1.3814054545454544,"d":"1.4"}},{"$f":"IF(N148=\" \",\" \",(I148/H148*880*0.0356+0.81)/880*H148)","v":{"v":4.077213636363636,"d":"4.1"}},{"$f":"R148*0.28","v":{"v":1.1416198181818182,"d":"1.1"}},0.9,{"$f":"T148*0.4","v":{"v":0.36000000000000004,"d":"0.4"}},{"v":10,"d":"10.0"},0.7,{"$f":"W148*0.1","v":{"v":0.06999999999999999,"d":"0.1"}},{"$f":"W148*0.65","v":{"v":0.45499999999999996,"d":"0.5"}},1.6,{"v":1.5,"d":"1.50"},13.7,{"$f":"IF($I148=\"\",\" \",($I148/H148*880*0.0158+0.06)/880*H148)","v":{"v":1.4998454545454547,"d":"1.5"}},{"$f":"AC148*0.74","v":{"v":1.1098856363636365,"d":"1.1"}},7,null,182,69,{"$f":"(H148-AH148)*AU148-I148*AV148-AE148*AW148-AF148-AG148","v":{"v":483.82000000000005,"d":"484"}},606,3.3,{"$nulls":5},{"v":944.5813636363637,"d":"945"},{"v":506.66,"d":"507"},{"$f":"AX148*K148+AY148*AT148-AF148-AG148","v":{"v":484.5400000000001,"d":"485"}},606,{"v":0.82,"d":"82%"},{"v":0.25,"d":"25%"},{"v":0.15,"d":"15%"},{"v":0.84,"d":"84%"},{"v":0.91,"d":"91%"},{"$f":"1.4*H148/1000","v":{"v":1.274,"d":"1.27"}},161,322,{"v":-1.7893783700000014,"d":"-1.79"}]
["Melasseschnitzel zuckerreich 11% RP DLG 2005",{"$f":"IF(D149=\"\",\" \",COUNTA($D$8:D149))","v":136},null,"Melasseschnitzel zuckerreich",{"$f":"IF(I149=0,\" \",ROUND(I149/10,0))","v":{"v":11,"d":"11 % RP"}},"DLG 2005",null,900,113,{"$f":"I149*0.25","v":{"v":28.25,"d":"28"}},129,{"v":10.93554,"d":"10.94"},{"v":8.3981144,"d":"8.40"},{"$f":"IF(I149=0,\" \",(I149/H149*880*0.0659-1)/880*H149)","v":{"v":6.423972727272727,"d":"6.4"}},{"$f":"N149*0.75","v":{"v":4.817979545454546,"d":"4.8"}},{"$f":"IF(N149=\" \",\" \",(I149/H149*880*0.026+0.2)/880*H149)","v":{"v":3.142545454545455,"d":"3.1"}},{"$f":"P149*(1.5*0.74+1.1*0.26)/2.6","v":{"v":1.6873051748251748,"d":"1.7"}},{"$f":"IF(N149=\" \",\" \",(I149/H149*880*0.0356+0.81)/880*H149)","v":{"v":4.851209090909092,"d":"4.9"}},{"$f":"R149*0.28","v":{"v":1.3583385454545458,"d":"1.4"}},0.9,{"$f":"T149*0.4","v":{"v":0.36000000000000004,"d":"0.4"}},7.1,0.7,{"$f":"W149*0.1","v":{"v":0.06999999999999999,"d":"0.1"}},{"$f":"W149*0.65","v":{"v":0.45499999999999996,"d":"0.5"}},1.4,1.91,18.1,{"$f":"IF($I149=\"\",\" \",($I149/H149*880*0.0158+0.06)/880*H149)","v":{"v":1.8467636363636366,"d":"1.8"}},{"$f":"AC149*0.74","v":{"v":1.366605090909091,"d":"1.4"}},7,null,221,{"$f":"84*H149/1000","v":{"v":75.6,"d":"76"}},{"$f":"(H149-AH149)*AU149-I149*AV149-AE149*AW149-AF149-AG149","v":{"v":419.85,"d":"420"}},{"v":575.4,"d":"575"},3.3,{"$nulls":5},{"v":904.486909090909,"d":"904"},{"v":493.534,"d":"494"},{"$f":"AX149*K149+AY149*AT149-AF149-AG149","v":{"v":420.496,"d":"420"}},{"v":575.4,"d":"575"},{"v":0.85,"d":"85%"},{"v":0.53,"d":"53%"},{"v":0,"d":"0%"},{"v":0.78,"d":"78%"},{"v":0.94,"d":"94%"},{"v":1.4,"d":"1.40"},{"$f":"IF($I149=0,\" \",BA148*$H149/$H148*K149/K148)","v":{"v":149.93262212240313,"d":"150"}},{"$f":"IF($I149=0,\" \",BB148*$H149/$H148*K149/K148)","v":{"v":299.86524424480626,"d":"300"}},{"v":-1.9373764880000004,"d":"-1.94"}]
["Obstrester (Apfel), getrocknet 5% RP DLG FuDb",{"$f":"IF(D150=\"\",\" \",COUNTA($D$8:D150))","v":137},null,"Obstrester (Apfel), getrocknet",{"$f":"IF(I150=0,\" \",ROUND(I150/10,0))","v":{"v":5,"d":"5 % RP"}},"DLG FuDb",null,900,{"$f":"55.89*0.9","v":{"v":50.301,"d":"50"}},{"$f":"I150*0.72","v":{"v":36.21672,"d":"36"}},{"$f":"207.1*0.9","v":{"v":186.39,"d":"186"}},{"v":7.582640841,"d":"7.58"},{"v":7.231641039000001,"d":"7.23"},{"$f":"5.4*0.9","v":{"v":4.86,"d":"4.9"}},{"$f":"IF(N150=\" \",\" \",N150*0.46)","v":{"v":2.2356000000000003,"d":"2.2"}},{"$f":"3.2*0.9","v":{"v":2.8800000000000003,"d":"2.9"}},{"$f":"IF(N150=\" \",\" \",P150*0.46)","v":{"v":1.3248000000000002,"d":"1.3"}},{"$f":"4*0.9","v":3.6},{"$f":"R150*0.55","v":{"v":1.9800000000000002,"d":"2.0"}},{"$f":"0.9*0.9","v":{"v":0.81,"d":"0.8"}},{"$f":"IF(N150=\" \",\" \",T150*0.54)","v":{"v":0.43740000000000007,"d":"0.4"}},{"$f":"2.39*0.9","v":{"v":2.1510000000000002,"d":"2.2"}},{"$f":"1.728*0.9","v":{"v":1.5552,"d":"1.6"}},{"$f":"W150*0.5","v":{"v":0.7776,"d":"0.8"}},{"$f":"W150*0.65","v":{"v":1.01088,"d":"1.0"}},{"$f":"V150/2.5","v":{"v":0.8604,"d":"0.9"}},{"$f":"0.3539*0.9","v":{"v":0.31851,"d":"0.32"}},{"$f":"6.051*0.9","v":{"v":5.4459,"d":"5.4"}},{"$f":"P150*0.17/0.41","v":{"v":1.194146341463415,"d":"1.2"}},{"$f":"AC150*0.46","v":{"v":0.5493073170731709,"d":"0.5"}},{"$f":"42.13*0.9","v":{"v":37.917,"d":"38"}},null,{"$f":"267.2*0.9","v":{"v":240.48,"d":"240"}},{"$f":"26.35*0.9","v":{"v":23.715000000000003,"d":"24"}},{"$f":"(H150-AH150)*AU150-I150*AV150-AE150*AW150-AF150-AG150","v":{"v":220.20129000000006,"d":"220"}},{"v":601.677,"d":"602"},8.2,{"$nulls":5},{"v":175.90946227605633,"d":"176"},{"v":210.88908,"d":"211"},{"$f":"AX150*K150+AY150*AT150-AF150-AG150","v":{"v":224.31590999999995,"d":"224"}},{"v":601.6769999999999,"d":"602"},{"v":0.54,"d":"54%"},{"v":0,"d":"0%"},{"v":0.33,"d":"33%"},{"v":0.46,"d":"46%"},{"v":0.63,"d":"63%"},{"$f":"(0.93*23*AA150)/35.5+Z150","v":{"v":1.052313490140845,"d":"1.05"}},470,580,{"v":-1.6858850415299989,"d":"-1.69"}]
["Propionsäure ",{"$f":"IF(D151=\"\",\" \",COUNTA($D$8:D151))","v":138},null,"Propionsäure",{"$f":"IF(I151=0,\" \",ROUND(I151/10,0))","v":" "},null,null,990,{"$nulls":3},{"$f":"M151","v":{"v":19.822217008797654,"d":"19.82"}},{"$f":"20.8/0.0341*0.032497","v":{"v":19.822217008797654,"d":"19.82"}},{"$nulls":30},-750,{"$nulls":10},{"v":14.470218416422288,"d":"14.47"}]
[{"$f":"IF(E152=\" \",D152&\" \"&F152,D152&\" \"&E152&\"% RP \"&F152)","v":"Fischöl / Lachsöl DLG 2014"},{"$f":"IF(D152=\"\",\" \",COUNTA($D$8:D152))","v":139},null,"Fischöl / Lachsöl",{"$f":"IF(I152=0,\" \",ROUND(I152/10,0))","v":" "},"DLG 2014",null,999,{"$nulls":3},{"$f":"I152*0.0205*AV152+0.0398*AW152*AE152+0.0173*AF152+0.016*$AG152+0.0147*AI152","v":{"v":38.925992,"d":"38.93"}},{"$f":"IF(I152=\" \",\" \",$I152*0.021503+0.032497*$AE152+0.016309*$AF152+0.014701*$AJ152-0.021071*$K152)","v":{"v":32.432006,"d":"32.43"}},{"$nulls":17},998,null,null,1,null,null,{"$f":"(43%+35%)*AE152","v":{"v":778.44,"d":"778.4"}},{"$f":"24.5%*AE152","v":{"v":244.51,"d":"244.5"}},{"$f":"10.5%*AE152","v":{"v":104.78999999999999,"d":"104.8"}},{"$nulls":7},{"v":0.98,"d":"98%"},null,{"v":0.98,"d":"98%"},{"$nulls":5},{"v":78.56536438,"d":"78.57"}]
["Rapsöl / Pflanzenöl DLG 2014",{"$f":"IF(D153=\"\",\" \",COUNTA($D$8:D153))","v":140},null,"Rapsöl / Pflanzenöl",{"$f":"IF(I153=0,\" \",ROUND(I153/10,0))","v":" "},"DLG 2014",null,999,{"$nulls":3},{"v":38.925992,"d":"38.93"},{"$f":"IF(I153=\" \",\" \",$I153*0.021503+0.032497*$AE153+0.016309*$AF153+0.014701*$AJ153-0.021071*$K153)","v":{"v":32.432006,"d":"32.43"}},{"$nulls":17},998,{"$nulls":5},{"v":289,"d":"289.0"},{"$f":"20*AE153/100","v":199.6},{"$f":"9*AE153/100","v":{"v":89.82,"d":"89.8"}},{"$nulls":7},{"v":0.98,"d":"98%"},null,{"v":0.98,"d":"98%"},{"$nulls":5},{"v":78.56536438,"d":"78.57"}]
["Sojaöl / Pflanzenöl DLG 2014",{"$f":"IF(D154=\"\",\" \",COUNTA($D$8:D154))","v":141},null,"Sojaöl / Pflanzenöl"," ","DLG 2014",null,999,{"$nulls":3},{"v":38.925992,"d":"38.93"},{"$f":"IF(I154=\" \",\" \",$I154*0.021503+0.032497*$AE154+0.016309*$AF154+0.014701*$AJ154-0.021071*$K154)","v":{"v":32.432006,"d":"32.43"}},{"$nulls":17},998,{"$nulls":5},{"v":579,"d":"579.0"},{"$f":"54*AE154/100","v":{"v":538.92,"d":"538.9"}},{"$f":"4*AE154/100","v":{"v":39.92,"d":"39.9"}},{"$nulls":7},{"v":0.98,"d":"98%"},null,{"v":0.98,"d":"98%"},{"$nulls":5},{"v":78.56536438,"d":"78.57"}]
["Reinglycerin 99,5 - 99,9 % ",{"$f":"IF(D155=\"\",\" \",COUNTA($D$8:D155))","v":142},null,"Reinglycerin 99,5 - 99,9 %"," ",null,null,997,{"$nulls":3},{"v":17.5,"d":"17.50"},{"v":17.5,"d":"17.50"},{"$nulls":41},{"v":12.775,"d":"12.78"}]
["Rohglycerin 80 - 82 % DLG 2014",{"$f":"IF(D156=\"\",\" \",COUNTA($D$8:D156))","v":143},null,"Rohglycerin 80 - 82 %"," ","DLG 2014",null,880,{"$nulls":3},{"$f":"I156*0.0205*AV156+0.0398*AW156*AE156+0.0173*AF156+0.016*$AG156+0.0147*AI156","v":{"v":14.37224,"d":"14.37"}},{"$f":"L156","v":{"v":14.37224,"d":"14.37"}},{"$nulls":13},{"v":17.6,"d":"17.60"},{"$nulls":3},84,null,752,48,null,null,{"$f":"AK154/AE154/99*AE156*88","v":{"v":43.3186372745491,"d":"43.3"}},{"$f":"54*AE156/100","v":{"v":45.36,"d":"45.4"}},{"$f":"4*AE156/100","v":{"v":3.36,"d":"3.4"}},{"$nulls":3},{"v":477.470647887324,"d":"477"},{"$nulls":3},{"v":0.82,"d":"82%"},{"v":0,"d":"0%"},{"v":0.7,"d":"70%"},null,null,{"$f":"(0.93*23*AA156)/35.5+Z156","v":{"v":10.604619718309861,"d":"10.60"}},null,null,{"$f":"IF(H156=\"\",\"\",0.73*M156+0.055*AE156+0.015*AF156-0.02148*I156-0.041*K156)","v":{"v":15.111735199999998,"d":"15.11"}}]
[{"$f":"IF(E157=\" \",D157&\" \"&F157,D157&\" \"&E157&\"% RP \"&F157)","v":"Sojabohnenschalen 12% RP DLG 2014"},{"$f":"IF(D157=\"\",\" \",COUNTA($D$8:D157))","v":144},null,"Sojabohnenschalen",{"$f":"IF(I157=0,\" \",ROUND(I157/10,0))","v":{"v":12,"d":"12 % RP"}},"DLG 2014",null,880,119,{"$f":"I157*0.54","v":{"v":64.26,"d":"64"}},334,{"v":7.221836,"d":"7.22"},{"$f":"IF(I157=\"\",\" \",$I157*0.021503+0.032497*$AE157+0.016309*$AF157+0.014701*$AJ157-0.021071*$K157)","v":{"v":1.602742,"d":"1.60"}},{"$f":"IF(I157=0,\" \",(I157/H157*880*0.054+1.08)/880*H157)","v":{"v":7.506,"d":"7.5"}},{"$f":"IF(N157=\" \",\" \",N157*0.56)","v":{"v":4.203360000000001,"d":"4.2"}},{"$f":"IF(N157=\" \",\" \",(I157/H157*880*0.0262+0.14)/880*H157)","v":{"v":3.2578,"d":"3.3"}},{"$f":"IF(N157=\" \",\" \",P157*(1.1*0.68+1.9*0.62)/3)","v":{"v":2.0915076000000004,"d":"2.1"}},{"$f":"IF(N157=\" \",\" \",(I157/H157*880*0.0385-0.27)/880*H157)","v":{"v":4.3115000000000006,"d":"4.3"}},{"$f":"IF(N157=\" \",\" \",R157*0.62)","v":{"v":2.6731300000000005,"d":"2.7"}},{"$f":"IF(N157=\" \",\" \",(I157/H157*880*0.0118+0.07)/880*H157)","v":{"v":1.4742,"d":"1.5"}},{"$f":"IF(N157=\" \",\" \",T157*0.6)","v":{"v":0.88452,"d":"0.9"}},4.8,1.4,{"$f":"W157*0.3","v":{"v":0.42,"d":"0.4"}},{"$f":"IF($I157=0,\" \",W157*0.65)","v":{"v":0.9099999999999999,"d":"0.9"}},1.8,0.18,10.8,{"$f":"IF($I157=\"\",\" \",($I157/H157*880*0.0149-0.46)/880*H157)","v":{"v":1.3131,"d":"1.3"}},{"$f":"AC157*0.68","v":{"v":0.892908,"d":"0.9"}},23,26,23,44,{"$f":"(H157-AH157)*AU157-I157*AV157-AE157*AW157-AF157-AG157","v":{"v":333.58000000000004,"d":"334"}},{"$f":"IF($I157=\"\",\" \",$H157-($AE157+$AF157+$AH157+$I157+$K157))","v":334},19.8,{"$f":"AK157*$AL$104/$AK$104","v":{"v":18.43448275862069,"d":"18.4"}},{"$f":"AK157*$AM$104/$AK$104","v":{"v":1.3655172413793104,"d":"1.4"}},{"$nulls":3},{"v":494.03259999999995,"d":"494"},1210,{"$f":"AX157*K157+AY157*AT157-AF157-AG157","v":{"v":360.76,"d":"361"}},{"$f":"IF(H157=\"\",\" \",H157-I157-AE157-AH157-K157)","v":360},{"v":0.54,"d":"54%"},{"v":0.54,"d":"54%"},{"v":0.2,"d":"20%"},{"v":0.44,"d":"44%"},{"v":0.73,"d":"73%"},{"$f":"2.4*H157/1000","v":{"v":2.112,"d":"2.11"}},352,528,{"v":-14.20099834,"d":"-14.20"}]
["Stroh, Gerste 4% RP DLG 2014",{"$f":"IF(D158=\"\",\" \",COUNTA($D$8:D158))","v":145},null,"Stroh, Gerste",{"v":4,"d":"4 % RP"},"DLG 2014",null,860,39,{"$f":"I158*0.1","v":{"v":3.9000000000000004,"d":"4"}},374,{"v":1.9308619999999999,"d":"1.93"},{"$f":"IF(I158=\"\",\" \",$I158*0.021503+0.032497*$AE158+0.016309*$AF158+0.014701*$AJ158-0.021071*$K158)","v":{"v":-0.9858979999999988,"d":"-0.99"}},0.8,null,0.4,null,1.5,null,0.2,null,4.3,0.7,{"$f":"W158*0.1","v":{"v":0.06999999999999999,"d":"0.1"}},{"$f":"W158*0.65","v":{"v":0.45499999999999996,"d":"0.5"}},0.9,{"v":1.7,"d":"1.70"},{"v":13,"d":"13.0"},0.2,null,14,null,{"$f":"7*H158/1000","v":{"v":6.02,"d":"6"}},52,{"v":119.36,"d":"119"},381,5.8,{"$nulls":5},{"v":506.704,"d":"507"},{"$f":"IF(H158=\"\",\"\",V158/1000*20140+Z158/1000*48600+1100/440*I158)","v":{"v":227.842,"d":"228"}},{"v":382.56000000000006,"d":"383"},381,{"v":0.16,"d":"16%"},{"v":0.1,"d":"10%"},{"v":0,"d":"0%"},{"v":0.55,"d":"55%"},{"v":0.48,"d":"48%"},{"$f":"6.2*H158/1000","v":{"v":5.332,"d":"5.33"}},{"$f":"509*H158/1000","v":{"v":437.74,"d":"438"}},{"$f":"811*H158/1000","v":{"v":697.46,"d":"697"}},{"v":-16.375705540000002,"d":"-16.38"}]
[{"$f":"IF(E159=\" \",D159&\" \"&F159,D159&\" \"&E159&\"% RP \"&F159)","v":"Stroh, Weizen 3% RP DLG 2014"},{"$f":"IF(D159=\"\",\" \",COUNTA($D$8:D159))","v":146},null,"Stroh, Weizen",{"$f":"IF(I159=0,\" \",ROUND(I159/10,0))","v":{"v":3,"d":"3 % RP"}},"DLG 2014",null,860,34,{"$f":"I159*0.1","v":{"v":3.4000000000000004,"d":"3"}},370,{"v":1.8986599999999998,"d":"1.90"},{"$f":"IF(I159=\"\",\" \",$I159*0.021503+0.032497*$AE159+0.016309*$AF159+0.014701*$AJ159-0.021071*$K159)","v":{"v":-1.121321,"d":"-1.12"}},0.7,null,0.3,null,1.4,null,0.2,null,2.6,0.7,{"$f":"W159*0.1","v":{"v":0.06999999999999999,"d":"0.1"}},{"$f":"W159*0.65","v":{"v":0.45499999999999996,"d":"0.5"}},0.9,{"v":1.3,"d":"1.30"},{"v":9,"d":"9.0"},0.2,null,11,null,7,65,{"$f":"(H159-AH159)*AU159-I159*AV159-AE159*AW159-AF159-AG159","v":{"v":116.8,"d":"117"}},380,{"v":5,"d":"5.0"},{"$nulls":5},{"$f":"IF(H159=\"\",\"\",50*V159+83*Z159+26*AB159+44*AA159-59*W159-13*P159-28*AZ159)","v":{"v":301.404,"d":"301"}},{"$f":"IF(H159=\"\",\"\",V159/1000*20140+Z159/1000*48600+1100/440*I159)","v":{"v":181.10399999999998,"d":"181"}},{"$f":"AX159*K159+AY159*AT159-AF159-AG159","v":{"v":378.90000000000003,"d":"379"}},380,{"v":0.16,"d":"16%"},{"v":0.1,"d":"10%"},{"v":0,"d":"0%"},{"v":0.55,"d":"55%"},{"v":0.48,"d":"48%"},{"$f":"6.2*H159/1000","v":{"v":5.332,"d":"5.33"}},396,654,{"v":-16.33556433,"d":"-16.34"}]
["Süßmolke 88 % TM 12% RP DLG 2014",{"$f":"IF(D160=\"\",\" \",COUNTA($D$8:D160))","v":147},null,"Süßmolke 88 % TM",{"v":12,"d":"12 % RP"},"DLG 2014",null,880,{"$f":"I161/$H$161*880","v":{"v":117.33040000000003,"d":"117"}},{"$f":"I160*0.9","v":{"v":105.59736000000002,"d":"106"}},{"$f":"K161/$H$161*880","v":0},{"v":12.626251616000003,"d":"12.63"},{"$f":"IF(I160=\"\",\" \",$I160*0.021503+0.032497*$AE160+0.016309*$AF160+0.014701*$AJ160-0.021071*$K160)","v":{"v":12.945131460799999,"d":"12.95"}},{"$f":"N161/$H$161*880","v":8.8},{"$f":"O161/$H$161*880","v":{"v":8.536,"d":"8.5"}},{"v":4.084949040000001,"d":"4.1"},{"v":3.884105712200001,"d":"3.9"},{"v":7.168231040000002,"d":"7.2"},{"v":6.379725625600001,"d":"6.4"},{"v":1.84234544,"d":"1.8"},{"v":1.7870750767999999,"d":"1.8"},{"v":5.8608,"d":"5.9"},{"v":5.8608,"d":"5.9"},{"v":4.68864,"d":"4.7"},{"v":3.7509120000000005,"d":"3.8"},{"v":1.4607999999999999,"d":"1.5"},{"v":6.4504,"d":"6.45"},{"$f":"AB161/$H$161*880","v":{"v":19.0608,"d":"19.1"}},{"v":1.76,"d":"1.8"},{"v":1.7247999999999999,"d":"1.7"},{"$f":"AE161/$H$161*880","v":{"v":12.32,"d":"12"}},null,{"$f":"AG161/$H$161*880","v":{"v":642.4,"d":"642"}},{"$f":"AH161/$H$161*880","v":{"v":68.64,"d":"69"}},{"v":12.140480000000139,"d":"12"},{"v":681.7095999999999,"d":"682"},0.4,{"$nulls":5},{"v":331.5612624799999,"d":"332"},{"v":482.35739200000006,"d":"482"},{"v":18.858311999999955,"d":"19"},{"v":681.7095999999999,"d":"682"},{"v":0.93,"d":"93%"},{"v":0.8,"d":"80%"},{"v":0.5,"d":"50%"},{"v":0,"d":"0%"},{"v":0.97,"d":"97%"},{"$f":"18.8*H160/1000","v":{"v":16.544,"d":"16.54"}},{"$f":"K160","v":0},{"$f":"0*H160/1000","v":0},{"v":6.842294766383997,"d":"6.84"}]
["Süßmolke, frisch 1% RP DLG 2014",{"$f":"IF(D161=\"\",\" \",COUNTA($D$8:D161))","v":148},null,"Süßmolke, frisch",{"v":1,"d":"1 % RP"},"DLG 2014",null,60,{"$f":"133.33*H161/1000","v":{"v":7.999800000000001,"d":"8"}},{"$f":"I161*0.8","v":{"v":6.399840000000001,"d":"6"}},0,{"v":0.8608807919999999,"d":"0.86"},{"v":0.8826225996,"d":"0.88"},{"$f":"10*H161/1000","v":0.6},{"$f":"N161*0.97","v":{"v":0.582,"d":"0.6"}},{"$f":"IF(N161=\" \",\" \",(I161/H161*880*0.0401-0.62)/880*H161)","v":{"v":0.2785192527272728,"d":"0.3"}},{"$f":"IF(N161=\" \",\" \",P161*(0.98*2+0.93*2.8)/4.8)","v":{"v":0.2648253894681819,"d":"0.3"}},{"$f":"IF(N161=\" \",\" \",(I161/H161*880*0.0576+0.41)/880*H161)","v":{"v":0.48874302545454557,"d":"0.5"}},{"$f":"R161*0.89","v":{"v":0.43498129265454555,"d":"0.4"}},{"$f":"IF(N161=\" \",\" \",(I161/H161*880*0.0186-0.34)/880*H161)","v":{"v":0.1256144618181818,"d":"0.1"}},{"$f":"T161*0.97","v":{"v":0.12184602796363635,"d":"0.1"}},{"$f":"6.66*$H$161/1000","v":{"v":0.3996,"d":"0.4"}},{"$f":"6.66*$H$161/1000","v":{"v":0.3996,"d":"0.4"}},{"$f":"W161*0.8","v":{"v":0.31968,"d":"0.3"}},{"$f":"X161*0.8","v":{"v":0.255744,"d":"0.3"}},{"$f":"1.66*$H$161/1000","v":{"v":0.0996,"d":"0.1"}},{"$f":"7.33*$H$161/1000","v":{"v":0.4398,"d":"0.44"}},{"$f":"21.66*$H$161/1000","v":{"v":1.2995999999999999,"d":"1.3"}},{"$f":"IF(H161=\"\",\"\",2/1000*$H161)","v":{"v":0.12,"d":"0.1"}},{"$f":"AC161*0.98","v":{"v":0.1176,"d":"0.1"}},{"$f":"14*$H161/1000","v":{"v":0.84,"d":"1"}},null,{"$f":"730*$H161/1000","v":{"v":43.8,"d":"44"}},{"$f":"78*$H161/1000","v":{"v":4.68,"d":"5"}},{"v":0.8277599999999978,"d":"1"},{"v":46.480199999999996,"d":"46"},{"$f":"0.4*H161/H160","v":{"v":0.02727272727272727,"d":"0.0"}},{"$nulls":5},{"v":22.606449714545448,"d":"23"},{"v":32.888004,"d":"33"},{"v":1.2857939999999957,"d":"1"},{"v":46.480199999999996,"d":"46"},{"v":0.93,"d":"93%"},{"v":0.8,"d":"80%"},{"v":0.5,"d":"50%"},{"v":0,"d":"0%"},{"v":0.97,"d":"97%"},{"$f":"18.8*H161/1000","v":{"v":1.128,"d":"1.13"}},{"$f":"K161","v":0},{"$f":"0*H161/1000","v":0},{"v":0.46652009770799996,"d":"0.47"}]
["Sauermolke, milchsauer 88 % TM 8% RP DLG 2014",{"$f":"IF(D162=\"\",\" \",COUNTA($D$8:D162))","v":149},null,"Sauermolke, milchsauer 88 % TM",{"v":8,"d":"8 % RP"},"DLG 2014",null,880,{"$f":"I163/$H163*880","v":{"v":82.5,"d":"83"}},{"$f":"I162*0.7","v":{"v":57.74999999999999,"d":"58"}},{"$f":"K163/$H163*880","v":0},{"v":11.801490800000002,"d":"11.80"},{"v":12.325555880000001,"d":"12.33"},{"$f":"N163/$H163*880","v":{"v":9.68,"d":"9.7"}},{"$f":"N162*0.83","v":{"v":8.0344,"d":"8.0"}},{"$f":"IF(N162=\" \",\" \",(I162/H162*880*0.0401-0.62)/880*H162)","v":{"v":2.6882499999999996,"d":"2.7"}},{"$f":"IF(N162=\" \",\" \",P162*(0.1*0.74+0.2*0.66)/0.3)","v":{"v":1.8459316666666667,"d":"1.8"}},{"$f":"IF(N162=\" \",\" \",(I162/H162*880*0.0576+0.41)/880*H162)","v":{"v":5.162,"d":"5.2"}},{"$f":"R162*0.7","v":{"v":3.6133999999999995,"d":"3.6"}},{"$f":"IF(N162=\" \",\" \",(I162/H162*880*0.0186-0.34)/880*H162)","v":{"v":1.1945,"d":"1.2"}},{"$f":"T162*0.79","v":{"v":0.9436549999999999,"d":"0.9"}},{"$f":"V163/$H163*880","v":{"v":16.130399999999998,"d":"16.1"}},{"$f":"W163/$H163*880","v":{"v":11,"d":"11.0"}},{"$f":"W162*0.8","v":8.8},{"$f":"X162","v":8.8},{"$f":"Z163/$H163*880","v":{"v":1.4608,"d":"1.5"}},{"$f":"AA163/$H163*880","v":{"v":6.6,"d":"6.60"}},{"$f":"AB163/$H163*880","v":{"v":23.4608,"d":"23.5"}},{"$f":"IF(H162=\"\",\"\",1.9/1000*$H162)","v":{"v":1.672,"d":"1.7"}},{"$f":"AC162*0.74","v":{"v":1.23728,"d":"1.2"}},{"$f":"16*$H162/1000","v":{"v":14.08,"d":"14"}},null,{"$f":"610*$H162/1000","v":{"v":536.8,"d":"537"}},{"$f":"110*$H162/1000","v":{"v":96.8,"d":"97"}},{"v":118.95400000000018,"d":"119"},{"v":686.62,"d":"687"},0.4,{"$nulls":5},{"v":680.96795,"d":"681"},{"v":602.111136,"d":"602"},{"v":129.22140000000002,"d":"129"},{"v":686.62,"d":"687"},{"v":0.92,"d":"92%"},{"v":0.7,"d":"70%"},{"v":0.5,"d":"50%"},{"v":0,"d":"0%"},{"v":0.97,"d":"97%"},{"$f":"18.8*H162/1000","v":{"v":16.544,"d":"16.54"}},{"$f":"K162","v":0},{"$f":"0*H162/1000","v":0},{"v":7.462055792400001,"d":"7.46"}]
["Sauermolke, milchsauer, frisch 1% RP DLG 2014",{"$f":"IF(D163=\"\",\" \",COUNTA($D$8:D163))","v":150},null,"Sauermolke, milchsauer, frisch",{"v":1,"d":"1 % RP"},"DLG 2014",null,64,6,{"$f":"I163*0.7","v":{"v":4.199999999999999,"d":"4"}},0,{"v":0.8582902400000001,"d":"0.86"},{"v":0.8964040640000001,"d":"0.90"},{"$f":"11*$H$163/1000","v":{"v":0.704,"d":"0.7"}},{"$f":"N163*0.83","v":{"v":0.58432,"d":"0.6"}},{"$f":"IF(N163=\" \",\" \",(I163/H163*880*0.0401-0.62)/880*H163)","v":{"v":0.19550909090909088,"d":"0.2"}},{"$f":"IF(N163=\" \",\" \",P163*(0.1*0.74+0.2*0.66)/0.3)","v":{"v":0.13424957575757576,"d":"0.1"}},{"$f":"IF(N163=\" \",\" \",(I163/H163*880*0.0576+0.41)/880*H163)","v":{"v":0.3754181818181818,"d":"0.4"}},{"$f":"R163*0.7","v":{"v":0.26279272727272723,"d":"0.3"}},{"$f":"IF(N163=\" \",\" \",(I163/H163*880*0.0186-0.34)/880*H163)","v":{"v":0.08687272727272727,"d":"0.1"}},{"$f":"T163*0.79","v":{"v":0.06862945454545455,"d":"0.1"}},{"$f":"18.33*$H$163/1000","v":{"v":1.17312,"d":"1.2"}},0.8,{"$f":"W163*0.8","v":{"v":0.6400000000000001,"d":"0.6"}},{"$f":"X163","v":{"v":0.6400000000000001,"d":"0.6"}},{"$f":"1.66*$H$163/1000","v":{"v":0.10624,"d":"0.1"}},{"$f":"7.5*$H$163/1000","v":0.48},{"$f":"26.66*$H$163/1000","v":{"v":1.70624,"d":"1.7"}},{"$f":"IF(H163=\"\",\"\",1.9/1000*$H163)","v":{"v":0.1216,"d":"0.1"}},{"$f":"AC163*0.74","v":{"v":0.089984,"d":"0.1"}},{"$f":"16*$H163/1000","v":{"v":1.024,"d":"1"}},null,{"$f":"610*$H163/1000","v":{"v":39.04,"d":"39"}},{"$f":"110*$H163/1000","v":{"v":7.04,"d":"7"}},{"v":8.65120000000001,"d":"9"},{"v":49.936,"d":"50"},{"$f":"0.4*H163/H162","v":{"v":0.02909090909090909,"d":"0.0"}},{"$nulls":5},{"v":49.5249418181818,"d":"50"},{"v":43.7899008,"d":"44"},{"v":9.39792,"d":"9"},{"v":49.936,"d":"50"},{"v":0.92,"d":"92%"},{"v":0.7,"d":"70%"},{"v":0.5,"d":"50%"},{"v":0,"d":"0%"},{"v":0.97,"d":"97%"},{"$f":"18.8*H163/1000","v":{"v":1.2032,"d":"1.20"}},{"$f":"K163","v":0},{"$f":"0*H163/1000","v":0},{"v":0.5426949667200001,"d":"0.54"}]
[{"$f":"IF(E164=\" \",D164&\" \"&F164,D164&\" \"&E164&\"% RP \"&F164)","v":"Trockenschnitzel 8% RP DLG 2014"},{"$f":"IF(D164=\"\",\" \",COUNTA($D$8:D164))","v":151},null,"Trockenschnitzel",{"$f":"IF(I164=0,\" \",ROUND(I164/10,0))","v":{"v":8,"d":"8 % RP"}},"DLG 2014",null,900,75,{"$f":"I164*0.4","v":30},171,{"v":10.142751,"d":"10.14"},{"v":6.858039000000001,"d":"6.86"},{"$f":"IF(I164=0,\" \",(I164/H164*880*0.0659-1)/880*H164)","v":{"v":3.9197727272727265,"d":"3.9"}},{"$f":"N164*0.55","v":{"v":2.1558749999999995,"d":"2.2"}},{"$f":"IF(N164=\" \",\" \",(I164/H164*880*0.026+0.2)/880*H164)","v":{"v":2.1545454545454543,"d":"2.2"}},{"$f":"IF(N164=\" \",\" \",P164*(1.3*0.59+0.9*0.46)/2.2)","v":{"v":1.1565991735537187,"d":"1.2"}},{"$f":"IF(N164=\" \",\" \",(I164/H164*880*0.0356+0.81)/880*H164)","v":{"v":3.4984090909090906,"d":"3.5"}},{"$f":"R164*0.28","v":{"v":0.9795545454545455,"d":"1.0"}},0.7,{"$f":"T164*0.5","v":{"v":0.35,"d":"0.4"}},12.6,0.9,{"$f":"W164*0.1","v":{"v":0.09000000000000001,"d":"0.1"}},{"$f":"W164*0.65","v":{"v":0.5850000000000001,"d":"0.6"}},1.8,{"v":0.5,"d":"0.50"},6.5,{"$f":"IF($I164=\"\",\" \",($I164/H164*880*0.0158+0.06)/880*H164)","v":{"v":1.2463636363636366,"d":"1.2"}},{"$f":"AC164*0.59","v":{"v":0.7353545454545455,"d":"0.7"}},9,null,81,63,{"v":557.7900000000001,"d":"558"},582,3.3,{"$nulls":5},{"v":854.0109090909091,"d":"854"},{"v":528.744,"d":"529"},{"v":581.3100000000001,"d":"581"},582,{"v":0.8,"d":"80%"},{"v":0.4,"d":"40%"},{"v":0.09,"d":"9%"},{"v":0.81,"d":"81%"},{"v":0.9,"d":"90%"},{"$f":"1.4*H164/1000","v":1.26},180,342,{"v":-3.60963153,"d":"-3.61"}]
[{"$f":"IF(E165=\" \",D165&\" \"&F165,D165&\" \"&E165&\"% RP \"&F165)","v":"eigenes Trockenschnitzel "},{"$f":"IF(D165=\"\",\" \",COUNTA($D$8:D165))","v":152},null,"eigenes Trockenschnitzel",{"$f":"IF(I165=0,\" \",ROUND(I165/10,0))","v":" "},{"$nulls":4},{"$f":"IF(I165=0,\" \",I165*0.38)","v":" "},null,{"$f":"IF($I165=\"\",\" \",I165*0.0205*AV165+0.0398*AW165*AE165+0.0173*AF165+0.016*$AG165+0.0147*AI165)","v":" "}," ",{"$f":"IF(I165=0,\" \",(I165/H165*880*0.0659-1)/880*H165)","v":" "},{"$f":"IF(N165=\" \",\" \",N165*0.55)","v":" "},{"$f":"IF(N165=\" \",\" \",(I165/H165*880*0.026+0.2)/880*H165)","v":" "},{"$f":"IF(N165=\" \",\" \",P165*0.53)","v":" "},{"$f":"IF(N165=\" \",\" \",(I165/H165*880*0.0356+0.81)/880*H165)","v":" "},{"$f":"IF(N165=\" \",\" \",R165*0.28)","v":" "},{"$f":"IF(N165=\" \",\" \",0.7*H165/910)","v":" "},{"$f":"IF(N165=\" \",\" \",T165*0.4)","v":" "},{"$f":"IF($I165=0,\" \",V164*$H165/$H164)","v":" "}," "," "," "," "," "," ",{"$f":"IF($I165=\"\",\" \",($I165/H165*880*0.0158+0.06)/880*H165)","v":" "},{"$f":"IF(AC165=\" \",\" \",AC165*0.59)","v":" "},{"$nulls":4},{"$f":"IF($I165=\"\",\" \",(H165-AH165)*AU165-I165*AV165-AE165*AW165-AF165-AG165)","v":" "}," ",{"$f":"IF($I165=0,\" \",AK164*$H165/$H164)","v":" "}," "," "," "," "," ","","",{"$f":"IF($I165=0,\" \",AX165*K165+AY165*AT165-AF165-AG165)","v":" "}," ",{"$f":"IF($I165=0,\" \",AU164)","v":" "},{"$f":"IF($I165=0,\" \",AV164)","v":" "},{"$f":"IF($I165=0,\" \",AW164)","v":" "},{"$f":"IF($I165=0,\" \",AX164)","v":" "},{"$f":"IF($I165=0,\" \",AY164)","v":" "},{"$f":"IF($I165=0,\" \",AZ164*$H165/$H164)","v":" "},{"$f":"IF($I165=0,\" \",BA164*$H165/$H164*K165/K164)","v":" "},{"$f":"IF($I165=0,\" \",BB164*$H165/$H164*K165/K164)","v":" "},""]
[{"$f":"IF(E166=\" \",D166&\" \"&F166,D166&\" \"&E166&\"% RP \"&F166)","v":"Wasser "},{"$f":"IF(D166=\"\",\" \",COUNTA($D$8:D166))","v":153},null,"Wasser",{"$f":"IF(I166=0,\" \",ROUND(I166/10,0))","v":" "},null,null,0,{"$nulls":3},{"$f":"I166*0.0205*AV166+0.0398*AW166*AE166+0.0173*AF166+0.016*$AG166+0.0147*AI166","v":{"v":0,"d":"0.00"}},{"v":0,"d":"0.00"},{"$nulls":8},0.5,{"$nulls":4},{"$f":"0.25","v":0.25},{"$f":"0.25","v":{"v":0.25,"d":"0.3"}},{"$nulls":14},{"v":38.28225352112676,"d":"38"},{"v":10.07,"d":"10"},{"$nulls":7},{"$f":"(0.93*23*AA166)/35.5+Z166","v":{"v":0.15063380281690142,"d":"0.15"}},{"$f":"K166","v":0},{"$f":"0*H166/1000","v":0},{"v":0,"d":"0.00"}]
["Weizenkleie 14% RP DLG 2014",{"$f":"IF(D167=\"\",\" \",COUNTA($D$8:D167))","v":154},null,"Weizenkleie",{"v":14,"d":"14 % RP"},"DLG 2014",null,880,141,{"$f":"I167*0.78","v":{"v":109.98,"d":"110"}},114,{"$f":"I167*0.0205*AV167+0.0398*AW167*AE167+0.0173*AF167+0.016*$AG167+0.0147*AI167","v":{"v":8.819834,"d":"8.82"}},{"$f":"IF(I167=\"\",\" \",$I167*0.021503+0.032497*$AE167+0.016309*$AF167+0.014701*$AJ167-0.021071*$K167)","v":{"v":9.915699000000002,"d":"9.92"}},{"$f":"IF(I167=0,\" \",(I167/H167*880*0.0373+0.43)/880*H167)","v":{"v":5.689299999999999,"d":"5.7"}},{"$f":"IF(N167=\" \",\" \",N167*0.71)","v":{"v":4.039402999999999,"d":"4.0"}},{"$f":"IF(N167=\" \",\" \",(I167/H167*880*0.0307+0.66)/880*H167)","v":{"v":4.988700000000001,"d":"5.0"}},{"$f":"IF(N167=\" \",\" \",P167*(2.1*0.77+3.2*0.68)/5.3)","v":{"v":3.5702149245283024,"d":"3.6"}},{"$f":"IF(N167=\" \",\" \",(I167/H167*880*0.0295+0.39)/880*H167)","v":{"v":4.549499999999999,"d":"4.5"}},{"$f":"IF(N167=\" \",\" \",R167*0.66)","v":{"v":3.0026699999999997,"d":"3.0"}},{"$f":"IF(N167=\" \",\" \",(I167/H167*880*0.0099+0.65)/880*H167)","v":{"v":2.0459,"d":"2.0"}},{"$f":"IF(N167=\" \",\" \",T167*0.75)","v":{"v":1.5344250000000001,"d":"1.5"}},1.3,11.4,{"$f":"W167*0.4","v":{"v":4.5600000000000005,"d":"4.6"}},{"$f":"W167*0.65","v":{"v":7.41,"d":"7.4"}},4.7,{"v":0.4,"d":"0.40"},11.5,{"$f":"IF($I167=\"\",\" \",($I167/H167*880*0.0138+0.14)/880*H167)","v":{"v":2.0858,"d":"2.1"}},{"$f":"AC167*0.77","v":{"v":1.606066,"d":"1.6"}},39,132,56,55,{"$f":"(H167-AH167)*AU167-I167*AV167-AE167*AW167-AF167-AG167","v":{"v":177.51999999999998,"d":"178"}},{"$f":"IF($I167=\"\",\" \",$H167-($AE167+$AF167+$AH167+$I167+$K167))","v":399},{"$f":"AL167+AM167","v":{"v":24.18,"d":"24.2"}},{"$f":"57*AE167/100","v":{"v":22.23,"d":"22.2"}},{"$f":"5*AE167/100","v":{"v":1.95,"d":"2.0"}},{"$nulls":3},{"v":-0.24909999999999144,"d":"-0"},{"v":607.102,"d":"607"},{"$f":"AX167*K167+AY167*AT167-AF167-AG167","v":{"v":175.39000000000004,"d":"175"}},531,{"v":0.6,"d":"60%"},{"v":0.78,"d":"78%"},{"v":0.5,"d":"50%"},{"v":0.16,"d":"16%"},{"v":0.65,"d":"65%"},{"$f":"1.4*H167/1000","v":{"v":1.232,"d":"1.23"}},128,450,{"v":2.74146027,"d":"2.74"}]
["eigene Weizenkleie ",{"$f":"IF(D168=\"\",\" \",COUNTA($D$8:D168))","v":155},null,"eigene Weizenkleie"," ",{"$nulls":4},{"$f":"IF(I168=0,\" \",I168*0.72)","v":" "},null,{"$f":"IF($I168=\"\",\" \",I168*0.0205*AV168+0.0398*AW168*AE168+0.0173*AF168+0.016*$AG168+0.0147*AI168)","v":" "},{"$f":"IF(I168=\"\",\" \",$I168*0.021503+0.032497*$AE168+0.016309*$AF168+0.014701*$AJ168-0.021071*$K168)","v":" "},{"$f":"IF(I168=0,\" \",(I168/H168*880*0.0373+0.43)/880*H168)","v":" "},{"$f":"IF(N168=\" \",\" \",N168*0.71)","v":" "},{"$f":"IF(N168=\" \",\" \",(I168/H168*880*0.0307+0.66)/880*H168)","v":" "},{"$f":"IF(N168=\" \",\" \",P168*0.73)","v":" "},{"$f":"IF(N168=\" \",\" \",(I168/H168*880*0.0295+0.39)/880*H168)","v":" "},{"$f":"IF(N168=\" \",\" \",R168*0.66)","v":" "},{"$f":"IF(N168=\" \",\" \",(I168/H168*880*0.0099+0.65)/880*H168)","v":" "},{"$f":"IF(N168=\" \",\" \",T168*0.75)","v":" "},{"$f":"IF($I168=0,\" \",V167*$H168/$H167)","v":" "}," "," "," "," "," "," ",{"$f":"IF($I168=\"\",\" \",($I168/H168*880*0.0138+0.14)/880*H168)","v":" "},{"$f":"IF(AC168=\" \",\" \",AC168*0.77)","v":" "},{"$nulls":4},{"$f":"IF($I168=\"\",\" \",(H168-AH168)*AU168-I168*AV168-AE168*AW168-AF168-AG168)","v":" "},{"$f":"IF($I168=\"\",\" \",$H168-($AE168+$AF168+$AH168+$I168+$K168))","v":" "},{"$f":"IF($I168=0,\" \",AK167*$H168/$H167)","v":" "}," "," "," "," "," ","","",{"$f":"IF($I168=0,\" \",AX168*K168+AY168*AT168-AF168-AG168)","v":" "}," ",{"$f":"IF($I168=0,\" \",AU167)","v":" "},{"$f":"IF($I168=0,\" \",AV167)","v":" "},{"$f":"IF($I168=0,\" \",AW167)","v":" "},{"$f":"IF($I168=0,\" \",AX167)","v":" "},{"$f":"IF($I168=0,\" \",AY167)","v":" "},{"$f":"IF($I168=0,\" \",AZ167*$H168/$H167)","v":" "},{"$f":"IF($I168=0,\" \",BA167*$H168/$H167*K168/K167)","v":" "},{"$f":"IF($I168=0,\" \",BB167*$H168/$H167*K168/K167)","v":" "},""]
[{"$f":"IF(E169=\" \",D169&\" \"&F169,D169&\" \"&E169&\"% RP \"&F169)","v":"hier neues Futtermittel eingeben % RP "},{"$f":"IF(D169=\"\",\" \",COUNTA($D$8:D169))","v":156},null,"hier neues Futtermittel eingeben",{"$f":"IF(I169=\"\",\"\",ROUND(I169/10,0))","v":""},{"$nulls":6},{"$f":"IF($I169=\"\",\" \",I169*0.0205*AV169+0.0398*AW169*AE169+0.0173*AF169+0.016*$AG169+0.0147*AI169)","v":" "},{"$f":"IF(I169=\"\",\"\",$I169*0.021503+0.032497*$AE169+0.016309*$AF169+0.014701*$AJ169-0.021071*$K169)","v":""},{"$nulls":21},{"$f":"IF($I169=\"\",\"\",(H169-AH169)*AU169-I169*AV169-AE169*AW169-AF169-AG169)","v":""},{"$f":"IF($I169=\"\",\"\",$H169-($AE169+$AF169+$AH169+$I169+$K169))","v":""},{"$nulls":6},{"$f":"IF(H169=\"\",\"\",50*V169+83*Z169+26*AB169+44*AA169-59*W169-13*P169-28*AZ169)","v":""},{"$f":"IF(H169=\"\",\"\",V169/1000*20140+Z169/1000*48600+1100/440*I169)","v":""},{"$f":"IF($H169=\"\",\"\",AX169*K169+AY169*AT169-AF169-AG169)","v":""}," ",{"$nulls":8},""]
[]
[{"$nulls":3},"* Häufigkeitsverteilung hessischer Proben",null,"** berechnet nach Einzelfutterformel nur in Ausnahmefällen nach Mischfutterformel",{"$nulls":5},"***nach INRA Tab. 2004 (Rohproteinäquivalente; N * 6,25)"]
[{"$nulls":3},"Quellenangabe: DLG Futterwerttabellen 2014, und 1991. DLG 2005: Kleiner Helfer für die Berechnung von Futterrationen. DLG 2009: Internet-Futtermitteldatenbank (FuDb)."]
[{"$nulls":3},"Aminosäuren für Schweine überwiegend berechnet nach den genaueren Regressionsschätzgleichungen von Evonik (früher Degussa) 1996, 2001, 2006 und 2011 "]
[{"$nulls":3},"Dr. Thomas Priesmann, Dr. Lindermeyer (Futterberechnung für Schweine 15. Auflage 2007) und Prof. Dr. Uwe Herrmann Dobbin (Fette in der Schweinefütterung)."]

{"sheet":"Preiswürdigkeit FUMI","index":5,"n_rows":178,"n_cols":14,"rows_kept":178,"merged":[[3,1,3,13],[12,12,13,12],[14,12,14,13]]}
[]
[]
[]
[null,"Berechnung der Preiswürdigkeit von Einzelfuttermitteln für Schweine nach der Austauschmethode Löhr."]
[]
[null,"Hierzu werden die Energie MJ ME und das dünndarmverdauliche (dv oder pcv = praecaecal verdauliche) Lysin als wertbestimmende "]
[null,"Inhaltsstoffe berücksichtigt. Als Vergleichsfuttermittel wird hier Weizen (Gerste auch möglich!) als typisches Energiefuttermittel und "]
[null,"Sojaschrot als typisches Eiweißfuttermittel verwendet. Mittels Drop-Down-Menü können auch andere Vergleichsfuttermittel "]
[null,"ausgewählt werden! Bei Öko-Preisvergleichen z.B. Weizen öko und Sojakuchen und bei GVO-freier Fütterung Sojaschrot GVO-frei, Brasil."]
[null,"Geben Sie bitte 1. nur den Preis  des Energieverleichfuttermittels und 2. den Preis des Eiweißvergleichsfuttermittels ein, "]
[null,"die Austauschpreise (preiswürdig bis zu diesem Preis bei den eingegebenen Vergleichsfuttermittelpreisen) werden dann automatisch errechnet!"]
[]
[null,"Futtermittel","% Roh-protein             in der FM","Qualität","Proben","Trocken-masse (TM)","Roh-protein (XP)","vd. Roh-protein (XP)","Rohfaser (XF)","ME **","Lysin (Lys)","verdaul. Lysin        (dv. Lys)","Markt-preise Einkauf frei Hof","Austausch-Preis"]
[null,null,"in %",null,"in % *","g","g","g","g","MJ","g","g"]
[{"$nulls":5},"G E H A L T E     J E     K G     F U T T E R M I T T E L",{"$nulls":6},"Preis in €/dt"]
[null,"eigener Weizen 11% RP Ø 2016",{"$f":"IF($B16=\"\",\" \",VLOOKUP($B16,Futtermittel!$A$8:$CG$171,5,FALSE))","v":11},{"$f":"IF($B16=\"\",\" \",VLOOKUP($B16,Futtermittel!$A$8:$CG$171,6,FALSE))","v":"Ø 2016"},{"$f":"IF($B16=\"\",\" \",VLOOKUP($B16,Futtermittel!$A$8:$CG$171,7,FALSE))","v":0},{"$f":"IF($B16=\"\",\" \",VLOOKUP($B16,Futtermittel!$A$8:$CG$171,8,FALSE))","v":880},{"$f":"IF($B16=\"\",\" \",VLOOKUP($B16,Futtermittel!$A$8:$CG$171,9,FALSE))","v":{"v":108.5,"d":"109"}},{"$f":"IF($B16=\"\",\" \",VLOOKUP($B16,Futtermittel!$A$8:$CG$171,10,FALSE))","v":{"v":97.65,"d":"98"}},{"$f":"IF($B16=\"\",\" \",VLOOKUP($B16,Futtermittel!$A$8:$CG$171,11,FALSE))","v":{"v":26.2,"d":"26"}},{"$f":"IF($B16=\"\",\" \",VLOOKUP($B16,Futtermittel!$A$8:$CG$171,12,FALSE))","v":{"v":13.6816923,"d":"13.68"}},{"$f":"IF($B16=\"\",\" \",VLOOKUP($B16,Futtermittel!$A$8:$CG$171,14,FALSE))","v":{"v":3.1047000000000002,"d":"3.1"}},{"$f":"IF($B16=\"\",\" \",VLOOKUP($B16,Futtermittel!$A$8:$CG$171,15,FALSE))","v":{"v":2.732136,"d":"2.7"}},{"v":14.5,"d":"14.50 €"}]
[null,"Sojaschrot 43% RP ",{"$f":"IF($B17=\"\",\" \",VLOOKUP($B17,Futtermittel!$A$8:$CG$171,5,FALSE))","v":43},{"$f":"IF($B17=\"\",\" \",VLOOKUP($B17,Futtermittel!$A$8:$CG$171,6,FALSE))","v":0},{"$f":"IF($B17=\"\",\" \",VLOOKUP($B17,Futtermittel!$A$8:$CG$171,7,FALSE))","v":"19"},{"$f":"IF($B17=\"\",\" \",VLOOKUP($B17,Futtermittel!$A$8:$CG$171,8,FALSE))","v":890},{"$f":"IF($B17=\"\",\" \",VLOOKUP($B17,Futtermittel!$A$8:$CG$171,9,FALSE))","v":429},{"$f":"IF($B17=\"\",\" \",VLOOKUP($B17,Futtermittel!$A$8:$CG$171,10,FALSE))","v":{"v":351.78,"d":"352"}},{"$f":"IF($B17=\"\",\" \",VLOOKUP($B17,Futtermittel!$A$8:$CG$171,11,FALSE))","v":69},{"$f":"IF($B17=\"\",\" \",VLOOKUP($B17,Futtermittel!$A$8:$CG$171,12,FALSE))","v":{"v":13.097461,"d":"13.10"}},{"$f":"IF($B17=\"\",\" \",VLOOKUP($B17,Futtermittel!$A$8:$CG$171,14,FALSE))","v":{"v":26.623745454545457,"d":"26.6"}},{"$f":"IF($B17=\"\",\" \",VLOOKUP($B17,Futtermittel!$A$8:$CG$171,15,FALSE))","v":{"v":23.162658545454548,"d":"23.2"}},{"v":33.5,"d":"33.50 €"}]
[null,{"$f":"Futtermittel!A6","v":"Getreide"},{"$f":"Futtermittel!E6","v":0},{"$f":"Futtermittel!F6","v":0},{"$f":"Futtermittel!G6","v":0},null,{"$f":"Futtermittel!I6","v":0},{"$f":"Futtermittel!J6","v":0},{"$f":"Futtermittel!K6","v":0},{"$f":"Futtermittel!L6","v":{"v":0,"d":"0.00"}},{"$f":"Futtermittel!N6","v":0},{"$f":"Futtermittel!O6","v":0}]
[null,{"$f":"Futtermittel!A8","v":"CCM, 65 % TM bis 3 % XF auf 88 % TM 9% RP DLG 2014"},{"$f":"Futtermittel!E8","v":9},{"$f":"Futtermittel!F8","v":"DLG 2014"},{"$f":"Futtermittel!G8","v":0},{"$f":"Futtermittel!H8","v":880},{"$f":"Futtermittel!I8","v":88},{"$f":"Futtermittel!J8","v":{"v":71.28,"d":"71"}},{"$f":"Futtermittel!K8","v":{"v":21.661538461538463,"d":"22"}},{"$f":"Futtermittel!L8","v":{"v":13.412773169230768,"d":"13.41"}},{"$f":"Futtermittel!N8","v":{"v":2.3208,"d":"2.3"}},{"$f":"Futtermittel!O8","v":{"v":1.62456,"d":"1.6"}},{"v":23.47,"d":"23.47 €"},{"$f":"IF(J19=\" \",\" \",M$16*(J19*(L$17*J19-J$17*L19)/((J$16*(L$17*J19-J$17*L19))+(J$17*(J$16*L19-L$16*J19))))+M$17*((J19*(L$17*J19-J$17*L19)/((J$16*(L$17*J19-J$17*L19))+(J$17*(J$16*L19-L$16*J19))))*((J$16*L19-L$16*J19)/(L$17*J19-J$17*1.00000000000001*L19))))","v":{"v":13.208720241567054,"d":"13.21 €"}}]
[null,{"$f":"Futtermittel!A9","v":"CCM, 65 % TM bis 3 % XF in TM 7% RP DLG 2014"},{"$f":"Futtermittel!E9","v":7},{"$f":"Futtermittel!F9","v":"DLG 2014"},{"$f":"Futtermittel!G9","v":0},{"$f":"Futtermittel!H9","v":650},{"$f":"Futtermittel!I9","v":65},{"$f":"Futtermittel!J9","v":{"v":52.650000000000006,"d":"53"}},{"$f":"Futtermittel!K9","v":16},{"$f":"Futtermittel!L9","v":{"v":9.907162,"d":"9.91"}},{"$f":"Futtermittel!N9","v":{"v":1.7142272727272727,"d":"1.7"}},{"$f":"Futtermittel!O9","v":{"v":1.199959090909091,"d":"1.2"}},{"v":16,"d":"16.00 €"},{"v":9.756441087521118,"d":"9.76 €"}]
[null,{"$f":"Futtermittel!A10","v":"CCM, 61 % TM über 3 % XF auf 88 % TM 9% RP DLG 2014"},{"$f":"Futtermittel!E10","v":9},{"$f":"Futtermittel!F10","v":"DLG 2014"},{"$f":"Futtermittel!G10","v":0},{"$f":"Futtermittel!H10","v":880},{"$f":"Futtermittel!I10","v":88},{"$f":"Futtermittel!J10","v":{"v":71.28,"d":"71"}},{"$f":"Futtermittel!K10","v":{"v":34.62295081967213,"d":"35"}},{"$f":"Futtermittel!L10","v":{"v":13.24358572307692,"d":"13.24"}},{"$f":"Futtermittel!N10","v":{"v":2.3208,"d":"2.3"}},{"$f":"Futtermittel!O10","v":{"v":1.5549360000000003,"d":"1.6"}},null,{"$f":"IF(J21=\" \",\" \",M$16*(J21*(L$17*J21-J$17*L21)/((J$16*(L$17*J21-J$17*L21))+(J$17*(J$16*L21-L$16*J21))))+M$17*((J21*(L$17*J21-J$17*L21)/((J$16*(L$17*J21-J$17*L21))+(J$17*(J$16*L21-L$16*J21))))*((J$16*L21-L$16*J21)/(L$17*J21-J$17*1.00000000000001*L21))))","v":{"v":12.995193792538954,"d":"13.00 €"}}]
[null,{"$f":"Futtermittel!A11","v":"CCM, 61 % TM über 3 % XF in TM 6% RP DLG 2014"},{"$f":"Futtermittel!E11","v":6},{"$f":"Futtermittel!F11","v":"DLG 2014"},{"$f":"Futtermittel!G11","v":0},{"$f":"Futtermittel!H11","v":610},{"$f":"Futtermittel!I11","v":61},{"$f":"Futtermittel!J11","v":{"v":47.58,"d":"48"}},{"$f":"Futtermittel!K11","v":24},{"$f":"Futtermittel!L11","v":{"v":9.196698000000001,"d":"9.20"}},{"$f":"Futtermittel!N11","v":{"v":1.6087363636363636,"d":"1.6"}},{"$f":"Futtermittel!O11","v":{"v":1.0778533636363636,"d":"1.1"}},null,{"$f":"IF(J22=\" \",\" \",M$16*(J22*(L$17*J22-J$17*L22)/((J$16*(L$17*J22-J$17*L22))+(J$17*(J$16*L22-L$16*J22))))+M$17*((J22*(L$17*J22-J$17*L22)/((J$16*(L$17*J22-J$17*L22))+(J$17*(J$16*L22-L$16*J22))))*((J$16*L22-L$16*J22)/(L$17*J22-J$17*1.00000000000001*L22))))","v":{"v":9.022359926534172,"d":"9.02 €"}}]
[null,{"$f":"Futtermittel!A12","v":"eigenes CCM 5% RP Ø 2015"},{"$f":"Futtermittel!E12","v":5},{"$f":"Futtermittel!F12","v":"Ø 2015"},{"$f":"Futtermittel!G12","v":0},{"$f":"Futtermittel!H12","v":604},{"$f":"Futtermittel!I12","v":{"v":54.36,"d":"54"}},{"$f":"Futtermittel!J12","v":{"v":44.031600000000005,"d":"44"}},{"$f":"Futtermittel!K12","v":{"v":18.724,"d":"19"}},{"$f":"Futtermittel!L12","v":{"v":9.341764688,"d":"9.34"}},{"$f":"Futtermittel!N12","v":{"v":1.4896287272727273,"d":"1.5"}},{"$f":"Futtermittel!O12","v":{"v":1.042740109090909,"d":"1.0"}},{"v":16,"d":"16.00 €"},{"v":9.114915348420933,"d":"9.11 €"}]
[null,{"$f":"Futtermittel!A13","v":"Gerste  14% RP "},{"$f":"Futtermittel!E13","v":14},{"$f":"Futtermittel!F13","v":0},{"$f":"Futtermittel!G13","v":1},{"$f":"Futtermittel!H13","v":880},{"$f":"Futtermittel!I13","v":{"v":138.4,"d":"138"}},{"$f":"Futtermittel!J13","v":{"v":101.032,"d":"101"}},{"$f":"Futtermittel!K13","v":{"v":49.4,"d":"49"}},{"$f":"Futtermittel!L13","v":{"v":12.6681514,"d":"12.67"}},{"$f":"Futtermittel!N13","v":{"v":4.54936,"d":"4.5"}},{"$f":"Futtermittel!O13","v":{"v":3.3210328,"d":"3.3"}},{"v":25,"d":"25.00 €"},{"v":14.181393637435042,"d":"14.18 €"}]
[null,{"$f":"Futtermittel!A14","v":"Gerste  13% RP "},{"$f":"Futtermittel!E14","v":13},{"$f":"Futtermittel!F14","v":0},{"$f":"Futtermittel!G14","v":"7"},{"$f":"Futtermittel!H14","v":880},{"$f":"Futtermittel!I14","v":128},{"$f":"Futtermittel!J14","v":{"v":93.44,"d":"93"}},{"$f":"Futtermittel!K14","v":{"v":52.2,"d":"52"}},{"$f":"Futtermittel!L14","v":{"v":12.638889899999999,"d":"12.64"}},{"$f":"Futtermittel!N14","v":{"v":4.3111999999999995,"d":"4.3"}},{"$f":"Futtermittel!O14","v":{"v":3.1471759999999995,"d":"3.1"}},{"v":25,"d":"25.00 €"},{"v":13.989956845438929,"d":"13.99 €"}]
[null,{"$f":"Futtermittel!A15","v":"Gerste  12% RP "},{"$f":"Futtermittel!E15","v":12},{"$f":"Futtermittel!F15","v":0},{"$f":"Futtermittel!G15","v":"19"},{"$f":"Futtermittel!H15","v":880},{"$f":"Futtermittel!I15","v":{"v":119.3,"d":"119"}},{"$f":"Futtermittel!J15","v":{"v":87.089,"d":"87"}},{"$f":"Futtermittel!K15","v":{"v":53.3,"d":"53"}},{"$f":"Futtermittel!L15","v":{"v":12.6217838,"d":"12.62"}},{"$f":"Futtermittel!N15","v":{"v":4.1119699999999995,"d":"4.1"}},{"$f":"Futtermittel!O15","v":{"v":3.0017380999999994,"d":"3.0"}},{"v":25,"d":"25.00 €"},{"v":13.836220116662243,"d":"13.84 €"}]
[null,{"$f":"Futtermittel!A16","v":"Gerste  11% RP "},{"$f":"Futtermittel!E16","v":11},{"$f":"Futtermittel!F16","v":0},{"$f":"Futtermittel!G16","v":"41"},{"$f":"Futtermittel!H16","v":880},{"$f":"Futtermittel!I16","v":{"v":109.8,"d":"110"}},{"$f":"Futtermittel!J16","v":{"v":80.154,"d":"80"}},{"$f":"Futtermittel!K16","v":{"v":55.3,"d":"55"}},{"$f":"Futtermittel!L16","v":{"v":12.5864011,"d":"12.59"}},{"$f":"Futtermittel!N16","v":{"v":3.8944199999999998,"d":"3.9"}},{"$f":"Futtermittel!O16","v":{"v":2.8429265999999997,"d":"2.8"}},{"v":25,"d":"25.00 €"},{"v":13.653828943217578,"d":"13.65 €"}]
[null,{"$f":"Futtermittel!A17","v":"Gerste  10% RP  DLG 2014"},{"$f":"Futtermittel!E17","v":10},{"$f":"Futtermittel!F17","v":" DLG 2014"},{"$f":"Futtermittel!G17","v":0},{"$f":"Futtermittel!H17","v":870},{"$f":"Futtermittel!I17","v":104},{"$f":"Futtermittel!J17","v":{"v":75.92,"d":"76"}},{"$f":"Futtermittel!K17","v":48},{"$f":"Futtermittel!L17","v":{"v":12.47168224,"d":"12.47"}},{"$f":"Futtermittel!N17","v":{"v":3.7616,"d":"3.8"}},{"$f":"Futtermittel!O17","v":{"v":2.745968,"d":"2.7"}},{"v":25,"d":"25.00 €"},{"v":13.461543110827433,"d":"13.46 €"}]
[null,{"$f":"Futtermittel!A18","v":"eigene Gerste 11% RP Ø 2016"},{"$f":"Futtermittel!E18","v":11},{"$f":"Futtermittel!F18","v":"Ø 2016"},{"$f":"Futtermittel!G18","v":0},{"$f":"Futtermittel!H18","v":880},{"$f":"Futtermittel!I18","v":{"v":107.8,"d":"108"}},{"$f":"Futtermittel!J18","v":{"v":78.694,"d":"79"}},{"$f":"Futtermittel!K18","v":{"v":54.4,"d":"54"}},{"$f":"Futtermittel!L18","v":{"v":12.5725728,"d":"12.57"}},{"$f":"Futtermittel!N18","v":{"v":3.84862,"d":"3.8"}},{"$f":"Futtermittel!O18","v":{"v":2.8094926,"d":"2.8"}},{"v":25,"d":"25.00 €"},{"v":13.609886308458298,"d":"13.61 €"}]
[null,{"$f":"Futtermittel!A19","v":"eigene Gerste 2 10% RP Ø 2015"},{"$f":"Futtermittel!E19","v":10},{"$f":"Futtermittel!F19","v":"Ø 2015"},{"$f":"Futtermittel!G19","v":0},{"$f":"Futtermittel!H19","v":880},{"$f":"Futtermittel!I19","v":{"v":96.535,"d":"97"}},{"$f":"Futtermittel!J19","v":{"v":70.47054999999999,"d":"70"}},{"$f":"Futtermittel!K19","v":{"v":53.605,"d":"54"}},{"$f":"Futtermittel!L19","v":{"v":12.561978909999999,"d":"12.56"}},{"$f":"Futtermittel!N19","v":{"v":3.5906515,"d":"3.6"}},{"$f":"Futtermittel!O19","v":{"v":2.621175595,"d":"2.6"}},{"v":25,"d":"25.00 €"},{"v":13.420867112609086,"d":"13.42 €"}]
[null,{"$f":"Futtermittel!A20","v":"Gerste  10% RP "},{"$f":"Futtermittel!E20","v":10},{"$f":"Futtermittel!F20","v":0},{"$f":"Futtermittel!G20","v":"23"},{"$f":"Futtermittel!H20","v":880},{"$f":"Futtermittel!I20","v":{"v":100.7,"d":"101"}},{"$f":"Futtermittel!J20","v":{"v":73.511,"d":"74"}},{"$f":"Futtermittel!K20","v":54},{"$f":"Futtermittel!L20","v":{"v":12.555051500000001,"d":"12.56"}},{"$f":"Futtermittel!N20","v":{"v":3.68603,"d":"3.7"}},{"$f":"Futtermittel!O20","v":{"v":2.6908019,"d":"2.7"}},{"v":25,"d":"25.00 €"},{"v":13.481327875360169,"d":"13.48 €"}]
[null,{"$f":"Futtermittel!A21","v":"Gerste  9% RP "},{"$f":"Futtermittel!E21","v":9},{"$f":"Futtermittel!F21","v":0},{"$f":"Futtermittel!G21","v":"9"},{"$f":"Futtermittel!H21","v":880},{"$f":"Futtermittel!I21","v":{"v":90.6,"d":"91"}},{"$f":"Futtermittel!J21","v":{"v":66.13799999999999,"d":"66"}},{"$f":"Futtermittel!K21","v":{"v":52.3,"d":"52"}},{"$f":"Futtermittel!L21","v":{"v":12.574137799999999,"d":"12.57"}},{"$f":"Futtermittel!N21","v":{"v":3.4547399999999997,"d":"3.5"}},{"$f":"Futtermittel!O21","v":{"v":2.5219601999999997,"d":"2.5"}},{"v":25,"d":"25.00 €"},{"v":13.336700524065147,"d":"13.34 €"}]
[null,{"$f":"Futtermittel!A22","v":"Gerste öko 9% RP Ø Hessen"},{"$f":"Futtermittel!E22","v":9},{"$f":"Futtermittel!F22","v":"Ø Hessen"},{"$f":"Futtermittel!G22","v":"100"},{"$f":"Futtermittel!H22","v":880},{"$f":"Futtermittel!I22","v":{"v":87.3,"d":"87"}},{"$f":"Futtermittel!J22","v":{"v":63.729,"d":"64"}},{"$f":"Futtermittel!K22","v":{"v":58.7,"d":"59"}},{"$f":"Futtermittel!L22","v":{"v":12.560165599999998,"d":"12.56"}},{"$f":"Futtermittel!N22","v":{"v":3.37917,"d":"3.4"}},{"$f":"Futtermittel!O22","v":{"v":2.4667941,"d":"2.5"}},{"v":37,"d":"37.00 €"},{"v":13.271882252023957,"d":"13.27 €"}]
[null,{"$f":"Futtermittel!A23","v":"Gerste Sommer 10% RP Ø Hessen"},{"$f":"Futtermittel!E23","v":10},{"$f":"Futtermittel!F23","v":"Ø Hessen"},{"$f":"Futtermittel!G23","v":"100"},{"$f":"Futtermittel!H23","v":880},{"$f":"Futtermittel!I23","v":{"v":99.4,"d":"99"}},{"$f":"Futtermittel!J23","v":{"v":72.562,"d":"73"}},{"$f":"Futtermittel!K23","v":{"v":49.9,"d":"50"}},{"$f":"Futtermittel!L23","v":{"v":12.698748999999998,"d":"12.70"}},{"$f":"Futtermittel!N23","v":{"v":3.6955400000000003,"d":"3.7"}},{"$f":"Futtermittel!O23","v":{"v":2.6977442000000003,"d":"2.7"}},{"v":25,"d":"25.00 €"},{"v":13.612849398801949,"d":"13.61 €"}]
[null,{"$f":"Futtermittel!A25","v":"Hafer  11% RP DLG 2014"},{"$f":"Futtermittel!E25","v":11},{"$f":"Futtermittel!F25","v":"DLG 2014"},{"$f":"Futtermittel!G25","v":0},{"$f":"Futtermittel!H25","v":880},{"$f":"Futtermittel!I25","v":108},{"$f":"Futtermittel!J25","v":{"v":95.04,"d":"95"}},{"$f":"Futtermittel!K25","v":97},{"$f":"Futtermittel!L25","v":{"v":11.675204,"d":"11.68"}},{"$f":"Futtermittel!N25","v":{"v":4.3744000000000005,"d":"4.4"}},{"$f":"Futtermittel!O25","v":{"v":4.15568,"d":"4.2"}},{"v":24,"d":"24.00 €"},{"v":14.115336911442862,"d":"14.12 €"}]
[null,{"$f":"Futtermittel!A26","v":"eigener Hafer 11% RP Ø 2016"},{"$f":"Futtermittel!E26","v":11},{"$f":"Futtermittel!F26","v":"Ø 2016"},{"$f":"Futtermittel!G26","v":0},{"$f":"Futtermittel!H26","v":880},{"$f":"Futtermittel!I26","v":{"v":110.75,"d":"111"}},{"$f":"Futtermittel!J26","v":{"v":97.46,"d":"97"}},{"$f":"Futtermittel!K26","v":{"v":102.39,"d":"102"}},{"$f":"Futtermittel!L26","v":{"v":11.254695379999998,"d":"11.25"}},{"$f":"Futtermittel!N26","v":{"v":4.4756,"d":"4.5"}},{"$f":"Futtermittel!O26","v":{"v":4.2518199999999995,"d":"4.3"}},{"v":24,"d":"24.00 €"},{"v":13.841655263322547,"d":"13.84 €"}]
[null,{"$f":"Futtermittel!A27","v":"Hafer  11% RP Ø Hessen"},{"$f":"Futtermittel!E27","v":11},{"$f":"Futtermittel!F27","v":"Ø Hessen"},{"$f":"Futtermittel!G27","v":"100"},{"$f":"Futtermittel!H27","v":880},{"$f":"Futtermittel!I27","v":{"v":112.1,"d":"112"}},{"$f":"Futtermittel!J27","v":{"v":98.648,"d":"99"}},{"$f":"Futtermittel!K27","v":{"v":98.6,"d":"99"}},{"$f":"Futtermittel!L27","v":{"v":11.50815016,"d":"11.51"}},{"$f":"Futtermittel!N27","v":{"v":4.52528,"d":"4.5"}},{"$f":"Futtermittel!O27","v":{"v":4.299016,"d":"4.3"}},{"v":24,"d":"24.00 €"},{"v":14.107006507747919,"d":"14.11 €"}]
[null,{"$f":"Futtermittel!A28","v":"Hirse - Sorghum 10% RP DLG 2014"},{"$f":"Futtermittel!E28","v":10},{"$f":"Futtermittel!F28","v":"DLG 2014"},{"$f":"Futtermittel!G28","v":0},{"$f":"Futtermittel!H28","v":880},{"$f":"Futtermittel!I28","v":97},{"$f":"Futtermittel!J28","v":{"v":71.78,"d":"72"}},{"$f":"Futtermittel!K28","v":26},{"$f":"Futtermittel!L28","v":{"v":13.747688000000002,"d":"13.75"}},{"$f":"Futtermittel!N28","v":{"v":2.135,"d":"2.1"}},{"$f":"Futtermittel!O28","v":{"v":1.708,"d":"1.7"}},{"v":28.5,"d":"28.50 €"},{"v":13.579478444498925,"d":"13.58 €"}]
[null,{"$f":"Futtermittel!A29","v":"eigene Hirse - Sorghum 10% RP "},{"$f":"Futtermittel!E29","v":10},{"$f":"Futtermittel!F29","v":0},{"$f":"Futtermittel!G29","v":0},{"$f":"Futtermittel!H29","v":880},{"$f":"Futtermittel!I29","v":100},{"$f":"Futtermittel!J29","v":74},{"$f":"Futtermittel!K29","v":56},{"$f":"Futtermittel!L29","v":{"v":13.510816,"d":"13.51"}},{"$f":"Futtermittel!N29","v":{"v":2.18,"d":"2.2"}},{"$f":"Futtermittel!O29","v":{"v":1.7440000000000002,"d":"1.7"}},{"v":28.5,"d":"28.50 €"},{"v":13.407978351060468,"d":"13.41 €"}]
[null,{"$f":"Futtermittel!A30","v":"Mais, Körner 9% RP DLG 2014"},{"$f":"Futtermittel!E30","v":9},{"$f":"Futtermittel!F30","v":"DLG 2014"},{"$f":"Futtermittel!G30","v":0},{"$f":"Futtermittel!H30","v":880},{"$f":"Futtermittel!I30","v":92},{"$f":"Futtermittel!J30","v":{"v":75.44,"d":"75"}},{"$f":"Futtermittel!K30","v":23},{"$f":"Futtermittel!L30","v":{"v":14.186431199999998,"d":"14.19"}},{"$f":"Futtermittel!N30","v":{"v":2.5612,"d":"2.6"}},{"$f":"Futtermittel!O30","v":{"v":2.1770199999999997,"d":"2.2"}},{"v":27,"d":"27.00 €"},{"v":14.408642953075812,"d":"14.41 €"}]
[null,{"$f":"Futtermittel!A31","v":"eigener Mais, Körner "},{"$f":"Futtermittel!E31","v":" "},{"$f":"Futtermittel!F31","v":0},{"$f":"Futtermittel!G31","v":0},{"$f":"Futtermittel!H31","v":0},{"$f":"Futtermittel!I31","v":0},{"$f":"Futtermittel!J31","v":" "},{"$f":"Futtermittel!K31","v":0},{"$f":"Futtermittel!L31","v":" "},{"$f":"Futtermittel!N31","v":" "},{"$f":"Futtermittel!O31","v":" "},{"v":27,"d":"27.00 €"}," "]
[null,{"$f":"Futtermittel!A32","v":"Mais, Körner siliert Ganzkorn 7% RP DLG 2014"},{"$f":"Futtermittel!E32","v":7},{"$f":"Futtermittel!F32","v":"DLG 2014"},{"$f":"Futtermittel!G32","v":0},{"$f":"Futtermittel!H32","v":650},{"$f":"Futtermittel!I32","v":65},{"$f":"Futtermittel!J32","v":{"v":57.85,"d":"58"}},{"$f":"Futtermittel!K32","v":16},{"$f":"Futtermittel!L32","v":{"v":10.723715000000002,"d":"10.72"}},{"$f":"Futtermittel!N32","v":{"v":2.0589999999999997,"d":"2.1"}},{"$f":"Futtermittel!O32","v":{"v":1.7501499999999997,"d":"1.8"}},null,{"$f":"IF(J42=\" \",\" \",M$16*(J42*(L$17*J42-J$17*L42)/((J$16*(L$17*J42-J$17*L42))+(J$17*(J$16*L42-L$16*J42))))+M$17*((J42*(L$17*J42-J$17*L42)/((J$16*(L$17*J42-J$17*L42))+(J$17*(J$16*L42-L$16*J42))))*((J$16*L42-L$16*J42)/(L$17*J42-J$17*1.00000000000001*L42))))","v":{"v":10.991478784293886,"d":"10.99 €"}}]
[null,{"$f":"Futtermittel!A33","v":"Mais, Körner siliert geschrotet 6% RP DLG 2014"},{"$f":"Futtermittel!E33","v":6},{"$f":"Futtermittel!F33","v":"DLG 2014"},{"$f":"Futtermittel!G33","v":0},{"$f":"Futtermittel!H33","v":650},{"$f":"Futtermittel!I33","v":60},{"$f":"Futtermittel!J33","v":54},{"$f":"Futtermittel!K33","v":14},{"$f":"Futtermittel!L33","v":{"v":10.964799999999999,"d":"10.96"}},{"$f":"Futtermittel!N33","v":{"v":1.9659999999999997,"d":"2.0"}},{"$f":"Futtermittel!O33","v":{"v":1.3761999999999996,"d":"1.4"}},null,{"$f":"IF(J43=\" \",\" \",M$16*(J43*(L$17*J43-J$17*L43)/((J$16*(L$17*J43-J$17*L43))+(J$17*(J$16*L43-L$16*J43))))+M$17*((J43*(L$17*J43-J$17*L43)/((J$16*(L$17*J43-J$17*L43))+(J$17*(J$16*L43-L$16*J43))))*((J$16*L43-L$16*J43)/(L$17*J43-J$17*1.00000000000001*L43))))","v":{"v":10.843954081030331,"d":"10.84 €"}}]
[null,{"$f":"Futtermittel!A34","v":"Mais, siliert  3% RP DLG 2014"},{"$f":"Futtermittel!E34","v":3},{"$f":"Futtermittel!F34","v":"DLG 2014"},{"$f":"Futtermittel!G34","v":0},{"$f":"Futtermittel!H34","v":350},{"$f":"Futtermittel!I34","v":30},{"$f":"Futtermittel!J34","v":{"v":17.7,"d":"18"}},{"$f":"Futtermittel!K34","v":56},{"$f":"Futtermittel!L34","v":{"v":3.7464999999999997,"d":"3.75"}},{"$f":"Futtermittel!N34","v":{"v":0.8375454545454547,"d":"0.8"}},{"$f":"Futtermittel!O34","v":{"v":0.6114081818181819,"d":"0.6"}},null,{"$f":"IF(J44=\" \",\" \",M$16*(J44*(L$17*J44-J$17*L44)/((J$16*(L$17*J44-J$17*L44))+(J$17*(J$16*L44-L$16*J44))))+M$17*((J44*(L$17*J44-J$17*L44)/((J$16*(L$17*J44-J$17*L44))+(J$17*(J$16*L44-L$16*J44))))*((J$16*L44-L$16*J44)/(L$17*J44-J$17*1.00000000000001*L44))))","v":{"v":3.8400145925826816,"d":"3.84 €"}}]
[null,{"$f":"Futtermittel!A35","v":"eigener Mais, siliert "},{"$f":"Futtermittel!E35","v":" "},{"$f":"Futtermittel!F35","v":0},{"$f":"Futtermittel!G35","v":0},{"$f":"Futtermittel!H35","v":0},{"$f":"Futtermittel!I35","v":0},{"$f":"Futtermittel!J35","v":" "},{"$f":"Futtermittel!K35","v":0},{"$f":"Futtermittel!L35","v":" "},{"$f":"Futtermittel!N35","v":" "},{"$f":"Futtermittel!O35","v":" "},null,{"$f":"IF(J45=\" \",\" \",M$16*(J45*(L$17*J45-J$17*L45)/((J$16*(L$17*J45-J$17*L45))+(J$17*(J$16*L45-L$16*J45))))+M$17*((J45*(L$17*J45-J$17*L45)/((J$16*(L$17*J45-J$17*L45))+(J$17*(J$16*L45-L$16*J45))))*((J$16*L45-L$16*J45)/(L$17*J45-J$17*1.00000000000001*L45))))","v":" "}]
[null,{"$f":"Futtermittel!A36","v":"Roggen  11% RP "},{"$f":"Futtermittel!E36","v":11},{"$f":"Futtermittel!F36","v":0},{"$f":"Futtermittel!G36","v":"4"},{"$f":"Futtermittel!H36","v":880},{"$f":"Futtermittel!I36","v":{"v":112.1,"d":"112"}},{"$f":"Futtermittel!J36","v":{"v":87.438,"d":"87"}},{"$f":"Futtermittel!K36","v":{"v":24.1,"d":"24"}},{"$f":"Futtermittel!L36","v":{"v":13.350051919999999,"d":"13.35"}},{"$f":"Futtermittel!N36","v":{"v":3.91912,"d":"3.9"}},{"$f":"Futtermittel!O36","v":{"v":2.743384,"d":"2.7"}},{"v":24.5,"d":"24.50 €"},{"v":14.22249915372144,"d":"14.22 €"}]
[null,{"$f":"Futtermittel!A37","v":"Roggen  10% RP "},{"$f":"Futtermittel!E37","v":10},{"$f":"Futtermittel!F37","v":0},{"$f":"Futtermittel!G37","v":"30"},{"$f":"Futtermittel!H37","v":880},{"$f":"Futtermittel!I37","v":{"v":98.8,"d":"99"}},{"$f":"Futtermittel!J37","v":{"v":77.06400000000001,"d":"77"}},{"$f":"Futtermittel!K37","v":{"v":24.6,"d":"25"}},{"$f":"Futtermittel!L37","v":{"v":13.257126720000002,"d":"13.26"}},{"$f":"Futtermittel!N37","v":{"v":3.55736,"d":"3.6"}},{"$f":"Futtermittel!O37","v":{"v":2.8458880000000004,"d":"2.8"}},{"v":24.5,"d":"24.50 €"},{"v":14.239608852052797,"d":"14.24 €"}]
[null,{"$f":"Futtermittel!A38","v":"Roggen  9% RP DLG 2014"},{"$f":"Futtermittel!E38","v":9},{"$f":"Futtermittel!F38","v":"DLG 2014"},{"$f":"Futtermittel!G38","v":0},{"$f":"Futtermittel!H38","v":870},{"$f":"Futtermittel!I38","v":91},{"$f":"Futtermittel!J38","v":{"v":70.98,"d":"71"}},{"$f":"Futtermittel!K38","v":23},{"$f":"Futtermittel!L38","v":{"v":13.159755120000002,"d":"13.16"}},{"$f":"Futtermittel!N38","v":{"v":3.3452,"d":"3.3"}},{"$f":"Futtermittel!O38","v":{"v":2.6761600000000003,"d":"2.7"}},{"v":24.5,"d":"24.50 €"},{"v":13.992917394147995,"d":"13.99 €"}]
[null,{"$f":"Futtermittel!A39","v":"eigener Roggen 9% RP Ø 2016"},{"$f":"Futtermittel!E39","v":9},{"$f":"Futtermittel!F39","v":"Ø 2016"},{"$f":"Futtermittel!G39","v":0},{"$f":"Futtermittel!H39","v":880},{"$f":"Futtermittel!I39","v":{"v":85.04,"d":"85"}},{"$f":"Futtermittel!J39","v":{"v":66.33120000000001,"d":"66"}},{"$f":"Futtermittel!K39","v":{"v":19.36,"d":"19"}},{"$f":"Futtermittel!L39","v":{"v":13.29011402,"d":"13.29"}},{"$f":"Futtermittel!N39","v":{"v":3.183088,"d":"3.2"}},{"$f":"Futtermittel!O39","v":{"v":2.5464704000000005,"d":"2.5"}},{"v":24.5,"d":"24.50 €"},{"v":13.982384937904918,"d":"13.98 €"}]
[null,{"$f":"Futtermittel!A40","v":"Roggen  9% RP "},{"$f":"Futtermittel!E40","v":9},{"$f":"Futtermittel!F40","v":0},{"$f":"Futtermittel!G40","v":"37"},{"$f":"Futtermittel!H40","v":880},{"$f":"Futtermittel!I40","v":{"v":90.2,"d":"90"}},{"$f":"Futtermittel!J40","v":{"v":70.35600000000001,"d":"70"}},{"$f":"Futtermittel!K40","v":{"v":24.6,"d":"25"}},{"$f":"Futtermittel!L40","v":{"v":13.222380320000001,"d":"13.22"}},{"$f":"Futtermittel!N40","v":{"v":3.32344,"d":"3.3"}},{"$f":"Futtermittel!O40","v":{"v":2.6587520000000002,"d":"2.7"}},{"v":24.5,"d":"24.50 €"},{"v":14.030725487897996,"d":"14.03 €"}]
[null,{"$f":"Futtermittel!A41","v":"Roggen  8% RP "},{"$f":"Futtermittel!E41","v":8},{"$f":"Futtermittel!F41","v":0},{"$f":"Futtermittel!G41","v":"29"},{"$f":"Futtermittel!H41","v":880},{"$f":"Futtermittel!I41","v":{"v":80.1,"d":"80"}},{"$f":"Futtermittel!J41","v":{"v":62.477999999999994,"d":"62"}},{"$f":"Futtermittel!K41","v":{"v":24.6,"d":"25"}},{"$f":"Futtermittel!L41","v":{"v":13.198007920000002,"d":"13.20"}},{"$f":"Futtermittel!N41","v":{"v":3.04872,"d":"3.0"}},{"$f":"Futtermittel!O41","v":{"v":2.4389760000000003,"d":"2.4"}},{"v":24.5,"d":"24.50 €"},{"v":13.799692735397052,"d":"13.80 €"}]
[null,{"$f":"Futtermittel!A43","v":"Triticale 11% RP DLG 2014"},{"$f":"Futtermittel!E43","v":11},{"$f":"Futtermittel!F43","v":"DLG 2014"},{"$f":"Futtermittel!G43","v":0},{"$f":"Futtermittel!H43","v":870},{"$f":"Futtermittel!I43","v":109},{"$f":"Futtermittel!J43","v":{"v":91.56,"d":"92"}},{"$f":"Futtermittel!K43","v":24},{"$f":"Futtermittel!L43","v":{"v":13.375314000000001,"d":"13.38"}},{"$f":"Futtermittel!N43","v":{"v":3.5209,"d":"3.5"}},{"$f":"Futtermittel!O43","v":{"v":2.957556,"d":"3.0"}},{"v":25,"d":"25.00 €"},{"v":14.448954264741165,"d":"14.45 €"}]
[null,{"$f":"Futtermittel!A42","v":"Triticale 12% RP "},{"$f":"Futtermittel!E42","v":12},{"$f":"Futtermittel!F42","v":0},{"$f":"Futtermittel!G42","v":"5"},{"$f":"Futtermittel!H42","v":880},{"$f":"Futtermittel!I42","v":{"v":119.4,"d":"119"}},{"$f":"Futtermittel!J42","v":{"v":100.296,"d":"100"}},{"$f":"Futtermittel!K42","v":{"v":26.4,"d":"26"}},{"$f":"Futtermittel!L42","v":{"v":13.55236688,"d":"13.55"}},{"$f":"Futtermittel!N42","v":{"v":3.72994,"d":"3.7"}},{"$f":"Futtermittel!O42","v":{"v":3.1331496,"d":"3.1"}},{"v":25,"d":"25.00 €"},{"v":14.77050032827893,"d":"14.77 €"}]
[null,{"$f":"Futtermittel!A44","v":"eigene Triticale 10% RP Ø 2016"},{"$f":"Futtermittel!E44","v":10},{"$f":"Futtermittel!F44","v":"Ø 2016"},{"$f":"Futtermittel!G44","v":0},{"$f":"Futtermittel!H44","v":880},{"$f":"Futtermittel!I44","v":{"v":97.2,"d":"97"}},{"$f":"Futtermittel!J44","v":{"v":81.648,"d":"82"}},{"$f":"Futtermittel!K44","v":{"v":26.4,"d":"26"}},{"$f":"Futtermittel!L44","v":{"v":13.5285451,"d":"13.53"}},{"$f":"Futtermittel!N44","v":{"v":3.28372,"d":"3.3"}},{"$f":"Futtermittel!O44","v":{"v":2.7583248,"d":"2.8"}},{"v":25,"d":"25.00 €"},{"v":14.391900127409606,"d":"14.39 €"}]
[null,{"$f":"Futtermittel!A45","v":"eigene Triticale 10% RP Ø 2015"},{"$f":"Futtermittel!E45","v":10},{"$f":"Futtermittel!F45","v":"Ø 2015"},{"$f":"Futtermittel!G45","v":0},{"$f":"Futtermittel!H45","v":880},{"$f":"Futtermittel!I45","v":{"v":97.18,"d":"97"}},{"$f":"Futtermittel!J45","v":{"v":81.6312,"d":"82"}},{"$f":"Futtermittel!K45","v":{"v":26.4,"d":"26"}},{"$f":"Futtermittel!L45","v":{"v":13.516105079999999,"d":"13.52"}},{"$f":"Futtermittel!N45","v":{"v":3.2833180000000004,"d":"3.3"}},{"$f":"Futtermittel!O45","v":{"v":2.75798712,"d":"2.8"}},{"v":25,"d":"25.00 €"},{"v":14.380765620654078,"d":"14.38 €"}]
[null,{"$f":"Futtermittel!A46","v":"Triticale 11% RP "},{"$f":"Futtermittel!E46","v":11},{"$f":"Futtermittel!F46","v":0},{"$f":"Futtermittel!G46","v":"24"},{"$f":"Futtermittel!H46","v":880},{"$f":"Futtermittel!I46","v":{"v":108.2,"d":"108"}},{"$f":"Futtermittel!J46","v":{"v":90.888,"d":"91"}},{"$f":"Futtermittel!K46","v":{"v":26.4,"d":"26"}},{"$f":"Futtermittel!L46","v":{"v":13.490000479999999,"d":"13.49"}},{"$f":"Futtermittel!N46","v":{"v":3.50482,"d":"3.5"}},{"$f":"Futtermittel!O46","v":{"v":2.9440488,"d":"2.9"}},{"v":25,"d":"25.00 €"},{"v":14.535735348413652,"d":"14.54 €"}]
[null,{"$f":"Futtermittel!A47","v":"Triticale 10% RP "},{"$f":"Futtermittel!E47","v":10},{"$f":"Futtermittel!F47","v":0},{"$f":"Futtermittel!G47","v":"42"},{"$f":"Futtermittel!H47","v":880},{"$f":"Futtermittel!I47","v":{"v":99.5,"d":"100"}},{"$f":"Futtermittel!J47","v":{"v":83.58,"d":"84"}},{"$f":"Futtermittel!K47","v":{"v":26.4,"d":"26"}},{"$f":"Futtermittel!L47","v":{"v":13.46355908,"d":"13.46"}},{"$f":"Futtermittel!N47","v":{"v":3.32995,"d":"3.3"}},{"$f":"Futtermittel!O47","v":{"v":2.797158,"d":"2.8"}},{"v":25,"d":"25.00 €"},{"v":14.372497687989338,"d":"14.37 €"}]
[null,{"$f":"Futtermittel!A48","v":"Triticale 9% RP "},{"$f":"Futtermittel!E48","v":9},{"$f":"Futtermittel!F48","v":0},{"$f":"Futtermittel!G48","v":"26"},{"$f":"Futtermittel!H48","v":880},{"$f":"Futtermittel!I48","v":{"v":90.5,"d":"91"}},{"$f":"Futtermittel!J48","v":{"v":76.02,"d":"76"}},{"$f":"Futtermittel!K48","v":{"v":26.3,"d":"26"}},{"$f":"Futtermittel!L48","v":{"v":13.43717608,"d":"13.44"}},{"$f":"Futtermittel!N48","v":{"v":3.14905,"d":"3.1"}},{"$f":"Futtermittel!O48","v":{"v":2.645202,"d":"2.6"}},{"v":25,"d":"25.00 €"},{"v":14.204474355185477,"d":"14.20 €"}]
[null,{"$f":"Futtermittel!A49","v":"Triticale 8% RP "},{"$f":"Futtermittel!E49","v":8},{"$f":"Futtermittel!F49","v":0},{"$f":"Futtermittel!G49","v":"3"},{"$f":"Futtermittel!H49","v":880},{"$f":"Futtermittel!I49","v":{"v":82.1,"d":"82"}},{"$f":"Futtermittel!J49","v":{"v":68.964,"d":"69"}},{"$f":"Futtermittel!K49","v":{"v":26.4,"d":"26"}},{"$f":"Futtermittel!L49","v":{"v":13.43277628,"d":"13.43"}},{"$f":"Futtermittel!N49","v":{"v":2.98021,"d":"3.0"}},{"$f":"Futtermittel!O49","v":{"v":2.5033764,"d":"2.5"}},{"v":25,"d":"25.00 €"},{"v":14.065230288495934,"d":"14.07 €"}]
[null,{"$f":"Futtermittel!A50","v":"Triticale öko 7% RP Ø Hessen"},{"$f":"Futtermittel!E50","v":7},{"$f":"Futtermittel!F50","v":"Ø Hessen"},{"$f":"Futtermittel!G50","v":"100"},{"$f":"Futtermittel!H50","v":880},{"$f":"Futtermittel!I50","v":{"v":72.6,"d":"73"}},{"$f":"Futtermittel!J50","v":{"v":60.983999999999995,"d":"61"}},{"$f":"Futtermittel!K50","v":{"v":26.4,"d":"26"}},{"$f":"Futtermittel!L50","v":{"v":13.404177279999999,"d":"13.40"}},{"$f":"Futtermittel!N50","v":{"v":2.7892599999999996,"d":"2.8"}},{"$f":"Futtermittel!O50","v":{"v":2.3429784,"d":"2.3"}},{"v":36,"d":"36.00 €"},{"v":13.887220232130316,"d":"13.89 €"}]
[null,{"$f":"Futtermittel!A51","v":"Weizen  14% RP "},{"$f":"Futtermittel!E51","v":14},{"$f":"Futtermittel!F51","v":0},{"$f":"Futtermittel!G51","v":2},{"$f":"Futtermittel!H51","v":880},{"$f":"Futtermittel!I51","v":{"v":142.1,"d":"142"}},{"$f":"Futtermittel!J51","v":{"v":127.89,"d":"128"}},{"$f":"Futtermittel!K51","v":26},{"$f":"Futtermittel!L51","v":{"v":13.78648424,"d":"13.79"}},{"$f":"Futtermittel!N51","v":{"v":3.71622,"d":"3.7"}},{"$f":"Futtermittel!O51","v":{"v":3.2702736,"d":"3.3"}},{"v":27,"d":"27.00 €"},{"v":15.10491110798622,"d":"15.10 €"}]
[null,{"$f":"Futtermittel!A52","v":"Weizen  13% RP "},{"$f":"Futtermittel!E52","v":13},{"$f":"Futtermittel!F52","v":0},{"$f":"Futtermittel!G52","v":12},{"$f":"Futtermittel!H52","v":880},{"$f":"Futtermittel!I52","v":{"v":129.3,"d":"129"}},{"$f":"Futtermittel!J52","v":{"v":116.37000000000002,"d":"116"}},{"$f":"Futtermittel!K52","v":26},{"$f":"Futtermittel!L52","v":{"v":13.74159824,"d":"13.74"}},{"$f":"Futtermittel!N52","v":{"v":3.48326,"d":"3.5"}},{"$f":"Futtermittel!O52","v":{"v":3.0652688,"d":"3.1"}},{"v":27,"d":"27.00 €"},{"v":14.87015329055145,"d":"14.87 €"}]
[null,{"$f":"Futtermittel!A53","v":"Weizen  12% RP DLG 2014"},{"$f":"Futtermittel!E53","v":12},{"$f":"Futtermittel!F53","v":"DLG 2014"},{"$f":"Futtermittel!G53","v":0},{"$f":"Futtermittel!H53","v":880},{"$f":"Futtermittel!I53","v":123},{"$f":"Futtermittel!J53","v":{"v":110.7,"d":"111"}},{"$f":"Futtermittel!K53","v":25},{"$f":"Futtermittel!L53","v":{"v":13.671705999999999,"d":"13.67"}},{"$f":"Futtermittel!N53","v":{"v":3.3686,"d":"3.4"}},{"$f":"Futtermittel!O53","v":{"v":2.964368,"d":"3.0"}},{"v":27,"d":"27.00 €"},{"v":14.713063768998515,"d":"14.71 €"}]
[null,{"$f":"Futtermittel!A54","v":"Weizen  12% RP "},{"$f":"Futtermittel!E54","v":12},{"$f":"Futtermittel!F54","v":0},{"$f":"Futtermittel!G54","v":"23"},{"$f":"Futtermittel!H54","v":880},{"$f":"Futtermittel!I54","v":{"v":119.8,"d":"120"}},{"$f":"Futtermittel!J54","v":{"v":107.82,"d":"108"}},{"$f":"Futtermittel!K54","v":26},{"$f":"Futtermittel!L54","v":{"v":13.662043239999997,"d":"13.66"}},{"$f":"Futtermittel!N54","v":{"v":3.3103599999999997,"d":"3.3"}},{"$f":"Futtermittel!O54","v":{"v":2.9131167999999996,"d":"2.9"}},{"v":27,"d":"27.00 €"},{"v":14.655729072799696,"d":"14.66 €"}]
[null,{"$f":"Futtermittel!A55","v":"Weizen  11% RP "},{"$f":"Futtermittel!E55","v":11},{"$f":"Futtermittel!F55","v":0},{"$f":"Futtermittel!G55","v":"32"},{"$f":"Futtermittel!H55","v":880},{"$f":"Futtermittel!I55","v":{"v":109.9,"d":"110"}},{"$f":"Futtermittel!J55","v":{"v":98.91000000000001,"d":"99"}},{"$f":"Futtermittel!K55","v":26},{"$f":"Futtermittel!L55","v":{"v":13.621335240000002,"d":"13.62"}},{"$f":"Futtermittel!N55","v":{"v":3.13018,"d":"3.1"}},{"$f":"Futtermittel!O55","v":{"v":2.7545584,"d":"2.8"}},{"v":27,"d":"27.00 €"},{"v":14.468951154342378,"d":"14.47 €"}]
[null,{"$f":"Futtermittel!A56","v":"eigener Weizen 11% RP Ø 2016"},{"$f":"Futtermittel!E56","v":11},{"$f":"Futtermittel!F56","v":"Ø 2016"},{"$f":"Futtermittel!G56","v":0},{"$f":"Futtermittel!H56","v":880},{"$f":"Futtermittel!I56","v":{"v":108.5,"d":"109"}},{"$f":"Futtermittel!J56","v":{"v":97.65,"d":"98"}},{"$f":"Futtermittel!K56","v":{"v":26.2,"d":"26"}},{"$f":"Futtermittel!L56","v":{"v":13.6816923,"d":"13.68"}},{"$f":"Futtermittel!N56","v":{"v":3.1047000000000002,"d":"3.1"}},{"$f":"Futtermittel!O56","v":{"v":2.732136,"d":"2.7"}},{"v":27,"d":"27.00 €"},{"v":14.5,"d":"14.50 €"}]
[null,{"$f":"Futtermittel!A57","v":"eigener Weizen 2 11% RP Ø 2015"},{"$f":"Futtermittel!E57","v":11},{"$f":"Futtermittel!F57","v":"Ø 2015"},{"$f":"Futtermittel!G57","v":0},{"$f":"Futtermittel!H57","v":880},{"$f":"Futtermittel!I57","v":{"v":106.475,"d":"106"}},{"$f":"Futtermittel!J57","v":{"v":95.8275,"d":"96"}},{"$f":"Futtermittel!K57","v":{"v":26.335,"d":"26"}},{"$f":"Futtermittel!L57","v":{"v":13.647484240000002,"d":"13.65"}},{"$f":"Futtermittel!N57","v":{"v":3.067845,"d":"3.1"}},{"$f":"Futtermittel!O57","v":{"v":2.6997036000000003,"d":"2.7"}},{"v":27,"d":"27.00 €"},{"v":14.439300930305446,"d":"14.44 €"}]
[null,{"$f":"Futtermittel!A58","v":"Weizen  10% RP "},{"$f":"Futtermittel!E58","v":10},{"$f":"Futtermittel!F58","v":0},{"$f":"Futtermittel!G58","v":"19"},{"$f":"Futtermittel!H58","v":880},{"$f":"Futtermittel!I58","v":{"v":101.1,"d":"101"}},{"$f":"Futtermittel!J58","v":{"v":90.99,"d":"91"}},{"$f":"Futtermittel!K58","v":26},{"$f":"Futtermittel!L58","v":{"v":13.601399240000001,"d":"13.60"}},{"$f":"Futtermittel!N58","v":{"v":2.97002,"d":"3.0"}},{"$f":"Futtermittel!O58","v":{"v":2.6136176,"d":"2.6"}},{"v":27,"d":"27.00 €"},{"v":14.31704884381314,"d":"14.32 €"}]
[null,{"$f":"Futtermittel!A59","v":"Weizen  9% RP "},{"$f":"Futtermittel!E59","v":9},{"$f":"Futtermittel!F59","v":0},{"$f":"Futtermittel!G59","v":"11"},{"$f":"Futtermittel!H59","v":880},{"$f":"Futtermittel!I59","v":{"v":90.9,"d":"91"}},{"$f":"Futtermittel!J59","v":{"v":81.81,"d":"82"}},{"$f":"Futtermittel!K59","v":26},{"$f":"Futtermittel!L59","v":{"v":13.55604024,"d":"13.56"}},{"$f":"Futtermittel!N59","v":{"v":2.78438,"d":"2.8"}},{"$f":"Futtermittel!O59","v":{"v":2.4502544,"d":"2.5"}},{"v":27,"d":"27.00 €"},{"v":14.121640779560202,"d":"14.12 €"}]
[null,{"$f":"Futtermittel!A60","v":"Weizen  8% RP "},{"$f":"Futtermittel!E60","v":8},{"$f":"Futtermittel!F60","v":0},{"$f":"Futtermittel!G60","v":"2"},{"$f":"Futtermittel!H60","v":880},{"$f":"Futtermittel!I60","v":{"v":82.6,"d":"83"}},{"$f":"Futtermittel!J60","v":{"v":74.34,"d":"74"}},{"$f":"Futtermittel!K60","v":27},{"$f":"Futtermittel!L60","v":{"v":13.55440924,"d":"13.55"}},{"$f":"Futtermittel!N60","v":{"v":2.63332,"d":"2.6"}},{"$f":"Futtermittel!O60","v":{"v":2.3173216,"d":"2.3"}},{"v":27,"d":"27.00 €"},{"v":13.993294334800535,"d":"13.99 €"}]
[null,{"$f":"Futtermittel!A61","v":"Weizen öko 9% RP Ø Hessen"},{"$f":"Futtermittel!E61","v":9},{"$f":"Futtermittel!F61","v":"Ø Hessen"},{"$f":"Futtermittel!G61","v":"100"},{"$f":"Futtermittel!H61","v":880},{"$f":"Futtermittel!I61","v":{"v":85.6,"d":"86"}},{"$f":"Futtermittel!J61","v":{"v":77.03999999999999,"d":"77"}},{"$f":"Futtermittel!K61","v":26},{"$f":"Futtermittel!L61","v":{"v":13.539684240000001,"d":"13.54"}},{"$f":"Futtermittel!N61","v":{"v":2.68792,"d":"2.7"}},{"$f":"Futtermittel!O61","v":{"v":2.3653696,"d":"2.4"}},{"v":38,"d":"38.00 €"},{"v":14.026374206141872,"d":"14.03 €"}]
[null,{"$f":"Futtermittel!A63","v":"Weizen, (Hart) durum 13% RP DLG 2014"},{"$f":"Futtermittel!E63","v":13},{"$f":"Futtermittel!F63","v":"DLG 2014"},{"$f":"Futtermittel!G63","v":0},{"$f":"Futtermittel!H63","v":880},{"$f":"Futtermittel!I63","v":133},{"$f":"Futtermittel!J63","v":{"v":126.35,"d":"126"}},{"$f":"Futtermittel!K63","v":26},{"$f":"Futtermittel!L63","v":{"v":14.254094239999997,"d":"14.25"}},{"$f":"Futtermittel!N63","v":{"v":3.5086000000000004,"d":"3.5"}},{"$f":"Futtermittel!O63","v":{"v":3.0875680000000005,"d":"3.1"}},{"v":36,"d":"36.00 €"},{"v":15.33687443477545,"d":"15.34 €"}]
[null,{"$f":"Futtermittel!A64","v":"eigener Weizen, (Hart)  "},{"$f":"Futtermittel!E64","v":" "},{"$f":"Futtermittel!F64","v":""},{"$f":"Futtermittel!G64","v":0},{"$f":"Futtermittel!H64","v":0},{"$f":"Futtermittel!I64","v":0},{"$f":"Futtermittel!J64","v":" "},{"$f":"Futtermittel!K64","v":0},{"$f":"Futtermittel!L64","v":" "},{"$f":"Futtermittel!N64","v":" "},{"$f":"Futtermittel!O64","v":" "},{"v":36,"d":"36.00 €"}," "]
[null,{"$f":"Futtermittel!A65","v":"Altbrot (Brotmehl, getrocknet) 12% RP DLG 2014"},{"$f":"Futtermittel!E65","v":12},{"$f":"Futtermittel!F65","v":"DLG 2014"},{"$f":"Futtermittel!G65","v":0},{"$f":"Futtermittel!H65","v":800},{"$f":"Futtermittel!I65","v":120},{"$f":"Futtermittel!J65","v":{"v":111.60000000000001,"d":"112"}},{"$f":"Futtermittel!K65","v":12},{"$f":"Futtermittel!L65","v":{"v":13.063631999999998,"d":"13.06"}},{"$f":"Futtermittel!N65","v":{"v":3.295272727272727,"d":"3.3"}},{"$f":"Futtermittel!O65","v":{"v":3.031650909090909,"d":"3.0"}},{"v":31.5,"d":"31.50 €"},{"v":14.248808404237977,"d":"14.25 €"}]
[null,{"$f":"Futtermittel!A66","v":"eigene Altbrotabfälle "},{"$f":"Futtermittel!E66","v":" "},{"$f":"Futtermittel!F66","v":0},{"$f":"Futtermittel!G66","v":0},{"$f":"Futtermittel!H66","v":0},{"$f":"Futtermittel!I66","v":0},{"$f":"Futtermittel!J66","v":" "},{"$f":"Futtermittel!K66","v":0},{"$f":"Futtermittel!L66","v":" "},{"$f":"Futtermittel!N66","v":" "},{"$f":"Futtermittel!O66","v":" "},{"v":31.5,"d":"31.50 €"}," "]
[null,{"$f":"Futtermittel!A68","v":"Keksmehl 9% RP DLG 2014"},{"$f":"Futtermittel!E68","v":9},{"$f":"Futtermittel!F68","v":"DLG 2014"},{"$f":"Futtermittel!G68","v":0},{"$f":"Futtermittel!H68","v":860},{"$f":"Futtermittel!I68","v":86},{"$f":"Futtermittel!J68","v":{"v":79.98,"d":"80"}},{"$f":"Futtermittel!K68","v":11},{"$f":"Futtermittel!L68","v":{"v":16.803551,"d":"16.80"}},{"$f":"Futtermittel!N68","v":{"v":2.1922181818181814,"d":"2.2"}},{"$f":"Futtermittel!O68","v":{"v":2.016840727272727,"d":"2.0"}},null,{"v":16.53033308626066,"d":"16.53 €"}]
[null,{"$f":"Futtermittel!A69","v":"eigene Keksmehl "},{"$f":"Futtermittel!E69","v":" "},{"$f":"Futtermittel!F69","v":0},{"$f":"Futtermittel!G69","v":0},{"$f":"Futtermittel!H69","v":0},{"$f":"Futtermittel!I69","v":0},{"$f":"Futtermittel!J69","v":" "},{"$f":"Futtermittel!K69","v":0},{"$f":"Futtermittel!L69","v":" "},{"$f":"Futtermittel!N69","v":" "},{"$f":"Futtermittel!O69","v":" "},null," "]
[null,{"$f":"Futtermittel!A70","v":" "},{"$f":"Futtermittel!E70","v":" "},{"$f":"Futtermittel!F70","v":0},{"$f":"Futtermittel!G70","v":0},{"$f":"Futtermittel!H70","v":0},{"$f":"Futtermittel!I70","v":0},{"$f":"Futtermittel!J70","v":0},{"$f":"Futtermittel!K70","v":0},{"$f":"Futtermittel!L70","v":{"v":0,"d":"0.00"}},{"$f":"Futtermittel!N70","v":{"v":0,"d":"0.0"}},{"$f":"Futtermittel!O70","v":{"v":0,"d":"0.0"}}]
[null,{"$f":"Futtermittel!A71","v":"Eiweißreiche Futtermittel "},{"$f":"Futtermittel!E71","v":" "},{"$f":"Futtermittel!F71","v":0},{"$f":"Futtermittel!G71","v":0},{"$f":"Futtermittel!H71","v":0},{"$f":"Futtermittel!I71","v":0},{"$f":"Futtermittel!J71","v":0},{"$f":"Futtermittel!K71","v":0},{"$f":"Futtermittel!L71","v":{"v":0,"d":"0.00"}},{"$f":"Futtermittel!N71","v":{"v":0,"d":"0.0"}},{"$f":"Futtermittel!O71","v":{"v":0,"d":"0.0"}},null,{"$f":"IF(J79=0,\" \",M$16*(J79*(L$17*J79-J$17*L79)/((J$16*(L$17*J79-J$17*L79))+(J$17*(J$16*L79-L$16*J79))))+M$17*((J79*(L$17*J79-J$17*L79)/((J$16*(L$17*J79-J$17*L79))+(J$17*(J$16*L79-L$16*J79))))*((J$16*L79-L$16*J79)/(L$17*J79-J$17*1.00000000000001*L79))))","v":" "}]
[null,{"$f":"Futtermittel!A72","v":" "},{"$f":"Futtermittel!E72","v":" "},{"$f":"Futtermittel!F72","v":0},{"$f":"Futtermittel!G72","v":0},{"$f":"Futtermittel!H72","v":0},{"$f":"Futtermittel!I72","v":0},{"$f":"Futtermittel!J72","v":0},{"$f":"Futtermittel!K72","v":0},{"$f":"Futtermittel!L72","v":{"v":0,"d":"0.00"}},{"$f":"Futtermittel!N72","v":{"v":0,"d":"0.0"}},{"$f":"Futtermittel!O72","v":{"v":0,"d":"0.0"}}]
[null,{"$f":"Futtermittel!A73","v":"Ackerbohnen  26% RP DLG 2014"},{"$f":"Futtermittel!E73","v":26},{"$f":"Futtermittel!F73","v":"DLG 2014"},{"$f":"Futtermittel!G73","v":0},{"$f":"Futtermittel!H73","v":880},{"$f":"Futtermittel!I73","v":264},{"$f":"Futtermittel!J73","v":{"v":203.28,"d":"203"}},{"$f":"Futtermittel!K73","v":77},{"$f":"Futtermittel!L73","v":{"v":12.410639000000002,"d":"12.41"}},{"$f":"Futtermittel!N73","v":{"v":16.3176,"d":"16.3"}},{"$f":"Futtermittel!O73","v":{"v":13.380431999999999,"d":"13.4"}},{"v":28,"d":"28.00 €"},{"v":23.56264603875112,"d":"23.56 €"}]
[null,{"$f":"Futtermittel!A74","v":"eigene Ackerbohnen 27% RP Ø 2016"},{"$f":"Futtermittel!E74","v":27},{"$f":"Futtermittel!F74","v":"Ø 2016"},{"$f":"Futtermittel!G74","v":0},{"$f":"Futtermittel!H74","v":880},{"$f":"Futtermittel!I74","v":{"v":268.6,"d":"269"}},{"$f":"Futtermittel!J74","v":{"v":206.82200000000003,"d":"207"}},{"$f":"Futtermittel!K74","v":88},{"$f":"Futtermittel!L74","v":{"v":12.4797384,"d":"12.48"}},{"$f":"Futtermittel!N74","v":{"v":16.48274,"d":"16.5"}},{"$f":"Futtermittel!O74","v":{"v":13.515846799999998,"d":"13.5"}},{"v":28,"d":"28.00 €"},{"v":23.752001647245425,"d":"23.75 €"}]
[null,{"$f":"Futtermittel!A75","v":"Bierhefe, getrocknet 44% RP DLG 2014"},{"$f":"Futtermittel!E75","v":44},{"$f":"Futtermittel!F75","v":"DLG 2014"},{"$f":"Futtermittel!G75","v":0},{"$f":"Futtermittel!H75","v":880},{"$f":"Futtermittel!I75","v":435},{"$f":"Futtermittel!J75","v":{"v":369.75,"d":"370"}},{"$f":"Futtermittel!K75","v":{"v":21.252,"d":"21"}},{"$f":"Futtermittel!L75","v":{"v":12.145340000000001,"d":"12.15"}},{"$f":"Futtermittel!N75","v":30.8},{"$f":"Futtermittel!O75","v":{"v":27.104,"d":"27.1"}},{"v":118,"d":"118.00 €"},{"v":36.435807234871035,"d":"36.44 €"}]
[null,{"$f":"Futtermittel!A76","v":"Bierhefe frisch (inaktiviert) 5% RP DLG 2014"},{"$f":"Futtermittel!E76","v":5},{"$f":"Futtermittel!F76","v":"DLG 2014"},{"$f":"Futtermittel!G76","v":0},{"$f":"Futtermittel!H76","v":100},{"$f":"Futtermittel!I76","v":{"v":52.5,"d":"53"}},{"$f":"Futtermittel!J76","v":{"v":44.625,"d":"45"}},{"$f":"Futtermittel!K76","v":{"v":1.7,"d":"2"}},{"$f":"Futtermittel!L76","v":{"v":1.4284900000000003,"d":"1.43"}},{"$f":"Futtermittel!N76","v":{"v":3.5000000000000004,"d":"3.5"}},{"$f":"Futtermittel!O76","v":{"v":3.0800000000000005,"d":"3.1"}},null,{"v":4.182444733717413,"d":"4.18 €"}]
[null,{"$f":"Futtermittel!A77","v":"eigene Bierhefe "},{"$f":"Futtermittel!E77","v":" "},{"$f":"Futtermittel!F77","v":""},{"$f":"Futtermittel!G77","v":0},{"$f":"Futtermittel!H77","v":0},{"$f":"Futtermittel!I77","v":0},{"$f":"Futtermittel!J77","v":" "},{"$f":"Futtermittel!K77","v":0},{"$f":"Futtermittel!L77","v":" "},{"$f":"Futtermittel!N77","v":" "},{"$f":"Futtermittel!O77","v":" "},null,{"$f":"IF(J85=\" \",\" \",M$16*(J85*(L$17*J85-J$17*L85)/((J$16*(L$17*J85-J$17*L85))+(J$17*(J$16*L85-L$16*J85))))+M$17*((J85*(L$17*J85-J$17*L85)/((J$16*(L$17*J85-J$17*L85))+(J$17*(J$16*L85-L$16*J85))))*((J$16*L85-L$16*J85)/(L$17*J85-J$17*1.00000000000001*L85))))","v":" "}]
[null,{"$f":"Futtermittel!A78","v":"Erbsen  22% RP DLG 2014"},{"$f":"Futtermittel!E78","v":22},{"$f":"Futtermittel!F78","v":"DLG 2014"},{"$f":"Futtermittel!G78","v":"69"},{"$f":"Futtermittel!H78","v":880},{"$f":"Futtermittel!I78","v":220},{"$f":"Futtermittel!J78","v":{"v":173.8,"d":"174"}},{"$f":"Futtermittel!K78","v":57},{"$f":"Futtermittel!L78","v":{"v":13.397632520000002,"d":"13.40"}},{"$f":"Futtermittel!N78","v":{"v":15.776,"d":"15.8"}},{"$f":"Futtermittel!O78","v":{"v":13.25184,"d":"13.3"}},{"v":29.5,"d":"29.50 €"},{"v":24.2976942071324,"d":"24.30 €"}]
[null,{"$f":"Futtermittel!A79","v":"eigene Erbsen 21% RP Ø 2016"},{"$f":"Futtermittel!E79","v":21},{"$f":"Futtermittel!F79","v":"Ø 2016"},{"$f":"Futtermittel!G79","v":0},{"$f":"Futtermittel!H79","v":880},{"$f":"Futtermittel!I79","v":{"v":210.9,"d":"211"}},{"$f":"Futtermittel!J79","v":{"v":166.61100000000002,"d":"167"}},{"$f":"Futtermittel!K79","v":{"v":58.3,"d":"58"}},{"$f":"Futtermittel!L79","v":{"v":13.532380100000001,"d":"13.53"}},{"$f":"Futtermittel!N79","v":{"v":15.290970000000003,"d":"15.3"}},{"$f":"Futtermittel!O79","v":{"v":12.844414800000003,"d":"12.8"}},{"v":29.5,"d":"29.50 €"},{"v":24.025784457439126,"d":"24.03 €"}]
[null,{"$f":"Futtermittel!A80","v":"Erbsen  19% RP "},{"$f":"Futtermittel!E80","v":19},{"$f":"Futtermittel!F80","v":0},{"$f":"Futtermittel!G80","v":"31"},{"$f":"Futtermittel!H80","v":880},{"$f":"Futtermittel!I80","v":{"v":191.8,"d":"192"}},{"$f":"Futtermittel!J80","v":{"v":163.03,"d":"163"}},{"$f":"Futtermittel!K80","v":{"v":58.9,"d":"59"}},{"$f":"Futtermittel!L80","v":{"v":13.4001073,"d":"13.40"}},{"$f":"Futtermittel!N80","v":{"v":14.272940000000002,"d":"14.3"}},{"$f":"Futtermittel!O80","v":{"v":11.989269600000002,"d":"12.0"}},{"v":29.5,"d":"29.50 €"},{"v":23.09429879080398,"d":"23.09 €"}]
[null,{"$f":"Futtermittel!A81","v":"Fischmehl 57% RP DLG 2014"},{"$f":"Futtermittel!E81","v":57},{"$f":"Futtermittel!F81","v":"DLG 2014"},{"$f":"Futtermittel!G81","v":0},{"$f":"Futtermittel!H81","v":910},{"$f":"Futtermittel!I81","v":573},{"$f":"Futtermittel!J81","v":{"v":475.59,"d":"476"}},{"$f":"Futtermittel!K81","v":14},{"$f":"Futtermittel!L81","v":{"v":12.817102000000002,"d":"12.82"}},{"$f":"Futtermittel!N81","v":{"v":37.65269999999999,"d":"37.7"}},{"$f":"Futtermittel!O81","v":{"v":32.75784899999999,"d":"32.8"}},{"v":130,"d":"130.00 €"},{"$f":"IF(J89=\" \",\" \",M$16*(J89*(L$17*J89-J$17*L89)/((J$16*(L$17*J89-J$17*L89))+(J$17*(J$16*L89-L$16*J89))))+M$17*((J89*(L$17*J89-J$17*L89)/((J$16*(L$17*J89-J$17*L89))+(J$17*(J$16*L89-L$16*J89))))*((J$16*L89-L$16*J89)/(L$17*J89-J$17*1.00000000000001*L89))))","v":{"v":42.41815285053976,"d":"42.42 €"}}]
[null,{"$f":"Futtermittel!A82","v":"Fischmehl proteinreich 69% RP DLG 2014"},{"$f":"Futtermittel!E82","v":69},{"$f":"Futtermittel!F82","v":"DLG 2014"},{"$f":"Futtermittel!G82","v":0},{"$f":"Futtermittel!H82","v":910},{"$f":"Futtermittel!I82","v":692},{"$f":"Futtermittel!J82","v":{"v":622.8000000000001,"d":"623"}},{"$f":"Futtermittel!K82","v":6},{"$f":"Futtermittel!L82","v":{"v":14.527985,"d":"14.53"}},{"$f":"Futtermittel!N82","v":{"v":50.4333,"d":"50.4"}},{"$f":"Futtermittel!O82","v":{"v":44.885637,"d":"44.9"}},{"v":130,"d":"130.00 €"},{"v":55.48517986566419,"d":"55.49 €"}]
[null,{"$f":"Futtermittel!A83","v":"Fischmehl vom Hering 66% RP DLG 2014"},{"$f":"Futtermittel!E83","v":66},{"$f":"Futtermittel!F83","v":"DLG 2014"},{"$f":"Futtermittel!G83","v":0},{"$f":"Futtermittel!H83","v":910},{"$f":"Futtermittel!I83","v":655},{"$f":"Futtermittel!J83","v":{"v":589.5,"d":"590"}},{"$f":"Futtermittel!K83","v":0},{"$f":"Futtermittel!L83","v":{"v":15.382954,"d":"15.38"}},{"$f":"Futtermittel!N83","v":{"v":46.4595,"d":"46.5"}},{"$f":"Futtermittel!O83","v":{"v":41.348955,"d":"41.3"}},null,{"$f":"IF(J91=\" \",\" \",M$16*(J91*(L$17*J91-J$17*L91)/((J$16*(L$17*J91-J$17*L91))+(J$17*(J$16*L91-L$16*J91))))+M$17*((J91*(L$17*J91-J$17*L91)/((J$16*(L$17*J91-J$17*L91))+(J$17*(J$16*L91-L$16*J91))))*((J$16*L91-L$16*J91)/(L$17*J91-J$17*1.00000000000001*L91))))","v":{"v":52.85131724889617,"d":"52.85 €"}}]
[null,{"$f":"Futtermittel!A84","v":"eigenes Fischmehl "},{"$f":"Futtermittel!E84","v":" "},{"$f":"Futtermittel!F84","v":0},{"$f":"Futtermittel!G84","v":0},{"$f":"Futtermittel!H84","v":0},{"$f":"Futtermittel!I84","v":0},{"$f":"Futtermittel!J84","v":" "},{"$f":"Futtermittel!K84","v":0},{"$f":"Futtermittel!L84","v":" "},{"$f":"Futtermittel!N84","v":" "},{"$f":"Futtermittel!O84","v":" "},{"v":130,"d":"130.00 €"}," "]
[null,{"$f":"Futtermittel!A85","v":"Kartoffeleiweiß 38% RP DLG 2014"},{"$f":"Futtermittel!E85","v":38},{"$f":"Futtermittel!F85","v":"DLG 2014"},{"$f":"Futtermittel!G85","v":0},{"$f":"Futtermittel!H85","v":910},{"$f":"Futtermittel!I85","v":765},{"$f":"Futtermittel!J85","v":{"v":355.32,"d":"355"}},{"$f":"Futtermittel!K85","v":7},{"$f":"Futtermittel!L85","v":{"v":13.606580000000003,"d":"13.61"}},{"$f":"Futtermittel!N85","v":{"v":23.8622,"d":"23.9"}},{"$f":"Futtermittel!O85","v":{"v":16.22556,"d":"16.2"}},{"v":121,"d":"121.00 €"},{"$f":"IF(J93=\" \",\" \",M$16*(J93*(L$17*J93-J$17*L93)/((J$16*(L$17*J93-J$17*L93))+(J$17*(J$16*L93-L$16*J93))))+M$17*((J93*(L$17*J93-J$17*L93)/((J$16*(L$17*J93-J$17*L93))+(J$17*(J$16*L93-L$16*J93))))*((J$16*L93-L$16*J93)/(L$17*J93-J$17*1.00000000000001*L93))))","v":{"v":27.318709905809765,"d":"27.32 €"}}]
[null,{"$f":"Futtermittel!A86","v":"eigenes Kartoffeleiweiß "},{"$f":"Futtermittel!E86","v":" "},{"$f":"Futtermittel!F86","v":0},{"$f":"Futtermittel!G86","v":0},{"$f":"Futtermittel!H86","v":0},{"$f":"Futtermittel!I86","v":0},{"$f":"Futtermittel!J86","v":" "},{"$f":"Futtermittel!K86","v":0},{"$f":"Futtermittel!L86","v":" "},{"$f":"Futtermittel!N86","v":" "},{"$f":"Futtermittel!O86","v":" "},{"v":121,"d":"121.00 €"},{"$f":"IF(J94=\" \",\" \",M$16*(J94*(L$17*J94-J$17*L94)/((J$16*(L$17*J94-J$17*L94))+(J$17*(J$16*L94-L$16*J94))))+M$17*((J94*(L$17*J94-J$17*L94)/((J$16*(L$17*J94-J$17*L94))+(J$17*(J$16*L94-L$16*J94))))*((J$16*L94-L$16*J94)/(L$17*J94-J$17*1.00000000000001*L94))))","v":" "}]
[null,{"$f":"Futtermittel!A87","v":"Lein, Samen 21% RP DLG 2014"},{"$f":"Futtermittel!E87","v":21},{"$f":"Futtermittel!F87","v":"DLG 2014"},{"$f":"Futtermittel!G87","v":0},{"$f":"Futtermittel!H87","v":910},{"$f":"Futtermittel!I87","v":207},{"$f":"Futtermittel!J87","v":{"v":159.39000000000001,"d":"159"}},{"$f":"Futtermittel!K87","v":64},{"$f":"Futtermittel!L87","v":{"v":12.477544000000002,"d":"12.48"}},{"$f":"Futtermittel!N87","v":{"v":8.8425,"d":"8.8"}},{"$f":"Futtermittel!O87","v":{"v":7.339274999999999,"d":"7.3"}},{"v":62.5,"d":"62.50 €"},{"$f":"IF(J95=\" \",\" \",M$16*(J95*(L$17*J95-J$17*L95)/((J$16*(L$17*J95-J$17*L95))+(J$17*(J$16*L95-L$16*J95))))+M$17*((J95*(L$17*J95-J$17*L95)/((J$16*(L$17*J95-J$17*L95))+(J$17*(J$16*L95-L$16*J95))))*((J$16*L95-L$16*J95)/(L$17*J95-J$17*1.00000000000001*L95))))","v":{"v":17.852487818504695,"d":"17.85 €"}}]
[null,{"$f":"Futtermittel!A88","v":"Leinextaktionschrot 34% RP DLG 2014"},{"$f":"Futtermittel!E88","v":34},{"$f":"Futtermittel!F88","v":"DLG 2014"},{"$f":"Futtermittel!G88","v":0},{"$f":"Futtermittel!H88","v":890},{"$f":"Futtermittel!I88","v":338},{"$f":"Futtermittel!J88","v":{"v":223.08,"d":"223"}},{"$f":"Futtermittel!K88","v":93},{"$f":"Futtermittel!L88","v":{"v":10.85977428,"d":"10.86"}},{"$f":"Futtermittel!N88","v":{"v":12.445,"d":"12.4"}},{"$f":"Futtermittel!O88","v":{"v":7.9648,"d":"8.0"}},{"v":42,"d":"42.00 €"},{"$f":"IF(J96=\" \",\" \",M$16*(J96*(L$17*J96-J$17*L96)/((J$16*(L$17*J96-J$17*L96))+(J$17*(J$16*L96-L$16*J96))))+M$17*((J96*(L$17*J96-J$17*L96)/((J$16*(L$17*J96-J$17*L96))+(J$17*(J$16*L96-L$16*J96))))*((J$16*L96-L$16*J96)/(L$17*J96-J$17*1.00000000000001*L96))))","v":{"v":17.043697890815174,"d":"17.04 €"}}]
[null,{"$f":"Futtermittel!A89","v":"Leinkuchen / Expeller 4-8% Fett 33% RP DLG 2014"},{"$f":"Futtermittel!E89","v":33},{"$f":"Futtermittel!F89","v":"DLG 2014"},{"$f":"Futtermittel!G89","v":0},{"$f":"Futtermittel!H89","v":900},{"$f":"Futtermittel!I89","v":333},{"$f":"Futtermittel!J89","v":{"v":249.75,"d":"250"}},{"$f":"Futtermittel!K89","v":95},{"$f":"Futtermittel!L89","v":{"v":11.627713,"d":"11.63"}},{"$f":"Futtermittel!N89","v":{"v":12.307500000000001,"d":"12.3"}},{"$f":"Futtermittel!O89","v":{"v":10.09215,"d":"10.1"}},{"v":64,"d":"64.00 €"},{"$f":"IF(J97=\" \",\" \",M$16*(J97*(L$17*J97-J$17*L97)/((J$16*(L$17*J97-J$17*L97))+(J$17*(J$16*L97-L$16*J97))))+M$17*((J97*(L$17*J97-J$17*L97)/((J$16*(L$17*J97-J$17*L97))+(J$17*(J$16*L97-L$16*J97))))*((J$16*L97-L$16*J97)/(L$17*J97-J$17*1.00000000000001*L97))))","v":{"v":19.74240974594299,"d":"19.74 €"}}]
[null,{"$f":"Futtermittel!A90","v":"Lupinen blau 30% RP DLG 2014"},{"$f":"Futtermittel!E90","v":30},{"$f":"Futtermittel!F90","v":"DLG 2014"},{"$f":"Futtermittel!G90","v":0},{"$f":"Futtermittel!H90","v":880},{"$f":"Futtermittel!I90","v":295},{"$f":"Futtermittel!J90","v":{"v":250.75,"d":"251"}},{"$f":"Futtermittel!K90","v":143},{"$f":"Futtermittel!L90","v":{"v":13.468937999999998,"d":"13.47"}},{"$f":"Futtermittel!N90","v":{"v":13.6225,"d":"13.6"}},{"$f":"Futtermittel!O90","v":{"v":11.4429,"d":"11.4"}},{"v":30,"d":"30.00 €"},{"v":22.632429292165988,"d":"22.63 €"}]
[null,{"$f":"Futtermittel!A91","v":"Lupinen gelb 38% RP DLG 2014"},{"$f":"Futtermittel!E91","v":38},{"$f":"Futtermittel!F91","v":"DLG 2014"},{"$f":"Futtermittel!G91","v":0},{"$f":"Futtermittel!H91","v":880},{"$f":"Futtermittel!I91","v":378},{"$f":"Futtermittel!J91","v":{"v":332.64,"d":"333"}},{"$f":"Futtermittel!K91","v":148},{"$f":"Futtermittel!L91","v":{"v":13.606580000000003,"d":"13.61"}},{"$f":"Futtermittel!N91","v":{"v":18.0284,"d":"18.0"}},{"$f":"Futtermittel!O91","v":{"v":15.143856000000001,"d":"15.1"}},{"v":30,"d":"30.00 €"},{"v":26.285861126429033,"d":"26.29 €"}]
[null,{"$f":"Futtermittel!A92","v":"Lupinen weiß 33% RP DLG 2014"},{"$f":"Futtermittel!E92","v":33},{"$f":"Futtermittel!F92","v":"DLG 2014"},{"$f":"Futtermittel!G92","v":0},{"$f":"Futtermittel!H92","v":880},{"$f":"Futtermittel!I92","v":326},{"$f":"Futtermittel!J92","v":{"v":290.14,"d":"290"}},{"$f":"Futtermittel!K92","v":114},{"$f":"Futtermittel!L92","v":{"v":13.964832880000003,"d":"13.96"}},{"$f":"Futtermittel!N92","v":{"v":15.5906,"d":"15.6"}},{"$f":"Futtermittel!O92","v":{"v":13.096104,"d":"13.1"}},{"v":30,"d":"30.00 €"},{"v":24.64196668858271,"d":"24.64 €"}]
[null,{"$f":"Futtermittel!A93","v":"eigene Lupinen (blau) "},{"$f":"Futtermittel!E93","v":" "},{"$f":"Futtermittel!F93","v":0},{"$f":"Futtermittel!G93","v":0},{"$f":"Futtermittel!H93","v":0},{"$f":"Futtermittel!I93","v":0},{"$f":"Futtermittel!J93","v":" "},{"$f":"Futtermittel!K93","v":0},{"$f":"Futtermittel!L93","v":" "},{"$f":"Futtermittel!N93","v":" "},{"$f":"Futtermittel!O93","v":" "},{"v":30,"d":"30.00 €"}," "]
[null,{"$f":"Futtermittel!A94","v":"Malzkeime 27% RP DLG 2005"},{"$f":"Futtermittel!E94","v":27},{"$f":"Futtermittel!F94","v":"DLG 2005"},{"$f":"Futtermittel!G94","v":0},{"$f":"Futtermittel!H94","v":920},{"$f":"Futtermittel!I94","v":273},{"$f":"Futtermittel!J94","v":{"v":204.75,"d":"205"}},{"$f":"Futtermittel!K94","v":133},{"$f":"Futtermittel!L94","v":{"v":8.232314399999998,"d":"8.23"}},{"$f":"Futtermittel!N94","v":{"v":13.548481818181818,"d":"13.5"}},{"$f":"Futtermittel!O94","v":{"v":9.61942209090909,"d":"9.6"}},{"v":20,"d":"20.00 €"},{"v":16.33996704063986,"d":"16.34 €"}]
[null,{"$f":"Futtermittel!A95","v":"Magermilchpulver 35% RP DLG 2014"},{"$f":"Futtermittel!E95","v":35},{"$f":"Futtermittel!F95","v":"DLG 2014"},{"$f":"Futtermittel!G95","v":0},{"$f":"Futtermittel!H95","v":960},{"$f":"Futtermittel!I95","v":350},{"$f":"Futtermittel!J95","v":{"v":332.5,"d":"333"}},{"$f":"Futtermittel!K95","v":0},{"$f":"Futtermittel!L95","v":{"v":15.010265839999999,"d":"15.01"}},{"$f":"Futtermittel!N95","v":26.9},{"$f":"Futtermittel!O95","v":{"v":26.092999999999996,"d":"26.1"}},{"v":119.7,"d":"119.70 €"},{"v":37.96048133276652,"d":"37.96 €"}]
[null,{"$f":"Futtermittel!A96","v":"Rapsschrot-00Typ (RES) 36% RP DLG 2014"},{"$f":"Futtermittel!E96","v":36},{"$f":"Futtermittel!F96","v":"DLG 2014"},{"$f":"Futtermittel!G96","v":"6"},{"$f":"Futtermittel!H96","v":890},{"$f":"Futtermittel!I96","v":355},{"$f":"Futtermittel!J96","v":{"v":252.04999999999998,"d":"252"}},{"$f":"Futtermittel!K96","v":116},{"$f":"Futtermittel!L96","v":{"v":9.924853000000002,"d":"9.92"}},{"$f":"Futtermittel!N96","v":{"v":19.944409090909087,"d":"19.9"}},{"$f":"Futtermittel!O96","v":{"v":14.559418636363633,"d":"14.6"}},{"v":32,"d":"32.00 €"},{"v":22.527895805848207,"d":"22.53 €"}]
[null,{"$f":"Futtermittel!A97","v":"eigenes Rapsschrot "},{"$f":"Futtermittel!E97","v":" "},{"$f":"Futtermittel!F97","v":0},{"$f":"Futtermittel!G97","v":0},{"$f":"Futtermittel!H97","v":0},{"$f":"Futtermittel!I97","v":0},{"$f":"Futtermittel!J97","v":" "},{"$f":"Futtermittel!K97","v":0},{"$f":"Futtermittel!L97","v":" "},{"$f":"Futtermittel!N97","v":" "},{"$f":"Futtermittel!O97","v":" "},{"v":32,"d":"32.00 €"}," "]
[null,{"$f":"Futtermittel!A98","v":"RES Ø RES-Monitoring 2005-2014 34% RP Ø BRD"},{"$f":"Futtermittel!E98","v":34},{"$f":"Futtermittel!F98","v":"Ø BRD"},{"$f":"Futtermittel!G98","v":0},{"$f":"Futtermittel!H98","v":889},{"$f":"Futtermittel!I98","v":339},{"$f":"Futtermittel!J98","v":{"v":240.69,"d":"241"}},{"$f":"Futtermittel!K98","v":116},{"$f":"Futtermittel!L98","v":{"v":9.8607815,"d":"9.86"}},{"$f":"Futtermittel!N98","v":19.6},{"$f":"Futtermittel!O98","v":{"v":14.308,"d":"14.3"}},{"v":32,"d":"32.00 €"},{"v":22.232145613114884,"d":"22.23 €"}]
[null,{"$f":"Futtermittel!A99","v":"Rapskuchen  > 20 % Fett 22% RP "},{"$f":"Futtermittel!E99","v":22},{"$f":"Futtermittel!F99","v":0},{"$f":"Futtermittel!G99","v":"1"},{"$f":"Futtermittel!H99","v":900},{"$f":"Futtermittel!I99","v":220},{"$f":"Futtermittel!J99","v":187},{"$f":"Futtermittel!K99","v":96},{"$f":"Futtermittel!L99","v":{"v":15.185009999999998,"d":"15.19"}},{"$f":"Futtermittel!N99","v":{"v":13.838709677419354,"d":"13.8"}},{"$f":"Futtermittel!O99","v":{"v":10.240645161290322,"d":"10.2"}},{"v":36,"d":"36.00 €"},{"v":22.975975536523368,"d":"22.98 €"}]
[null,{"$f":"Futtermittel!A100","v":"Rapskuchen 16 - 20 % Fett 27% RP "},{"$f":"Futtermittel!E100","v":27},{"$f":"Futtermittel!F100","v":0},{"$f":"Futtermittel!G100","v":"33"},{"$f":"Futtermittel!H100","v":900},{"$f":"Futtermittel!I100","v":267},{"$f":"Futtermittel!J100","v":{"v":226.95,"d":"227"}},{"$f":"Futtermittel!K100","v":112},{"$f":"Futtermittel!L100","v":{"v":14.427065999999998,"d":"14.43"}},{"$f":"Futtermittel!N100","v":{"v":16.8551612903226,"d":"16.9"}},{"$f":"Futtermittel!O100","v":{"v":12.472819354838723,"d":"12.5"}},{"v":36,"d":"36.00 €"},{"v":24.448576503194293,"d":"24.45 €"}]
[null,{"$f":"Futtermittel!A101","v":"Rapskuchen 12 - 16 % Fett 28% RP "},{"$f":"Futtermittel!E101","v":28},{"$f":"Futtermittel!F101","v":0},{"$f":"Futtermittel!G101","v":"42"},{"$f":"Futtermittel!H101","v":900},{"$f":"Futtermittel!I101","v":280},{"$f":"Futtermittel!J101","v":238},{"$f":"Futtermittel!K101","v":108},{"$f":"Futtermittel!L101","v":{"v":13.693966000000001,"d":"13.69"}},{"$f":"Futtermittel!N101","v":{"v":17.424193548387098,"d":"17.4"}},{"$f":"Futtermittel!O101","v":{"v":12.893903225806453,"d":"12.9"}},{"v":36,"d":"36.00 €"},{"v":24.213477973751782,"d":"24.21 €"}]
[null,{"$f":"Futtermittel!A102","v":"Rapskuchen   8 - 12 % Fett 30% RP "},{"$f":"Futtermittel!E102","v":30},{"$f":"Futtermittel!F102","v":0},{"$f":"Futtermittel!G102","v":"24"},{"$f":"Futtermittel!H102","v":900},{"$f":"Futtermittel!I102","v":299},{"$f":"Futtermittel!J102","v":{"v":254.15,"d":"254"}},{"$f":"Futtermittel!K102","v":114},{"$f":"Futtermittel!L102","v":{"v":13.092979999999999,"d":"13.09"}},{"$f":"Futtermittel!N102","v":{"v":18.74516129032258,"d":"18.7"}},{"$f":"Futtermittel!O102","v":{"v":13.87141935483871,"d":"13.9"}},{"v":36,"d":"36.00 €"},{"v":24.624505536541186,"d":"24.62 €"}]
[null,{"$f":"Futtermittel!A103","v":"Sojabohne (dampferhitzt) 36% RP DLG 2014"},{"$f":"Futtermittel!E103","v":36},{"$f":"Futtermittel!F103","v":"DLG 2014"},{"$f":"Futtermittel!G103","v":0},{"$f":"Futtermittel!H103","v":890},{"$f":"Futtermittel!I103","v":356},{"$f":"Futtermittel!J103","v":{"v":270.56,"d":"271"}},{"$f":"Futtermittel!K103","v":55},{"$f":"Futtermittel!L103","v":{"v":15.76002783,"d":"15.76"}},{"$f":"Futtermittel!N103","v":{"v":22.805845454545455,"d":"22.8"}},{"$f":"Futtermittel!O103","v":{"v":18.244676363636366,"d":"18.2"}},{"v":64,"d":"64.00 €"},{"v":31.118273336277138,"d":"31.12 €"}]
[null,{"$f":"Futtermittel!A104","v":"Sojakuchen / Expeller, Bioland 42% RP "},{"$f":"Futtermittel!E104","v":42},{"$f":"Futtermittel!F104","v":0},{"$f":"Futtermittel!G104","v":0},{"$f":"Futtermittel!H104","v":910},{"$f":"Futtermittel!I104","v":420},{"$f":"Futtermittel!J104","v":{"v":365.4,"d":"365"}},{"$f":"Futtermittel!K104","v":60},{"$f":"Futtermittel!L104","v":{"v":14.39615,"d":"14.40"}},{"$f":"Futtermittel!N104","v":{"v":25.378181818181822,"d":"25.4"}},{"$f":"Futtermittel!O104","v":{"v":22.586581818181823,"d":"22.6"}},null,{"v":34.07868009833093,"d":"34.08 €"}]
[null,{"$f":"Futtermittel!A105","v":"Sojakuchen 41% RP DLG 2014"},{"$f":"Futtermittel!E105","v":41},{"$f":"Futtermittel!F105","v":"DLG 2014"},{"$f":"Futtermittel!G105","v":0},{"$f":"Futtermittel!H105","v":890},{"$f":"Futtermittel!I105","v":405},{"$f":"Futtermittel!J105","v":{"v":352.35,"d":"352"}},{"$f":"Futtermittel!K105","v":53},{"$f":"Futtermittel!L105","v":{"v":14.19426,"d":"14.19"}},{"$f":"Futtermittel!N105","v":{"v":24.425227272727273,"d":"24.4"}},{"$f":"Futtermittel!O105","v":{"v":21.005695454545453,"d":"21.0"}},null,{"$f":"IF(J113=\" \",\" \",M$16*(J113*(L$17*J113-J$17*L113)/((J$16*(L$17*J113-J$17*L113))+(J$17*(J$16*L113-L$16*J113))))+M$17*((J113*(L$17*J113-J$17*L113)/((J$16*(L$17*J113-J$17*L113))+(J$17*(J$16*L113-L$16*J113))))*((J$16*L113-L$16*J113)/(L$17*J113-J$17*1.00000000000001*L113))))","v":{"v":32.393724543236985,"d":"32.39 €"}}]
[null,{"$f":"Futtermittel!A107","v":"Sojaschrot HP 48% RP DLG 2014"},{"$f":"Futtermittel!E107","v":48},{"$f":"Futtermittel!F107","v":"DLG 2014"},{"$f":"Futtermittel!G107","v":"6"},{"$f":"Futtermittel!H107","v":880},{"$f":"Futtermittel!I107","v":480},{"$f":"Futtermittel!J107","v":{"v":393.59999999999997,"d":"394"}},{"$f":"Futtermittel!K107","v":35},{"$f":"Futtermittel!L107","v":{"v":13.888607839999999,"d":"13.89"}},{"$f":"Futtermittel!N107","v":{"v":29.243999999999993,"d":"29.2"}},{"$f":"Futtermittel!O107","v":{"v":25.442279999999993,"d":"25.4"}},{"v":56.5,"d":"56.50 €"},{"v":36.36427699017736,"d":"36.36 €"}]
[null,{"$f":"Futtermittel!A106","v":"Sojaschrot HP 49% RP "},{"$f":"Futtermittel!E106","v":49},{"$f":"Futtermittel!F106","v":0},{"$f":"Futtermittel!G106","v":"12"},{"$f":"Futtermittel!H106","v":890},{"$f":"Futtermittel!I106","v":485},{"$f":"Futtermittel!J106","v":{"v":397.7,"d":"398"}},{"$f":"Futtermittel!K106","v":44},{"$f":"Futtermittel!L106","v":{"v":13.961272000000001,"d":"13.96"}},{"$f":"Futtermittel!N106","v":{"v":29.552545454545456,"d":"29.6"}},{"$f":"Futtermittel!O106","v":{"v":25.710714545454547,"d":"25.7"}},{"v":56.5,"d":"56.50 €"},{"v":36.683742763800815,"d":"36.68 €"}]
[null,{"$f":"Futtermittel!A108","v":"Sojaschrot HP 47% RP DLG FuDb"},{"$f":"Futtermittel!E108","v":47},{"$f":"Futtermittel!F108","v":"DLG FuDb"},{"$f":"Futtermittel!G108","v":0},{"$f":"Futtermittel!H108","v":890},{"$f":"Futtermittel!I108","v":{"v":473.6580000000001,"d":"474"}},{"$f":"Futtermittel!J108","v":{"v":388.39956,"d":"388"}},{"$f":"Futtermittel!K108","v":{"v":35.697900000000004,"d":"36"}},{"$f":"Futtermittel!L108","v":{"v":13.980995938,"d":"13.98"}},{"$f":"Futtermittel!N108","v":{"v":28.95935885454546,"d":"29.0"}},{"$f":"Futtermittel!O108","v":{"v":25.19464220345455,"d":"25.2"}},{"v":56.5,"d":"56.50 €"},{"v":36.20812165612367,"d":"36.21 €"}]
[null,{"$f":"Futtermittel!A109","v":"Sojaschrot HP 47% RP "},{"$f":"Futtermittel!E109","v":47},{"$f":"Futtermittel!F109","v":0},{"$f":"Futtermittel!G109","v":"26"},{"$f":"Futtermittel!H109","v":890},{"$f":"Futtermittel!I109","v":470},{"$f":"Futtermittel!J109","v":{"v":385.4,"d":"385"}},{"$f":"Futtermittel!K109","v":52},{"$f":"Futtermittel!L109","v":{"v":13.857122999999998,"d":"13.86"}},{"$f":"Futtermittel!N109","v":{"v":28.76804545454545,"d":"28.8"}},{"$f":"Futtermittel!O109","v":{"v":25.02819954545454,"d":"25.0"}},{"v":56.5,"d":"56.50 €"},{"v":35.94153387177199,"d":"35.94 €"}]
[null,{"$f":"Futtermittel!A110","v":"Sojaschrot HP 46% RP "},{"$f":"Futtermittel!E110","v":46},{"$f":"Futtermittel!F110","v":0},{"$f":"Futtermittel!G110","v":"29"},{"$f":"Futtermittel!H110","v":890},{"$f":"Futtermittel!I110","v":459},{"$f":"Futtermittel!J110","v":{"v":376.38,"d":"376"}},{"$f":"Futtermittel!K110","v":47},{"$f":"Futtermittel!L110","v":{"v":13.838337,"d":"13.84"}},{"$f":"Futtermittel!N110","v":{"v":28.192745454545456,"d":"28.2"}},{"$f":"Futtermittel!O110","v":{"v":24.527688545454545,"d":"24.5"}},{"v":56.5,"d":"56.50 €"},{"v":35.44730087617067,"d":"35.45 €"}]
[null,{"$f":"Futtermittel!A111","v":"Sojaschrot GVO-frei, Brasil 45% RP "},{"$f":"Futtermittel!E111","v":45},{"$f":"Futtermittel!F111","v":0},{"$f":"Futtermittel!G111","v":0},{"$f":"Futtermittel!H111","v":870},{"$f":"Futtermittel!I111","v":448},{"$f":"Futtermittel!J111","v":{"v":367.35999999999996,"d":"367"}},{"$f":"Futtermittel!K111","v":{"v":61.766000000000005,"d":"62"}},{"$f":"Futtermittel!L111","v":{"v":13.626042000000002,"d":"13.63"}},{"$f":"Futtermittel!N111","v":{"v":27.523354545454545,"d":"27.5"}},{"$f":"Futtermittel!O111","v":{"v":23.945318454545454,"d":"23.9"}},{"v":64.5,"d":"64.50 €"},{"v":34.70672018417453,"d":"34.71 €"}]
[null,{"$f":"Futtermittel!A112","v":"Sojaschrot  45% RP DLG FuDb"},{"$f":"Futtermittel!E112","v":45},{"$f":"Futtermittel!F112","v":"DLG FuDb"},{"$f":"Futtermittel!G112","v":0},{"$f":"Futtermittel!H112","v":890},{"$f":"Futtermittel!I112","v":{"v":446.42400000000004,"d":"446"}},{"$f":"Futtermittel!J112","v":{"v":366.06768,"d":"366"}},{"$f":"Futtermittel!K112","v":{"v":61.766000000000005,"d":"62"}},{"$f":"Futtermittel!L112","v":{"v":13.167056139,"d":"13.17"}},{"$f":"Futtermittel!N112","v":{"v":27.535020654545455,"d":"27.5"}},{"$f":"Futtermittel!O112","v":{"v":23.955467969454546,"d":"24.0"}},{"v":56.5,"d":"56.50 €"},{"v":34.31748983311804,"d":"34.32 €"}]
[null,{"$f":"Futtermittel!A113","v":"eigenes Sojaschrot "},{"$f":"Futtermittel!E113","v":" "},{"$f":"Futtermittel!F113","v":0},{"$f":"Futtermittel!G113","v":0},{"$f":"Futtermittel!H113","v":0},{"$f":"Futtermittel!I113","v":0},{"$f":"Futtermittel!J113","v":" "},{"$f":"Futtermittel!K113","v":0},{"$f":"Futtermittel!L113","v":" "},{"$f":"Futtermittel!N113","v":" "},{"$f":"Futtermittel!O113","v":" "},{"v":52,"d":"52.00 €"}," "]
[null,{"$f":"Futtermittel!A114","v":"Sojaschrot 44% RP "},{"$f":"Futtermittel!E114","v":44},{"$f":"Futtermittel!F114","v":0},{"$f":"Futtermittel!G114","v":"14"},{"$f":"Futtermittel!H114","v":890},{"$f":"Futtermittel!I114","v":440},{"$f":"Futtermittel!J114","v":{"v":360.79999999999995,"d":"361"}},{"$f":"Futtermittel!K114","v":67},{"$f":"Futtermittel!L114","v":{"v":13.154765999999999,"d":"13.15"}},{"$f":"Futtermittel!N114","v":{"v":27.199045454545455,"d":"27.2"}},{"$f":"Futtermittel!O114","v":{"v":23.663169545454547,"d":"23.7"}},{"v":52,"d":"52.00 €"},{"$f":"IF(J122=\" \",\" \",M$16*(J122*(L$17*J122-J$17*L122)/((J$16*(L$17*J122-J$17*L122))+(J$17*(J$16*L122-L$16*J122))))+M$17*((J122*(L$17*J122-J$17*L122)/((J$16*(L$17*J122-J$17*L122))+(J$17*(J$16*L122-L$16*J122))))*((J$16*L122-L$16*J122)/(L$17*J122-J$17*1.00000000000001*L122))))","v":{"v":34.027711272485384,"d":"34.03 €"}}]
[null,{"$f":"Futtermittel!A116","v":"Sojaschrot 43% RP "},{"$f":"Futtermittel!E116","v":43},{"$f":"Futtermittel!F116","v":0},{"$f":"Futtermittel!G116","v":"19"},{"$f":"Futtermittel!H116","v":890},{"$f":"Futtermittel!I116","v":429},{"$f":"Futtermittel!J116","v":{"v":351.78,"d":"352"}},{"$f":"Futtermittel!K116","v":69},{"$f":"Futtermittel!L116","v":{"v":13.097461,"d":"13.10"}},{"$f":"Futtermittel!N116","v":{"v":26.623745454545457,"d":"26.6"}},{"$f":"Futtermittel!O116","v":{"v":23.162658545454548,"d":"23.2"}},{"v":52,"d":"52.00 €"},{"$f":"IF(J123=\" \",\" \",M$16*(J123*(L$17*J123-J$17*L123)/((J$16*(L$17*J123-J$17*L123))+(J$17*(J$16*L123-L$16*J123))))+M$17*((J123*(L$17*J123-J$17*L123)/((J$16*(L$17*J123-J$17*L123))+(J$17*(J$16*L123-L$16*J123))))*((J$16*L123-L$16*J123)/(L$17*J123-J$17*1.00000000000001*L123))))","v":0}]
[null,{"$f":"Futtermittel!A115","v":"Sojaschrot 44% RP DLG 2014"},{"$f":"Futtermittel!E115","v":44},{"$f":"Futtermittel!F115","v":"DLG 2014"},{"$f":"Futtermittel!G115","v":0},{"$f":"Futtermittel!H115","v":880},{"$f":"Futtermittel!I115","v":440},{"$f":"Futtermittel!J115","v":{"v":360.79999999999995,"d":"361"}},{"$f":"Futtermittel!K115","v":60},{"$f":"Futtermittel!L115","v":{"v":13.002691999999998,"d":"13.00"}},{"$f":"Futtermittel!N115","v":{"v":27.152,"d":"27.2"}},{"$f":"Futtermittel!O115","v":{"v":23.62224,"d":"23.6"}},{"v":52,"d":"52.00 €"},{"$f":"IF(J124=\" \",\" \",M$16*(J124*(L$17*J124-J$17*L124)/((J$16*(L$17*J124-J$17*L124))+(J$17*(J$16*L124-L$16*J124))))+M$17*((J124*(L$17*J124-J$17*L124)/((J$16*(L$17*J124-J$17*L124))+(J$17*(J$16*L124-L$16*J124))))*((J$16*L124-L$16*J124)/(L$17*J124-J$17*1.00000000000001*L124))))","v":{"v":33.856457215730025,"d":"33.86 €"}}]
[null,{"$f":"Futtermittel!A118","v":"Sojaschrot, schalenreich 42% RP DLG FuDb"},{"$f":"Futtermittel!E118","v":42},{"$f":"Futtermittel!F118","v":"DLG FuDb"},{"$f":"Futtermittel!G118","v":0},{"$f":"Futtermittel!H118","v":880},{"$f":"Futtermittel!I118","v":{"v":424.16,"d":"424"}},{"$f":"Futtermittel!J118","v":{"v":347.8112,"d":"348"}},{"$f":"Futtermittel!K118","v":{"v":83.0368,"d":"83"}},{"$f":"Futtermittel!L118","v":{"v":12.583161328,"d":"12.58"}},{"$f":"Futtermittel!N118","v":{"v":26.323568,"d":"26.3"}},{"$f":"Futtermittel!O118","v":{"v":23.42797552,"d":"23.4"}},{"v":52,"d":"52.00 €"},{"v":33.306337192428316,"d":"33.31 €"}]
[null,{"$f":"Futtermittel!A119","v":"Sojaschrot, schalenreich 42% RP "},{"$f":"Futtermittel!E119","v":42},{"$f":"Futtermittel!F119","v":0},{"$f":"Futtermittel!G119","v":"13"},{"$f":"Futtermittel!H119","v":890},{"$f":"Futtermittel!I119","v":420},{"$f":"Futtermittel!J119","v":{"v":344.4,"d":"344"}},{"$f":"Futtermittel!K119","v":72},{"$f":"Futtermittel!L119","v":{"v":12.690603000000001,"d":"12.69"}},{"$f":"Futtermittel!N119","v":{"v":26.153045454545452,"d":"26.2"}},{"$f":"Futtermittel!O119","v":{"v":23.276210454545453,"d":"23.3"}},{"v":52,"d":"52.00 €"},{"v":33.25480810612582,"d":"33.25 €"}]
[null,{"$f":"Futtermittel!A120","v":"Sojaschrot, schalenreich 41% RP "},{"$f":"Futtermittel!E120","v":41},{"$f":"Futtermittel!F120","v":0},{"$f":"Futtermittel!G120","v":"6"},{"$f":"Futtermittel!H120","v":890},{"$f":"Futtermittel!I120","v":410},{"$f":"Futtermittel!J120","v":{"v":336.2,"d":"336"}},{"$f":"Futtermittel!K120","v":77},{"$f":"Futtermittel!L120","v":{"v":12.729226999999998,"d":"12.73"}},{"$f":"Futtermittel!N120","v":{"v":25.630045454545453,"d":"25.6"}},{"$f":"Futtermittel!O120","v":{"v":22.810740454545453,"d":"22.8"}},{"v":52,"d":"52.00 €"},{"v":32.84393062064531,"d":"32.84 €"}]
[null,{"$f":"Futtermittel!A121","v":"Sojaschrot, schalenreich 40% RP "},{"$f":"Futtermittel!E121","v":40},{"$f":"Futtermittel!F121","v":0},{"$f":"Futtermittel!G121","v":"3"},{"$f":"Futtermittel!H121","v":890},{"$f":"Futtermittel!I121","v":402},{"$f":"Futtermittel!J121","v":{"v":329.64,"d":"330"}},{"$f":"Futtermittel!K121","v":88},{"$f":"Futtermittel!L121","v":{"v":12.663584,"d":"12.66"}},{"$f":"Futtermittel!N121","v":{"v":25.211645454545458,"d":"25.2"}},{"$f":"Futtermittel!O121","v":{"v":22.438364454545457,"d":"22.4"}},{"v":52,"d":"52.00 €"},{"v":32.43132026176393,"d":"32.43 €"}]
[null,{"$f":"Futtermittel!A122","v":"Sonnenblumenkuchen kaltgepresst 22% RP "},{"$f":"Futtermittel!E122","v":22},{"$f":"Futtermittel!F122","v":0},{"$f":"Futtermittel!G122","v":0},{"$f":"Futtermittel!H122","v":880},{"$f":"Futtermittel!I122","v":219},{"$f":"Futtermittel!J122","v":{"v":175.20000000000002,"d":"175"}},{"$f":"Futtermittel!K122","v":278},{"$f":"Futtermittel!L122","v":{"v":10.943737999999998,"d":"10.94"}},{"$f":"Futtermittel!N122","v":{"v":8.4363,"d":"8.4"}},{"$f":"Futtermittel!O122","v":{"v":6.664676999999999,"d":"6.7"}},null,{"v":15.87527096917983,"d":"15.88 €"}]
[null,{"$f":"Futtermittel!A123","v":"Sonnenblumenschrot teilgeschält 34% RP DLG 2014"},{"$f":"Futtermittel!E123","v":34},{"$f":"Futtermittel!F123","v":"DLG 2014"},{"$f":"Futtermittel!G123","v":0},{"$f":"Futtermittel!H123","v":890},{"$f":"Futtermittel!I123","v":338},{"$f":"Futtermittel!J123","v":{"v":260.26,"d":"260"}},{"$f":"Futtermittel!K123","v":200},{"$f":"Futtermittel!L123","v":{"v":9.860483,"d":"9.86"}},{"$f":"Futtermittel!N123","v":{"v":11.689263636363636,"d":"11.7"}},{"$f":"Futtermittel!O123","v":{"v":9.000733,"d":"9.0"}},{"v":30.5,"d":"30.50 €"},{"v":17.16432218159144,"d":"17.16 €"}]
[null,{"$f":"Futtermittel!A124","v":"Trockenschlempe 29% RP "},{"$f":"Futtermittel!E124","v":29},{"$f":"Futtermittel!F124","v":0},{"$f":"Futtermittel!G124","v":0},{"$f":"Futtermittel!H124","v":930},{"$f":"Futtermittel!I124","v":{"v":292.02,"d":"292"}},{"$f":"Futtermittel!J124","v":{"v":210.25439999999998,"d":"210"}},{"$f":"Futtermittel!K124","v":{"v":69.75,"d":"70"}},{"$f":"Futtermittel!L124","v":{"v":11.897758770000001,"d":"11.90"}},{"$f":"Futtermittel!N124","v":{"v":6.603,"d":"6.6"}},{"$f":"Futtermittel!O124","v":{"v":4.556069999999999,"d":"4.6"}},{"v":33,"d":"33.00 €"},{"v":14.691073796323597,"d":"14.69 €"}]
[null,{"$f":"Futtermittel!A125","v":"Trockenschlempe Gerste getrocknet 26% RP DLG 2014"},{"$f":"Futtermittel!E125","v":26},{"$f":"Futtermittel!F125","v":"DLG 2014"},{"$f":"Futtermittel!G125","v":0},{"$f":"Futtermittel!H125","v":910},{"$f":"Futtermittel!I125","v":255},{"$f":"Futtermittel!J125","v":{"v":198.9,"d":"199"}},{"$f":"Futtermittel!K125","v":113},{"$f":"Futtermittel!L125","v":{"v":11.033172,"d":"11.03"}},{"$f":"Futtermittel!N125","v":8.2},{"$f":"Futtermittel!O125","v":{"v":6.723999999999999,"d":"6.7"}},null,{"$f":"IF(J132=\" \",\" \",M$16*(J132*(L$17*J132-J$17*L132)/((J$16*(L$17*J132-J$17*L132))+(J$17*(J$16*L132-L$16*J132))))+M$17*((J132*(L$17*J132-J$17*L132)/((J$16*(L$17*J132-J$17*L132))+(J$17*(J$16*L132-L$16*J132))))*((J$16*L132-L$16*J132)/(L$17*J132-J$17*1.00000000000001*L132))))","v":{"v":16.009645015406036,"d":"16.01 €"}}]
[null,{"$f":"Futtermittel!A126","v":"Trockenschlempe Weizen getrocknet 35% RP DLG 2014"},{"$f":"Futtermittel!E126","v":35},{"$f":"Futtermittel!F126","v":"DLG 2014"},{"$f":"Futtermittel!G126","v":0},{"$f":"Futtermittel!H126","v":920},{"$f":"Futtermittel!I126","v":351},{"$f":"Futtermittel!J126","v":{"v":252.72,"d":"253"}},{"$f":"Futtermittel!K126","v":69},{"$f":"Futtermittel!L126","v":{"v":11.453660000000001,"d":"11.45"}},{"$f":"Futtermittel!N126","v":7.1},{"$f":"Futtermittel!O126","v":{"v":4.898999999999999,"d":"4.9"}},null,{"$f":"IF(J133=\" \",\" \",M$16*(J133*(L$17*J133-J$17*L133)/((J$16*(L$17*J133-J$17*L133))+(J$17*(J$16*L133-L$16*J133))))+M$17*((J133*(L$17*J133-J$17*L133)/((J$16*(L$17*J133-J$17*L133))+(J$17*(J$16*L133-L$16*J133))))*((J$16*L133-L$16*J133)/(L$17*J133-J$17*1.00000000000001*L133))))","v":{"v":14.632532798859703,"d":"14.63 €"}}]
[null,{"$f":"Futtermittel!A127","v":"Trockenschlempe Weizen, Gerste getrocknet 34% RP DLG 2014"},{"$f":"Futtermittel!E127","v":34},{"$f":"Futtermittel!F127","v":"DLG 2014"},{"$f":"Futtermittel!G127","v":0},{"$f":"Futtermittel!H127","v":920},{"$f":"Futtermittel!I127","v":340},{"$f":"Futtermittel!J127","v":{"v":244.79999999999998,"d":"245"}},{"$f":"Futtermittel!K127","v":68},{"$f":"Futtermittel!L127","v":{"v":11.547073000000001,"d":"11.55"}},{"$f":"Futtermittel!N127","v":7.1},{"$f":"Futtermittel!O127","v":{"v":4.898999999999999,"d":"4.9"}},null,{"$f":"IF(J134=\" \",\" \",M$16*(J134*(L$17*J134-J$17*L134)/((J$16*(L$17*J134-J$17*L134))+(J$17*(J$16*L134-L$16*J134))))+M$17*((J134*(L$17*J134-J$17*L134)/((J$16*(L$17*J134-J$17*L134))+(J$17*(J$16*L134-L$16*J134))))*((J$16*L134-L$16*J134)/(L$17*J134-J$17*1.00000000000001*L134))))","v":{"v":14.713721466622442,"d":"14.71 €"}}]
[]
[null,{"$f":"Futtermittel!A129","v":"Aminosäuren*** "},{"$f":"Futtermittel!E129","v":" "},{"$f":"Futtermittel!F129","v":0},{"$f":"Futtermittel!G129","v":0},{"$f":"Futtermittel!H129","v":0},{"$f":"Futtermittel!I129","v":0},{"$f":"Futtermittel!J129","v":0},{"$f":"Futtermittel!K129","v":0},{"$f":"Futtermittel!L129","v":{"v":0,"d":"0.00"}},{"$f":"Futtermittel!N129","v":{"v":0,"d":"0.0"}},{"$f":"Futtermittel!O129","v":{"v":0,"d":"0.0"}},null,{"$f":"IF(J136=0,\" \",M$16*(J136*(L$17*J136-J$17*L136)/((J$16*(L$17*J136-J$17*L136))+(J$17*(J$16*L136-L$16*J136))))+M$17*((J136*(L$17*J136-J$17*L136)/((J$16*(L$17*J136-J$17*L136))+(J$17*(J$16*L136-L$16*J136))))*((J$16*L136-L$16*J136)/(L$17*J136-J$17*1.00000000000001*L136))))","v":" "}]
[]
[null,{"$f":"Futtermittel!A131","v":"L-Lysin-HCL 95% RP "},{"$f":"Futtermittel!E131","v":95},{"$f":"Futtermittel!F131","v":0},{"$f":"Futtermittel!G131","v":0},{"$f":"Futtermittel!H131","v":995},{"$f":"Futtermittel!I131","v":954},{"$f":"Futtermittel!J131","v":954},{"$f":"Futtermittel!K131","v":0},{"$f":"Futtermittel!L131","v":{"v":19.557000000000002,"d":"19.56"}},{"$f":"Futtermittel!N131","v":{"v":780,"d":"780.0"}},{"$f":"Futtermittel!O131","v":{"v":780,"d":"780.0"}},{"v":200,"d":"200.00 €"},{"v":761.7689638190728,"d":"761.77 €"}]
[null,{"$f":"Futtermittel!A132","v":"Methionin (DL-Meth.) 58% RP "},{"$f":"Futtermittel!E132","v":58},{"$f":"Futtermittel!F132","v":0},{"$f":"Futtermittel!G132","v":0},{"$f":"Futtermittel!H132","v":995},{"$f":"Futtermittel!I132","v":584},{"$f":"Futtermittel!J132","v":584},{"$f":"Futtermittel!K132","v":0},{"$f":"Futtermittel!L132","v":{"v":11.972000000000001,"d":"11.97"}},{"$f":"Futtermittel!N132","v":{"v":0,"d":"0.0"}},{"$f":"Futtermittel!O132","v":{"v":0,"d":"0.0"}},{"v":45,"d":"45.00 €"},{"v":10.4053047269171,"d":"10.41 €"}]
[null,{"$f":"Futtermittel!A133","v":"Threonin (L-Thr.) 73% RP "},{"$f":"Futtermittel!E133","v":73},{"$f":"Futtermittel!F133","v":0},{"$f":"Futtermittel!G133","v":0},{"$f":"Futtermittel!H133","v":995},{"$f":"Futtermittel!I133","v":731},{"$f":"Futtermittel!J133","v":731},{"$f":"Futtermittel!K133","v":0},{"$f":"Futtermittel!L133","v":{"v":14.9855,"d":"14.99"}},{"$f":"Futtermittel!N133","v":{"v":0,"d":"0.0"}},{"$f":"Futtermittel!O133","v":{"v":0,"d":"0.0"}},{"v":46,"d":"46.00 €"},{"v":13.024448211260959,"d":"13.02 €"}]
[null,{"$f":"Futtermittel!A134","v":"Tryptophan (L-Try.) 85% RP "},{"$f":"Futtermittel!E134","v":85},{"$f":"Futtermittel!F134","v":0},{"$f":"Futtermittel!G134","v":0},{"$f":"Futtermittel!H134","v":995},{"$f":"Futtermittel!I134","v":853},{"$f":"Futtermittel!J134","v":853},{"$f":"Futtermittel!K134","v":0},{"$f":"Futtermittel!L134","v":{"v":17.4865,"d":"17.49"}},{"$f":"Futtermittel!N134","v":{"v":0,"d":"0.0"}},{"$f":"Futtermittel!O134","v":{"v":0,"d":"0.0"}},{"v":47,"d":"47.00 €"},{"v":15.198159130240214,"d":"15.20 €"}]
[null,{"$f":"Futtermittel!A135","v":" "},{"$f":"Futtermittel!E135","v":" "},{"$f":"Futtermittel!F135","v":0},{"$f":"Futtermittel!G135","v":0},{"$f":"Futtermittel!H135","v":0},{"$f":"Futtermittel!I135","v":0},{"$f":"Futtermittel!J135","v":0},{"$f":"Futtermittel!K135","v":0},{"$f":"Futtermittel!L135","v":{"v":0,"d":"0.00"}},{"$f":"Futtermittel!N135","v":{"v":0,"d":"0.0"}},{"$f":"Futtermittel!O135","v":{"v":0,"d":"0.0"}}]
[null,{"$f":"Futtermittel!A136","v":"Sonstige Futtermittel "},{"$f":"Futtermittel!E136","v":" "},{"$f":"Futtermittel!F136","v":0},{"$f":"Futtermittel!G136","v":0},{"$f":"Futtermittel!H136","v":0},{"$f":"Futtermittel!I136","v":0},{"$f":"Futtermittel!J136","v":0},{"$f":"Futtermittel!K136","v":0},{"$f":"Futtermittel!L136","v":{"v":0,"d":"0.00"}},{"$f":"Futtermittel!N136","v":{"v":0,"d":"0.0"}},{"$f":"Futtermittel!O136","v":{"v":0,"d":"0.0"}},null,{"$f":"IF(J143=0,\" \",M$16*(J143*(L$17*J143-J$17*L143)/((J$16*(L$17*J143-J$17*L143))+(J$17*(J$16*L143-L$16*J143))))+M$17*((J143*(L$17*J143-J$17*L143)/((J$16*(L$17*J143-J$17*L143))+(J$17*(J$16*L143-L$16*J143))))*((J$16*L143-L$16*J143)/(L$17*J143-J$17*1.00000000000001*L143))))","v":" "}]
[null,{"$f":"Futtermittel!A137","v":" "},{"$f":"Futtermittel!E137","v":" "},{"$f":"Futtermittel!F137","v":0},{"$f":"Futtermittel!G137","v":0},{"$f":"Futtermittel!H137","v":0},{"$f":"Futtermittel!I137","v":0},{"$f":"Futtermittel!J137","v":0},{"$f":"Futtermittel!K137","v":0},{"$f":"Futtermittel!L137","v":{"v":0,"d":"0.00"}},{"$f":"Futtermittel!N137","v":{"v":0,"d":"0.0"}},{"$f":"Futtermittel!O137","v":{"v":0,"d":"0.0"}}]
[null,{"$f":"Futtermittel!A138","v":"Ameisensäure "},{"$f":"Futtermittel!E138","v":" "},{"$f":"Futtermittel!F138","v":0},{"$f":"Futtermittel!G138","v":0},{"$f":"Futtermittel!H138","v":850},{"$f":"Futtermittel!I138","v":0},{"$f":"Futtermittel!J138","v":0},{"$f":"Futtermittel!K138","v":0},{"$f":"Futtermittel!L138","v":{"v":5.8,"d":"5.80"}},{"$f":"Futtermittel!N138","v":{"v":0,"d":"0.0"}},{"$f":"Futtermittel!O138","v":{"v":0,"d":"0.0"}},null,{"v":5.0409929348579325,"d":"5.04 €"}]
[null,{"$f":"Futtermittel!A139","v":"Futterkalk CaCO3 "},{"$f":"Futtermittel!E139","v":" "},{"$f":"Futtermittel!F139","v":0},{"$f":"Futtermittel!G139","v":0},{"$f":"Futtermittel!H139","v":999},{"$f":"Futtermittel!I139","v":0},{"$f":"Futtermittel!J139","v":0},{"$f":"Futtermittel!K139","v":0},{"$f":"Futtermittel!L139","v":{"v":0,"d":"0.00"}},{"$f":"Futtermittel!N139","v":{"v":0,"d":"0.0"}},{"$f":"Futtermittel!O139","v":{"v":0,"d":"0.0"}}]
[null,{"$f":"Futtermittel!A141","v":"Haferschälkleie 6% RP DLG 2014"},{"$f":"Futtermittel!E141","v":6},{"$f":"Futtermittel!F141","v":"DLG 2014"},{"$f":"Futtermittel!G141","v":0},{"$f":"Futtermittel!H141","v":900},{"$f":"Futtermittel!I141","v":63},{"$f":"Futtermittel!J141","v":{"v":56.7,"d":"57"}},{"$f":"Futtermittel!K141","v":230},{"$f":"Futtermittel!L141","v":{"v":5.412371,"d":"5.41"}},{"$f":"Futtermittel!N141","v":2.3},{"$f":"Futtermittel!O141","v":{"v":2.024,"d":"2.0"}},null,{"$f":"IF(J147=\" \",\" \",M$16*(J147*(L$17*J147-J$17*L147)/((J$16*(L$17*J147-J$17*L147))+(J$17*(J$16*L147-L$16*J147))))+M$17*((J147*(L$17*J147-J$17*L147)/((J$16*(L$17*J147-J$17*L147))+(J$17*(J$16*L147-L$16*J147))))*((J$16*L147-L$16*J147)/(L$17*J147-J$17*1.00000000000001*L147))))","v":{"v":6.636676268714961,"d":"6.64 €"}}]
[null,{"$f":"Futtermittel!A142","v":"Heu Mitte bis Ende Blüte 11% RP DLG 2014"},{"$f":"Futtermittel!E142","v":11},{"$f":"Futtermittel!F142","v":"DLG 2014"},{"$f":"Futtermittel!G142","v":0},{"$f":"Futtermittel!H142","v":880},{"$f":"Futtermittel!I142","v":106},{"$f":"Futtermittel!J142","v":{"v":50.879999999999995,"d":"51"}},{"$f":"Futtermittel!K142","v":246},{"$f":"Futtermittel!L142","v":{"v":6.14809,"d":"6.15"}},{"$f":"Futtermittel!N142","v":{"v":4.733,"d":"4.7"}},{"$f":"Futtermittel!O142","v":{"v":1.4672299999999998,"d":"1.5"}},null,{"v":6.744493209652513,"d":"6.74 €"}]
[null,{"$f":"Futtermittel!A143","v":"Lignocellulose (Faserkonzentrat) 1% RP "},{"$f":"Futtermittel!E143","v":1},{"$f":"Futtermittel!F143","v":0},{"$f":"Futtermittel!G143","v":0},{"$f":"Futtermittel!H143","v":927},{"$f":"Futtermittel!I143","v":12},{"$f":"Futtermittel!J143","v":{"v":5.4,"d":"5"}},{"$f":"Futtermittel!K143","v":671},{"$f":"Futtermittel!L143","v":{"v":0,"d":"0.00"}},{"$f":"Futtermittel!N143","v":{"v":0,"d":"0.0"}},{"$f":"Futtermittel!O143","v":{"v":0,"d":"0.0"}}]
[null,{"$f":"Futtermittel!A144","v":"Luzerne, frisch 4% RP DLG 2014"},{"$f":"Futtermittel!E144","v":4},{"$f":"Futtermittel!F144","v":"DLG 2014"},{"$f":"Futtermittel!G144","v":0},{"$f":"Futtermittel!H144","v":170},{"$f":"Futtermittel!I144","v":37},{"$f":"Futtermittel!J144","v":{"v":17.39,"d":"17"}},{"$f":"Futtermittel!K144","v":43},{"$f":"Futtermittel!L144","v":{"v":1.558573,"d":"1.56"}},{"$f":"Futtermittel!N144","v":{"v":1.6173590909090911,"d":"1.6"}},{"$f":"Futtermittel!O144","v":{"v":0.8086795454545456,"d":"0.8"}},{"v":25,"d":"25.00 €"},{"$f":"IF(J150=\" \",\" \",M$16*(J150*(L$17*J150-J$17*L150)/((J$16*(L$17*J150-J$17*L150))+(J$17*(J$16*L150-L$16*J150))))+M$17*((J150*(L$17*J150-J$17*L150)/((J$16*(L$17*J150-J$17*L150))+(J$17*(J$16*L150-L$16*J150))))*((J$16*L150-L$16*J150)/(L$17*J150-J$17*1.00000000000001*L150))))","v":{"v":2.1267685033772836,"d":"2.13 €"}}]
[null,{"$f":"Futtermittel!A145","v":"Luzernegrünmehl jung unter 23% XF 20% RP DLG 2005"},{"$f":"Futtermittel!E145","v":20},{"$f":"Futtermittel!F145","v":"DLG 2005"},{"$f":"Futtermittel!G145","v":0},{"$f":"Futtermittel!H145","v":900},{"$f":"Futtermittel!I145","v":196},{"$f":"Futtermittel!J145","v":{"v":88.2,"d":"88"}},{"$f":"Futtermittel!K145","v":200},{"$f":"Futtermittel!L145","v":{"v":7.211719,"d":"7.21"}},{"$f":"Futtermittel!N145","v":{"v":8.567736363636365,"d":"8.6"}},{"$f":"Futtermittel!O145","v":{"v":3.9411587272727284,"d":"3.9"}},{"v":26,"d":"26.00 €"},{"v":10.031125822782535,"d":"10.03 €"}]
[null,{"$f":"Futtermittel!A146","v":"Luzernegrünmehl älter über 23% XF 17% RP DLG 2014"},{"$f":"Futtermittel!E146","v":17},{"$f":"Futtermittel!F146","v":"DLG 2014"},{"$f":"Futtermittel!G146","v":0},{"$f":"Futtermittel!H146","v":900},{"$f":"Futtermittel!I146","v":167},{"$f":"Futtermittel!J146","v":{"v":75.15,"d":"75"}},{"$f":"Futtermittel!K146","v":237},{"$f":"Futtermittel!L146","v":{"v":7.188323,"d":"7.19"}},{"$f":"Futtermittel!N146","v":{"v":7.274336363636364,"d":"7.3"}},{"$f":"Futtermittel!O146","v":{"v":3.3461947272727275,"d":"3.3"}},{"v":26,"d":"26.00 €"},{"v":9.442699082011492,"d":"9.44 €"}]
[null,{"$f":"Futtermittel!A147","v":"eigenes Grünmehl "},{"$f":"Futtermittel!E147","v":" "},{"$f":"Futtermittel!F147","v":0},{"$f":"Futtermittel!G147","v":0},{"$f":"Futtermittel!H147","v":0},{"$f":"Futtermittel!I147","v":0},{"$f":"Futtermittel!J147","v":" "},{"$f":"Futtermittel!K147","v":0},{"$f":"Futtermittel!L147","v":" "},{"$f":"Futtermittel!N147","v":" "},{"$f":"Futtermittel!O147","v":" "},{"v":26,"d":"26.00 €"}," "]
[null,{"$f":"Futtermittel!A148","v":"Melasseschnitzel 9% RP DLG 2014"},{"$f":"Futtermittel!E148","v":9},{"$f":"Futtermittel!F148","v":"DLG 2014"},{"$f":"Futtermittel!G148","v":0},{"$f":"Futtermittel!H148","v":910},{"$f":"Futtermittel!I148","v":91},{"$f":"Futtermittel!J148","v":{"v":22.75,"d":"23"}},{"$f":"Futtermittel!K148","v":137},{"$f":"Futtermittel!L148","v":{"v":10.532319000000001,"d":"10.53"}},{"$f":"Futtermittel!N148","v":{"v":4.962809090909091,"d":"5.0"}},{"$f":"Futtermittel!O148","v":{"v":3.7221068181818184,"d":"3.7"}},{"v":23,"d":"23.00 €"},{"v":12.70802277408406,"d":"12.71 €"}]
[null,{"$f":"Futtermittel!A149","v":"Melasseschnitzel zuckerreich 11% RP DLG 2005"},{"$f":"Futtermittel!E149","v":11},{"$f":"Futtermittel!F149","v":"DLG 2005"},{"$f":"Futtermittel!G149","v":0},{"$f":"Futtermittel!H149","v":900},{"$f":"Futtermittel!I149","v":113},{"$f":"Futtermittel!J149","v":{"v":28.25,"d":"28"}},{"$f":"Futtermittel!K149","v":129},{"$f":"Futtermittel!L149","v":{"v":10.93554,"d":"10.94"}},{"$f":"Futtermittel!N149","v":{"v":6.423972727272727,"d":"6.4"}},{"$f":"Futtermittel!O149","v":{"v":4.817979545454546,"d":"4.8"}},{"v":23,"d":"23.00 €"},{"v":14.104854523906207,"d":"14.10 €"}]
[null,{"$f":"Futtermittel!A150","v":"Obstrester (Apfel), getrocknet 5% RP DLG FuDb"},{"$f":"Futtermittel!E150","v":5},{"$f":"Futtermittel!F150","v":"DLG FuDb"},{"$f":"Futtermittel!G150","v":0},{"$f":"Futtermittel!H150","v":900},{"$f":"Futtermittel!I150","v":{"v":50.301,"d":"50"}},{"$f":"Futtermittel!J150","v":{"v":36.21672,"d":"36"}},{"$f":"Futtermittel!K150","v":{"v":186.39,"d":"186"}},{"$f":"Futtermittel!L150","v":{"v":7.582640841,"d":"7.58"}},{"$f":"Futtermittel!N150","v":{"v":4.86,"d":"4.9"}},{"$f":"Futtermittel!O150","v":{"v":2.2356000000000003,"d":"2.2"}},{"v":30,"d":"30.00 €"},{"v":8.724980538810618,"d":"8.72 €"}]
[null,{"$f":"Futtermittel!A151","v":"Propionsäure "},{"$f":"Futtermittel!E151","v":" "},{"$f":"Futtermittel!F151","v":0},{"$f":"Futtermittel!G151","v":0},{"$f":"Futtermittel!H151","v":990},{"$f":"Futtermittel!I151","v":0},{"$f":"Futtermittel!J151","v":0},{"$f":"Futtermittel!K151","v":0},{"$f":"Futtermittel!L151","v":{"v":19.822217008797654,"d":"19.82"}},{"$f":"Futtermittel!N151","v":{"v":0,"d":"0.0"}},{"$f":"Futtermittel!O151","v":{"v":0,"d":"0.0"}},null,{"v":17.228216533546505,"d":"17.23 €"}]
[null,{"$f":"Futtermittel!A152","v":"Fischöl / Lachsöl DLG 2014"},{"$f":"Futtermittel!E152","v":" "},{"$f":"Futtermittel!F152","v":"DLG 2014"},{"$f":"Futtermittel!G152","v":0},{"$f":"Futtermittel!H152","v":999},{"$f":"Futtermittel!I152","v":0},{"$f":"Futtermittel!J152","v":0},{"$f":"Futtermittel!K152","v":0},{"$f":"Futtermittel!L152","v":{"v":38.925992,"d":"38.93"}},{"$f":"Futtermittel!N152","v":{"v":0,"d":"0.0"}},{"$f":"Futtermittel!O152","v":{"v":0,"d":"0.0"}},null,{"$f":"IF(J158=\" \",\" \",M$16*(J158*(L$17*J158-J$17*L158)/((J$16*(L$17*J158-J$17*L158))+(J$17*(J$16*L158-L$16*J158))))+M$17*((J158*(L$17*J158-J$17*L158)/((J$16*(L$17*J158-J$17*L158))+(J$17*(J$16*L158-L$16*J158))))*((J$16*L158-L$16*J158)/(L$17*J158-J$17*1.00000000000001*L158))))","v":{"v":33.83200873350629,"d":"33.83 €"}}]
[null,{"$f":"Futtermittel!A153","v":"Rapsöl / Pflanzenöl DLG 2014"},{"$f":"Futtermittel!E153","v":" "},{"$f":"Futtermittel!F153","v":"DLG 2014"},{"$f":"Futtermittel!G153","v":0},{"$f":"Futtermittel!H153","v":999},{"$f":"Futtermittel!I153","v":0},{"$f":"Futtermittel!J153","v":0},{"$f":"Futtermittel!K153","v":0},{"$f":"Futtermittel!L153","v":{"v":38.925992,"d":"38.93"}},{"$f":"Futtermittel!N153","v":{"v":0,"d":"0.0"}},{"$f":"Futtermittel!O153","v":{"v":0,"d":"0.0"}},{"v":125,"d":"125.00 €"},{"v":33.83200873350629,"d":"33.83 €"}]
[null,{"$f":"Futtermittel!A154","v":"Sojaöl / Pflanzenöl DLG 2014"},{"$f":"Futtermittel!E154","v":" "},{"$f":"Futtermittel!F154","v":"DLG 2014"},{"$f":"Futtermittel!G154","v":0},{"$f":"Futtermittel!H154","v":999},{"$f":"Futtermittel!I154","v":0},{"$f":"Futtermittel!J154","v":0},{"$f":"Futtermittel!K154","v":0},{"$f":"Futtermittel!L154","v":{"v":38.925992,"d":"38.93"}},{"$f":"Futtermittel!N154","v":{"v":0,"d":"0.0"}},{"$f":"Futtermittel!O154","v":{"v":0,"d":"0.0"}},{"v":120,"d":"120.00 €"},{"v":33.83200873350629,"d":"33.83 €"}]
[null,{"$f":"Futtermittel!A155","v":"Reinglycerin 99,5 - 99,9 % "},{"$f":"Futtermittel!E155","v":" "},{"$f":"Futtermittel!F155","v":0},{"$f":"Futtermittel!G155","v":0},{"$f":"Futtermittel!H155","v":997},{"$f":"Futtermittel!I155","v":0},{"$f":"Futtermittel!J155","v":0},{"$f":"Futtermittel!K155","v":0},{"$f":"Futtermittel!L155","v":{"v":17.5,"d":"17.50"}},{"$f":"Futtermittel!N155","v":{"v":0,"d":"0.0"}},{"$f":"Futtermittel!O155","v":{"v":0,"d":"0.0"}},{"v":56,"d":"56.00 €"},{"v":15.209892475864455,"d":"15.21 €"}]
[null,{"$f":"Futtermittel!A156","v":"Rohglycerin 80 - 82 % DLG 2014"},{"$f":"Futtermittel!E156","v":" "},{"$f":"Futtermittel!F156","v":"DLG 2014"},{"$f":"Futtermittel!G156","v":0},{"$f":"Futtermittel!H156","v":880},{"$f":"Futtermittel!I156","v":0},{"$f":"Futtermittel!J156","v":0},{"$f":"Futtermittel!K156","v":0},{"$f":"Futtermittel!L156","v":{"v":14.37224,"d":"14.37"}},{"$f":"Futtermittel!N156","v":{"v":0,"d":"0.0"}},{"$f":"Futtermittel!O156","v":{"v":0,"d":"0.0"}},{"v":45,"d":"45.00 €"},{"v":12.491441430703894,"d":"12.49 €"}]
[null,{"$f":"Futtermittel!A157","v":"Sojabohnenschalen 12% RP DLG 2014"},{"$f":"Futtermittel!E157","v":12},{"$f":"Futtermittel!F157","v":"DLG 2014"},{"$f":"Futtermittel!G157","v":0},{"$f":"Futtermittel!H157","v":880},{"$f":"Futtermittel!I157","v":119},{"$f":"Futtermittel!J157","v":{"v":64.26,"d":"64"}},{"$f":"Futtermittel!K157","v":334},{"$f":"Futtermittel!L157","v":{"v":7.221836,"d":"7.22"}},{"$f":"Futtermittel!N157","v":{"v":7.506,"d":"7.5"}},{"$f":"Futtermittel!O157","v":{"v":4.203360000000001,"d":"4.2"}},{"v":25.5,"d":"25.50 €"},{"v":10.290277816738818,"d":"10.29 €"}]
[null,{"$f":"Futtermittel!A158","v":"Stroh, Gerste 4% RP DLG 2014"},{"$f":"Futtermittel!E158","v":4},{"$f":"Futtermittel!F158","v":"DLG 2014"},{"$f":"Futtermittel!G158","v":0},{"$f":"Futtermittel!H158","v":860},{"$f":"Futtermittel!I158","v":39},{"$f":"Futtermittel!J158","v":{"v":3.9000000000000004,"d":"4"}},{"$f":"Futtermittel!K158","v":374},{"$f":"Futtermittel!L158","v":{"v":1.9308619999999999,"d":"1.93"}},{"$f":"Futtermittel!N158","v":0.8},{"$f":"Futtermittel!O158","v":{"v":0,"d":"0.0"}},null,{"v":1.678183051756148,"d":"1.68 €"}]
[null,{"$f":"Futtermittel!A159","v":"Stroh, Weizen 3% RP DLG 2014"},{"$f":"Futtermittel!E159","v":3},{"$f":"Futtermittel!F159","v":"DLG 2014"},{"$f":"Futtermittel!G159","v":0},{"$f":"Futtermittel!H159","v":860},{"$f":"Futtermittel!I159","v":34},{"$f":"Futtermittel!J159","v":{"v":3.4000000000000004,"d":"3"}},{"$f":"Futtermittel!K159","v":370},{"$f":"Futtermittel!L159","v":{"v":1.8986599999999998,"d":"1.90"}},{"$f":"Futtermittel!N159","v":0.7},{"$f":"Futtermittel!O159","v":{"v":0,"d":"0.0"}},null,{"$f":"IF(J165=\" \",\" \",M$16*(J165*(L$17*J165-J$17*L165)/((J$16*(L$17*J165-J$17*L165))+(J$17*(J$16*L165-L$16*J165))))+M$17*((J165*(L$17*J165-J$17*L165)/((J$16*(L$17*J165-J$17*L165))+(J$17*(J$16*L165-L$16*J165))))*((J$16*L165-L$16*J165)/(L$17*J165-J$17*1.00000000000001*L165))))","v":{"v":1.6501951113271314,"d":"1.65 €"}}]
[null,{"$f":"Futtermittel!A160","v":"Süßmolke 88 % TM 12% RP DLG 2014"},{"$f":"Futtermittel!E160","v":12},{"$f":"Futtermittel!F160","v":"DLG 2014"},{"$f":"Futtermittel!G160","v":0},{"$f":"Futtermittel!H160","v":880},{"$f":"Futtermittel!I160","v":{"v":117.33040000000003,"d":"117"}},{"$f":"Futtermittel!J160","v":{"v":105.59736000000002,"d":"106"}},{"$f":"Futtermittel!K160","v":0},{"$f":"Futtermittel!L160","v":{"v":12.626251616000003,"d":"12.63"}},{"$f":"Futtermittel!N160","v":8.8},{"$f":"Futtermittel!O160","v":{"v":8.536,"d":"8.5"}},null,{"v":19.124409916652247,"d":"19.12 €"}]
[null,{"$f":"Futtermittel!A161","v":"Süßmolke, frisch 1% RP DLG 2014"},{"$f":"Futtermittel!E161","v":1},{"$f":"Futtermittel!F161","v":"DLG 2014"},{"$f":"Futtermittel!G161","v":0},{"$f":"Futtermittel!H161","v":60},{"$f":"Futtermittel!I161","v":{"v":7.999800000000001,"d":"8"}},{"$f":"Futtermittel!J161","v":{"v":6.399840000000001,"d":"6"}},{"$f":"Futtermittel!K161","v":0},{"$f":"Futtermittel!L161","v":{"v":0.8608807919999999,"d":"0.86"}},{"$f":"Futtermittel!N161","v":0.6},{"$f":"Futtermittel!O161","v":{"v":0.582,"d":"0.6"}},null,{"v":1.303937039771744,"d":"1.30 €"}]
[null,{"$f":"Futtermittel!A162","v":"Sauermolke, milchsauer 88 % TM 8% RP DLG 2014"},{"$f":"Futtermittel!E162","v":8},{"$f":"Futtermittel!F162","v":"DLG 2014"},{"$f":"Futtermittel!G162","v":0},{"$f":"Futtermittel!H162","v":880},{"$f":"Futtermittel!I162","v":{"v":82.5,"d":"83"}},{"$f":"Futtermittel!J162","v":{"v":57.74999999999999,"d":"58"}},{"$f":"Futtermittel!K162","v":0},{"$f":"Futtermittel!L162","v":{"v":11.801490800000002,"d":"11.80"}},{"$f":"Futtermittel!N162","v":{"v":9.68,"d":"9.7"}},{"$f":"Futtermittel!O162","v":{"v":8.0344,"d":"8.0"}},null,{"v":17.92863480367197,"d":"17.93 €"}]
[null,{"$f":"Futtermittel!A163","v":"Sauermolke, milchsauer, frisch 1% RP DLG 2014"},{"$f":"Futtermittel!E163","v":1},{"$f":"Futtermittel!F163","v":"DLG 2014"},{"$f":"Futtermittel!G163","v":0},{"$f":"Futtermittel!H163","v":64},{"$f":"Futtermittel!I163","v":6},{"$f":"Futtermittel!J163","v":{"v":4.199999999999999,"d":"4"}},{"$f":"Futtermittel!K163","v":0},{"$f":"Futtermittel!L163","v":{"v":0.8582902400000001,"d":"0.86"}},{"$f":"Futtermittel!N163","v":{"v":0.704,"d":"0.7"}},{"$f":"Futtermittel!O163","v":{"v":0.58432,"d":"0.6"}},null,{"v":1.3039007129943245,"d":"1.30 €"}]
[null,{"$f":"Futtermittel!A164","v":"Trockenschnitzel 8% RP DLG 2014"},{"$f":"Futtermittel!E164","v":8},{"$f":"Futtermittel!F164","v":"DLG 2014"},{"$f":"Futtermittel!G164","v":0},{"$f":"Futtermittel!H164","v":900},{"$f":"Futtermittel!I164","v":75},{"$f":"Futtermittel!J164","v":30},{"$f":"Futtermittel!K164","v":171},{"$f":"Futtermittel!L164","v":{"v":10.142751,"d":"10.14"}},{"$f":"Futtermittel!N164","v":{"v":3.9197727272727265,"d":"3.9"}},{"$f":"Futtermittel!O164","v":{"v":2.1558749999999995,"d":"2.2"}},{"v":22,"d":"22.00 €"},{"v":10.87394205108986,"d":"10.87 €"}]
[null,{"$f":"Futtermittel!A165","v":"eigenes Trockenschnitzel "},{"$f":"Futtermittel!E165","v":" "},{"$f":"Futtermittel!F165","v":0},{"$f":"Futtermittel!G165","v":0},{"$f":"Futtermittel!H165","v":0},{"$f":"Futtermittel!I165","v":0},{"$f":"Futtermittel!J165","v":" "},{"$f":"Futtermittel!K165","v":0},{"$f":"Futtermittel!L165","v":" "},{"$f":"Futtermittel!N165","v":" "},{"$f":"Futtermittel!O165","v":" "},{"v":22,"d":"22.00 €"}," "]
[null,{"$f":"Futtermittel!A166","v":"Wasser "},{"$f":"Futtermittel!E166","v":" "},{"$f":"Futtermittel!F166","v":0},{"$f":"Futtermittel!G166","v":0},{"$f":"Futtermittel!H166","v":0},{"$f":"Futtermittel!I166","v":0},{"$f":"Futtermittel!J166","v":0},{"$f":"Futtermittel!K166","v":0},{"$f":"Futtermittel!L166","v":{"v":0,"d":"0.00"}},{"$f":"Futtermittel!N166","v":{"v":0,"d":"0.0"}},{"$f":"Futtermittel!O166","v":{"v":0,"d":"0.0"}},null,{"$error":"#DIV/0!"}]
[null,{"$f":"Futtermittel!A167","v":"Weizenkleie 14% RP DLG 2014"},{"$f":"Futtermittel!E167","v":14},{"$f":"Futtermittel!F167","v":"DLG 2014"},{"$f":"Futtermittel!G167","v":0},{"$f":"Futtermittel!H167","v":880},{"$f":"Futtermittel!I167","v":141},{"$f":"Futtermittel!J167","v":{"v":109.98,"d":"110"}},{"$f":"Futtermittel!K167","v":114},{"$f":"Futtermittel!L167","v":{"v":8.819834,"d":"8.82"}},{"$f":"Futtermittel!N167","v":{"v":5.689299999999999,"d":"5.7"}},{"$f":"Futtermittel!O167","v":{"v":4.039402999999999,"d":"4.0"}},{"v":23,"d":"23.00 €"},{"$f":"IF(J173=\" \",\" \",M$16*(J173*(L$17*J173-J$17*L173)/((J$16*(L$17*J173-J$17*L173))+(J$17*(J$16*L173-L$16*J173))))+M$17*((J173*(L$17*J173-J$17*L173)/((J$16*(L$17*J173-J$17*L173))+(J$17*(J$16*L173-L$16*J173))))*((J$16*L173-L$16*J173)/(L$17*J173-J$17*1.00000000000001*L173))))","v":{"v":11.522604672607457,"d":"11.52 €"}}]
[null,{"$f":"Futtermittel!A168","v":"eigene Weizenkleie "},{"$f":"Futtermittel!E168","v":" "},{"$f":"Futtermittel!F168","v":0},{"$f":"Futtermittel!G168","v":0},{"$f":"Futtermittel!H168","v":0},{"$f":"Futtermittel!I168","v":0},{"$f":"Futtermittel!J168","v":" "},{"$f":"Futtermittel!K168","v":0},{"$f":"Futtermittel!L168","v":" "},{"$f":"Futtermittel!N168","v":" "},{"$f":"Futtermittel!O168","v":" "},null,{"$f":"IF(J174=\" \",\" \",M$16*(J174*(L$17*J174-J$17*L174)/((J$16*(L$17*J174-J$17*L174))+(J$17*(J$16*L174-L$16*J174))))+M$17*((J174*(L$17*J174-J$17*L174)/((J$16*(L$17*J174-J$17*L174))+(J$17*(J$16*L174-L$16*J174))))*((J$16*L174-L$16*J174)/(L$17*J174-J$17*1.00000000000001*L174))))","v":" "}]
[null,{"$f":"Futtermittel!A169","v":"hier neues Futtermittel eingeben % RP "},{"$f":"Futtermittel!E169","v":""},{"$f":"Futtermittel!F169","v":0},{"$f":"Futtermittel!G169","v":0},{"$f":"Futtermittel!H169","v":0},{"$f":"Futtermittel!I169","v":0},{"$f":"Futtermittel!J169","v":0},{"$f":"Futtermittel!K169","v":0},{"$f":"Futtermittel!L169","v":" "},{"$f":"Futtermittel!N169","v":{"v":0,"d":"0.0"}},{"$f":"Futtermittel!O169","v":{"v":0,"d":"0.0"}},null,{"$f":"IF(J175=\" \",\" \",M$16*(J175*(L$17*J175-J$17*L175)/((J$16*(L$17*J175-J$17*L175))+(J$17*(J$16*L175-L$16*J175))))+M$17*((J175*(L$17*J175-J$17*L175)/((J$16*(L$17*J175-J$17*L175))+(J$17*(J$16*L175-L$16*J175))))*((J$16*L175-L$16*J175)/(L$17*J175-J$17*1.00000000000001*L175))))","v":" "}]
[]
[null,"* Häufigkeitsverteilung hessischer Proben"]
[null,"** berechnet nach Einzelfutterformel nur in Ausnahmefällen nach Mischfutterformel"]

{"sheet":"Ergänzungsfutter","index":6,"n_rows":38,"n_cols":37,"rows_kept":38,"merged":[[3,2,3,17],[4,2,4,17],[6,4,6,35],[7,19,8,19],[7,20,8,20],[7,21,8,21],[7,22,8,22],[7,23,8,23],[7,24,8,24],[7,25,8,25],[7,26,8,26],[7,27,8,27],[7,28,8,28],[7,29,8,29],[7,30,8,30],[7,31,8,31],[7,32,8,32],[7,33,8,33],[7,34,8,34],[7,35,8,35],[7,36,8,36],[30,2,30,17],[32,2,32,8],[32,9,32,17],[33,3,33,7],[33,15,33,16]]}
[]
[]
[]
[null,null,"Orientierungswerte für Ergänzungsfuttermittel"]
[null,null,"(in jedem Fall die deklarierten Inhaltsstoffangaben beachten)"]
[]
[{"$nulls":4},"                                                                         in 1000 g Futtermittel"]
[{"$nulls":4},"TM","RP","Rfa","ME","Lys","M + C","Thr","Trp","Ca","     P   ","vP","Mg","Na","Rationsanteil","ME","Methionin                   (Met)","Rohfett                  (XL)","Stärke                     (S)","Zucker         (Z)","Rohasche                  (XA)","organi-scher Rest alt             (OR)                       ","organi-scher Rest                   (OR)","Polyen-säure-gehalt","Linol-säure-gehalt","Linolen-säure-gehalt","Vit A","Vit D3","Vit E","Kationen / Anionen-Bilanz (BE)","Säurebindungs-kapazität                  SBK bei pH 3","Säuren-Detergenz-Faser (ADF)","Neutrale-Detergenz-Faser (NDF)","N-frei Extrakt-stoffe (NfE)"]
[{"$nulls":7},"MFF",{"$nulls":9},"im Trockenfutter","MFF"]
[{"$f":"D10","v":"alle Ergänzungsfuttermittel mit Phytase!"},null,"NR.","alle Ergänzungsfuttermittel mit Phytase!","g ","g *","g","MJ","g *","g *","g *","g ","g *","g *","g **","g*","g ","% *","MJ","g","g","g","g","g","g","g","g","g","g","IE","IE","mg","mmol","meq","g","g","g"]
[{"$f":"IF(D11=\"\",\" \",D11)","v":"Eiweißr. Ergf. für Mastschweine"},null,{"$f":"COUNTA(E$11:E11)","v":1},"Eiweißr. Ergf. für Mastschweine",890,"380","45","12,6",30,11,"14,5","5,1","32,0","9,0",5.9,1,"5,3","15 - 28","12,6",{"$f":"J11*0.58","v":{"v":6.38,"d":"6.4"}},{"$nulls":3},125,{"$f":"IF(U11=\"\",\" \",E11-(F11+G11+U11+V11+W11+X11))","v":" "},{"$f":"IF(U11=\"\",\" \",E11-(F11+G11+U11+V11+X11))","v":" "},{"$nulls":3},23200,7100,620,{"$f":"IF(M11=\"\",\"\",50*M11+83*P11+26*20/440*F11+44*Q11-59*N11-13*J11-28*(0.93*23*Q11/35.5+P11))","v":{"v":1573.8746837387962,"d":"1574"}},{"$f":"IF(M11=\"\",\"\",M11/1000*20140+P11/1000*48600+1100/440*F11)","v":{"v":1643.08,"d":"1643"}},{"$f":"IF(G11=\"\",\"\",G11*1.53)","v":{"v":68.85,"d":"69"}},{"$f":"IF(G11=\"\",\"\",AI11*2.23)","v":{"v":153.53549999999998,"d":"154"}}]
["Ergf. für tragende Zuchtsauen",null,{"$f":"COUNTA(E$11:E12)","v":2},"Ergf. für tragende Zuchtsauen","890","190",120,"10,6",16,7,"7,4","2,5","20,5","8,0",5.2,1,"6,6","30 - 40","10,6",{"$f":"J12*0.47","v":{"v":3.29,"d":"3.3"}},{"$nulls":3},110," ",{"$f":"IF(U12=\"\",\" \",E12-(F12+G12+U12+V12+X12))","v":" "},{"$nulls":3},20000,3000,240,{"$f":"IF(M12=\"\",\"\",50*M12+83*P12+26*20/440*F12+44*Q12-59*N12-13*J12-28*(0.93*23*Q12/35.5+P12))","v":{"v":920.5969475032011,"d":"921"}},{"v":936.47,"d":"936"},{"v":183.6,"d":"184"},{"v":409.428,"d":"409"}]
["Ergf. für laktierende Zuchtsauen",null,{"$f":"COUNTA(E$11:E13)","v":3},"Ergf. für laktierende Zuchtsauen","890","270",100,"12,6",20,8.7,"10,1","3,2","20,5","8,5",5.5,1,"6,1","40","12,6",{"$f":"J13*0.5","v":{"v":4.35,"d":"4.4"}},{"$nulls":3},110," ",{"$f":"IF(U13=\"\",\" \",E13-(F13+G13+U13+V13+X13))","v":" "},{"$nulls":3},30000,4250,340,{"v":949.9778950064022,"d":"950"},{"v":1136.47,"d":"1136"},153,{"v":341.19,"d":"341"}]
["Eiweißr. Ergf. für Zuchtsauen",null,{"$f":"COUNTA(E$11:E14)","v":4},"Eiweißr. Ergf. für Zuchtsauen","890","380","45","12,6",30,10.7,"15,5","4,7","41","14,5",9.7,2,"8","10 - 25","12,6",{"$f":"J14*0.55","v":{"v":5.885,"d":"5.9"}},{"$nulls":3},140," ",{"$f":"IF(U14=\"\",\" \",E14-(F14+G14+U14+V14+X14))","v":" "},{"$nulls":3},42500,6000,480,{"v":1831.5230217669655,"d":"1832"},{"v":1872.94,"d":"1873"},{"v":68.85,"d":"69"},{"v":153.53549999999998,"d":"154"}]
["Ergänzungsfutter für Ferkel",null,{"$f":"COUNTA(E$11:E15)","v":5},"Ergänzungsfutter für Ferkel","890","310","45","13,4",30,14,"13","3,6","22","11",7.4,1.3,"4","34 - 35","13,4",{"$f":"J15*0.62","v":{"v":8.68,"d":"8.7"}},{"$nulls":3},115," ",{"$f":"IF(U15=\"\",\" \",E15-(F15+G15+U15+V15+X15))","v":" "},{"$nulls":3},30000,4000,330,{"v":815.3796927016648,"d":"815"},{"v":1281.26,"d":"1281"},{"v":68.85,"d":"69"},{"v":153.53549999999998,"d":"154"}]
[" ",null,{"$f":"COUNTA(E$11:E16)","v":6},null,890,null,null,{"$f":"IF(F16=\"\",\" \",$F16*0.021503+0.032497*$U16+0.016309*$V16+0.014701*$Z16-0.021071*$G16)","v":" "},{"$nulls":6},{"$f":"IF(N16=\"\",0,N16*0.65)","v":{"v":0,"d":"0.0"}},{"$nulls":3},{"$f":"IF(U16=\"\",\" \",$F16*0.021503+0.032497*$U16+0.016309*$V16+0.014701*$Z16-0.021071*$G16)","v":" "},{"$nulls":5}," ",{"$f":"IF(F16=\"\",\" \",E16-(F16+G16+U16+V16+X16))","v":" "},{"$nulls":6},"","","","",{"$f":"IF(F16=\"\",\"\",E16-G16-F16-U16-X16)","v":""}]
[" ",null,{"$f":"COUNTA(E$11:E17)","v":7},null,890,null,null,{"$f":"IF(F17=\"\",\" \",$F17*0.021503+0.032497*$U17+0.016309*$V17+0.014701*$Z17-0.021071*$G17)","v":" "},{"$nulls":6},{"v":0,"d":"0.0"},{"$nulls":3}," ",{"$nulls":5}," ",{"$f":"IF(F17=\"\",\" \",E17-(F17+G17+U17+V17+X17))","v":" "},{"$nulls":6},"","","","",{"$f":"IF(F17=\"\",\"\",E17-G17-F17-U17-X17)","v":""}]
[" ",null,{"$f":"COUNTA(E$11:E18)","v":8},null,890,null,null," ",{"$nulls":6},{"v":0,"d":"0.0"},{"$nulls":3}," ",{"$nulls":5}," "," ",{"$nulls":6},"","",{"$f":"IF(G18=\"\",\"\",G18*1.53)","v":""},{"$f":"IF(G18=\"\",\"\",AI18*2.23)","v":""},""]
[" ",null,{"$f":"COUNTA(E$11:E19)","v":9},null,890,null,null," ",{"$nulls":6},{"v":0,"d":"0.0"},{"$nulls":3}," ",{"$nulls":5}," "," ",{"$nulls":6},"","","","",""]
[{"$f":"IF(D20=\"\",\" \",D20)","v":" "},null,{"$f":"COUNTA(E$11:E20)","v":10},null,890,null,null," ",{"$nulls":6},{"v":0,"d":"0.0"},{"$nulls":3}," ",{"$nulls":5}," "," ",{"$nulls":6},"","","","",""]
[null,null,{"$f":"COUNTA(E$11:E21)","v":11},null,890,null,null,{"$f":"IF(F21=\"\",\" \",$F21*0.021503+0.032497*$U21+0.016309*$V21+0.014701*$Z21-0.021071*$G21)","v":" "},{"$nulls":6},{"v":0,"d":"0.0"},{"$nulls":3},{"$f":"IF(U21=\"\",\" \",$F21*0.021503+0.032497*$U21+0.016309*$V21+0.014701*$Z21-0.021071*$G21)","v":" "},{"$nulls":5},{"$f":"IF(U21=\"\",\" \",E21-(F21+G21+U21+V21+W21+X21))","v":" "},{"$f":"IF(F21=\"\",\" \",E21-(F21+G21+U21+V21+X21))","v":" "},{"$nulls":6},{"$f":"IF(M21=\"\",\"\",50*M21+83*P21+26*20/440*F21+44*Q21-59*N21-13*J21-28*(0.93*23*Q21/35.5+P21))","v":""},{"$f":"IF(M21=\"\",\"\",M21/1000*20140+P21/1000*48600+1100/440*F21)","v":""},{"$f":"IF(G21=\"\",\"\",G21*1.53)","v":""},{"$f":"IF(G21=\"\",\"\",AI21*2.23)","v":""},""]
[null,null,{"$f":"COUNTA(E$11:E22)","v":12},null,890,null,null,{"$f":"IF(F22=\"\",\" \",$F22*0.021503+0.032497*$U22+0.016309*$V22+0.014701*$Z22-0.021071*$G22)","v":" "},{"$nulls":6},{"v":0,"d":"0.0"},{"$nulls":3},{"$f":"IF(U22=\"\",\" \",$F22*0.021503+0.032497*$U22+0.016309*$V22+0.014701*$Z22-0.021071*$G22)","v":" "},{"$nulls":5}," ",{"$f":"IF(F22=\"\",\" \",E22-(F22+G22+U22+V22+X22))","v":" "},{"$nulls":6},{"$f":"IF(M22=\"\",\"\",50*M22+83*P22+26*20/440*F22+44*Q22-59*N22-13*J22-28*(0.93*23*Q22/35.5+P22))","v":""},{"$f":"IF(M22=\"\",\"\",M22/1000*20140+P22/1000*48600+1100/440*F22)","v":""},{"$f":"IF(G22=\"\",\"\",G22*1.53)","v":""},{"$f":"IF(G22=\"\",\"\",AI22*2.23)","v":""},""]
[null,null,{"$f":"COUNTA(E$11:E23)","v":13},null,890,null,null,{"$f":"IF(F23=\"\",\" \",$F23*0.021503+0.032497*$U23+0.016309*$V23+0.014701*$Z23-0.021071*$G23)","v":" "},{"$nulls":6},{"v":0,"d":"0.0"},{"$nulls":3},{"$f":"IF(U23=\"\",\" \",$F23*0.021503+0.032497*$U23+0.016309*$V23+0.014701*$Z23-0.021071*$G23)","v":" "},{"$nulls":5}," ",{"$f":"IF(F23=\"\",\" \",E23-(F23+G23+U23+V23+X23))","v":" "},{"$nulls":6},{"$f":"IF(M23=\"\",\"\",50*M23+83*P23+26*20/440*F23+44*Q23-59*N23-13*J23-28*(0.93*23*Q23/35.5+P23))","v":""},{"$f":"IF(M23=\"\",\"\",M23/1000*20140+P23/1000*48600+1100/440*F23)","v":""},{"$f":"IF(G23=\"\",\"\",G23*1.53)","v":""},{"$f":"IF(G23=\"\",\"\",AI23*2.23)","v":""},""]
[null,null,{"$f":"COUNTA(E$11:E24)","v":14},null,890,null,null,{"$f":"IF(F24=\"\",\" \",$F24*0.021503+0.032497*$U24+0.016309*$V24+0.014701*$Z24-0.021071*$G24)","v":" "},{"$nulls":6},{"v":0,"d":"0.0"},{"$nulls":3},{"$f":"IF(U24=\"\",\" \",$F24*0.021503+0.032497*$U24+0.016309*$V24+0.014701*$Z24-0.021071*$G24)","v":" "},{"$nulls":5}," ",{"$f":"IF(F24=\"\",\" \",E24-(F24+G24+U24+V24+X24))","v":" "},{"$nulls":6},{"$f":"IF(M24=\"\",\"\",50*M24+83*P24+26*20/440*F24+44*Q24-59*N24-13*J24-28*(0.93*23*Q24/35.5+P24))","v":""},{"$f":"IF(M24=\"\",\"\",M24/1000*20140+P24/1000*48600+1100/440*F24)","v":""},{"$f":"IF(G24=\"\",\"\",G24*1.53)","v":""},{"$f":"IF(G24=\"\",\"\",AI24*2.23)","v":""},""]
[null,null,{"$f":"COUNTA(E$11:E25)","v":15},null,890,null,null,{"$f":"IF(F25=\"\",\" \",$F25*0.021503+0.032497*$U25+0.016309*$V25+0.014701*$Z25-0.021071*$G25)","v":" "},{"$nulls":6},{"v":0,"d":"0.0"},{"$nulls":3},{"$f":"IF(U25=\"\",\" \",$F25*0.021503+0.032497*$U25+0.016309*$V25+0.014701*$Z25-0.021071*$G25)","v":" "},{"$nulls":5}," ",{"$f":"IF(F25=\"\",\" \",E25-(F25+G25+U25+V25+X25))","v":" "},{"$nulls":6},{"$f":"IF(M25=\"\",\"\",50*M25+83*P25+26*20/440*F25+44*Q25-59*N25-13*J25-28*(0.93*23*Q25/35.5+P25))","v":""},{"$f":"IF(M25=\"\",\"\",M25/1000*20140+P25/1000*48600+1100/440*F25)","v":""},{"$f":"IF(G25=\"\",\"\",G25*1.53)","v":""},{"$f":"IF(G25=\"\",\"\",AI25*2.23)","v":""},""]
[{"$f":"IF(D26=\"\",\" \",D26)","v":" "},null,{"$f":"COUNTA(E$11:E26)","v":16},null,890,null,null," ",{"$nulls":6},{"v":0,"d":"0.0"},{"$nulls":3}," ",{"$nulls":5}," "," ",{"$nulls":6},"","","","",""]
[]
[{"$nulls":3},"*     Mittel- bzw. repräsentative Werte der vergleichenden Mischfuttertests in der Region Hessen, Rheinland-Pfalz und Saarland in 2005 & 2006"]
[{"$nulls":3},"**   Auf Anfrage teilt der Mischfutterhersteller den genauen Gehalt an vP mit."]
[]
[null,null,"Veränderung der Ration durch den Austausch von Energie- bzw. Proteinträgern (bei 88% TM)"]
[]
[null,null,"Energieveränderungen (Austausch gegen Gerste, Qualitäten DLG 2014)",{"$nulls":6},"   Lysinveränderungen (Austausch gegen Gerste, Qualitäten DLG 2014)"]
[{"$nulls":3},"Energie nach Einzelfuttermittelformel",{"$nulls":11},"Lysin",null,"pcv Lysin"]
[{"$nulls":3},"± 10% Weizen 13,7 MJ ME/kg","→","±  0,11 MJ ME / kg",{"$nulls":3},"   ± 1% Sojaschrot 44,0% RP ",{"$nulls":4},"→","  ±  0,23 g/kg",null,"± 0,21 g/kg"]
[{"$nulls":3},"± 10% Hafer 11,7 MJ ME/kg","→","±  0,09 MJ ME / kg",{"$nulls":3},"   ± 1% Fischmehl 57,3% RP ",{"$nulls":4},"→","  ±  0,33 g/kg",null,"± 0,30 g/kg"]
[{"$nulls":3},"±   5 % Rapsschrot 00  9,9 MJ ME/kg","→","±  0,13 MJ ME / kg",{"$nulls":3},"   ± 1% Rapsschrot 00  35,5% RP",{"$nulls":4},"→","  ±  0,16 g/kg",null,"± 0,12 g/kg"]
[{"$nulls":3},"±   1 % Soja-Öl 38,9 MJ ME/kg","→","±  0,26 MJ ME / kg",{"$nulls":3},"   ± 1% Erbsen 22,1% RP",{"$nulls":4},"→","  ±  0,12 g/kg",null,"± 0,11 g/kg"]

{"sheet":"Mineralfutter","index":7,"n_rows":39,"n_cols":34,"rows_kept":39,"merged":[[3,2,3,17],[4,2,4,17],[6,18,6,33],[7,19,8,19],[7,20,8,20],[7,21,8,21],[7,22,8,22],[7,23,8,23],[7,24,8,24],[7,25,8,25],[7,26,8,26],[7,27,8,27],[7,28,8,28],[7,29,8,29],[7,30,8,30],[7,31,8,31],[7,32,8,32],[7,33,8,33]]}
[]
[]
[]
[null,null,"Orientierungswerte für Mineralfutter"]
[null,null,"(in jedem Fall die deklarierten Inhaltsstoffangaben beachten)"]
[]
[{"$nulls":4},"in 1000 g Futtermittel",{"$nulls":13},"in 1000 g Futtermittel"]
[{"$nulls":4},"TM","RP","Rfa","ME","Lys","Met","Thr","Trp","Ca","     P   ","vP","Mg","Na","Rationsanteil","ME","Methionin                   (Met)","Rohfett                  (XL)","Stärke                     (S)","Zucker         (Z)","Rohasche                  (XA)","organi-scher Rest alt             (OR)                       ","organi-scher Rest                   (OR)","Polyen-säure-gehalt","Linol-säure-gehalt","Linolen-säure-gehalt","Vit A","Vit D3","Vit E","Kationen / Anionen-Bilanz (BE)","Säurebindungs-kapazität                  SBK bei pH 3"]
[{"$nulls":7},"EFF",{"$nulls":9},"im Trockenfutter","MFF"]
[null,null,"NR.",null,"g ","g *","g","MJ","g *","g *","g *","g ","g *","g *","g **","g*","g ","% *","MJ","g","g","g","g","g","g","g","g","g","g","IE","IE","mg","mmol","meq"]
[{"$f":"IF(D11=\"\",\" \",D11)","v":"Mineralfutter für Mastschweine ***"},null,{"$f":"COUNTA(E$11:E11)","v":1},"Mineralfutter für Mastschweine ***","960",{"$f":"IF(M11=0,\" \",I11*954/780+J11*584/990+K11*731/980+L11*853/980)","v":{"v":102.48675530818387,"d":"102"}},0,{"$f":"IF(M11=0,\" \",I11*19.56/780+J11*11.97/990+K11*14.99/980+L11*17.49/980)","v":{"v":2.1012569573283857,"d":"2.1"}},65,20,15,0,"220","40",32,7,"50","2 - 3,5",{"$f":"IF(N11=0,\" \",I11*20.51/780+J11*12.56/990+K11*15.72/980+L11*18.34/980)","v":{"v":2.203516285302,"d":"2.2"}},{"$f":"J11","v":20},{"$nulls":3},760,{"$nulls":5},185500,40000,2000,{"$f":"IF(M11=\"\",\"\",50*M11+83*P11+44*Q11-59*N11-13*J11-28*(0.93*23*Q11/35.5+P11))","v":{"v":10121.450704225352,"d":"10121"}},{"$f":"IF(M11=\"\",\"\",M11/1000*20140+P11/1000*48600+1100/440*F11)","v":{"v":5027.21688827046,"d":"5027"}}]
["Mineralfutter für Ferkel ***",null,{"$f":"COUNTA(E$11:E12)","v":2},"Mineralfutter für Ferkel ***","960",{"v":132.2023072165929,"d":"132"},0,{"v":2.710493363779078,"d":"2.7"},80,30,"20","2","170","40","32",10,"45","3 - 5",{"v":2.8424407021549882,"d":"2.8"},{"$f":"J12","v":30},{"$nulls":3},630,{"$nulls":5},320000,40000,2000,{"v":7520.805633802816,"d":"7521"},{"v":4240.305768041482,"d":"4240"}]
["Mineralfutter für Zuchtsauen ***",null,{"$f":"COUNTA(E$11:E13)","v":3},"Mineralfutter für Zuchtsauen ***","960",{"v":80.41100962529534,"d":"80"},0,{"v":1.648623519337805,"d":"1.6"},50,20,10,0,"210","50",40,10,"55","2,5 - 4",{"v":1.7288891267462696,"d":"1.7"},{"$f":"J13","v":20},{"$nulls":3},790,{"$nulls":5},300000,50000,2500,{"v":9332.095774647887,"d":"9332"},{"v":4916.427524063238,"d":"4916"}]
[{"$f":"IF(D14=\"\",\" \",D14)","v":"Viehsalz (NaCl)"},null,{"$f":"COUNTA(E$11:E14)","v":4},"Viehsalz (NaCl)",960,{"$nulls":9},{"$f":"IF(N14=\"\",0,N14*0.8)","v":0},null,{"$f":"E14*400/1000","v":384},null," ",{"$f":"IF(J14=\"\",0,J14)","v":0},{"$nulls":3},960,{"$nulls":8},-147,0]
["Optimales MinFu AM 850g TZ 3,5% + Phytase",null,{"$f":"COUNTA(E$11:E15)","v":5},"Optimales MinFu AM 850g TZ 3,5% + Phytase",960,{"$f":"IF(M15=0,\" \",I15*954/780+J15*584/990+K15*731/980+L15*853/980)","v":{"v":139.50706515706517,"d":"140"}},0,{"$f":"IF(M15=0,\" \",I15*19.56/780+J15*11.97/990+K15*14.99/980+L15*17.49/980)","v":{"v":2.86035014985015,"d":"2.9"}},85,16,35,null,145,10,{"$f":"IF(N15=\"\",0,N15*0.8)","v":8},null,50,"3,5",{"v":2.9994825729825734,"d":"3.0"},{"$f":"IF(J15=\"\",0,J15)","v":16},{"$nulls":3},715,{"$nulls":5},173000,43250,1750,{"$f":"IF(M15=\"\",\"\",50*M15+83*P15+44*Q15-59*N15-13*J15-28*(0.93*23*Q15/35.5+P15))","v":{"v":7808.450704225352,"d":"7808"}},{"v":3269.0676628926626,"d":"3269"}]
[" ",null,{"$f":"COUNTA(E$11:E16)","v":6},null,960,{"$f":"IF(M16=0,\" \",I16*954/780+J16*584/990+K16*731/980+L16*853/980)","v":" "},0,{"$f":"IF(M16=0,\" \",I16*19.56/780+J16*11.97/990+K16*14.99/980+L16*17.49/980)","v":" "},{"$nulls":6},{"$f":"IF(N16=\"\",0,N16*0.8)","v":0},{"$nulls":17},{"$f":"IF(M16=\"\",\"\",50*M16+83*P16+44*Q16-59*N16-13*J16-28*(0.93*23*Q16/35.5+P16))","v":""},{"$f":"IF(M16=\"\",\"\",M16/1000*20140+P16/1000*48600+1100/440*F16)","v":""}]
[" ",null,{"$f":"COUNTA(E$11:E17)","v":7},null,960," ",0," ",{"$nulls":6},{"$f":"IF(N17=\"\",0,N17*0.8)","v":0},{"$nulls":17},{"$f":"IF(M17=\"\",\"\",50*M17+83*P17+44*Q17-59*N17-13*J17-28*(0.93*23*Q17/35.5+P17))","v":""},{"$f":"IF(M17=\"\",\"\",M17/1000*20140+P17/1000*48600+1100/440*F17)","v":""}]
[{"$f":"IF(D18=\"\",\" \",D18)","v":" "},null,{"$f":"COUNTA(E$11:E18)","v":8},null,960,{"$f":"IF(M18=0,\" \",I18*954/780+J18*584/990+K18*731/980+L18*853/980)","v":" "},1,{"$f":"IF(M18=0,\" \",I18*19.56/780+J18*11.97/990+K18*14.99/980+L18*17.49/980)","v":" "},{"$nulls":6},{"$f":"IF(N18=\"\",0,N18*0.8)","v":0},{"$nulls":17},"",""]
[" ",null,{"$f":"COUNTA(E$11:E19)","v":9},null,960," ",2," ",{"$nulls":6},0,{"$nulls":3},{"$f":"IF(N19=0,\" \",I19*20.51/780+J19*12.56/990+K19*15.72/980+L19*18.34/980)","v":" "},{"$f":"IF(J19=\"\",0,J19)","v":0},{"$nulls":12},"",""]
[" ",null,{"$f":"COUNTA(E$11:E20)","v":10},null,960,{"$f":"IF(M20=0,\" \",I20*954/780+J20*584/990+K20*731/980+L20*853/980)","v":" "},0,{"$f":"IF(M20=0,\" \",I20*19.56/780+J20*11.97/990+K20*14.99/980+L20*17.49/980)","v":" "},{"$nulls":6},0,{"$nulls":3}," ",0,{"$nulls":12},{"$f":"IF(M20=\"\",\"\",50*M20+83*P20+44*Q20-59*N20-13*J20-28*(0.93*23*Q20/35.5+P20))","v":""},""]
[" ",null,{"$f":"COUNTA(E$11:E21)","v":11},null,960," ",0," ",{"$nulls":6},0,{"$nulls":3}," ",0,{"$nulls":12},"",""]
[" ",null,{"$f":"COUNTA(E$11:E22)","v":12},null,960," ",0," ",{"$nulls":6},0,{"$nulls":3}," ",0,{"$nulls":12},"",""]
[" ",null,{"$f":"COUNTA(E$11:E23)","v":13},null,960," ",0," ",{"$nulls":6},0,{"$nulls":3}," ",0,{"$nulls":12},"",""]
[{"$f":"IF(D24=\"\",\" \",D24)","v":" "},null,{"$f":"COUNTA(E$11:E24)","v":14},null,960," ",0," ",{"$nulls":6},{"$f":"IF(N24=\"\",0,N24*0.8)","v":0},{"$nulls":3}," ",{"$f":"IF(J24=\"\",0,J24)","v":0},{"$nulls":12},"",""]
[{"$f":"IF(D25=\"\",\" \",D25)","v":" "},null,{"$f":"COUNTA(E$11:E25)","v":15},null,960,{"$f":"IF(M25=0,\" \",I25*954/780+J25*584/990+K25*731/980+L25*853/980)","v":" "},0,{"$f":"IF(M25=0,\" \",I25*19.56/780+J25*11.97/990+K25*14.99/980+L25*17.49/980)","v":" "},{"$nulls":6},{"$f":"IF(N25=\"\",0,N25*0.8)","v":0},{"$nulls":3},{"$f":"IF(N25=0,\" \",I25*20.51/780+J25*12.56/990+K25*15.72/980+L25*18.34/980)","v":" "},{"$f":"IF(J25=\"\",0,J25)","v":0},{"$nulls":12},{"$f":"IF(M25=\"\",\"\",50*M25+83*P25+44*Q25-59*N25-13*J25-28*(0.93*23*Q25/35.5+P25))","v":""},{"$f":"IF(M25=\"\",\"\",M25/1000*20140+P25/1000*48600+1100/440*F25)","v":""}]
[null,null,{"$f":"COUNTA(E$11:E26)","v":16},null,960," ",0," ",{"$nulls":6},{"$f":"IF(N26=\"\",0,N26*0.8)","v":0},{"$nulls":3}," ",{"$f":"IF(J26=\"\",0,J26)","v":0},{"$nulls":12},"",""]
[null,null,{"$f":"COUNTA(E$11:E27)","v":17},null,960," ",0," ",{"$nulls":6},0,{"$nulls":3}," ",0,{"$nulls":12},"",""]
[null,null,{"$f":"COUNTA(E$11:E28)","v":18},null,960," ",0," ",{"$nulls":6},0,{"$nulls":3}," ",0,{"$nulls":12},"",""]
[null,null,{"$f":"COUNTA(E$11:E29)","v":19},null,960," ",0," ",{"$nulls":6},0,{"$nulls":3}," ",0,{"$nulls":12},"",""]
[null,null,{"$f":"COUNTA(E$11:E30)","v":20},null,960," ",0," ",{"$nulls":6},0,{"$nulls":3}," ",0,{"$nulls":12},"",""]
[null,null,{"$f":"COUNTA(E$11:E31)","v":21},null,960," ",0," ",{"$nulls":6},0,{"$nulls":3}," ",0,{"$nulls":12},"",""]
[null,null,{"$f":"COUNTA(E$11:E32)","v":22},null,960," ",0," ",{"$nulls":6},0,{"$nulls":3}," ",0,{"$nulls":12},"",""]
[null,null,{"$f":"COUNTA(E$11:E33)","v":23},null,960," ",0," ",{"$nulls":6},0,{"$nulls":3}," ",0,{"$nulls":12},"",""]
[null,null,{"$f":"COUNTA(E$11:E34)","v":24},null,960," ",0," ",{"$nulls":6},0,{"$nulls":3}," ",0,{"$nulls":12},"",""]
[null,null,{"$f":"COUNTA(E$11:E35)","v":25},null,960," ",1," ",{"$nulls":6},{"$f":"IF(N35=\"\",0,N35*0.8)","v":0},{"$nulls":3}," ",{"$f":"IF(J35=\"\",0,J35)","v":0},{"$nulls":12},"",""]
[{"$nulls":3},"*     Mittel- bzw. repräsentative Werte der vergleichenden Mischfuttertests in der Region Hessen, Rheinland-Pfalz und Saarland in 2005 & 2006"]
[{"$nulls":3},"**   Auf Anfrage teilt der Mischfutterhersteller den genauen Gehalt an vP mit"]
[{"$nulls":3},"***  Nach DLG Untersuchungsbefunde 2004 und Angaben von repräsentativen Mineralfutterherstellern (Vit. A nach neueren gesetzlichen Höchstgehalten angepasst)"]
[{"$nulls":3},"RP Mineralfutter nach INRA Tab. 2004 (Rohproteinäquivalente der Aminosäuren) und ME der AS im Mineralfutter nach Mischfuttermittelformel"]

{"sheet":"Orientierungswerte","index":8,"n_rows":121,"n_cols":47,"rows_kept":121,"merged":[[3,28,3,31],[6,1,6,31],[7,1,7,31],[7,43,9,43],[8,19,8,22],[8,28,9,28],[8,39,8,41],[9,31,10,31]]}
[]
[]
[]
[null,null,"  ","Landesbetrieb Landwirtschaft Hessen (LLH)",{"$nulls":24},"Ausgabe XXI März 2016"]
[{"$nulls":3},"Zentrale Kassel"]
[]
[null,"Orientierungswerte für die Berechnung von Futtermischungen für Schweine"]
[null," geändert nach GFE 2006, DLG 2010, 2008 und Rechenmeister (RM) 2016, 2014, 2010, 2007 der LWK NRW",{"$nulls":41},"Säurebin-dungs-kapazität                  SBK bei pH 3"]
[null,null,"Basis 88 % TM!",{"$nulls":16},"Aminosäurerelation",{"$nulls":8},"Soll Roh-faser",{"$nulls":10},"Vit. In Anlehnung an RM"]
[null,null,"Orientierungswerte für Alleinfutter","ME","RP*** (XP)","vd. RP","Lys","pcv Lys","M+C**","pcv M+C","Thr","pcv Thr","Trp","pcv Trp","Ca***","P***","vP","Mg***","Na","pcv      Lys /","pcv      M+C /","pcv      Thr /","pcv      Trp /","Lys/ME","pcv Lys/ME","Ca / P","Ca / vP","Roh-faser****",null,"Met","pcv Met","Lys / 100g/kg RP","Rohfett                  (XL)","Stärke                     (S)","Zucker         (Z)","Roh-asche                  (XA)","Polyen-säure-g/kgehalt","Linol-säure-g/kgehalt","Linolen-säure-g/kgehalt","Vit A","Vit D","Vit E","Kationen-Anionen-Bilanz KAB",null,"ADF","NDF","BfS"]
[null,"NR.","für","MJ/kg","g/kg","g/kg","g/kg","g/kg","g/kg","g/kg","g/kg","g/kg","g/kg","g/kg","g/kg","g/kg","g/kg","g/kg","g/kg","1:",{"$nulls":3},"g / MJ","g / MJ",":1",":1","g/kg","g/kg","g/kg","g/kg",null,"g/kg","g/kg","g/kg","g/kg","g/kg","g/kg","g/kg","IE/kg","IE/kg","mg/kg","meq/kg","meq/kg","g/ kg","g/ kg","g/ kg"]
[]
[{"$f":"IF(C13=\"\",\"\",C13)","v":"Ferkel"},null,"Ferkel"]
[]
["Saugferkel",{"$f":"IF(G15=\"\",\" \",COUNTA($G11:G$11))","v":" "},"Saugferkel",null,"***",{"$nulls":9},"***","***",null,"***"]
["Saugferkel 5 - 8 kg LM  - Prestarter",{"$f":"IF(G16=\"\",\" \",COUNTA($G$11:G15))","v":1},"Saugferkel 5 - 8 kg LM  - Prestarter",13.8,{"$f":"185*D16/13.8","v":185},{"$f":"ROUND(E16*0.92,0)","v":170},{"$f":"D16","v":13.8},{"$f":"D16*0.92","v":{"v":12.696000000000002,"d":"12.7"}},{"$f":"G16*0.53","v":{"v":7.314000000000001,"d":"7.3"}},{"$f":"H16*0.53","v":{"v":6.728880000000001,"d":"6.7"}},{"$f":"G16*0.63","v":{"v":8.694,"d":"8.7"}},{"$f":"H16*0.63","v":{"v":7.998480000000001,"d":"8.0"}},{"$f":"G16*0.18","v":{"v":2.484,"d":"2.5"}},{"$f":"H16*0.18","v":{"v":2.28528,"d":"2.3"}},{"$f":"D16*0.615","v":{"v":8.487,"d":"8.5"}},{"$f":"D16*0.4","v":{"v":5.5200000000000005,"d":"5.5"}},{"$f":"D16*0.25","v":{"v":3.45,"d":"3.5"}},{"$f":"1.5*D16/13.8","v":{"v":1.5000000000000002,"d":"1.5"}},{"$f":"1.5*D16/13.8","v":{"v":1.5000000000000002,"d":"1.5"}},1,{"$f":"ROUND(I16/$G16,2)","v":0.53},{"$f":"ROUND(K16/$G16,2)","v":0.63},{"$f":"ROUND(M16/$G16,2)","v":0.18},{"$f":"ROUND(G16/D16,2)","v":{"v":1,"d":"1.00"}},{"$f":"H16/D16","v":0.92},{"$f":"ROUND(O16/P16,2)","v":1.54},{"$f":"ROUND(O16/Q16,2)","v":2.46},null,"< 45",{"$f":"I16*0.525","v":{"v":3.8398500000000007,"d":"3.8"}},{"$f":"J16*0.525","v":{"v":3.5326620000000006,"d":"3.5"}},{"$f":"G16*100/E16","v":{"v":7.45945945945946,"d":"7.5"}},{"$nulls":7},16000,2000,100,null,{"v":700,"d":"< 700"}]
["Absetzfutter",{"$f":"IF(G17=\"\",\" \",COUNTA($G$11:G16))","v":" "},"Absetzfutter",null,"***",{"$nulls":9},"***","***",null,"***"]
["Ferkel 8 - 12 kg LM - Absetzfutter",{"$f":"IF(G18=\"\",\" \",COUNTA($G$11:G17))","v":2},"Ferkel 8 - 12 kg LM - Absetzfutter",13.8,{"$f":"185*D18/13.8","v":185},{"$f":"ROUND(E18*0.91,0)","v":168},{"$f":"D18","v":13.8},{"$f":"D18*0.91","v":{"v":12.558000000000002,"d":"12.6"}},{"$f":"G18*0.53","v":{"v":7.314000000000001,"d":"7.3"}},{"$f":"H18*0.53","v":{"v":6.6557400000000015,"d":"6.7"}},{"$f":"G18*0.63","v":{"v":8.694,"d":"8.7"}},{"$f":"H18*0.63","v":{"v":7.911540000000001,"d":"7.9"}},{"$f":"G18*0.18","v":{"v":2.484,"d":"2.5"}},{"$f":"H18*0.18","v":{"v":2.26044,"d":"2.3"}},{"$f":"D18*0.54","v":{"v":7.452000000000001,"d":"7.5"}},{"$f":"D18*0.4","v":{"v":5.5200000000000005,"d":"5.5"}},{"$f":"D18*0.25","v":{"v":3.45,"d":"3.5"}},{"$f":"1.5*D18/13.8","v":{"v":1.5000000000000002,"d":"1.5"}},{"$f":"1.5*D18/13.8","v":{"v":1.5000000000000002,"d":"1.5"}},1,{"$f":"ROUND(I18/$G18,2)","v":0.53},{"$f":"ROUND(K18/$G18,2)","v":0.63},{"$f":"ROUND(M18/$G18,2)","v":0.18},{"$f":"ROUND(G18/D18,2)","v":{"v":1,"d":"1.00"}},{"$f":"H18/D18","v":0.91},{"$f":"ROUND(O18/P18,2)","v":1.35},{"$f":"ROUND(O18/Q18,2)","v":2.16},40,40,{"$f":"I18*0.525","v":{"v":3.8398500000000007,"d":"3.8"}},{"$f":"J18*0.525","v":{"v":3.494263500000001,"d":"3.5"}},{"$f":"G18*100/E18","v":{"v":7.45945945945946,"d":"7.5"}},60,{"$nulls":6},14000,1800,80,null,{"v":700,"d":"< 700"},{"v":60,"d":"< 60"},{"v":110,"d":"> 110"}]
["Diät-Absetzfutter",{"$f":"IF(G19=\"\",\" \",COUNTA($G$11:G18))","v":" "},"Diät-Absetzfutter"]
["Ferkel 8 - 12 kg LM - Diät-Absetzfutter",{"$f":"IF(G20=\"\",\" \",COUNTA($G$11:G19))","v":3},"Ferkel 8 - 12 kg LM - Diät-Absetzfutter",13.8,{"$f":"160*D20/13.8","v":160},{"$f":"ROUND(E20*0.91,0)","v":146},{"$f":"D20","v":13.8},{"$f":"D20*0.91","v":{"v":12.558000000000002,"d":"12.6"}},{"$f":"G20*0.53","v":{"v":7.314000000000001,"d":"7.3"}},{"v":6.6557400000000015,"d":"6.7"},{"$f":"G20*0.63","v":{"v":8.694,"d":"8.7"}},{"v":7.911540000000001,"d":"7.9"},{"$f":"G20*0.18","v":{"v":2.484,"d":"2.5"}},{"$f":"H20*0.18","v":{"v":2.26044,"d":"2.3"}},{"$f":"D20*0.47","v":{"v":6.486,"d":"6.5"}},{"$f":"D20*0.365","v":{"v":5.037,"d":"5.0"}},{"$f":"D20*0.24","v":{"v":3.312,"d":"3.3"}},{"$f":"1.5*D20/13.8","v":{"v":1.5000000000000002,"d":"1.5"}},{"$f":"1.5*D20/13.8","v":{"v":1.5000000000000002,"d":"1.5"}},1,{"$f":"ROUND(I20/$G20,2)","v":0.53},{"$f":"ROUND(K20/$G20,2)","v":0.63},{"$f":"ROUND(M20/$G20,2)","v":0.18},{"$f":"ROUND(G20/D20,2)","v":{"v":1,"d":"1.00"}},{"$f":"H20/D20","v":0.91},{"$f":"ROUND(O20/P20,2)","v":1.29},{"$f":"ROUND(O20/Q20,2)","v":1.96},40,"> 40",{"$f":"I20*0.525","v":{"v":3.8398500000000007,"d":"3.8"}},{"$f":"J20*0.525","v":{"v":3.494263500000001,"d":"3.5"}},{"$f":"G20*100/E20","v":{"v":8.625,"d":"8.6"}},60,{"$nulls":6},14000,1800,80,null,{"v":700,"d":"< 700"},{"v":60,"d":"< 60"},{"v":110,"d":"> 110"}]
["Ferkelaufzuchtfutter I",{"$f":"IF(G21=\"\",\" \",COUNTA($G$11:G20))","v":" "},"Ferkelaufzuchtfutter I",null,"***",{"$nulls":9},"***","***",null,"***"]
["Ferkel 12 - 20 kg LM - Ferkelaufzuchtfutter I",{"$f":"IF(G22=\"\",\" \",COUNTA($G$11:G21))","v":4},"Ferkel 12 - 20 kg LM - Ferkelaufzuchtfutter I",13.8,{"$f":"185*D22/13.8","v":185},{"$f":"ROUND(E22*0.91,0)","v":168},{"$f":"D22*0.95","v":{"v":13.11,"d":"13.1"}},{"$f":"D22*0.854","v":{"v":11.7852,"d":"11.8"}},{"$f":"G22*0.53","v":{"v":6.9483,"d":"6.9"}},{"v":6.246156,"d":"6.2"},{"$f":"G22*0.63","v":{"v":8.2593,"d":"8.3"}},{"v":7.424676,"d":"7.4"},{"$f":"G22*0.18","v":{"v":2.3598,"d":"2.4"}},{"$f":"H22*0.18","v":{"v":2.121336,"d":"2.1"}},{"$f":"D22*0.54","v":{"v":7.452000000000001,"d":"7.5"}},{"$f":"D22*0.4","v":{"v":5.5200000000000005,"d":"5.5"}},{"$f":"D22*0.25","v":{"v":3.45,"d":"3.5"}},{"$f":"1.5*D22/13.8","v":{"v":1.5000000000000002,"d":"1.5"}},{"$f":"1.5*D22/13.8","v":{"v":1.5000000000000002,"d":"1.5"}},1,{"$f":"ROUND(I22/$G22,2)","v":0.53},{"$f":"ROUND(K22/$G22,2)","v":0.63},{"$f":"ROUND(M22/$G22,2)","v":0.18},{"$f":"ROUND(G22/D22,2)","v":0.95},{"$f":"H22/D22","v":{"v":0.854,"d":"0.85"}},{"$f":"ROUND(O22/P22,2)","v":1.35},{"$f":"ROUND(O22/Q22,2)","v":2.16},35,35,{"$f":"I22*0.525","v":{"v":3.6478575,"d":"3.6"}},{"$f":"J22*0.525","v":{"v":3.2792319,"d":"3.3"}},{"$f":"G22*100/E22","v":{"v":7.0864864864864865,"d":"7.1"}},60,{"$nulls":6},14000,1800,80,null,{"v":700,"d":"< 700"},{"v":60,"d":"< 60"},{"v":110,"d":"> 110"}]
["Ferkelaufzuchtfutter II",{"$f":"IF(G23=\"\",\" \",COUNTA($G$11:G22))","v":" "},"Ferkelaufzuchtfutter II",null,"***",{"$nulls":9},"***","***",null,"***"]
["Ferkel 20 - 30 kg LM - Ferkelaufzuchtfutter II",{"$f":"IF(G24=\"\",\" \",COUNTA($G$11:G23))","v":5},"Ferkel 20 - 30 kg LM - Ferkelaufzuchtfutter II",13.4,{"$f":"180*D24/13.4","v":180},{"$f":"ROUND(E24*0.9,0)","v":162},{"$f":"D24*0.9","v":{"v":12.06,"d":"12.1"}},{"$f":"D24*0.81","v":{"v":10.854000000000001,"d":"10.9"}},{"$f":"G24*0.53","v":{"v":6.391800000000001,"d":"6.4"}},{"v":5.752620000000001,"d":"5.8"},{"$f":"G24*0.63","v":{"v":7.5978,"d":"7.6"}},{"v":6.838020000000001,"d":"6.8"},{"$f":"G24*0.18","v":{"v":2.1708,"d":"2.2"}},{"$f":"H24*0.18","v":{"v":1.9537200000000001,"d":"2.0"}},{"$f":"D24*0.56","v":{"v":7.504000000000001,"d":"7.5"}},{"$f":"D24*0.37","v":{"v":4.958,"d":"5.0"}},{"$f":"D24*0.245","v":{"v":3.283,"d":"3.3"}},{"$f":"1.5*D24/13.4","v":1.5},{"$f":"1.5*D24/13.4","v":1.5},1,{"$f":"ROUND(I24/$G24,2)","v":0.53},{"$f":"ROUND(K24/$G24,2)","v":0.63},{"$f":"ROUND(M24/$G24,2)","v":0.18},{"$f":"ROUND(G24/D24,2)","v":{"v":0.9,"d":"0.90"}},{"$f":"H24/D24","v":0.81},{"$f":"ROUND(O24/P24,2)","v":1.51},{"$f":"ROUND(O24/Q24,2)","v":2.29},35,"30 - 40",{"$f":"I24*0.525","v":{"v":3.3556950000000008,"d":"3.4"}},{"$f":"J24*0.525","v":{"v":3.0201255000000007,"d":"3.0"}},{"$f":"G24*100/E24","v":6.7},50,{"$nulls":6},14000,1800,80,null,{"v":700,"d":"< 700"},{"v":60,"d":"< 60"},{"v":110,"d":"> 110"}]
[]
["Mastschweine",{"$f":"IF(G26=\"\",\" \",COUNTA($G$11:G24))","v":" "},"Mastschweine",{"$f":"IF(Futterberechnung!B10=\"w\",'Futterkurve Mast'!J52,IF(Futterberechnung!B10=\"m\",'Futterkurve Mast'!J88,'Futterkurve Mast'!B9))","v":"Mast beider Geschlechter"}]
[]
["Vormast",{"$f":"IF(G28=\"\",\" \",COUNTA($G$11:G26))","v":" "},"Vormast"]
["28 - 40 Kg LM",{"$f":"IF(G29=\"\",\" \",COUNTA($G$11:G28))","v":" "},"28 - 40 Kg LM"]
["Vormast 28 - 40 Kg LM für 750 g TZ*",{"$f":"IF(G30=\"\",\" \",COUNTA($G$11:G29))","v":6},{"$f":"IF(Futterberechnung!$B$10=\"\",\"Vormast 28 - 40 Kg LM für 750 g TZ*\",IF(Futterberechnung!$B$10=\"w\",\"Vormast 28 - 40 Kg LM für 720 g TZ*\",IF(Futterberechnung!$B$10=\"m\",\"Vormast 28 - 40 Kg LM für 770 g TZ*\",\"Vormast 28 - 40 Kg LM für 750 g TZ*\")))","v":"Vormast 28 - 40 Kg LM für 750 g TZ*"},{"$f":"'Futterkurve Mast'!E$7","v":13.4},{"$f":"IF(AND(Futterberechnung!$B$10=\"m\",'Futterkurve Mast'!$T$6=\"hp\"),(175*D30/13.4)-(175*D30/13.4)*0.03,IF(Futterberechnung!$B$10=\"m\",(170*D30/13.4)-(170*D30/13.4)*0.03,IF('Futterkurve Mast'!$T$6=\"HP\",175*D30/13.4,170*D30/13.4)))","v":170},{"$f":"ROUND(E30*0.89,0)","v":151},{"$f":"H30/0.89","v":{"v":11.060824806980103,"d":"11.1"}},{"$f":"IF(Futterberechnung!B$10=\" \",'Futterkurve Mast'!E20,IF(Futterberechnung!B$10=\"W\",'Futterkurve Mast'!E60,IF(Futterberechnung!B$10=\"M\",'Futterkurve Mast'!E96,'Futterkurve Mast'!E20)))","v":{"v":9.844134078212292,"d":"9.8"}},{"$f":"G30*0.55","v":{"v":6.083453643839057,"d":"6.1"}},{"v":5.414273743016761,"d":"5.4"},{"$f":"G30*0.65","v":{"v":7.189536124537067,"d":"7.2"}},{"v":6.39868715083799,"d":"6.4"},{"$f":"G30*0.18","v":{"v":1.9909484652564184,"d":"2.0"}},{"v":1.7719441340782125,"d":"1.8"},{"$f":"Q30*2.18","v":{"v":6.201430167597766,"d":"6.2"}},{"$f":"O30/1.3","v":{"v":4.770330898152127,"d":"4.8"}},{"$f":"'Futterkurve Mast'!E19","v":{"v":2.844692737430168,"d":"2.8"}},{"$f":"D30*1/13.4","v":{"v":1,"d":"1.0"}},{"$f":"0.15*D30","v":{"v":2.01,"d":"2.0"}},1,{"$f":"ROUND(I30/$G30,2)","v":0.55},{"$f":"ROUND(K30/$G30,2)","v":0.65},{"$f":"ROUND(M30/$G30,2)","v":0.18},{"$f":"ROUND(G30/D30,2)","v":0.83},{"$f":"H30/D30","v":{"v":0.73463687150838,"d":"0.73"}},{"$f":"ROUND(O30/P30,2)","v":{"v":1.3,"d":"1.30"}},{"$f":"ROUND(O30/Q30,2)","v":2.18},40,"35 - 50",{"$f":"I30*0.525","v":{"v":3.193813163015505,"d":"3.2"}},{"v":2.8424937150837994,"d":"2.8"},{"$f":"G30*100/E30","v":{"v":6.5063675335177065,"d":"6.5"}},{"$nulls":4},{"$f":"18*$D30/13.4","v":{"v":18,"d":"18.0"}},{"$f":"10*$D30/13.4","v":{"v":10,"d":"10.0"}},null,6000,1500,60,null,null,{"v":70,"d":"< 70"},{"v":120,"d":"> 120"}]
["Vormast 28 - 40 Kg LM für 850 g TZ*",{"$f":"IF(G31=\"\",\" \",COUNTA($G$11:G30))","v":7},{"$f":"IF(Futterberechnung!$B$10=\"\",\"Vormast 28 - 40 Kg LM für 850 g TZ*\",IF(Futterberechnung!$B$10=\"w\",\"Vormast 28 - 40 Kg LM für 820 g TZ*\",IF(Futterberechnung!$B$10=\"m\",\"Vormast 28 - 40 Kg LM für 870 g TZ*\",\"Vormast 28 - 40 Kg LM für 850 g TZ*\")))","v":"Vormast 28 - 40 Kg LM für 850 g TZ*"},{"$f":"'Futterkurve Mast'!E$7","v":13.4},{"$f":"IF(AND(Futterberechnung!$B$10=\"m\",'Futterkurve Mast'!$T$6=\"hp\"),(180*D31/13.4)-(180*D31/13.4)*0.03,IF(Futterberechnung!$B$10=\"m\",(175*D31/13.4)-(175*D31/13.4)*0.03,IF('Futterkurve Mast'!$T$6=\"HP\",180*D31/13.4,175*D31/13.4)))","v":175},{"$f":"ROUND(E31*0.89,0)","v":156},{"$f":"H31/0.89","v":{"v":11.44576931896354,"d":"11.4"}},{"$f":"IF(Futterberechnung!B$10=\" \",'Futterkurve Mast'!E33,IF(Futterberechnung!B$10=\"W\",'Futterkurve Mast'!E71,IF(Futterberechnung!B$10=\"M\",'Futterkurve Mast'!E107,'Futterkurve Mast'!E33)))","v":{"v":10.18673469387755,"d":"10.2"}},{"v":6.2951731254299474,"d":"6.3"},{"v":5.602704081632654,"d":"5.6"},{"v":7.439750057326301,"d":"7.4"},{"v":6.621377551020408,"d":"6.6"},{"v":2.0602384774134372,"d":"2.1"},{"v":1.833612244897959,"d":"1.8"},{"$f":"Q31*2.18","v":{"v":6.520535714285715,"d":"6.5"}},{"$f":"O31/1.3","v":{"v":5.0157967032967035,"d":"5.0"}},{"$f":"'Futterkurve Mast'!E32","v":{"v":2.9910714285714284,"d":"3.0"}},{"$f":"D31*1/13.4","v":{"v":1,"d":"1.0"}},{"$f":"0.15*D31","v":{"v":2.01,"d":"2.0"}},1,{"$f":"ROUND(I31/$G31,2)","v":0.55},{"$f":"ROUND(K31/$G31,2)","v":0.65},{"$f":"ROUND(M31/$G31,2)","v":0.18},{"$f":"ROUND(G31/D31,2)","v":0.85},{"$f":"H31/D31","v":{"v":0.760204081632653,"d":"0.76"}},{"$f":"ROUND(O31/P31,2)","v":{"v":1.3,"d":"1.30"}},{"$f":"ROUND(O31/Q31,2)","v":2.18},40,"35 - 50",{"v":3.3049658908507227,"d":"3.3"},{"v":2.9414196428571433,"d":"2.9"},{"$f":"G31*100/E31","v":{"v":6.540439610836308,"d":"6.5"}},{"$nulls":4},{"$f":"18*$D31/13.4","v":{"v":18,"d":"18.0"}},{"$f":"10*$D31/13.4","v":{"v":10,"d":"10.0"}},null,6000,1500,60,null,null,{"v":70,"d":"< 70"},{"v":120,"d":"> 120"}]
["Vormast 28 - 40 Kg LM für 950 g TZ*",{"$f":"IF(G32=\"\",\" \",COUNTA($G$11:G31))","v":8},{"$f":"IF(Futterberechnung!$B$10=\"\",\"Vormast 28 - 40 Kg LM für 950 g TZ*\",IF(Futterberechnung!$B$10=\"w\",\"Vormast 28 - 40 Kg LM für 920 g TZ*\",IF(Futterberechnung!$B$10=\"m\",\"Vormast 28 - 40 Kg LM für 970 g TZ*\",\"Vormast 28 - 40 Kg LM für 950 g TZ*\")))","v":"Vormast 28 - 40 Kg LM für 950 g TZ*"},{"$f":"'Futterkurve Mast'!E$7","v":13.4},{"$f":"IF(AND(Futterberechnung!$B$10=\"m\",'Futterkurve Mast'!$T$6=\"hp\"),(185*D32/13.4)-(190*D32/13.4)*0.03,IF(Futterberechnung!$B$10=\"m\",(180*D32/13.4)-(180*D32/13.4)*0.03,IF('Futterkurve Mast'!$T$6=\"HP\",185*D32/13.4,180*D32/13.4)))","v":180},{"$f":"ROUND(E32*0.89,0)","v":160},{"$f":"H32/0.89","v":{"v":11.78927284290863,"d":"11.8"}},{"$f":"IF(Futterberechnung!B$10=\" \",'Futterkurve Mast'!E46,IF(Futterberechnung!B$10=\"W\",'Futterkurve Mast'!E82,IF(Futterberechnung!B$10=\"M\",'Futterkurve Mast'!E118,'Futterkurve Mast'!E46)))","v":{"v":10.49245283018868,"d":"10.5"}},{"v":6.484100063599747,"d":"6.5"},{"v":5.770849056603775,"d":"5.8"},{"v":7.66302734789061,"d":"7.7"},{"v":6.820094339622643,"d":"6.8"},{"v":2.1220691117235533,"d":"2.1"},{"v":1.8886415094339624,"d":"1.9"},{"v":6.7518301886792464,"d":"6.8"},{"v":5.193715529753266,"d":"5.2"},{"$f":"'Futterkurve Mast'!E45","v":{"v":3.097169811320755,"d":"3.1"}},{"$f":"D32*1/13.4","v":{"v":1,"d":"1.0"}},{"$f":"0.15*D32","v":{"v":2.01,"d":"2.0"}},1,{"$f":"ROUND(I32/$G32,2)","v":0.55},{"$f":"ROUND(K32/$G32,2)","v":0.65},{"$f":"ROUND(M32/$G32,2)","v":0.18},{"$f":"ROUND(G32/D32,2)","v":0.88},{"$f":"H32/D32","v":{"v":0.7830188679245284,"d":"0.78"}},{"$f":"ROUND(O32/P32,2)","v":{"v":1.3,"d":"1.30"}},{"$f":"ROUND(O32/Q32,2)","v":2.18},40,"35 - 50",{"v":3.4041525333898677,"d":"3.4"},{"v":3.029695754716982,"d":"3.0"},{"$f":"G32*100/E32","v":{"v":6.549596023838128,"d":"6.5"}},{"$nulls":4},{"$f":"18*$D32/13.4","v":{"v":18,"d":"18.0"}},{"$f":"10*$D32/13.4","v":{"v":10,"d":"10.0"}},null,6000,1500,60,null,null,{"v":70,"d":"< 70"},{"v":120,"d":"> 120"}]
["",{"$f":"IF(G33=\"\",\" \",COUNTA($G$11:G32))","v":" "}]
[null,null,"Anfangsmast 40 - 50 kg LM","Anfangsmast (Gehalte wie bei Universalmast)"]
["ab 40 kg LM",{"$f":"IF(G35=\"\",\" \",COUNTA($G$11:G33))","v":" "},"ab 40 kg LM"]
["Anfangsmast ab 40 Kg LM für 750 g TZ*",{"$f":"IF(G36=\"\",\" \",COUNTA($G$11:G35))","v":9},{"$f":"IF(Futterberechnung!$B$10=\"\",\"Anfangsmast ab 40 Kg LM für 750 g TZ*\",IF(Futterberechnung!$B$10=\"w\",\"Anfangsmast ab 40 Kg LM für 720 g TZ*\",IF(Futterberechnung!$B$10=\"m\",\"Anfangsmast ab 40 Kg LM für 770 g TZ*\",\"Anfangsmast ab 40 Kg LM für 750 g TZ*\")))","v":"Anfangsmast ab 40 Kg LM für 750 g TZ*"},{"$f":"'Futterkurve Mast'!G$7","v":13.2},{"$f":"IF(AND(Futterberechnung!$B$10=\"m\",'Futterkurve Mast'!$T$6=\"hp\"),(165*D36/13.4)-(165*D36/13.4)*0.03,IF(Futterberechnung!$B$10=\"m\",(160*D36/13.4)-(160*D36/13.4)*0.03,IF('Futterkurve Mast'!$T$6=\"HP\",165*D36/13.4,160*D36/13.4)))","v":{"v":157.61194029850745,"d":"158"}},{"$f":"ROUND(E36*0.88,0)","v":139},{"$f":"H36/0.88","v":{"v":9.872093023255813,"d":"9.9"}},{"$f":"IF(Futterberechnung!B$10=\" \",'Futterkurve Mast'!G$20,IF(Futterberechnung!B$10=\"W\",'Futterkurve Mast'!G$60,IF(Futterberechnung!B$10=\"M\",'Futterkurve Mast'!G$96,'Futterkurve Mast'!G$20)))","v":{"v":8.687441860465116,"d":"8.7"}},{"$f":"G36*0.55","v":{"v":5.429651162790697,"d":"5.4"}},{"v":4.778093023255814,"d":"4.8"},{"$f":"G36*0.65","v":{"v":6.416860465116279,"d":"6.4"}},{"v":5.646837209302325,"d":"5.6"},{"$f":"G36*0.18","v":{"v":1.7769767441860462,"d":"1.8"}},{"v":1.5637395348837209,"d":"1.6"},{"$f":"Q36*2.2","v":{"v":5.74046511627907,"d":"5.7"}},{"$f":"O36/1.35","v":{"v":4.252196382428941,"d":"4.3"}},{"$f":"'Futterkurve Mast'!G$19","v":{"v":2.609302325581395,"d":"2.6"}},{"$f":"D36*1/13.4","v":{"v":0.9850746268656716,"d":"1.0"}},{"$f":"0.14*D36","v":{"v":1.848,"d":"1.8"}},1,{"$f":"ROUND(I36/$G36,2)","v":0.55},{"$f":"ROUND(K36/$G36,2)","v":0.65},{"$f":"ROUND(M36/$G36,2)","v":0.18},{"$f":"ROUND(G36/D36,2)","v":0.75},{"$f":"H36/D36","v":{"v":0.6581395348837209,"d":"0.66"}},{"$f":"ROUND(O36/P36,2)","v":1.35},{"$f":"ROUND(O36/Q36,2)","v":{"v":2.2,"d":"2.20"}},40,"35 - 50",{"$f":"I36*0.525","v":{"v":2.850566860465116,"d":"2.9"}},{"v":2.5084988372093027,"d":"2.5"},{"$f":"G36*100/E36","v":{"v":6.263543868921776,"d":"6.3"}},{"$nulls":4},{"$f":"18*$D36/13.4","v":{"v":17.73134328358209,"d":"17.7"}},{"$f":"10*$D36/13.4","v":{"v":9.850746268656716,"d":"9.9"}},null,6000,1500,60,null,null,{"v":70,"d":"< 70"},{"v":120,"d":"> 120"}]
["Anfangsmast ab 40 Kg LM für 850 g TZ*",{"$f":"IF(G37=\"\",\" \",COUNTA($G$11:G36))","v":10},{"$f":"IF(Futterberechnung!$B$10=\"\",\"Anfangsmast ab 40 Kg LM für 850 g TZ*\",IF(Futterberechnung!$B$10=\"w\",\"Anfangsmast ab 40 Kg LM für 820 g TZ*\",IF(Futterberechnung!$B$10=\"m\",\"Anfangsmast ab 40 Kg LM für 870 g TZ*\",\"Anfangsmast ab 40 Kg LM für 850 g TZ*\")))","v":"Anfangsmast ab 40 Kg LM für 850 g TZ*"},{"$f":"'Futterkurve Mast'!G$7","v":13.2},{"$f":"IF(AND(Futterberechnung!$B$10=\"m\",'Futterkurve Mast'!$T$6=\"hp\"),(170*D37/13.4)-(170*D37/13.4)*0.03,IF(Futterberechnung!$B$10=\"m\",(165*D37/13.4)-(165*D37/13.4)*0.03,IF('Futterkurve Mast'!$T$6=\"HP\",170*D37/13.4,165*D37/13.4)))","v":{"v":162.53731343283582,"d":"163"}},{"$f":"ROUND(E37*0.88,0)","v":143},{"$f":"H37/0.88","v":{"v":10.150862068965516,"d":"10.2"}},{"$f":"IF(Futterberechnung!B$10=\" \",'Futterkurve Mast'!G$33,IF(Futterberechnung!B$10=\"W\",'Futterkurve Mast'!G$71,IF(Futterberechnung!B$10=\"M\",'Futterkurve Mast'!G$107,'Futterkurve Mast'!G$33)))","v":{"v":8.932758620689654,"d":"8.9"}},{"v":5.582974137931035,"d":"5.6"},{"v":4.91301724137931,"d":"4.9"},{"v":6.598060344827585,"d":"6.6"},{"v":5.806293103448275,"d":"5.8"},{"v":1.8271551724137929,"d":"1.8"},{"v":1.6078965517241377,"d":"1.6"},{"$f":"Q37*2.2","v":{"v":5.945689655172414,"d":"5.9"}},{"$f":"O37/1.35","v":{"v":4.404214559386973,"d":"4.4"}},{"$f":"'Futterkurve Mast'!G$32","v":{"v":2.7025862068965516,"d":"2.7"}},{"$f":"D37*1/13.4","v":{"v":0.9850746268656716,"d":"1.0"}},{"$f":"0.14*D37","v":{"v":1.848,"d":"1.8"}},1,{"$f":"ROUND(I37/$G37,2)","v":0.55},{"$f":"ROUND(K37/$G37,2)","v":0.65},{"$f":"ROUND(M37/$G37,2)","v":0.18},{"$f":"ROUND(G37/D37,2)","v":0.77},{"$f":"H37/D37","v":{"v":0.6767241379310345,"d":"0.68"}},{"$f":"ROUND(O37/P37,2)","v":1.35},{"$f":"ROUND(O37/Q37,2)","v":{"v":2.2,"d":"2.20"}},40,"35 - 50",{"v":2.9310614224137934,"d":"2.9"},{"v":2.579334051724138,"d":"2.6"},{"$f":"G37*100/E37","v":{"v":6.245250308729932,"d":"6.2"}},{"$nulls":4},{"$f":"18*$D37/13.4","v":{"v":17.73134328358209,"d":"17.7"}},{"$f":"10*$D37/13.4","v":{"v":9.850746268656716,"d":"9.9"}},null,6000,1500,60,null,null,{"v":70,"d":"< 70"},{"v":120,"d":"> 120"}]
["Anfangsmast ab 40 Kg LM für 950 g TZ*",{"$f":"IF(G38=\"\",\" \",COUNTA($G$11:G37))","v":11},{"$f":"IF(Futterberechnung!$B$10=\"\",\"Anfangsmast ab 40 Kg LM für 950 g TZ*\",IF(Futterberechnung!$B$10=\"w\",\"Anfangsmast ab 40 Kg LM für 920 g TZ*\",IF(Futterberechnung!$B$10=\"m\",\"Anfangsmast ab 40 Kg LM für 970 g TZ*\",\"Anfangsmast ab 40 Kg LM für 950 g TZ*\")))","v":"Anfangsmast ab 40 Kg LM für 950 g TZ*"},{"$f":"'Futterkurve Mast'!G$7","v":13.2},{"$f":"IF(AND(Futterberechnung!$B$10=\"m\",'Futterkurve Mast'!$T$6=\"hp\"),(175*D38/13.4)-(175*D38/13.4)*0.03,IF(Futterberechnung!$B$10=\"m\",(170*D38/13.4)-(170*D38/13.4)*0.03,IF('Futterkurve Mast'!$T$6=\"HP\",175*D38/13.4,170*D38/13.4)))","v":{"v":167.46268656716418,"d":"167"}},{"$f":"ROUND(E38*0.88,0)","v":147},{"$f":"H38/0.88","v":{"v":10.379999999999999,"d":"10.4"}},{"$f":"IF(Futterberechnung!B$10=\" \",'Futterkurve Mast'!G$46,IF(Futterberechnung!B$10=\"W\",'Futterkurve Mast'!G$82,IF(Futterberechnung!B$10=\"M\",'Futterkurve Mast'!G$118,'Futterkurve Mast'!G$46)))","v":{"v":9.1344,"d":"9.1"}},{"v":5.709,"d":"5.7"},{"v":5.02392,"d":"5.0"},{"v":6.747,"d":"6.7"},{"v":5.93736,"d":"5.9"},{"v":1.8683999999999998,"d":"1.9"},{"v":1.6441919999999999,"d":"1.6"},{"v":6.0984,"d":"6.1"},{"v":4.517333333333333,"d":"4.5"},{"$f":"'Futterkurve Mast'!G$45","v":{"v":2.772,"d":"2.8"}},{"$f":"D38*1/13.4","v":{"v":0.9850746268656716,"d":"1.0"}},{"v":1.848,"d":"1.8"},1,{"$f":"ROUND(I38/$G38,2)","v":0.55},{"$f":"ROUND(K38/$G38,2)","v":0.65},{"$f":"ROUND(M38/$G38,2)","v":0.18},{"$f":"ROUND(G38/D38,2)","v":0.79},{"$f":"H38/D38","v":{"v":0.692,"d":"0.69"}},{"$f":"ROUND(O38/P38,2)","v":1.35},{"$f":"ROUND(O38/Q38,2)","v":{"v":2.2,"d":"2.20"}},40,"35 - 50",{"v":2.997225,"d":"3.0"},{"v":2.6375580000000003,"d":"2.6"},{"$f":"G38*100/E38","v":{"v":6.1983957219251336,"d":"6.2"}},{"$nulls":4},{"$f":"18*$D38/13.4","v":{"v":17.73134328358209,"d":"17.7"}},{"$f":"10*$D38/13.4","v":{"v":9.850746268656716,"d":"9.9"}},null,6000,1500,60,null,null,{"v":70,"d":"< 70"},{"v":120,"d":"> 120"}]
["",{"$f":"IF(G39=\"\",\" \",COUNTA($G$11:G38))","v":" "}]
["ab 50 kg LM",{"$f":"IF(G40=\"\",\" \",COUNTA($G$11:G39))","v":" "},"ab 50 kg LM"]
["Anfangsmast ab 50 Kg LM für 750 g TZ*",{"$f":"IF(G41=\"\",\" \",COUNTA($G$11:G40))","v":12},{"$f":"IF(Futterberechnung!$B$10=\"\",\"Anfangsmast ab 50 Kg LM für 750 g TZ*\",IF(Futterberechnung!$B$10=\"w\",\"Anfangsmast ab 50 Kg LM für 720 g TZ*\",IF(Futterberechnung!$B$10=\"m\",\"Anfangsmast ab 50 Kg LM für 770 g TZ*\",\"Anfangsmast ab 50 Kg LM für 750 g TZ*\")))","v":"Anfangsmast ab 50 Kg LM für 750 g TZ*"},{"$f":"'Futterkurve Mast'!G$7","v":13.2},{"$f":"IF(AND(Futterberechnung!$B$10=\"m\",'Futterkurve Mast'!$T$6=\"hp\"),(160*D41/13.4)-(160*D41/13.4)*0.03,IF(Futterberechnung!$B$10=\"m\",(155*D41/13.4)-(155*D41/13.4)*0.03,IF('Futterkurve Mast'!$T$6=\"HP\",160*D41/13.4,155*D41/13.4)))","v":{"v":152.6865671641791,"d":"153"}},{"$f":"ROUND(E41*0.877,0)","v":134},{"$f":"H41/0.877","v":{"v":9.238813026670744,"d":"9.2"}},{"$f":"IF(Futterberechnung!B$10=\" \",'Futterkurve Mast'!I$20,IF(Futterberechnung!B$10=\"W\",'Futterkurve Mast'!I$60,IF(Futterberechnung!B$10=\"M\",'Futterkurve Mast'!I$96,'Futterkurve Mast'!I$20)))","v":{"v":8.102439024390243,"d":"8.1"}},{"$f":"G41*0.55","v":{"v":5.08134716466891,"d":"5.1"}},{"v":4.456341463414634,"d":"4.5"},{"$f":"G41*0.65","v":{"v":6.005228467335984,"d":"6.0"}},{"v":5.2665853658536586,"d":"5.3"},{"$f":"G41*0.18","v":{"v":1.6629863448007338,"d":"1.7"}},{"v":1.4584390243902436,"d":"1.5"},{"$f":"Q41*2.13","v":{"v":5.257463414634145,"d":"5.3"}},{"$f":"O41/1.23","v":{"v":4.274360499702557,"d":"4.3"}},{"$f":"'Futterkurve Mast'!I$19","v":{"v":2.468292682926829,"d":"2.5"}},{"$f":"D41*1/13.4","v":{"v":0.9850746268656716,"d":"1.0"}},{"v":1.848,"d":"1.8"},1,{"$f":"ROUND(I41/$G41,2)","v":0.55},{"$f":"ROUND(K41/$G41,2)","v":0.65},{"$f":"ROUND(M41/$G41,2)","v":0.18},{"$f":"ROUND(G41/D41,2)","v":{"v":0.7,"d":"0.70"}},{"$f":"H41/D41","v":{"v":0.6138211382113821,"d":"0.61"}},{"$f":"ROUND(O41/P41,2)","v":1.23},{"$f":"ROUND(O41/Q41,2)","v":2.13},40,"35 - 50",{"$f":"I41*0.525","v":{"v":2.6677072614511776,"d":"2.7"}},{"v":2.339579268292683,"d":"2.3"},{"$f":"G41*100/E41","v":{"v":6.050835511113782,"d":"6.1"}},{"$nulls":4},{"$f":"18*$D41/13.4","v":{"v":17.73134328358209,"d":"17.7"}},{"$f":"10*$D41/13.4","v":{"v":9.850746268656716,"d":"9.9"}},null,6000,1500,60,null,null,{"v":70,"d":"< 70"},{"v":120,"d":"> 120"}]
["Anfangsmast ab 50 Kg LM für 850 g TZ*",{"$f":"IF(G42=\"\",\" \",COUNTA($G$11:G41))","v":13},{"$f":"IF(Futterberechnung!$B$10=\"\",\"Anfangsmast ab 50 Kg LM für 850 g TZ*\",IF(Futterberechnung!$B$10=\"w\",\"Anfangsmast ab 50 Kg LM für 820 g TZ*\",IF(Futterberechnung!$B$10=\"m\",\"Anfangsmast ab 50 Kg LM für 870 g TZ*\",\"Anfangsmast ab 50 Kg LM für 850 g TZ*\")))","v":"Anfangsmast ab 50 Kg LM für 850 g TZ*"},{"$f":"'Futterkurve Mast'!G$7","v":13.2},{"$f":"IF(AND(Futterberechnung!$B$10=\"m\",'Futterkurve Mast'!$T$6=\"hp\"),(165*D42/13.4)-(165*D42/13.4)*0.03,IF(Futterberechnung!$B$10=\"m\",(160*D42/13.4)-(160*D42/13.4)*0.03,IF('Futterkurve Mast'!$T$6=\"HP\",165*D42/13.4,160*D42/13.4)))","v":{"v":157.61194029850745,"d":"158"}},{"$f":"ROUND(E42*0.877,0)","v":138},{"$f":"H42/0.877","v":{"v":9.57036208343194,"d":"9.6"}},{"$f":"IF(Futterberechnung!B$10=\" \",'Futterkurve Mast'!I$33,IF(Futterberechnung!B$10=\"W\",'Futterkurve Mast'!I$71,IF(Futterberechnung!B$10=\"M\",'Futterkurve Mast'!I$107,'Futterkurve Mast'!I$33)))","v":{"v":8.393207547169812,"d":"8.4"}},{"v":5.263699145887568,"d":"5.3"},{"v":4.616264150943397,"d":"4.6"},{"v":6.2207353542307615,"d":"6.2"},{"v":5.455584905660378,"d":"5.5"},{"v":1.722665175017749,"d":"1.7"},{"v":1.5107773584905662,"d":"1.5"},{"$f":"Q42*2.13","v":{"v":5.464052830188679,"d":"5.5"}},{"$f":"O42/1.23","v":{"v":4.442319374137138,"d":"4.4"}},{"$f":"'Futterkurve Mast'!I$32","v":{"v":2.5652830188679245,"d":"2.6"}},{"$f":"D42*1/13.4","v":{"v":0.9850746268656716,"d":"1.0"}},{"v":1.848,"d":"1.8"},1,{"$f":"ROUND(I42/$G42,2)","v":0.55},{"$f":"ROUND(K42/$G42,2)","v":0.65},{"$f":"ROUND(M42/$G42,2)","v":0.18},{"$f":"ROUND(G42/D42,2)","v":0.73},{"$f":"H42/D42","v":{"v":0.6358490566037737,"d":"0.64"}},{"$f":"ROUND(O42/P42,2)","v":1.23},{"$f":"ROUND(O42/Q42,2)","v":2.13},40,"35 - 50",{"v":2.7634420515909732,"d":"2.8"},{"v":2.4235386792452833,"d":"2.4"},{"$f":"G42*100/E42","v":{"v":6.072104730965341,"d":"6.1"}},{"$nulls":4},{"$f":"18*$D42/13.4","v":{"v":17.73134328358209,"d":"17.7"}},{"$f":"10*$D42/13.4","v":{"v":9.850746268656716,"d":"9.9"}},null,6000,1500,60,null,null,{"v":70,"d":"< 70"},{"v":120,"d":"> 120"}]
["Anfangsmast ab 50 Kg LM für 950 g TZ*",{"$f":"IF(G43=\"\",\" \",COUNTA($G$11:G42))","v":14},{"$f":"IF(Futterberechnung!$B$10=\"\",\"Anfangsmast ab 50 Kg LM für 950 g TZ*\",IF(Futterberechnung!$B$10=\"w\",\"Anfangsmast ab 50 Kg LM für 920 g TZ*\",IF(Futterberechnung!$B$10=\"m\",\"Anfangsmast ab 50 Kg LM für 970 g TZ*\",\"Anfangsmast ab 50 Kg LM für 950 g TZ*\")))","v":"Anfangsmast ab 50 Kg LM für 950 g TZ*"},{"$f":"'Futterkurve Mast'!G$7","v":13.2},{"$f":"IF(AND(Futterberechnung!$B$10=\"m\",'Futterkurve Mast'!$T$6=\"hp\"),(175*D43/13.4)-(175*D43/13.4)*0.03,IF(Futterberechnung!$B$10=\"m\",(170*D43/13.4)-(170*D43/13.4)*0.03,IF('Futterkurve Mast'!$T$6=\"HP\",175*D43/13.4,170*D43/13.4)))","v":{"v":167.46268656716418,"d":"167"}},{"$f":"ROUND(E43*0.877,0)","v":147},{"$f":"H43/0.877","v":{"v":9.91054651741693,"d":"9.9"}},{"$f":"IF(Futterberechnung!B$10=\" \",'Futterkurve Mast'!I$46,IF(Futterberechnung!B$10=\"W\",'Futterkurve Mast'!I$82,IF(Futterberechnung!B$10=\"M\",'Futterkurve Mast'!I$118,'Futterkurve Mast'!I$46)))","v":{"v":8.691549295774648,"d":"8.7"}},{"v":5.450800584579312,"d":"5.5"},{"v":4.780352112676057,"d":"4.8"},{"v":6.441855236321005,"d":"6.4"},{"v":5.649507042253521,"d":"5.6"},{"v":1.7838983731350475,"d":"1.8"},{"v":1.5644788732394366,"d":"1.6"},{"v":5.643000000000001,"d":"5.6"},{"v":4.5878048780487815,"d":"4.6"},{"$f":"'Futterkurve Mast'!I$45","v":{"v":2.6492957746478876,"d":"2.6"}},{"$f":"D43*1/13.4","v":{"v":0.9850746268656716,"d":"1.0"}},{"v":1.848,"d":"1.8"},1,{"$f":"ROUND(I43/$G43,2)","v":0.55},{"$f":"ROUND(K43/$G43,2)","v":0.65},{"$f":"ROUND(M43/$G43,2)","v":0.18},{"$f":"ROUND(G43/D43,2)","v":0.75},{"$f":"H43/D43","v":{"v":0.6584507042253521,"d":"0.66"}},{"$f":"ROUND(O43/P43,2)","v":1.23},{"$f":"ROUND(O43/Q43,2)","v":2.13},40,"35 - 50",{"v":2.861670306904139,"d":"2.9"},{"v":2.50968485915493,"d":"2.5"},{"$f":"G43*100/E43","v":{"v":5.918062537138452,"d":"5.9"}},{"$nulls":4},{"$f":"18*$D43/13.4","v":{"v":17.73134328358209,"d":"17.7"}},{"$f":"10*$D43/13.4","v":{"v":9.850746268656716,"d":"9.9"}},null,6000,1500,60,null,null,{"v":70,"d":"< 70"},{"v":120,"d":"> 120"}]
[{"$f":"IF(C44=\"\",\"\",C44)","v":""},{"$f":"IF(G44=\"\",\" \",COUNTA($G$11:G43))","v":" "}]
[null,null,"Mittelmast 60 - 90 kg LM","Mittelmast"]
[{"$f":"IF(C46=\"\",\"\",C46)","v":"ab 60 kg LM"},{"$f":"IF(G46=\"\",\" \",COUNTA($G$11:G60))","v":" "},"ab 60 kg LM"]
[{"$f":"IF(C47=\"\",\"\",C47)","v":"Mittelmast ab 60 Kg LM für 750 g TZ*"},{"$f":"IF(G47=\"\",\" \",COUNTA($G$11:G46))","v":15},{"$f":"IF(Futterberechnung!$B$10=\"\",\"Mittelmast ab 60 Kg LM für 750 g TZ*\",IF(Futterberechnung!$B$10=\"w\",\"Mittelmast ab 60 Kg LM für 720 g TZ*\",IF(Futterberechnung!$B$10=\"m\",\"Mittelmast ab 60 Kg LM für 770 g TZ*\",\"Mittelmast ab 60 Kg LM für 750 g TZ*\")))","v":"Mittelmast ab 60 Kg LM für 750 g TZ*"},{"$f":"'Futterkurve Mast'!K$7","v":{"v":13,"d":"13.0"}},{"$f":"IF(AND(Futterberechnung!$B$10=\"m\",'Futterkurve Mast'!$T$6=\"hp\"),(155*D47/13.4)-(155*D47/13.4)*0.03,IF(Futterberechnung!$B$10=\"m\",(150*D47/13.4)-(150*D47/13.4)*0.03,IF('Futterkurve Mast'!$T$6=\"HP\",155*D47/13.4,150*D47/13.4)))","v":{"v":145.52238805970148,"d":"146"}},{"$f":"ROUND(E47*0.874,0)","v":127},{"$f":"H47/0.874","v":{"v":8.445025607497003,"d":"8.4"}},{"$f":"IF(Futterberechnung!B$10=\" \",'Futterkurve Mast'!K20,IF(Futterberechnung!B$10=\"W\",'Futterkurve Mast'!K60,IF(Futterberechnung!B$10=\"M\",'Futterkurve Mast'!K96,'Futterkurve Mast'!K20)))","v":{"v":7.3809523809523805,"d":"7.4"}},{"$f":"G47*0.55","v":{"v":4.644764084123352,"d":"4.6"}},{"v":4.059523809523809,"d":"4.1"},{"$f":"G47*0.65","v":{"v":5.4892666448730525,"d":"5.5"}},{"v":4.7976190476190474,"d":"4.8"},{"$f":"G47*0.18","v":{"v":1.5201046093494606,"d":"1.5"}},{"v":1.3285714285714285,"d":"1.3"},{"$f":"Q47*2.12","v":{"v":4.916380952380952,"d":"4.9"}},{"$f":"O47/1.18","v":{"v":4.166424535916061,"d":"4.2"}},{"$f":"'Futterkurve Mast'!K19","v":{"v":2.319047619047619,"d":"2.3"}},{"$f":"D47*1/13.4","v":{"v":0.9701492537313433,"d":"1.0"}},{"$f":"0.13*D47","v":{"v":1.69,"d":"1.7"}},1,{"$f":"ROUND(I47/$G47,2)","v":0.55},{"$f":"ROUND(K47/$G47,2)","v":0.65},{"$f":"ROUND(M47/$G47,2)","v":0.18},{"$f":"ROUND(G47/D47,2)","v":0.65},{"$f":"H47/D47","v":{"v":0.5677655677655677,"d":"0.57"}},{"$f":"ROUND(O47/P47,2)","v":1.18},{"$f":"ROUND(O47/Q47,2)","v":2.12},45,"40 - 50",{"$f":"I47*0.525","v":{"v":2.43850114416476,"d":"2.4"}},{"v":2.13125,"d":"2.1"},{"$f":"G47*100/E47","v":{"v":5.803248366177429,"d":"5.8"}},{"$nulls":4},{"$f":"18*$D47/13.4","v":{"v":17.46268656716418,"d":"17.5"}},{"$f":"10*$D47/13.4","v":{"v":9.701492537313433,"d":"9.7"}},null,5000,1000,50,null,null,{"v":70,"d":"< 70"},{"v":120,"d":"> 120"}]
[{"$f":"IF(C48=\"\",\"\",C48)","v":"Mittelmast ab 60 Kg LM für 850 g TZ*"},{"$f":"IF(G48=\"\",\" \",COUNTA($G$11:G47))","v":16},{"$f":"IF(Futterberechnung!$B$10=\"\",\"Mittelmast ab 60 Kg LM für 850 g TZ*\",IF(Futterberechnung!$B$10=\"w\",\"Mittelmast ab 60 Kg LM für 820 g TZ*\",IF(Futterberechnung!$B$10=\"m\",\"Mittelmast ab 60 Kg LM für 870 g TZ*\",\"Mittelmast ab 60 Kg LM für 850 g TZ*\")))","v":"Mittelmast ab 60 Kg LM für 850 g TZ*"},{"$f":"'Futterkurve Mast'!K$7","v":{"v":13,"d":"13.0"}},{"$f":"IF(AND(Futterberechnung!$B$10=\"m\",'Futterkurve Mast'!$T$6=\"hp\"),(160*D48/13.4)-(160*D48/13.4)*0.03,IF(Futterberechnung!$B$10=\"m\",(155*D48/13.4)-(155*D48/13.4)*0.03,IF('Futterkurve Mast'!$T$6=\"HP\",160*D48/13.4,155*D48/13.4)))","v":{"v":150.37313432835822,"d":"150"}},{"$f":"ROUND(E48*0.874,0)","v":131},{"$f":"H48/0.874","v":{"v":8.756960661038262,"d":"8.8"}},{"$f":"IF(Futterberechnung!B$10=\" \",'Futterkurve Mast'!K33,IF(Futterberechnung!B$10=\"W\",'Futterkurve Mast'!K71,IF(Futterberechnung!B$10=\"M\",'Futterkurve Mast'!K107,'Futterkurve Mast'!K33)))","v":{"v":7.65358361774744,"d":"7.7"}},{"v":4.816328363571045,"d":"4.8"},{"v":4.209470989761092,"d":"4.2"},{"v":5.692024429674871,"d":"5.7"},{"v":4.974829351535837,"d":"5.0"},{"v":1.576252918986887,"d":"1.6"},{"v":1.377645051194539,"d":"1.4"},{"$f":"Q48*2.12","v":{"v":5.126348122866895,"d":"5.1"}},{"$f":"O48/1.18","v":{"v":4.344362815988894,"d":"4.3"}},{"$f":"'Futterkurve Mast'!K32","v":{"v":2.4180887372013653,"d":"2.4"}},{"$f":"D48*1/13.4","v":{"v":0.9701492537313433,"d":"1.0"}},{"$f":"0.13*D48","v":{"v":1.69,"d":"1.7"}},1,{"$f":"ROUND(I48/$G48,2)","v":0.55},{"$f":"ROUND(K48/$G48,2)","v":0.65},{"$f":"ROUND(M48/$G48,2)","v":0.18},{"$f":"ROUND(G48/D48,2)","v":0.67},{"$f":"H48/D48","v":{"v":0.5887372013651877,"d":"0.59"}},{"$f":"ROUND(O48/P48,2)","v":1.18},{"$f":"ROUND(O48/Q48,2)","v":2.12},45,"40 - 50",{"v":2.528572390874799,"d":"2.5"},{"v":2.2099722696245734,"d":"2.2"},{"$f":"G48*100/E48","v":{"v":5.823487486745047,"d":"5.8"}},{"$nulls":4},{"$f":"18*$D48/13.4","v":{"v":17.46268656716418,"d":"17.5"}},{"$f":"10*$D48/13.4","v":{"v":9.701492537313433,"d":"9.7"}},null,5000,1000,50,null,null,{"v":70,"d":"< 70"},{"v":120,"d":"> 120"}]
[{"$f":"IF(C49=\"\",\"\",C49)","v":"Mittelmast ab 60 Kg LM für 950 g TZ*"},{"$f":"IF(G49=\"\",\" \",COUNTA($G$11:G48))","v":17},{"$f":"IF(Futterberechnung!$B$10=\"\",\"Mittelmast ab 60 Kg LM für 950 g TZ*\",IF(Futterberechnung!$B$10=\"w\",\"Mittelmast ab 60 Kg LM für 920 g TZ*\",IF(Futterberechnung!$B$10=\"m\",\"Mittelmast ab 60 Kg LM für 970 g TZ*\",\"Mittelmast ab 60 Kg LM für 950 g TZ*\")))","v":"Mittelmast ab 60 Kg LM für 950 g TZ*"},{"$f":"'Futterkurve Mast'!K$7","v":{"v":13,"d":"13.0"}},{"$f":"IF(AND(Futterberechnung!$B$10=\"m\",'Futterkurve Mast'!$T$6=\"hp\"),(165*D49/13.4)-(165*D49/13.4)*0.03,IF(Futterberechnung!$B$10=\"m\",(160*D49/13.4)-(160*D49/13.4)*0.03,IF('Futterkurve Mast'!$T$6=\"HP\",165*D49/13.4,160*D49/13.4)))","v":{"v":155.22388059701493,"d":"155"}},{"$f":"ROUND(E49*0.874,0)","v":136},{"$f":"H49/0.874","v":{"v":9.00527119994736,"d":"9.0"}},{"$f":"IF(Futterberechnung!B$10=\" \",'Futterkurve Mast'!K46,IF(Futterberechnung!B$10=\"W\",'Futterkurve Mast'!K82,IF(Futterberechnung!B$10=\"M\",'Futterkurve Mast'!K118,'Futterkurve Mast'!K46)))","v":{"v":7.8706070287539935,"d":"7.9"}},{"v":4.952899159971048,"d":"5.0"},{"v":4.328833865814697,"d":"4.3"},{"v":5.853426279965785,"d":"5.9"},{"v":5.115894568690096,"d":"5.1"},{"v":1.6209488159905248,"d":"1.6"},{"v":1.4167092651757187,"d":"1.4"},{"v":5.2390415335463265,"d":"5.2"},{"v":4.439865706395192,"d":"4.4"},{"$f":"'Futterkurve Mast'!K45","v":{"v":2.4712460063897765,"d":"2.5"}},{"$f":"D49*1/13.4","v":{"v":0.9701492537313433,"d":"1.0"}},{"$f":"0.13*D49","v":{"v":1.69,"d":"1.7"}},1,{"$f":"ROUND(I49/$G49,2)","v":0.55},{"$f":"ROUND(K49/$G49,2)","v":0.65},{"$f":"ROUND(M49/$G49,2)","v":0.18},{"$f":"ROUND(G49/D49,2)","v":0.69},{"$f":"H49/D49","v":{"v":0.6054313099041534,"d":"0.61"}},{"$f":"ROUND(O49/P49,2)","v":1.18},{"$f":"ROUND(O49/Q49,2)","v":2.12},45,"40 - 50",{"v":2.6002720589848005,"d":"2.6"},{"v":2.2726377795527157,"d":"2.3"},{"$f":"G49*100/E49","v":{"v":5.80147279227378,"d":"5.8"}},{"$nulls":4},{"$f":"18*$D49/13.4","v":{"v":17.46268656716418,"d":"17.5"}},{"$f":"10*$D49/13.4","v":{"v":9.701492537313433,"d":"9.7"}},null,5000,1000,50,null,null,{"v":70,"d":"< 70"},{"v":120,"d":"> 120"}]
["",{"$f":"IF(G50=\"\",\" \",COUNTA($G$11:G43))","v":" "}]
["ab 70 kg LM",{"$f":"IF(G51=\"\",\" \",COUNTA($G$11:G50))","v":" "},"ab 70 kg LM"]
["Mittelmast ab 70 Kg LM für 750 g TZ*",{"$f":"IF(G52=\"\",\" \",COUNTA($G$11:G51))","v":18},{"$f":"IF(Futterberechnung!$B$10=\"\",\"Mittelmast ab 70 Kg LM für 750 g TZ*\",IF(Futterberechnung!$B$10=\"w\",\"Mittelmast ab 70 Kg LM für 720 g TZ*\",IF(Futterberechnung!$B$10=\"m\",\"Mittelmast ab 70 Kg LM für 770 g TZ*\",\"Mittelmast ab 70 Kg LM für 750 g TZ*\")))","v":"Mittelmast ab 70 Kg LM für 750 g TZ*"},{"$f":"'Futterkurve Mast'!M$7","v":{"v":13,"d":"13.0"}},{"$f":"IF(AND(Futterberechnung!$B$10=\"m\",'Futterkurve Mast'!$T$6=\"hp\"),(145*D52/13)-(145*D52/13)*0.03,IF(Futterberechnung!$B$10=\"m\",(140*D52/13)-(140*D52/13)*0.03,IF('Futterkurve Mast'!$T$6=\"HP\",140*D52/13,140*D52/13)))","v":140},{"$f":"ROUND(E52*0.87,0)","v":122},{"$f":"H52/0.87","v":{"v":8.10403471733521,"d":"8.1"}},{"$f":"IF(Futterberechnung!B$10=\" \",'Futterkurve Mast'!M20,IF(Futterberechnung!B$10=\"W\",'Futterkurve Mast'!M60,IF(Futterberechnung!B$10=\"M\",'Futterkurve Mast'!M96,'Futterkurve Mast'!M20)))","v":{"v":7.0505102040816325,"d":"7.1"}},{"$f":"G52*0.55","v":{"v":4.457219094534366,"d":"4.5"}},{"v":3.8777806122448983,"d":"3.9"},{"$f":"G52*0.65","v":{"v":5.267622566267887,"d":"5.3"}},{"v":4.582831632653061,"d":"4.6"},{"$f":"G52*0.18","v":{"v":1.4587262491203379,"d":"1.5"}},{"v":1.2690918367346937,"d":"1.3"},{"$f":"Q52*2.1","v":{"v":4.735714285714286,"d":"4.7"}},{"$f":"O52/1.12","v":{"v":4.228316326530612,"d":"4.2"}},{"$f":"'Futterkurve Mast'!M19","v":{"v":2.2551020408163263,"d":"2.3"}},{"$f":"D52*1/13","v":{"v":1,"d":"1.0"}},{"$f":"0.13*D52","v":{"v":1.69,"d":"1.7"}},1,{"$f":"ROUND(I52/$G52,2)","v":0.55},{"$f":"ROUND(K52/$G52,2)","v":0.65},{"$f":"ROUND(M52/$G52,2)","v":0.18},{"$f":"ROUND(G52/D52,2)","v":0.62},{"$f":"H52/D52","v":{"v":0.5423469387755102,"d":"0.54"}},{"$f":"ROUND(O52/P52,2)","v":1.12},{"$f":"ROUND(O52/Q52,2)","v":{"v":2.1,"d":"2.10"}},45,"40 - 50",{"$f":"I52*0.525","v":{"v":2.3400400246305426,"d":"2.3"}},{"v":2.0358348214285718,"d":"2.0"},{"$f":"G52*100/E52","v":{"v":5.788596226668007,"d":"5.8"}},{"$nulls":4},{"$f":"18*$D52/13","v":{"v":18,"d":"18.0"}},{"$f":"10*$D52/13","v":{"v":10,"d":"10.0"}},null,5000,1000,50,null,null,{"v":70,"d":"< 70"},{"v":120,"d":"> 120"}]
["Mittelmast ab 70 Kg LM für 850 g TZ*",{"$f":"IF(G53=\"\",\" \",COUNTA($G$11:G52))","v":19},{"$f":"IF(Futterberechnung!$B$10=\"\",\"Mittelmast ab 70 Kg LM für 850 g TZ*\",IF(Futterberechnung!$B$10=\"w\",\"Mittelmast ab 70 Kg LM für 820 g TZ*\",IF(Futterberechnung!$B$10=\"m\",\"Mittelmast ab 70 Kg LM für 870 g TZ*\",\"Mittelmast ab 70 Kg LM für 850 g TZ*\")))","v":"Mittelmast ab 70 Kg LM für 850 g TZ*"},{"$f":"'Futterkurve Mast'!M$7","v":{"v":13,"d":"13.0"}},{"$f":"IF(AND(Futterberechnung!$B$10=\"m\",'Futterkurve Mast'!$T$6=\"hp\"),(150*D53/13)-(150*D53/13)*0.03,IF(Futterberechnung!$B$10=\"m\",(140*D53/13)-(145*D53/13)*0.03,IF('Futterkurve Mast'!$T$6=\"HP\",150*D53/13,145*D53/13)))","v":145},{"$f":"ROUND(E53*0.87,0)","v":126},{"$f":"H53/0.87","v":{"v":8.369707551287647,"d":"8.4"}},{"$f":"IF(Futterberechnung!B$10=\" \",'Futterkurve Mast'!M33,IF(Futterberechnung!B$10=\"W\",'Futterkurve Mast'!M71,IF(Futterberechnung!B$10=\"M\",'Futterkurve Mast'!M107,'Futterkurve Mast'!M33)))","v":{"v":7.2816455696202524,"d":"7.3"}},{"v":4.603339153208206,"d":"4.6"},{"v":4.004905063291139,"d":"4.0"},{"v":5.44030990833697,"d":"5.4"},{"v":4.733069620253164,"d":"4.7"},{"v":1.5065473592317764,"d":"1.5"},{"v":1.3106962025316453,"d":"1.3"},{"$f":"Q53*2.1","v":{"v":4.837974683544304,"d":"4.8"}},{"$f":"O53/1.12","v":{"v":4.3196202531645564,"d":"4.3"}},{"$f":"'Futterkurve Mast'!M32","v":{"v":2.3037974683544302,"d":"2.3"}},{"$f":"D53*1/13","v":{"v":1,"d":"1.0"}},{"$f":"0.13*D53","v":{"v":1.69,"d":"1.7"}},1,{"$f":"ROUND(I53/$G53,2)","v":0.55},{"$f":"ROUND(K53/$G53,2)","v":0.65},{"$f":"ROUND(M53/$G53,2)","v":0.18},{"$f":"ROUND(G53/D53,2)","v":0.64},{"$f":"H53/D53","v":{"v":0.560126582278481,"d":"0.56"}},{"$f":"ROUND(O53/P53,2)","v":1.12},{"$f":"ROUND(O53/Q53,2)","v":{"v":2.1,"d":"2.10"}},45,"40 - 50",{"v":2.416753055434308,"d":"2.4"},{"v":2.1025751582278485,"d":"2.1"},{"$f":"G53*100/E53","v":{"v":5.772212104336308,"d":"5.8"}},{"$nulls":4},{"$f":"18*$D53/13","v":{"v":18,"d":"18.0"}},{"$f":"10*$D53/13","v":{"v":10,"d":"10.0"}},null,5000,1000,50,null,null,{"v":70,"d":"< 70"},{"v":120,"d":"> 120"}]
["Mittelmast ab 70 Kg LM für 950 g TZ*",{"$f":"IF(G54=\"\",\" \",COUNTA($G$11:G53))","v":20},{"$f":"IF(Futterberechnung!$B$10=\"\",\"Mittelmast ab 70 Kg LM für 950 g TZ*\",IF(Futterberechnung!$B$10=\"w\",\"Mittelmast ab 70 Kg LM für 920 g TZ*\",IF(Futterberechnung!$B$10=\"m\",\"Mittelmast ab 70 Kg LM für 970 g TZ*\",\"Mittelmast ab 70 Kg LM für 950 g TZ*\")))","v":"Mittelmast ab 70 Kg LM für 950 g TZ*"},{"$f":"'Futterkurve Mast'!M$7","v":{"v":13,"d":"13.0"}},{"$f":"IF(AND(Futterberechnung!$B$10=\"m\",'Futterkurve Mast'!$T$6=\"hp\"),(155*D54/13)-(155*D54/13)*0.03,IF(Futterberechnung!$B$10=\"m\",(150*D54/13)-(150*D54/13)*0.03,IF('Futterkurve Mast'!$T$6=\"HP\",155*D54/13,150*D54/13)))","v":150},{"$f":"ROUND(E54*0.87,0)","v":131},{"$f":"H54/0.87","v":{"v":8.46891094512091,"d":"8.5"}},{"$f":"IF(Futterberechnung!B$10=\" \",'Futterkurve Mast'!M46,IF(Futterberechnung!B$10=\"W\",'Futterkurve Mast'!M82,IF(Futterberechnung!B$10=\"M\",'Futterkurve Mast'!M118,'Futterkurve Mast'!M46)))","v":{"v":7.367952522255193,"d":"7.4"}},{"v":4.657901019816501,"d":"4.7"},{"v":4.052373887240356,"d":"4.1"},{"v":5.504792114328592,"d":"5.5"},{"v":4.7891691394658755,"d":"4.8"},{"v":1.5244039701217638,"d":"1.5"},{"v":1.3262314540059346,"d":"1.3"},{"$f":"Q54*2.1","v":{"v":4.941543026706231,"d":"4.9"}},{"v":4.412091988130563,"d":"4.4"},{"$f":"'Futterkurve Mast'!M45","v":{"v":2.353115727002967,"d":"2.4"}},{"$f":"D54*1/13","v":{"v":1,"d":"1.0"}},{"$f":"0.13*D54","v":{"v":1.69,"d":"1.7"}},1,{"$f":"ROUND(I54/$G54,2)","v":0.55},{"$f":"ROUND(K54/$G54,2)","v":0.65},{"$f":"ROUND(M54/$G54,2)","v":0.18},{"$f":"ROUND(G54/D54,2)","v":0.65},{"$f":"H54/D54","v":{"v":0.5667655786350149,"d":"0.57"}},{"$f":"ROUND(O54/P54,2)","v":1.12},{"$f":"ROUND(O54/Q54,2)","v":{"v":2.1,"d":"2.10"}},45,"40 - 50",{"v":2.445398035403663,"d":"2.4"},{"v":2.127496290801187,"d":"2.1"},{"$f":"G54*100/E54","v":{"v":5.645940630080607,"d":"5.6"}},{"$nulls":4},{"$f":"18*$D54/13","v":{"v":18,"d":"18.0"}},{"$f":"10*$D54/13","v":{"v":10,"d":"10.0"}},null,5000,1000,50,null,null,{"v":70,"d":"< 70"},{"v":120,"d":"> 120"}]
["",{"$f":"IF(G55=\"\",\" \",COUNTA($G$11:G54))","v":" "}]
["ab 80 kg LM",{"$f":"IF(G56=\"\",\" \",COUNTA($G$11:G55))","v":" "},"ab 80 kg LM"]
["Mittelmast ab 80 Kg LM für 750 g TZ*",{"$f":"IF(G57=\"\",\" \",COUNTA($G$11:G56))","v":21},{"$f":"IF(Futterberechnung!$B$10=\"\",\"Mittelmast ab 80 Kg LM für 750 g TZ*\",IF(Futterberechnung!$B$10=\"w\",\"Mittelmast ab 80 Kg LM für 720 g TZ*\",IF(Futterberechnung!$B$10=\"m\",\"Mittelmast ab 80 Kg LM für 770 g TZ*\",\"Mittelmast ab 80 Kg LM für 750 g TZ*\")))","v":"Mittelmast ab 80 Kg LM für 750 g TZ*"},{"$f":"'Futterkurve Mast'!M$7","v":{"v":13,"d":"13.0"}},{"$f":"IF(AND(Futterberechnung!$B$10=\"m\",'Futterkurve Mast'!$T$6=\"hp\"),(140*D57/13)-(140*D57/13)*0.03,IF(Futterberechnung!$B$10=\"m\",(135*D57/13)-(135*D57/13)*0.03,IF('Futterkurve Mast'!$T$6=\"HP\",140*D57/13,135*D57/13)))","v":135},{"$f":"ROUND(E57*0.865,0)","v":117},{"$f":"H57/0.865","v":{"v":7.973533074363884,"d":"8.0"}},{"$f":"IF(Futterberechnung!B$10=\" \",'Futterkurve Mast'!O$20,IF(Futterberechnung!B$10=\"W\",'Futterkurve Mast'!O$60,IF(Futterberechnung!B$10=\"M\",'Futterkurve Mast'!O$96,'Futterkurve Mast'!O$20)))","v":{"v":6.897106109324759,"d":"6.9"}},{"$f":"G57*0.55","v":{"v":4.385443190900136,"d":"4.4"}},{"v":3.793408360128618,"d":"3.8"},{"$f":"G57*0.65","v":{"v":5.182796498336525,"d":"5.2"}},{"v":4.483118971061094,"d":"4.5"},{"$f":"G57*0.18","v":{"v":1.435235953385499,"d":"1.4"}},{"v":1.2414790996784566,"d":"1.2"},{"$f":"Q57*2.03","v":{"v":4.225794212218649,"d":"4.2"}},{"$f":"O57/1.13","v":{"v":3.7396408957687166,"d":"3.7"}},{"$f":"'Futterkurve Mast'!O$19","v":{"v":2.081672025723473,"d":"2.1"}},{"$f":"D57*1/13","v":{"v":1,"d":"1.0"}},{"$f":"0.13*D57","v":{"v":1.69,"d":"1.7"}},1,{"$f":"ROUND(I57/$G57,2)","v":0.55},{"$f":"ROUND(K57/$G57,2)","v":0.65},{"$f":"ROUND(M57/$G57,2)","v":0.18},{"$f":"ROUND(G57/D57,2)","v":0.61},{"$f":"H57/D57","v":{"v":0.5305466237942122,"d":"0.53"}},{"$f":"ROUND(O57/P57,2)","v":1.13},{"$f":"ROUND(O57/Q57,2)","v":2.03},45,"40 - 50",{"$f":"I57*0.525","v":{"v":2.3023576752225714,"d":"2.3"}},{"v":1.9915393890675246,"d":"2.0"},{"$f":"G57*100/E57","v":{"v":5.906320795825099,"d":"5.9"}},{"$nulls":4},{"$f":"18*$D57/13","v":{"v":18,"d":"18.0"}},{"$f":"10*$D57/13","v":{"v":10,"d":"10.0"}},null,5000,1000,50,null,null,{"v":70,"d":"< 70"},{"v":120,"d":"> 120"}]
["Mittelmast ab 80 Kg LM für 850 g TZ*",{"$f":"IF(G58=\"\",\" \",COUNTA($G$11:G57))","v":22},{"$f":"IF(Futterberechnung!$B$10=\"\",\"Mittelmast ab 80 Kg LM für 850 g TZ*\",IF(Futterberechnung!$B$10=\"w\",\"Mittelmast ab 80 Kg LM für 820 g TZ*\",IF(Futterberechnung!$B$10=\"m\",\"Mittelmast ab 80 Kg LM für 870 g TZ*\",\"Mittelmast ab 80 Kg LM für 850 g TZ*\")))","v":"Mittelmast ab 80 Kg LM für 850 g TZ*"},{"$f":"'Futterkurve Mast'!M$7","v":{"v":13,"d":"13.0"}},{"$f":"IF(AND(Futterberechnung!$B$10=\"m\",'Futterkurve Mast'!$T$6=\"hp\"),(145*D58/13)-(145*D58/13)*0.03,IF(Futterberechnung!$B$10=\"m\",(140*D58/13)-(140*D58/13)*0.03,IF('Futterkurve Mast'!$T$6=\"HP\",145*D58/13,140*D58/13)))","v":140},{"$f":"ROUND(E58*0.865,0)","v":121},{"$f":"H58/0.865","v":{"v":8.191428422642295,"d":"8.2"}},{"$f":"IF(Futterberechnung!B$10=\" \",'Futterkurve Mast'!O$33,IF(Futterberechnung!B$10=\"W\",'Futterkurve Mast'!O$71,IF(Futterberechnung!B$10=\"M\",'Futterkurve Mast'!O$107,'Futterkurve Mast'!O$33)))","v":{"v":7.085585585585585,"d":"7.1"}},{"v":4.505285632453263,"d":"4.5"},{"v":3.8970720720720724,"d":"3.9"},{"v":5.324428474717492,"d":"5.3"},{"v":4.605630630630631,"d":"4.6"},{"v":1.474457116075613,"d":"1.5"},{"v":1.2754054054054054,"d":"1.3"},{"$f":"Q58*2.03","v":{"v":4.378521021021021,"d":"4.4"}},{"$f":"O58/1.13","v":{"v":3.874797363735417,"d":"3.9"}},{"$f":"'Futterkurve Mast'!O$32","v":{"v":2.156906906906907,"d":"2.2"}},{"$f":"D58*1/13","v":{"v":1,"d":"1.0"}},{"$f":"0.13*D58","v":{"v":1.69,"d":"1.7"}},1,{"$f":"ROUND(I58/$G58,2)","v":0.55},{"$f":"ROUND(K58/$G58,2)","v":0.65},{"$f":"ROUND(M58/$G58,2)","v":0.18},{"$f":"ROUND(G58/D58,2)","v":0.63},{"$f":"H58/D58","v":{"v":0.545045045045045,"d":"0.55"}},{"$f":"ROUND(O58/P58,2)","v":1.13},{"$f":"ROUND(O58/Q58,2)","v":2.03},45,"40 - 50",{"v":2.365274957037963,"d":"2.4"},{"v":2.045962837837838,"d":"2.0"},{"$f":"G58*100/E58","v":{"v":5.8510203018873534,"d":"5.9"}},{"$nulls":4},{"$f":"18*$D58/13","v":{"v":18,"d":"18.0"}},{"$f":"10*$D58/13","v":{"v":10,"d":"10.0"}},null,5000,1000,50,null,null,{"v":70,"d":"< 70"},{"v":120,"d":"> 120"}]
["Mittelmast ab 80 Kg LM für 950 g TZ*",{"$f":"IF(G59=\"\",\" \",COUNTA($G$11:G58))","v":23},{"$f":"IF(Futterberechnung!$B$10=\"\",\"Mittelmast ab 80 Kg LM für 950 g TZ*\",IF(Futterberechnung!$B$10=\"w\",\"Mittelmast ab 80 Kg LM für 920 g TZ*\",IF(Futterberechnung!$B$10=\"m\",\"Mittelmast ab 80 Kg LM für 970 g TZ*\",\"Mittelmast ab 80 Kg LM für 950 g TZ*\")))","v":"Mittelmast ab 80 Kg LM für 950 g TZ*"},{"$f":"'Futterkurve Mast'!M$7","v":{"v":13,"d":"13.0"}},{"$f":"IF(AND(Futterberechnung!$B$10=\"m\",'Futterkurve Mast'!$T$6=\"hp\"),(150*D59/13)-(150*D59/13)*0.03,IF(Futterberechnung!$B$10=\"m\",(145*D59/13)-(145*D59/13)*0.03,IF('Futterkurve Mast'!$T$6=\"HP\",150*D59/13,145*D59/13)))","v":145},{"$f":"ROUND(E59*0.865,0)","v":125},{"$f":"H59/0.865","v":{"v":8.400987205299733,"d":"8.4"}},{"$f":"IF(Futterberechnung!B$10=\" \",'Futterkurve Mast'!O$46,IF(Futterberechnung!B$10=\"W\",'Futterkurve Mast'!O$82,IF(Futterberechnung!B$10=\"M\",'Futterkurve Mast'!O$118,'Futterkurve Mast'!O$46)))","v":{"v":7.266853932584269,"d":"7.3"}},{"v":4.620542962914854,"d":"4.6"},{"v":3.996769662921348,"d":"4.0"},{"v":5.460641683444827,"d":"5.5"},{"v":4.723455056179775,"d":"4.7"},{"v":1.512177696953952,"d":"1.5"},{"v":1.3080337078651683,"d":"1.3"},{"v":4.499643258426966,"d":"4.5"},{"v":3.981985184448643,"d":"4.0"},{"$f":"'Futterkurve Mast'!O$45","v":{"v":2.2165730337078653,"d":"2.2"}},{"$f":"D59*1/13","v":{"v":1,"d":"1.0"}},{"$f":"0.13*D59","v":{"v":1.69,"d":"1.7"}},1,{"$f":"ROUND(I59/$G59,2)","v":0.55},{"$f":"ROUND(K59/$G59,2)","v":0.65},{"$f":"ROUND(M59/$G59,2)","v":0.18},{"$f":"ROUND(G59/D59,2)","v":0.65},{"$f":"H59/D59","v":{"v":0.5589887640449438,"d":"0.56"}},{"$f":"ROUND(O59/P59,2)","v":1.13},{"$f":"ROUND(O59/Q59,2)","v":2.03},45,"40 - 50",{"v":2.4257850555302984,"d":"2.4"},{"v":2.0983040730337077,"d":"2.1"},{"$f":"G59*100/E59","v":{"v":5.793784279517057,"d":"5.8"}},{"$nulls":4},{"$f":"18*$D59/13","v":{"v":18,"d":"18.0"}},{"$f":"10*$D59/13","v":{"v":10,"d":"10.0"}},null,5000,1000,50,null,null,{"v":70,"d":"< 70"},{"v":120,"d":"> 120"}]
["",{"$f":"IF(G60=\"\",\" \",COUNTA($G$11:G59))","v":" "}]
[{"$f":"IF(C61=\"\",\"\",C61)","v":"Endmast 90 - 120 kg LM"},{"$f":"IF(G61=\"\",\" \",COUNTA($G$11:G60))","v":" "},"Endmast 90 - 120 kg LM","Endmast"]
[{"$f":"IF(C62=\"\",\"\",C62)","v":"ab 90 kg LM"},{"$f":"IF(G62=\"\",\" \",COUNTA($G$11:G41))","v":" "},"ab 90 kg LM"]
[{"$f":"IF(C63=\"\",\"\",C63)","v":"Endmast ab 90 Kg LM für 750 g TZ*"},{"$f":"IF(G63=\"\",\" \",COUNTA($G$11:G62))","v":24},{"$f":"IF(Futterberechnung!$B$10=\"\",\"Endmast ab 90 Kg LM für 750 g TZ*\",IF(Futterberechnung!$B$10=\"w\",\"Endmast ab 90 Kg LM für 720 g TZ*\",IF(Futterberechnung!$B$10=\"m\",\"Endmast ab 90 Kg LM für 770 g TZ*\",\"Endmast ab 90 Kg LM für 750 g TZ*\")))","v":"Endmast ab 90 Kg LM für 750 g TZ*"},{"$f":"'Futterkurve Mast'!Q$7","v":{"v":13,"d":"13.0"}},{"$f":"IF(AND(Futterberechnung!$B$10=\"m\",'Futterkurve Mast'!$T$6=\"hp\"),(140*D63/13)-(140*D63/13)*0.03,IF(Futterberechnung!$B$10=\"m\",(135*D63/13)-(135*D63/13)*0.03,IF('Futterkurve Mast'!$T$6=\"HP\",140*D63/13,135*D63/13)))","v":135},{"$f":"ROUND(E63*0.86,0)","v":116},{"$f":"H63/0.86","v":{"v":7.850105049626894,"d":"7.9"}},{"$f":"IF(Futterberechnung!B$10=\" \",'Futterkurve Mast'!Q$20,IF(Futterberechnung!B$10=\"W\",'Futterkurve Mast'!Q$60,IF(Futterberechnung!B$10=\"M\",'Futterkurve Mast'!Q$96,'Futterkurve Mast'!Q$20)))","v":{"v":6.751090342679128,"d":"6.8"}},{"$f":"G63*0.55","v":{"v":4.317557777294792,"d":"4.3"}},{"v":3.713099688473521,"d":"3.7"},{"$f":"G63*0.65","v":{"v":5.102568282257481,"d":"5.1"}},{"v":4.3882087227414335,"d":"4.4"},{"$f":"G63*0.18","v":{"v":1.4130189089328409,"d":"1.4"}},{"v":1.215196261682243,"d":"1.2"},{"$f":"Q63*2.15","v":{"v":4.201207165109034,"d":"4.2"}},{"$f":"O63/1.125","v":{"v":3.734406368985808,"d":"3.7"}},{"$f":"'Futterkurve Mast'!Q$19","v":{"v":1.9540498442367602,"d":"2.0"}},{"$f":"D63*1/13","v":{"v":1,"d":"1.0"}},{"$f":"0.12*D63","v":{"v":1.56,"d":"1.6"}},1,{"$f":"ROUND(I63/$G63,2)","v":0.55},{"$f":"ROUND(K63/$G63,2)","v":0.65},{"$f":"ROUND(M63/$G63,2)","v":0.18},{"$f":"ROUND(G63/D63,2)","v":{"v":0.6,"d":"0.60"}},{"$f":"H63/D63","v":{"v":0.5193146417445483,"d":"0.52"}},{"$f":"ROUND(O63/P63,2)","v":1.13},{"$f":"ROUND(O63/Q63,2)","v":2.15},45,"40 - 50",{"$f":"I63*0.525","v":{"v":2.266717833079766,"d":"2.3"}},{"v":1.9493773364485987,"d":"1.9"},{"$f":"G63*100/E63","v":{"v":5.814892629353255,"d":"5.8"}},{"$nulls":4},{"$f":"18*$D63/13","v":{"v":18,"d":"18.0"}},{"$f":"10*$D63/13","v":{"v":10,"d":"10.0"}},null,5000,1000,50,null,null,{"v":70,"d":"< 70"},{"v":120,"d":"> 120"}]
[{"$f":"IF(C64=\"\",\"\",C64)","v":"Endmast ab 90 Kg LM für 850 g TZ*"},{"$f":"IF(G64=\"\",\" \",COUNTA($G$11:G63))","v":25},{"$f":"IF(Futterberechnung!$B$10=\"\",\"Endmast ab 90 Kg LM für 850 g TZ*\",IF(Futterberechnung!$B$10=\"w\",\"Endmast ab 90 Kg LM für 820 g TZ*\",IF(Futterberechnung!$B$10=\"m\",\"Endmast ab 90 Kg LM für 870 g TZ*\",\"Endmast ab 90 Kg LM für 850 g TZ*\")))","v":"Endmast ab 90 Kg LM für 850 g TZ*"},{"$f":"'Futterkurve Mast'!Q$7","v":{"v":13,"d":"13.0"}},{"$f":"IF(AND(Futterberechnung!$B$10=\"m\",'Futterkurve Mast'!$T$6=\"hp\"),(145*D64/13)-(145*D64/13)*0.03,IF(Futterberechnung!$B$10=\"m\",(140*D64/13)-(140*D64/13)*0.03,IF('Futterkurve Mast'!$T$6=\"HP\",145*D64/13,140*D64/13)))","v":140},{"$f":"ROUND(E64*0.86,0)","v":120},{"$f":"H64/0.86","v":{"v":7.97438490057297,"d":"8.0"}},{"$f":"IF(Futterberechnung!B$10=\" \",'Futterkurve Mast'!Q$33,IF(Futterberechnung!B$10=\"W\",'Futterkurve Mast'!Q$71,IF(Futterberechnung!B$10=\"m\",'Futterkurve Mast'!Q$107,'Futterkurve Mast'!Q$33)))","v":{"v":6.857971014492754,"d":"6.9"}},{"v":4.385911695315134,"d":"4.4"},{"v":3.7718840579710147,"d":"3.8"},{"v":5.18335018537243,"d":"5.2"},{"v":4.45768115942029,"d":"4.5"},{"v":1.4353892821031344,"d":"1.4"},{"v":1.2344347826086957,"d":"1.2"},{"$f":"Q64*2.15","v":{"v":4.374782608695653,"d":"4.4"}},{"$f":"O64/1.125","v":{"v":3.8886956521739133,"d":"3.9"}},{"$f":"'Futterkurve Mast'!Q$32","v":{"v":2.0347826086956524,"d":"2.0"}},{"$f":"D64*1/13","v":{"v":1,"d":"1.0"}},{"$f":"0.12*D64","v":{"v":1.56,"d":"1.6"}},1,{"$f":"ROUND(I64/$G64,2)","v":0.55},{"$f":"ROUND(K64/$G64,2)","v":0.65},{"$f":"ROUND(M64/$G64,2)","v":0.18},{"$f":"ROUND(G64/D64,2)","v":0.61},{"$f":"H64/D64","v":{"v":0.527536231884058,"d":"0.53"}},{"$f":"ROUND(O64/P64,2)","v":1.13},{"$f":"ROUND(O64/Q64,2)","v":2.15},45,"40 - 50",{"v":2.302603640040445,"d":"2.3"},{"v":1.9802391304347828,"d":"2.0"},{"$f":"G64*100/E64","v":{"v":5.695989214694978,"d":"5.7"}},{"$nulls":4},{"$f":"18*$D64/13","v":{"v":18,"d":"18.0"}},{"$f":"10*$D64/13","v":{"v":10,"d":"10.0"}},null,5000,1000,50,null,null,{"v":70,"d":"< 70"},{"v":120,"d":"> 120"}]
[{"$f":"IF(C65=\"\",\"\",C65)","v":"Endmast ab 90 Kg LM für 950 g TZ*"},{"$f":"IF(G65=\"\",\" \",COUNTA($G$11:G64))","v":26},{"$f":"IF(Futterberechnung!$B$10=\"\",\"Endmast ab 90 Kg LM für 950 g TZ*\",IF(Futterberechnung!$B$10=\"w\",\"Endmast ab 90 Kg LM für 920 g TZ*\",IF(Futterberechnung!$B$10=\"m\",\"Endmast ab 90 Kg LM für 970 g TZ*\",\"Endmast ab 90 Kg LM für 950 g TZ*\")))","v":"Endmast ab 90 Kg LM für 950 g TZ*"},{"$f":"'Futterkurve Mast'!Q$7","v":{"v":13,"d":"13.0"}},{"$f":"IF(AND(Futterberechnung!$B$10=\"m\",'Futterkurve Mast'!$T$6=\"hp\"),(150*D65/13)-(150*D65/13)*0.03,IF(Futterberechnung!$B$10=\"m\",(145*D65/13)-(145*D65/13)*0.03,IF('Futterkurve Mast'!$T$6=\"HP\",150*D65/13,145*D65/13)))","v":145},{"$f":"ROUND(E65*0.86,0)","v":125},{"$f":"H65/0.86","v":{"v":8.213587949832988,"d":"8.2"}},{"$f":"IF(Futterberechnung!B$10=\" \",'Futterkurve Mast'!Q$46,IF(Futterberechnung!B$10=\"W\",'Futterkurve Mast'!Q$82,IF(Futterberechnung!B$10=\"M\",'Futterkurve Mast'!Q$118,'Futterkurve Mast'!Q$46)))","v":{"v":7.06368563685637,"d":"7.1"}},{"v":4.517473372408143,"d":"4.5"},{"v":3.885027100271004,"d":"3.9"},{"v":5.338832167391442,"d":"5.3"},{"v":4.59139566395664,"d":"4.6"},{"v":1.4784458309699378,"d":"1.5"},{"v":1.2714634146341466,"d":"1.3"},{"v":4.48790650406504,"d":"4.5"},{"v":3.9892502258355913,"d":"4.0"},{"$f":"'Futterkurve Mast'!Q$45","v":{"v":2.08739837398374,"d":"2.1"}},{"$f":"D65*1/13","v":{"v":1,"d":"1.0"}},{"$f":"0.12*D65","v":{"v":1.56,"d":"1.6"}},1,{"$f":"ROUND(I65/$G65,2)","v":0.55},{"$f":"ROUND(K65/$G65,2)","v":0.65},{"$f":"ROUND(M65/$G65,2)","v":0.18},{"$f":"ROUND(G65/D65,2)","v":0.63},{"$f":"H65/D65","v":{"v":0.5433604336043362,"d":"0.54"}},{"$f":"ROUND(O65/P65,2)","v":1.13},{"$f":"ROUND(O65/Q65,2)","v":2.15},45,"40 - 50",{"v":2.371673520514275,"d":"2.4"},{"v":2.0396392276422772,"d":"2.0"},{"$f":"G65*100/E65","v":{"v":5.664543413677923,"d":"5.7"}},{"$nulls":4},{"$f":"18*$D65/13","v":{"v":18,"d":"18.0"}},{"$f":"10*$D65/13","v":{"v":10,"d":"10.0"}},null,5000,1000,50,null,null,{"v":70,"d":"< 70"},{"v":120,"d":"> 120"}]
[]
[{"$f":"IF(C67=\"\",\"\",C67)","v":"ab 100 kg LM"},{"$f":"IF(G67=\"\",\" \",COUNTA($G$11:G46))","v":" "},"ab 100 kg LM"]
[{"$f":"IF(C68=\"\",\"\",C68)","v":"Endmast ab 100 Kg LM für 750 g TZ*"},{"$f":"IF(G68=\"\",\" \",COUNTA($G$11:G67))","v":27},{"$f":"IF(Futterberechnung!$B$10=\"\",\"Endmast ab 100 Kg LM für 750 g TZ*\",IF(Futterberechnung!$B$10=\"w\",\"Endmast ab 100 Kg LM für 720 g TZ*\",IF(Futterberechnung!$B$10=\"m\",\"Endmast ab 100 Kg LM für 770 g TZ*\",\"Endmast ab 100 Kg LM für 750 g TZ*\")))","v":"Endmast ab 100 Kg LM für 750 g TZ*"},{"$f":"'Futterkurve Mast'!Q$7","v":{"v":13,"d":"13.0"}},{"$f":"IF(AND(Futterberechnung!$B$10=\"m\",'Futterkurve Mast'!$T$6=\"hp\"),(135*D68/13)-(135*D68/13)*0.03,IF(Futterberechnung!$B$10=\"m\",(130*D68/13)-(130*D68/13)*0.03,IF('Futterkurve Mast'!$T$6=\"HP\",135*D68/13,130*D68/13)))","v":130},{"$f":"ROUND(E68*0.855,0)","v":111},{"$f":"H68/0.855","v":{"v":7.649267200924121,"d":"7.6"}},{"$f":"IF(Futterberechnung!B$10=\" \",'Futterkurve Mast'!S$20,IF(Futterberechnung!B$10=\"W\",'Futterkurve Mast'!S$60,IF(Futterberechnung!B$10=\"M\",'Futterkurve Mast'!S$96,'Futterkurve Mast'!S$20)))","v":{"v":6.540123456790123,"d":"6.5"}},{"$f":"G68*0.55","v":{"v":4.207096960508267,"d":"4.2"}},{"v":3.5970679012345683,"d":"3.6"},{"$f":"G68*0.65","v":{"v":4.972023680600679,"d":"5.0"}},{"v":4.25108024691358,"d":"4.3"},{"$f":"G68*0.18","v":{"v":1.3768680961663418,"d":"1.4"}},{"v":1.1772222222222222,"d":"1.2"},{"$f":"Q68*2.2","v":{"v":4.038425925925926,"d":"4.0"}},{"$f":"O68/1.125","v":{"v":3.589711934156379,"d":"3.6"}},{"$f":"'Futterkurve Mast'!S$19","v":{"v":1.8356481481481481,"d":"1.8"}},{"$f":"D68*1/13","v":{"v":1,"d":"1.0"}},{"$f":"0.12*D68","v":{"v":1.56,"d":"1.6"}},1,{"$f":"ROUND(I68/$G68,2)","v":0.55},{"$f":"ROUND(K68/$G68,2)","v":0.65},{"$f":"ROUND(M68/$G68,2)","v":0.18},{"$f":"ROUND(G68/D68,2)","v":0.59},{"$f":"H68/D68","v":{"v":0.5030864197530864,"d":"0.50"}},{"$f":"ROUND(O68/P68,2)","v":1.13},{"$f":"ROUND(O68/Q68,2)","v":{"v":2.2,"d":"2.20"}},45,"40 - 50",{"$f":"I68*0.525","v":{"v":2.20872590426684,"d":"2.2"}},{"v":1.8884606481481485,"d":"1.9"},{"$f":"G68*100/E68","v":{"v":5.884051693018555,"d":"5.9"}},{"$nulls":4},{"$f":"18*$D68/13","v":{"v":18,"d":"18.0"}},{"$f":"10*$D68/13","v":{"v":10,"d":"10.0"}},null,5000,1000,50,null,null,{"v":70,"d":"< 70"},{"v":120,"d":"> 120"}]
[{"$f":"IF(C69=\"\",\"\",C69)","v":"Endmast ab 100 Kg LM für 850 g TZ*"},{"$f":"IF(G69=\"\",\" \",COUNTA($G$11:G68))","v":28},{"$f":"IF(Futterberechnung!$B$10=\"\",\"Endmast ab 100 Kg LM für 850 g TZ*\",IF(Futterberechnung!$B$10=\"w\",\"Endmast ab 100 Kg LM für 820 g TZ*\",IF(Futterberechnung!$B$10=\"m\",\"Endmast ab 100 Kg LM für 870 g TZ*\",\"Endmast ab 100 Kg LM für 850 g TZ*\")))","v":"Endmast ab 100 Kg LM für 850 g TZ*"},{"$f":"'Futterkurve Mast'!Q$7","v":{"v":13,"d":"13.0"}},{"$f":"IF(AND(Futterberechnung!$B$10=\"m\",'Futterkurve Mast'!$T$6=\"hp\"),(140*D69/13)-(140*D69/13)*0.03,IF(Futterberechnung!$B$10=\"m\",(135*D69/13)-(135*D69/13)*0.03,IF('Futterkurve Mast'!$T$6=\"HP\",140*D69/13,135*D69/13)))","v":135},{"$f":"ROUND(E69*0.855,0)","v":115},{"$f":"H69/0.855","v":{"v":8.036758563074352,"d":"8.0"}},{"$f":"IF(Futterberechnung!B$10=\" \",'Futterkurve Mast'!S$33,IF(Futterberechnung!B$10=\"W\",'Futterkurve Mast'!S$71,IF(Futterberechnung!B$10=\"m\",'Futterkurve Mast'!S$107,'Futterkurve Mast'!S$33)))","v":{"v":6.871428571428571,"d":"6.9"}},{"v":4.420217209690894,"d":"4.4"},{"v":3.7792857142857144,"d":"3.8"},{"v":5.223893065998329,"d":"5.2"},{"v":4.466428571428572,"d":"4.5"},{"v":1.4466165413533834,"d":"1.4"},{"v":1.2368571428571427,"d":"1.2"},{"$f":"Q69*2.2","v":{"v":4.167428571428571,"d":"4.2"}},{"$f":"O69/1.125","v":{"v":3.7043809523809523,"d":"3.7"}},{"$f":"'Futterkurve Mast'!S$32","v":{"v":1.894285714285714,"d":"1.9"}},{"$f":"D69*1/13","v":{"v":1,"d":"1.0"}},{"$f":"0.12*D69","v":{"v":1.56,"d":"1.6"}},1,{"$f":"ROUND(I69/$G69,2)","v":0.55},{"$f":"ROUND(K69/$G69,2)","v":0.65},{"$f":"ROUND(M69/$G69,2)","v":0.18},{"$f":"ROUND(G69/D69,2)","v":0.62},{"$f":"H69/D69","v":{"v":0.5285714285714286,"d":"0.53"}},{"$f":"ROUND(O69/P69,2)","v":1.13},{"$f":"ROUND(O69/Q69,2)","v":{"v":2.2,"d":"2.20"}},45,"40 - 50",{"v":2.3206140350877194,"d":"2.3"},{"v":1.9841250000000001,"d":"2.0"},{"$f":"G69*100/E69","v":{"v":5.9531544911661864,"d":"6.0"}},{"$nulls":4},{"$f":"18*$D69/13","v":{"v":18,"d":"18.0"}},{"$f":"10*$D69/13","v":{"v":10,"d":"10.0"}},null,5000,1000,50,null,null,{"v":70,"d":"< 70"},{"v":120,"d":"> 120"}]
[{"$f":"IF(C70=\"\",\"\",C70)","v":"Endmast ab 100 Kg LM für 950 g TZ*"},{"$f":"IF(G70=\"\",\" \",COUNTA($G$11:G69))","v":29},{"$f":"IF(Futterberechnung!$B$10=\"\",\"Endmast ab 100 Kg LM für 950 g TZ*\",IF(Futterberechnung!$B$10=\"w\",\"Endmast ab 100 Kg LM für 920 g TZ*\",IF(Futterberechnung!$B$10=\"m\",\"Endmast ab 100 Kg LM für 970 g TZ*\",\"Endmast ab 100 Kg LM für 950 g TZ*\")))","v":"Endmast ab 100 Kg LM für 950 g TZ*"},{"$f":"'Futterkurve Mast'!Q$7","v":{"v":13,"d":"13.0"}},{"$f":"IF(AND(Futterberechnung!$B$10=\"m\",'Futterkurve Mast'!$T$6=\"hp\"),(145*D70/13)-(145*D70/13)*0.03,IF(Futterberechnung!$B$10=\"m\",(140*D70/13)-(140*D70/13)*0.03,IF('Futterkurve Mast'!$T$6=\"HP\",145*D70/13,140*D70/13)))","v":140},{"$f":"ROUND(E70*0.855,0)","v":120},{"$f":"H70/0.855","v":{"v":8.293460925039872,"d":"8.3"}},{"$f":"IF(Futterberechnung!B$10=\" \",'Futterkurve Mast'!S$46,IF(Futterberechnung!B$10=\"W\",'Futterkurve Mast'!S$82,IF(Futterberechnung!B$10=\"M\",'Futterkurve Mast'!S$118,'Futterkurve Mast'!S$46)))","v":{"v":7.090909090909091,"d":"7.1"}},{"v":4.56140350877193,"d":"4.6"},{"v":3.9000000000000004,"d":"3.9"},{"v":5.390749601275917,"d":"5.4"},{"v":4.609090909090909,"d":"4.6"},{"v":1.4928229665071768,"d":"1.5"},{"v":1.2763636363636364,"d":"1.3"},{"v":4.339705882352941,"d":"4.3"},{"v":3.857516339869281,"d":"3.9"},{"$f":"'Futterkurve Mast'!S$45","v":{"v":1.9725935828877004,"d":"2.0"}},{"$f":"D70*1/13","v":{"v":1,"d":"1.0"}},{"$f":"0.12*D70","v":{"v":1.56,"d":"1.6"}},1,{"$f":"ROUND(I70/$G70,2)","v":0.55},{"$f":"ROUND(K70/$G70,2)","v":0.65},{"$f":"ROUND(M70/$G70,2)","v":0.18},{"$f":"ROUND(G70/D70,2)","v":0.64},{"$f":"H70/D70","v":{"v":0.5454545454545454,"d":"0.55"}},{"$f":"ROUND(O70/P70,2)","v":1.13},{"$f":"ROUND(O70/Q70,2)","v":{"v":2.2,"d":"2.20"}},45,"40 - 50",{"v":2.3947368421052633,"d":"2.4"},{"v":2.0475000000000003,"d":"2.0"},{"$f":"G70*100/E70","v":{"v":5.923900660742765,"d":"5.9"}},{"$nulls":4},{"$f":"18*$D70/13","v":{"v":18,"d":"18.0"}},{"$f":"10*$D70/13","v":{"v":10,"d":"10.0"}},null,5000,1000,50,null,null,{"v":70,"d":"< 70"},{"v":120,"d":"> 120"}]
[]
["ab 110 kg LM",{"$f":"IF(G72=\"\",\" \",COUNTA($G$11:G60))","v":" "},"ab 110 kg LM"]
["Endmast ab 110 Kg LM für 750 g TZ*",{"$f":"IF(G73=\"\",\" \",COUNTA($G$11:G72))","v":30},{"$f":"IF(Futterberechnung!$B$10=\"\",\"Endmast ab 110 Kg LM für 750 g TZ*\",IF(Futterberechnung!$B$10=\"w\",\"Endmast ab 110 Kg LM für 720 g TZ*\",IF(Futterberechnung!$B$10=\"m\",\"Endmast ab 110 Kg LM für 770 g TZ*\",\"Endmast ab 110 Kg LM für 750 g TZ*\")))","v":"Endmast ab 110 Kg LM für 750 g TZ*"},{"$f":"'Futterkurve Mast'!Q$7","v":{"v":13,"d":"13.0"}},{"$f":"IF(AND(Futterberechnung!$B$10=\"m\",'Futterkurve Mast'!$T$6=\"hp\"),(130*D73/13)-(130*D73/13)*0.03,IF(Futterberechnung!$B$10=\"m\",(125*D73/13)-(125*D73/13)*0.03,IF('Futterkurve Mast'!$T$6=\"HP\",130*D73/13,125*D73/13)))","v":125},{"$f":"ROUND(E73*0.85,0)","v":106},{"$f":"H73/0.85","v":{"v":7.458823529411765,"d":"7.5"}},{"$f":"IF(Futterberechnung!B$10=\" \",'Futterkurve Mast'!U$20,IF(Futterberechnung!B$10=\"W\",'Futterkurve Mast'!U$60,IF(Futterberechnung!B$10=\"M\",'Futterkurve Mast'!U$96,'Futterkurve Mast'!U$20)))","v":{"v":6.34,"d":"6.3"}},{"$f":"G73*0.55","v":{"v":4.102352941176471,"d":"4.1"}},{"v":3.487,"d":"3.5"},{"$f":"G73*0.65","v":{"v":4.848235294117647,"d":"4.8"}},{"v":4.121,"d":"4.1"},{"$f":"G73*0.18","v":{"v":1.3425882352941176,"d":"1.3"}},{"v":1.1412,"d":"1.1"},{"$f":"Q73*2.2","v":{"v":3.6960000000000006,"d":"3.7"}},{"$f":"O73/1.16","v":{"v":3.1862068965517247,"d":"3.2"}},{"$f":"'Futterkurve Mast'!U$19","v":{"v":1.6800000000000002,"d":"1.7"}},{"$f":"D73*1/13","v":{"v":1,"d":"1.0"}},{"$f":"0.12*D73","v":{"v":1.56,"d":"1.6"}},1,{"$f":"ROUND(I73/$G73,2)","v":0.55},{"$f":"ROUND(K73/$G73,2)","v":0.65},{"$f":"ROUND(M73/$G73,2)","v":0.18},{"$f":"ROUND(G73/D73,2)","v":0.57},{"$f":"H73/D73","v":{"v":0.4876923076923077,"d":"0.49"}},{"$f":"ROUND(O73/P73,2)","v":1.16},{"$f":"ROUND(O73/Q73,2)","v":{"v":2.2,"d":"2.20"}},45,"40 - 50",{"$f":"I73*0.525","v":{"v":2.1537352941176473,"d":"2.2"}},{"v":1.830675,"d":"1.8"},{"$f":"G73*100/E73","v":{"v":5.9670588235294115,"d":"6.0"}},{"$nulls":4},{"$f":"18*$D73/13","v":{"v":18,"d":"18.0"}},{"$f":"10*$D73/13","v":{"v":10,"d":"10.0"}},null,5000,1000,50,null,null,{"v":70,"d":"< 70"},{"v":120,"d":"> 120"}]
["Endmast ab 110 Kg LM für 850 g TZ*",{"$f":"IF(G74=\"\",\" \",COUNTA($G$11:G73))","v":31},{"$f":"IF(Futterberechnung!$B$10=\"\",\"Endmast ab 110 Kg LM für 850 g TZ*\",IF(Futterberechnung!$B$10=\"w\",\"Endmast ab 110 Kg LM für 820 g TZ*\",IF(Futterberechnung!$B$10=\"m\",\"Endmast ab 110 Kg LM für 870 g TZ*\",\"Endmast ab 110 Kg LM für 850 g TZ*\")))","v":"Endmast ab 110 Kg LM für 850 g TZ*"},{"$f":"'Futterkurve Mast'!Q$7","v":{"v":13,"d":"13.0"}},{"$f":"IF(AND(Futterberechnung!$B$10=\"m\",'Futterkurve Mast'!$T$6=\"hp\"),(135*D74/13)-(135*D74/13)*0.03,IF(Futterberechnung!$B$10=\"m\",(130*D74/13)-(130*D74/13)*0.03,IF('Futterkurve Mast'!$T$6=\"HP\",135*D74/13,130*D74/13)))","v":130},{"$f":"ROUND(E74*0.85,0)","v":111},{"$f":"H74/0.85","v":{"v":7.951203208556151,"d":"8.0"}},{"$f":"IF(Futterberechnung!B$10=\" \",'Futterkurve Mast'!U$33,IF(Futterberechnung!B$10=\"W\",'Futterkurve Mast'!U$71,IF(Futterberechnung!B$10=\"m\",'Futterkurve Mast'!U$107,'Futterkurve Mast'!U$33)))","v":{"v":6.7585227272727275,"d":"6.8"}},{"v":4.373161764705883,"d":"4.4"},{"v":3.7171875000000005,"d":"3.7"},{"v":5.168282085561498,"d":"5.2"},{"v":4.393039772727273,"d":"4.4"},{"v":1.4312165775401071,"d":"1.4"},{"v":1.216534090909091,"d":"1.2"},{"$f":"Q74*2.2","v":{"v":3.8837500000000005,"d":"3.9"}},{"$f":"O74/1.16","v":{"v":3.3480603448275867,"d":"3.3"}},{"$f":"'Futterkurve Mast'!U$32","v":{"v":1.7653409090909091,"d":"1.8"}},{"$f":"D74*1/13","v":{"v":1,"d":"1.0"}},{"$f":"0.12*D74","v":{"v":1.56,"d":"1.6"}},1,{"$f":"ROUND(I74/$G74,2)","v":0.55},{"$f":"ROUND(K74/$G74,2)","v":0.65},{"$f":"ROUND(M74/$G74,2)","v":0.18},{"$f":"ROUND(G74/D74,2)","v":0.61},{"$f":"H74/D74","v":{"v":0.5198863636363636,"d":"0.52"}},{"$f":"ROUND(O74/P74,2)","v":1.16},{"$f":"ROUND(O74/Q74,2)","v":{"v":2.2,"d":"2.20"}},45,"40 - 50",{"v":2.2959099264705887,"d":"2.3"},{"v":1.9515234375000003,"d":"2.0"},{"$f":"G74*100/E74","v":{"v":6.116310160427808,"d":"6.1"}},{"$nulls":4},{"$f":"18*$D74/13","v":{"v":18,"d":"18.0"}},{"$f":"10*$D74/13","v":{"v":10,"d":"10.0"}},null,5000,1000,50,null,null,{"v":70,"d":"< 70"},{"v":120,"d":"> 120"}]
["Endmast ab 110 Kg LM für 950 g TZ*",{"$f":"IF(G75=\"\",\" \",COUNTA($G$11:G74))","v":32},{"$f":"IF(Futterberechnung!$B$10=\"\",\"Endmast ab 110 Kg LM für 950 g TZ*\",IF(Futterberechnung!$B$10=\"w\",\"Endmast ab 110 Kg LM für 920 g TZ*\",IF(Futterberechnung!$B$10=\"m\",\"Endmast ab 110 Kg LM für 970 g TZ*\",\"Endmast ab 110 Kg LM für 950 g TZ*\")))","v":"Endmast ab 110 Kg LM für 950 g TZ*"},{"$f":"'Futterkurve Mast'!Q$7","v":{"v":13,"d":"13.0"}},{"$f":"IF(AND(Futterberechnung!$B$10=\"m\",'Futterkurve Mast'!$T$6=\"hp\"),(140*D75/13)-(140*D75/13)*0.03,IF(Futterberechnung!$B$10=\"m\",(135*D75/13)-(135*D75/13)*0.03,IF('Futterkurve Mast'!$T$6=\"HP\",140*D75/13,135*D75/13)))","v":135},{"$f":"ROUND(E75*0.85,0)","v":115},{"$f":"H75/0.85","v":{"v":8.375350140056023,"d":"8.4"}},{"$f":"IF(Futterberechnung!B$10=\" \",'Futterkurve Mast'!U$46,IF(Futterberechnung!B$10=\"W\",'Futterkurve Mast'!U$82,IF(Futterberechnung!B$10=\"M\",'Futterkurve Mast'!U$118,'Futterkurve Mast'!U$46)))","v":{"v":7.1190476190476195,"d":"7.1"}},{"v":4.606442577030813,"d":"4.6"},{"v":3.915476190476191,"d":"3.9"},{"v":5.443977591036415,"d":"5.4"},{"v":4.627380952380953,"d":"4.6"},{"v":1.507563025210084,"d":"1.5"},{"v":1.2814285714285714,"d":"1.3"},{"v":4.047883597883598,"d":"4.0"},{"$f":"O75/1.16","v":{"v":3.489554825761723,"d":"3.5"}},{"$f":"'Futterkurve Mast'!U$45","v":{"v":1.83994708994709,"d":"1.8"}},{"$f":"D75*1/13","v":{"v":1,"d":"1.0"}},{"$f":"0.12*D75","v":{"v":1.56,"d":"1.6"}},1,{"$f":"ROUND(I75/$G75,2)","v":0.55},{"$f":"ROUND(K75/$G75,2)","v":0.65},{"$f":"ROUND(M75/$G75,2)","v":0.18},{"$f":"ROUND(G75/D75,2)","v":0.64},{"$f":"H75/D75","v":{"v":0.5476190476190477,"d":"0.55"}},{"$f":"ROUND(O75/P75,2)","v":1.16},{"$f":"ROUND(O75/Q75,2)","v":{"v":2.2,"d":"2.20"}},45,"40 - 50",{"v":2.418382352941177,"d":"2.4"},{"v":2.0556250000000005,"d":"2.1"},{"$f":"G75*100/E75","v":{"v":6.203963066708165,"d":"6.2"}},{"$nulls":4},{"$f":"18*$D75/13","v":{"v":18,"d":"18.0"}},{"$f":"10*$D75/13","v":{"v":10,"d":"10.0"}},null,5000,1000,50,null,null,{"v":70,"d":"< 70"},{"v":120,"d":"> 120"}]
[]
[{"$f":"IF(C77=\"\",\"\",C77)","v":"Ebermast nach Rechenmeister NRW"},{"$f":"IF(G77=\"\",\" \",COUNTA($G$11:G76))","v":" "},"Ebermast nach Rechenmeister NRW"]
[]
[{"$f":"IF(C79=\"\",\"\",C79)","v":"Vormast Eber 30 - 40 kg LM für 850 g TZ*"},{"$f":"IF(G79=\"\",\" \",COUNTA($G$11:G76))","v":33},"Vormast Eber 30 - 40 kg LM für 850 g TZ*",{"$f":"'Futterkurve Mast'!E$7","v":13.4},{"$f":"175*D79/13.4","v":175},{"$f":"ROUND(E79*0.89,0)","v":156},{"$f":"H79/0.89","v":{"v":12.57191011235955,"d":"12.6"}},{"$f":"'Futterkurve Mast'!E132","v":{"v":11.189,"d":"11.2"}},{"$f":"G79*0.56","v":{"v":7.040269662921348,"d":"7.0"}},{"v":6.265840000000001,"d":"6.3"},{"$f":"G79*0.63","v":{"v":7.920303370786517,"d":"7.9"}},{"$f":"H79*0.63","v":{"v":7.04907,"d":"7.0"}},{"$f":"G79*0.18","v":{"v":2.2629438202247187,"d":"2.3"}},{"v":2.01402,"d":"2.0"},{"$f":"Q79*2.18","v":{"v":6.520535714285715,"d":"6.5"}},{"$f":"O79/1.3","v":{"v":5.0157967032967035,"d":"5.0"}},{"$f":"Q31","v":{"v":2.9910714285714284,"d":"3.0"}},{"$f":"D79*1/13.4","v":{"v":1,"d":"1.0"}},{"$f":"0.15*D79","v":{"v":2.01,"d":"2.0"}},1,{"$f":"ROUND(I79/$G79,2)","v":0.56},{"$f":"ROUND(K79/$G79,2)","v":0.63},{"$f":"ROUND(M79/$G79,2)","v":0.18},{"$f":"ROUND(G79/D79,2)","v":0.94},{"$f":"H79/D79","v":{"v":0.835,"d":"0.84"}},{"$f":"ROUND(O79/P79,2)","v":{"v":1.3,"d":"1.30"}},{"$f":"ROUND(O79/Q79,2)","v":2.18},40,"30 - 50",{"$f":"I79*0.525","v":{"v":3.696141573033708,"d":"3.7"}},{"v":3.2895660000000007,"d":"3.3"},{"$f":"G79*100/E79","v":{"v":7.183948635634029,"d":"7.2"}},{"$nulls":4},{"$f":"18*$D79/13.4","v":{"v":18,"d":"18.0"}},{"$f":"10*$D79/13.4","v":{"v":10,"d":"10.0"}},null,6000,1500,60,null,null,{"v":70,"d":"< 70"},{"v":120,"d":"> 120"}]
["Anfangsmast Eber ab 40 kg LM für 850 g TZ*",{"$f":"IF(G80=\"\",\" \",COUNTA($G$11:G79))","v":34},"Anfangsmast Eber ab 40 kg LM für 850 g TZ*",{"$f":"'Futterkurve Mast'!G$7","v":13.2},{"$f":"170*D80/13.4","v":{"v":167.46268656716418,"d":"167"}},{"$f":"ROUND(E80*0.88,0)","v":147},{"$f":"H80/0.88","v":{"v":11.420454545454547,"d":"11.4"}},{"$f":"'Futterkurve Mast'!G132","v":{"v":10.05,"d":"10.1"}},{"v":6.395454545454546,"d":"6.4"},{"v":5.628000000000001,"d":"5.6"},{"$f":"G80*0.65","v":{"v":7.423295454545456,"d":"7.4"}},{"v":6.532500000000001,"d":"6.5"},{"v":2.055681818181818,"d":"2.1"},{"v":1.8090000000000002,"d":"1.8"},{"$f":"Q80*2.075","v":{"v":5.927686567164178,"d":"5.9"}},{"$f":"O80/1.28","v":{"v":4.631005130597014,"d":"4.6"}},{"$f":"2.9*D80/13.4","v":{"v":2.856716417910447,"d":"2.9"}},{"$f":"D80*1/13.4","v":{"v":0.9850746268656716,"d":"1.0"}},{"$f":"0.14*D80","v":{"v":1.848,"d":"1.8"}},1,0.56,0.65,0.18,0.87,{"v":0.7613636363636365,"d":"0.76"},1.28,2.08,40,"30 - 50",{"v":3.357613636363637,"d":"3.4"},{"v":2.9547000000000008,"d":"3.0"},{"v":6.819701020904231,"d":"6.8"},{"$nulls":4},{"$f":"18*$D80/13.4","v":{"v":17.73134328358209,"d":"17.7"}},{"$f":"10*$D80/13.4","v":{"v":9.850746268656716,"d":"9.9"}},null,6000,1500,60,null,null,{"v":70,"d":"< 70"},{"v":120,"d":"> 120"}]
["Anfangsmast Eber ab 50 kg LM für 850 g TZ*",{"$f":"IF(G81=\"\",\" \",COUNTA($G$11:G80))","v":35},"Anfangsmast Eber ab 50 kg LM für 850 g TZ*",{"$f":"'Futterkurve Mast'!G$7","v":13.2},{"$f":"165*D81/13.4","v":{"v":162.53731343283582,"d":"163"}},{"$f":"ROUND(E81*0.88,0)","v":143},{"$f":"H81/0.88","v":{"v":11.025,"d":"11.0"}},{"$f":"'Futterkurve Mast'!I132","v":{"v":9.702,"d":"9.7"}},{"$f":"G81*0.56","v":{"v":6.174,"d":"6.2"}},{"v":5.433120000000001,"d":"5.4"},{"$f":"G81*0.65","v":{"v":7.166250000000001,"d":"7.2"}},{"v":6.3063,"d":"6.3"},{"$f":"G81*0.18","v":{"v":1.9845,"d":"2.0"}},{"v":1.74636,"d":"1.7"},{"$f":"Q81*2.2","v":{"v":5.417910447761194,"d":"5.4"}},{"$f":"O81/1.23","v":{"v":4.404805242082272,"d":"4.4"}},{"$f":"2.5*D81/13.4","v":{"v":2.462686567164179,"d":"2.5"}},{"$f":"D81*1/13.4","v":{"v":0.9850746268656716,"d":"1.0"}},{"$f":"0.135*D81","v":{"v":1.782,"d":"1.8"}},1,0.56,0.65,0.18,0.84,{"v":0.735,"d":"0.74"},1.23,{"v":2.2,"d":"2.20"},40,"30 - 50",{"$f":"I81*0.525","v":{"v":3.24135,"d":"3.2"}},{"v":2.8523880000000004,"d":"2.9"},{"v":6.783057851239669,"d":"6.8"},{"$nulls":4},{"$f":"18*$D81/13.4","v":{"v":17.73134328358209,"d":"17.7"}},{"$f":"10*$D81/13.4","v":{"v":9.850746268656716,"d":"9.9"}},null,6000,1500,60,null,null,{"v":70,"d":"< 70"},{"v":120,"d":"> 120"}]
["Mittelmast Eber ab 60 kg LM für 850 g TZ*",{"$f":"IF(G82=\"\",\" \",COUNTA($G$11:G78))","v":33},"Mittelmast Eber ab 60 kg LM für 850 g TZ*",{"$f":"'Futterkurve Mast'!G$7","v":13.2},{"$f":"155*D82/13.4","v":{"v":152.6865671641791,"d":"153"}},{"$f":"ROUND(E82*0.88,0)","v":134},{"$f":"H82/0.88","v":{"v":9.99,"d":"10.0"}},{"$f":"'Futterkurve Mast'!K132","v":{"v":8.7912,"d":"8.8"}},{"v":5.5944,"d":"5.6"},{"v":4.923072,"d":"4.9"},{"v":6.4935,"d":"6.5"},{"v":5.7142800000000005,"d":"5.7"},{"v":1.7982,"d":"1.8"},{"v":1.5824159999999998,"d":"1.6"},{"$f":"Q82*2.2","v":{"v":5.201194029850746,"d":"5.2"}},{"$f":"O82/1.18","v":{"v":4.4077915507209715,"d":"4.4"}},{"$f":"2.4*D82/13.4","v":{"v":2.3641791044776115,"d":"2.4"}},{"$f":"D82*1/13","v":{"v":1.0153846153846153,"d":"1.0"}},{"$f":"0.125*D82","v":{"v":1.65,"d":"1.7"}},1,0.56,0.65,0.18,0.76,{"v":0.666,"d":"0.67"},1.18,{"v":2.2,"d":"2.20"},45,"40 - 50",{"v":2.9370600000000002,"d":"2.9"},{"v":2.5846128000000004,"d":"2.6"},{"v":6.542815249266862,"d":"6.5"},{"$nulls":4},{"$f":"18*$D82/13","v":{"v":18.276923076923076,"d":"18.3"}},{"$f":"10*$D82/13","v":{"v":10.153846153846153,"d":"10.2"}},null,5000,1000,50,null,null,{"v":70,"d":"< 70"},{"v":120,"d":"> 120"}]
["Mittelmast Eber ab 70 kg LM für 850 g TZ*",{"$f":"IF(G83=\"\",\" \",COUNTA($G$11:G79))","v":34},"Mittelmast Eber ab 70 kg LM für 850 g TZ*",{"$f":"'Futterkurve Mast'!M$7","v":{"v":13,"d":"13.0"}},{"$f":"155*D83/13.4","v":{"v":150.37313432835822,"d":"150"}},{"$f":"ROUND(E83*0.86,0)","v":129},{"$f":"H83/0.86","v":{"v":9.75,"d":"9.8"}},{"$f":"'Futterkurve Mast'!M132","v":{"v":8.385,"d":"8.4"}},{"v":5.460000000000001,"d":"5.5"},{"v":4.695600000000001,"d":"4.7"},{"v":6.3375,"d":"6.3"},{"v":5.4502500000000005,"d":"5.5"},{"v":1.755,"d":"1.8"},{"v":1.5092999999999999,"d":"1.5"},{"$f":"Q83*2.17","v":{"v":4.893571428571428,"d":"4.9"}},{"$f":"O83/1.125","v":{"v":4.349841269841269,"d":"4.3"}},{"$f":"Q52","v":{"v":2.2551020408163263,"d":"2.3"}},{"$f":"D83*1/13","v":{"v":1,"d":"1.0"}},{"$f":"0.12*D83","v":{"v":1.56,"d":"1.6"}},1,0.56,0.65,0.18,0.75,{"v":0.645,"d":"0.65"},1.13,2.17,45,"40 - 50",{"v":2.8665000000000007,"d":"2.9"},{"v":2.4651900000000007,"d":"2.5"},{"v":6.483870967741935,"d":"6.5"},{"$nulls":4},{"$f":"18*$D83/13","v":{"v":18,"d":"18.0"}},{"$f":"10*$D83/13","v":{"v":10,"d":"10.0"}},null,5000,1000,50,null,null,{"v":70,"d":"< 70"},{"v":120,"d":"> 120"}]
["Mittelmast Eber ab 80 kg LM für 850 g TZ*",{"$f":"IF(G84=\"\",\" \",COUNTA($G$11:G80))","v":35},"Mittelmast Eber ab 80 kg LM für 850 g TZ*",{"$f":"'Futterkurve Mast'!M$7","v":{"v":13,"d":"13.0"}},{"$f":"150*D84/13.4","v":{"v":145.52238805970148,"d":"146"}},{"$f":"ROUND(E84*0.86,0)","v":125},{"$f":"H84/0.86","v":{"v":9.372093023255815,"d":"9.4"}},{"$f":"'Futterkurve Mast'!O132","v":{"v":8.06,"d":"8.1"}},{"v":5.2483720930232565,"d":"5.2"},{"v":4.5136,"d":"4.5"},{"v":6.091860465116279,"d":"6.1"},{"v":5.239000000000001,"d":"5.2"},{"v":1.6869767441860466,"d":"1.7"},{"v":1.4508,"d":"1.5"},{"$f":"Q84*2.025","v":{"v":4.3677364864864865,"d":"4.4"}},{"$f":"O84/1.01","v":{"v":4.324491570778699,"d":"4.3"}},{"$f":"Q58","v":{"v":2.156906906906907,"d":"2.2"}},{"$f":"D84*1/13","v":{"v":1,"d":"1.0"}},{"$f":"0.12*D84","v":{"v":1.56,"d":"1.6"}},1,0.56,0.65,0.18,0.72,0.62,1.01,2.03,45,"40 - 50",{"v":2.75539534883721,"d":"2.8"},{"v":2.3696400000000004,"d":"2.4"},{"v":6.4403100775193804,"d":"6.4"},{"$nulls":4},{"$f":"18*$D84/13","v":{"v":18,"d":"18.0"}},{"$f":"10*$D84/13","v":{"v":10,"d":"10.0"}},null,5000,1000,50,null,null,{"v":70,"d":"< 70"},{"v":120,"d":"> 120"}]
["Endmast Eber ab 90 kg LM für 850 g TZ*",{"$f":"IF(G85=\"\",\" \",COUNTA($G$11:G84))","v":39},"Endmast Eber ab 90 kg LM für 850 g TZ*",{"$f":"'Futterkurve Mast'!Q$7","v":{"v":13,"d":"13.0"}},{"$f":"150*D85/13.4","v":{"v":145.52238805970148,"d":"146"}},{"$f":"ROUND(E85*0.86,0)","v":125},{"$f":"H85/0.86","v":{"v":8.918604651162791,"d":"8.9"}},{"$f":"'Futterkurve Mast'!Q132","v":{"v":7.67,"d":"7.7"}},{"v":4.994418604651163,"d":"5.0"},{"v":4.2952,"d":"4.3"},{"v":5.797093023255814,"d":"5.8"},{"v":4.9855,"d":"5.0"},{"v":1.6053488372093023,"d":"1.6"},{"v":1.3805999999999998,"d":"1.4"},{"$f":"Q85*2.25","v":{"v":4.396612149532711,"d":"4.4"}},{"$f":"O85/1.12","v":{"v":3.925546562082777,"d":"3.9"}},{"$f":"Q63","v":{"v":1.9540498442367602,"d":"2.0"}},{"$f":"D85*1/13","v":{"v":1,"d":"1.0"}},{"$f":"0.115*D85","v":{"v":1.495,"d":"1.5"}},1,0.56,0.65,0.18,0.69,0.59,1.12,2.25,45,"40 - 50",{"v":2.622069767441861,"d":"2.6"},{"v":2.25498,"d":"2.3"},{"v":6.128682170542636,"d":"6.1"},{"$nulls":4},{"$f":"18*$D85/13","v":{"v":18,"d":"18.0"}},{"$f":"10*$D85/13","v":{"v":10,"d":"10.0"}},null,5000,1000,50,null,null,{"v":70,"d":"< 70"},{"v":120,"d":"> 120"}]
[]
[{"$f":"IF(C87=\"\",\"\",C87)","v":"Sauen"},null,"Sauen",{"$nulls":24},"****","****"]
[]
["niedertragende Sauen sowie durchgängig für Altsauen",{"$f":"IF(G89=\"\",\" \",COUNTA($G$11:G87))","v":40},"niedertragende Sauen sowie durchgängig für Altsauen",{"v":12,"d":"12.0"},130,{"$f":"E89*0.79","v":{"v":102.7,"d":"103"}},{"$f":"H89/0.79","v":{"v":5.468354430379747,"d":"5.5"}},{"$f":"D89*0.36","v":{"v":4.32,"d":"4.3"}},{"$f":"G89*0.6","v":{"v":3.281012658227848,"d":"3.3"}},{"v":2.592,"d":"2.6"},{"$f":"G89*0.65","v":{"v":3.5544303797468353,"d":"3.6"}},{"v":2.8080000000000003,"d":"2.8"},{"$f":"G89*0.19","v":{"v":1.0389873417721518,"d":"1.0"}},{"v":0.8208000000000001,"d":"0.8"},{"$f":"Q89*2.75","v":5.5},{"$f":"D89*4/12","v":{"v":4,"d":"4.0"}},{"$f":"2*D89/12","v":{"v":2,"d":"2.0"}},{"$f":"D89*1/12","v":{"v":1,"d":"1.0"}},{"$f":"2*D89/12","v":{"v":2,"d":"2.0"}},1,{"$f":"ROUND(I89/$G89,2)","v":{"v":0.6,"d":"0.60"}},{"$f":"ROUND(K89/$G89,2)","v":0.65},{"$f":"ROUND(M89/$G89,2)","v":0.19},{"$f":"ROUND(G89/D89,2)","v":0.46},{"$f":"H89/D89","v":{"v":0.36000000000000004,"d":"0.36"}},{"$f":"ROUND(O89/P89,2)","v":1.38},{"$f":"ROUND(O89/Q89,2)","v":2.75},{"$f":"80*0.88","v":70.4},"≥ 70,4",{"$f":"I89*0.525","v":{"v":1.7225316455696202,"d":"1.7"}},{"v":1.3608,"d":"1.4"},{"$f":"G89*100/E89","v":{"v":4.206426484907497,"d":"4.2"}},43,340,55,{"$nulls":4},11000,1800,60,{"v":176,"d":"< 176"},null,{"v":80,"d":"< 80"},{"v":200,"d":"> 200"},{"v":150,"d":"> 150"}]
["hochtragende Sauen und alternativ für Jungsauen",{"$f":"IF(G90=\"\",\" \",COUNTA($G$11:G89))","v":41},"hochtragende Sauen und alternativ für Jungsauen",{"v":12,"d":"12.0"},140,{"$f":"E90*0.79","v":{"v":110.60000000000001,"d":"111"}},{"$f":"H90/0.79","v":{"v":6.075949367088608,"d":"6.1"}},{"$f":"D90*0.4","v":{"v":4.800000000000001,"d":"4.8"}},{"v":3.6455696202531644,"d":"3.6"},{"v":2.8800000000000003,"d":"2.9"},{"v":3.9493670886075956,"d":"3.9"},{"v":3.1200000000000006,"d":"3.1"},{"v":1.1544303797468356,"d":"1.2"},{"v":0.9120000000000001,"d":"0.9"},{"$f":"Q90*2.75","v":{"v":6.050000000000001,"d":"6.1"}},{"$f":"D90*4.5/12","v":4.5},{"$f":"2.2*D90/12","v":2.2},{"$f":"D90*1/12","v":{"v":1,"d":"1.0"}},{"$f":"2*D90/12","v":{"v":2,"d":"2.0"}},1,{"$f":"ROUND(I90/$G90,2)","v":{"v":0.6,"d":"0.60"}},{"$f":"ROUND(K90/$G90,2)","v":0.65},{"$f":"ROUND(M90/$G90,2)","v":0.19},{"$f":"ROUND(G90/D90,2)","v":0.51},{"$f":"H90/D90","v":{"v":0.4000000000000001,"d":"0.40"}},{"$f":"ROUND(O90/P90,2)","v":1.34},{"$f":"ROUND(O90/Q90,2)","v":2.75},{"$f":"80*0.88","v":70.4},"≥ 70,4",{"v":1.9139240506329114,"d":"1.9"},{"v":1.5120000000000002,"d":"1.5"},{"v":4.33996383363472,"d":"4.3"},43,340,55,{"$nulls":4},11000,1800,60,{"v":176,"d":"< 176"},null,{"v":80,"d":"< 80"},{"v":200,"d":"> 200"},{"v":150,"d":"> 150"}]
["tragende Sauen",{"$f":"IF(G91=\"\",\" \",COUNTA($G$11:G90))","v":42},"tragende Sauen",{"v":12,"d":"12.0"},140,{"$f":"E91*0.79","v":{"v":110.60000000000001,"d":"111"}},{"$f":"H91/0.79","v":{"v":6.075949367088608,"d":"6.1"}},{"$f":"D91*0.4","v":{"v":4.800000000000001,"d":"4.8"}},{"v":3.6455696202531644,"d":"3.6"},{"v":2.8800000000000003,"d":"2.9"},{"v":3.9493670886075956,"d":"3.9"},{"v":3.1200000000000006,"d":"3.1"},{"v":1.1544303797468356,"d":"1.2"},{"v":0.9120000000000001,"d":"0.9"},{"$f":"Q91*2.75","v":{"v":6.050000000000001,"d":"6.1"}},{"$f":"D91*4.5/12","v":4.5},{"$f":"2.2*D91/12","v":2.2},{"$f":"D91*1/12","v":{"v":1,"d":"1.0"}},{"$f":"2*D91/12","v":{"v":2,"d":"2.0"}},1,{"$f":"ROUND(I91/$G91,2)","v":{"v":0.6,"d":"0.60"}},{"$f":"ROUND(K91/$G91,2)","v":0.65},{"$f":"ROUND(M91/$G91,2)","v":0.19},{"$f":"ROUND(G91/D91,2)","v":0.51},{"$f":"H91/D91","v":{"v":0.4000000000000001,"d":"0.40"}},{"$f":"ROUND(O91/P91,2)","v":1.34},{"$f":"ROUND(O91/Q91,2)","v":2.75},{"$f":"80*0.88","v":70.4},"≥ 70,4",{"v":1.9139240506329114,"d":"1.9"},{"v":1.5120000000000002,"d":"1.5"},{"v":4.33996383363472,"d":"4.3"},43,340,55,{"$nulls":4},11000,1800,60,{"v":176,"d":"< 176"},null,{"v":80,"d":"< 80"},{"v":200,"d":"> 200"},{"v":150,"d":"> 150"}]
["",{"$f":"IF(G92=\"\",\" \",COUNTA($G$11:G91))","v":" "}]
["säugende Sauen  16,5 % RP",{"$f":"IF(G93=\"\",\" \",COUNTA($G$11:G92))","v":43},{"$f":"\"säugende Sauen \"&\" \"&E93/10&\" \"&\"% RP\"","v":"säugende Sauen  16,5 % RP"},{"v":13,"d":"13.0"},{"$f":"ROUND(165*D93/13,1)","v":165},{"$f":"E93*0.85","v":{"v":140.25,"d":"140"}},{"$f":"H93/0.85","v":{"v":9.176470588235293,"d":"9.2"}},{"$f":"D93*0.6","v":7.8},{"$f":"G93*0.6","v":{"v":5.505882352941176,"d":"5.5"}},{"$f":"H93*0.6","v":{"v":4.68,"d":"4.7"}},{"$f":"G93*0.65","v":{"v":5.964705882352941,"d":"6.0"}},{"$f":"H93*0.65","v":{"v":5.07,"d":"5.1"}},{"$f":"G93*0.19","v":{"v":1.7435294117647058,"d":"1.7"}},{"$f":"H93*0.19","v":{"v":1.482,"d":"1.5"}},{"$f":"7.5*D93/13","v":7.5},{"$f":"5.5*D93/13","v":5.5},{"$f":"3.3*D93/13","v":3.3},{"$f":"D93*1/13","v":{"v":1,"d":"1.0"}},{"$f":"2*D93/13","v":{"v":2,"d":"2.0"}},1,{"$f":"ROUND(I93/$G93,2)","v":{"v":0.6,"d":"0.60"}},{"$f":"ROUND(K93/$G93,2)","v":0.65},{"$f":"ROUND(M93/$G93,2)","v":0.19},{"$f":"ROUND(G93/D93,2)","v":0.71},{"$f":"H93/D93","v":{"v":0.6,"d":"0.60"}},{"$f":"ROUND(O93/P93,2)","v":1.36},{"$f":"ROUND(O93/Q93,2)","v":2.27},55.4,"≥ 45",{"v":2.8905882352941172,"d":"2.9"},{"v":2.457,"d":"2.5"},{"v":5.561497326203209,"d":"5.6"},55,375,60,{"$nulls":4},11000,1800,60,{"v":176,"d":"< 176"},null,{"v":70,"d":"< 70"},{"v":160,"d":"> 160"},{"v":120,"d":"> 120"}]
["säugende Sauen  17,5 % RP",{"$f":"IF(G94=\"\",\" \",COUNTA($G$11:G93))","v":44},{"$f":"\"säugende Sauen \"&\" \"&E94/10&\" \"&\"% RP\"","v":"säugende Sauen  17,5 % RP"},13.4,175,{"$f":"E94*0.85","v":{"v":148.75,"d":"149"}},{"$f":"H94/0.85","v":{"v":9.458823529411763,"d":"9.5"}},{"$f":"D94*0.6","v":{"v":8.04,"d":"8.0"}},{"$f":"G94*0.6","v":{"v":5.6752941176470575,"d":"5.7"}},{"$f":"H94*0.6","v":{"v":4.823999999999999,"d":"4.8"}},{"$f":"G94*0.65","v":{"v":6.148235294117646,"d":"6.1"}},{"$f":"H94*0.65","v":{"v":5.226,"d":"5.2"}},{"$f":"G94*0.19","v":{"v":1.797176470588235,"d":"1.8"}},{"$f":"H94*0.19","v":{"v":1.5275999999999998,"d":"1.5"}},{"$f":"7.5*D94/13","v":{"v":7.730769230769231,"d":"7.7"}},{"$f":"5.5*D94/13","v":{"v":5.6692307692307695,"d":"5.7"}},{"$f":"3.3*D94/13","v":{"v":3.4015384615384616,"d":"3.4"}},{"$f":"D94*1/13","v":{"v":1.0307692307692309,"d":"1.0"}},{"$f":"2*D94/13","v":{"v":2.0615384615384618,"d":"2.1"}},1,{"$f":"ROUND(I94/$G94,2)","v":{"v":0.6,"d":"0.60"}},{"$f":"ROUND(K94/$G94,2)","v":0.65},{"$f":"ROUND(M94/$G94,2)","v":0.19},{"$f":"ROUND(G94/D94,2)","v":0.71},{"$f":"H94/D94","v":{"v":0.5999999999999999,"d":"0.60"}},{"$f":"ROUND(O94/P94,2)","v":1.36},{"$f":"ROUND(O94/Q94,2)","v":2.27},55.4,"≥ 45",{"v":2.9795294117647053,"d":"3.0"},{"v":2.5325999999999995,"d":"2.5"},{"v":5.405042016806722,"d":"5.4"},55,375,60,{"$nulls":4},11000,1800,60,{"v":176,"d":"< 176"},null,{"v":70,"d":"< 70"},{"v":160,"d":"> 160"},{"v":120,"d":"> 120"}]
[]
["Jungsauen",null,"Jungsauen"]
[]
["Aufzuchtphase",{"$f":"IF(G98=\"\",\" \",COUNTA($G$11:G75))","v":" "},"Aufzuchtphase"]
["Jungsauen 30 - 40 kg LM für 600 g TZ",{"$f":"IF(G99=\"\",\" \",COUNTA($G$11:G98))","v":45},"Jungsauen 30 - 40 kg LM für 600 g TZ",{"v":13,"d":"13.0"},{"$f":"170*D99/13","v":170},{"$f":"E99*0.88","v":{"v":149.6,"d":"150"}},{"$f":"H99/0.88","v":{"v":9.897727272727273,"d":"9.9"}},{"$f":"D99*0.67","v":{"v":8.71,"d":"8.7"}},{"$f":"G99*0.56","v":{"v":5.542727272727274,"d":"5.5"}},{"v":4.877600000000001,"d":"4.9"},{"$f":"G99*0.65","v":{"v":6.433522727272728,"d":"6.4"}},{"v":5.661500000000001,"d":"5.7"},{"$f":"G99*0.18","v":{"v":1.7815909090909092,"d":"1.8"}},{"v":1.5678,"d":"1.6"},{"$f":"8*D99/13","v":{"v":8,"d":"8.0"}},{"$f":"O99/1.33","v":{"v":6.015037593984962,"d":"6.0"}},{"$f":"O99/2.65","v":{"v":3.018867924528302,"d":"3.0"}},{"$f":"D99*1/13","v":{"v":1,"d":"1.0"}},{"$f":"2*D99/13","v":{"v":2,"d":"2.0"}},1,{"$f":"ROUND(I99/$G99,2)","v":0.56},{"$f":"ROUND(K99/$G99,2)","v":0.65},{"$f":"ROUND(M99/$G99,2)","v":0.18},{"$f":"ROUND(G99/D99,2)","v":0.76},{"$f":"H99/D99","v":0.67},{"$f":"ROUND(O99/P99,2)","v":1.33},{"$f":"ROUND(O99/Q99,2)","v":2.65},44,"37 - 50",{"$f":"I99*0.525","v":{"v":2.909931818181819,"d":"2.9"}},{"v":2.5607400000000005,"d":"2.6"},{"$f":"G99*100/E99","v":{"v":5.822192513368985,"d":"5.8"}},{"$nulls":7},6000,1500,60,null,null,{"v":70,"d":"< 70"},{"v":120,"d":"> 120"}]
["Jungsauen 40 - 70 kg LM für 680 g TZ",{"$f":"IF(G100=\"\",\" \",COUNTA($G$11:G99))","v":46},"Jungsauen 40 - 70 kg LM für 680 g TZ",{"v":13,"d":"13.0"},{"$f":"160*D100/13","v":160},{"$f":"E100*0.87","v":{"v":139.2,"d":"139"}},{"$f":"H100/0.87","v":{"v":9.488505747126437,"d":"9.5"}},{"$f":"D100*0.635","v":{"v":8.255,"d":"8.3"}},{"v":5.313563218390805,"d":"5.3"},{"v":4.622800000000001,"d":"4.6"},{"v":6.167528735632184,"d":"6.2"},{"v":5.365750000000001,"d":"5.4"},{"v":1.7079310344827585,"d":"1.7"},{"v":1.4859,"d":"1.5"},{"$f":"7*D100/13","v":{"v":7,"d":"7.0"}},{"$f":"O100/1.28","v":{"v":5.46875,"d":"5.5"}},{"$f":"O100/2.55","v":{"v":2.7450980392156863,"d":"2.7"}},{"$f":"D100*1/13","v":{"v":1,"d":"1.0"}},{"$f":"2*D100/13","v":{"v":2,"d":"2.0"}},1,{"$f":"ROUND(I100/$G100,2)","v":0.56},{"$f":"ROUND(K100/$G100,2)","v":0.65},{"$f":"ROUND(M100/$G100,2)","v":0.18},{"$f":"ROUND(G100/D100,2)","v":0.73},{"$f":"H100/D100","v":{"v":0.635,"d":"0.64"}},{"$f":"ROUND(O100/P100,2)","v":1.28},{"$f":"ROUND(O100/Q100,2)","v":2.55},44,"38 - 50",{"v":2.7896206896551727,"d":"2.8"},{"v":2.4269700000000003,"d":"2.4"},{"$f":"G100*100/E100","v":{"v":5.930316091954023,"d":"5.9"}},{"$nulls":7},6000,1500,60,null,null,{"v":70,"d":"< 70"},{"v":120,"d":"> 120"}]
["Jungsauen 70 - 95 kg LM für 700 g TZ",{"$f":"IF(G101=\"\",\" \",COUNTA($G$11:G100))","v":47},"Jungsauen 70 - 95 kg LM für 700 g TZ",{"v":13,"d":"13.0"},{"$f":"150*D101/13","v":150},{"$f":"E101*0.86","v":129},{"$f":"H101/0.86","v":{"v":8.465116279069768,"d":"8.5"}},{"$f":"D101*0.56","v":{"v":7.280000000000001,"d":"7.3"}},{"v":4.74046511627907,"d":"4.7"},{"v":4.076800000000001,"d":"4.1"},{"v":5.5023255813953496,"d":"5.5"},{"v":4.732000000000001,"d":"4.7"},{"v":1.5237209302325583,"d":"1.5"},{"v":1.3104000000000002,"d":"1.3"},{"$f":"6*D101/13","v":{"v":6,"d":"6.0"}},{"$f":"O101/1.2","v":{"v":5,"d":"5.0"}},{"$f":"O101/2.4","v":2.5},{"$f":"D101*1/13","v":{"v":1,"d":"1.0"}},{"$f":"2*D101/13","v":{"v":2,"d":"2.0"}},1,{"$f":"ROUND(I101/$G101,2)","v":0.56},{"$f":"ROUND(K101/$G101,2)","v":0.65},{"$f":"ROUND(M101/$G101,2)","v":0.18},{"$f":"ROUND(G101/D101,2)","v":0.65},{"$f":"H101/D101","v":0.56},{"$f":"ROUND(O101/P101,2)","v":{"v":1.2,"d":"1.20"}},{"$f":"ROUND(O101/Q101,2)","v":{"v":2.4,"d":"2.40"}},45,"40 - 50",{"v":2.488744186046512,"d":"2.5"},{"v":2.140320000000001,"d":"2.1"},{"$f":"G101*100/E101","v":{"v":5.643410852713179,"d":"5.6"}},{"$nulls":7},6000,1500,60,null,null,{"v":70,"d":"< 70"},{"v":120,"d":"> 120"}]
[]
["Eingliederungsphase",{"$f":"IF(G103=\"\",\" \",COUNTA($G$11:G101))","v":" "},"Eingliederungsphase"]
[{"$f":"IF(C104=\"\",\"\",C104)","v":"Jungsauen 95 - 120 kg LM für 700 g TZ"},{"$f":"IF(G104=\"\",\" \",COUNTA($G$11:G103))","v":48},"Jungsauen 95 - 120 kg LM für 700 g TZ",{"v":13,"d":"13.0"},{"$f":"140*D104/13","v":140},{"$f":"E104*0.8","v":112},{"$f":"H104/0.8","v":6.5},{"$f":"D104*0.4","v":5.2},{"$f":"G104*0.56","v":{"v":3.6400000000000006,"d":"3.6"}},{"$f":"H104*0.56","v":{"v":2.9120000000000004,"d":"2.9"}},{"$f":"G104*0.65","v":{"v":4.2250000000000005,"d":"4.2"}},{"$f":"H104*0.65","v":{"v":3.3800000000000003,"d":"3.4"}},{"$f":"G104*0.18","v":{"v":1.17,"d":"1.2"}},{"$f":"H104*0.18","v":{"v":0.9359999999999999,"d":"0.9"}},{"$f":"6*D104/13","v":{"v":6,"d":"6.0"}},{"$f":"O104/1.2","v":{"v":5,"d":"5.0"}},{"$f":"O104/2.4","v":2.5},{"$f":"D104*1/13","v":{"v":1,"d":"1.0"}},{"$f":"2*D104/13","v":{"v":2,"d":"2.0"}},1,{"$f":"ROUND(I104/$G104,2)","v":0.56},{"$f":"ROUND(K104/$G104,2)","v":0.65},{"$f":"ROUND(M104/$G104,2)","v":0.18},{"$f":"ROUND(G104/D104,2)","v":{"v":0.5,"d":"0.50"}},{"$f":"H104/D104","v":{"v":0.4,"d":"0.40"}},{"$f":"ROUND(O104/P104,2)","v":{"v":1.2,"d":"1.20"}},{"$f":"ROUND(O104/Q104,2)","v":{"v":2.4,"d":"2.40"}},45,"40 - 80",{"$f":"I104*0.525","v":{"v":1.9110000000000005,"d":"1.9"}},{"$f":"J104*0.525","v":{"v":1.5288000000000002,"d":"1.5"}},{"$f":"G104*100/E104","v":{"v":4.642857142857143,"d":"4.6"}},{"$nulls":7},11000,1800,60,{"v":176,"d":"< 176"},null,{"v":70,"d":"< 70"},{"v":120,"d":"> 120"}]
["Jungsauen 120 - 140 kg LM für 725 g TZ",{"$f":"IF(G105=\"\",\" \",COUNTA($G$11:G104))","v":49},"Jungsauen 120 - 140 kg LM für 725 g TZ",{"v":13,"d":"13.0"},{"$f":"130*D105/13","v":130},{"$f":"E105*0.8","v":104},{"$f":"H105/0.8","v":{"v":5.76875,"d":"5.8"}},{"$f":"D105*0.355","v":{"v":4.615,"d":"4.6"}},{"$f":"G105*0.56","v":{"v":3.2305,"d":"3.2"}},{"$f":"H105*0.56","v":{"v":2.5844000000000005,"d":"2.6"}},{"$f":"G105*0.65","v":{"v":3.7496875,"d":"3.7"}},{"$f":"H105*0.65","v":{"v":2.99975,"d":"3.0"}},{"$f":"G105*0.18","v":{"v":1.0383749999999998,"d":"1.0"}},{"$f":"H105*0.18","v":{"v":0.8307,"d":"0.8"}},{"$f":"6*D105/13","v":{"v":6,"d":"6.0"}},{"$f":"O105/1.2","v":{"v":5,"d":"5.0"}},{"$f":"O105/2.4","v":2.5},{"$f":"D105*1/13","v":{"v":1,"d":"1.0"}},{"$f":"2*D105/13","v":{"v":2,"d":"2.0"}},1,{"$f":"ROUND(I105/$G105,2)","v":0.56},{"$f":"ROUND(K105/$G105,2)","v":0.65},{"$f":"ROUND(M105/$G105,2)","v":0.18},{"$f":"ROUND(G105/D105,2)","v":0.44},{"$f":"H105/D105","v":{"v":0.35500000000000004,"d":"0.36"}},{"$f":"ROUND(O105/P105,2)","v":{"v":1.2,"d":"1.20"}},{"$f":"ROUND(O105/Q105,2)","v":{"v":2.4,"d":"2.40"}},45,"40 - 80",{"$f":"I105*0.525","v":{"v":1.6960125000000001,"d":"1.7"}},{"$f":"J105*0.525","v":{"v":1.3568100000000003,"d":"1.4"}},{"$f":"G105*100/E105","v":{"v":4.4375,"d":"4.4"}},{"$nulls":7},11000,1800,60,{"v":176,"d":"< 176"},null,{"v":70,"d":"< 70"},{"v":120,"d":"> 120"}]
[]
["Eber (Zucht)",null,"Eber (Zucht)"]
[]
["Aufzuchtphase Jungeber (Zucht)",{"$f":"IF(G109=\"\",\" \",COUNTA($G$11:G98))","v":" "},"Aufzuchtphase Jungeber (Zucht)"]
["Jungeber 28 - 60 kg LM für 700 g TZ (Zucht)",{"$f":"IF(G110=\"\",\" \",COUNTA($G$11:G109))","v":50},"Jungeber 28 - 60 kg LM für 700 g TZ (Zucht)",12.2,{"$f":"185*D110/12.2","v":185},{"$f":"E110*0.88","v":{"v":162.8,"d":"163"}},{"$f":"H110/0.88","v":{"v":9.773863636363636,"d":"9.8"}},{"$f":"D110*0.705","v":{"v":8.600999999999999,"d":"8.6"}},{"$f":"G110*0.7","v":{"v":6.841704545454545,"d":"6.8"}},{"$f":"H110*0.56","v":{"v":4.81656,"d":"4.8"}},{"$f":"G110*0.65","v":{"v":6.353011363636363,"d":"6.4"}},{"v":5.590649999999999,"d":"5.6"},{"$f":"G110*0.18","v":{"v":1.7592954545454544,"d":"1.8"}},{"v":1.54818,"d":"1.5"},{"$f":"6.8*D110/12.2","v":6.8},{"$f":"O110/1.28","v":{"v":5.3125,"d":"5.3"}},{"$f":"O110/2.33","v":{"v":2.9184549356223175,"d":"2.9"}},{"$f":"D110*1/12.2","v":{"v":1,"d":"1.0"}},{"$f":"2.35*D110/12.2","v":{"v":2.35,"d":"2.4"}},1,{"$f":"ROUND(I110/$G110,2)","v":{"v":0.7,"d":"0.70"}},{"$f":"ROUND(K110/$G110,2)","v":0.65},{"$f":"ROUND(M110/$G110,2)","v":0.18},{"$f":"ROUND(G110/D110,2)","v":{"v":0.8,"d":"0.80"}},{"$f":"H110/D110","v":{"v":0.705,"d":"0.71"}},{"$f":"ROUND(O110/P110,2)","v":1.28},{"$f":"ROUND(O110/Q110,2)","v":2.33},50,"40 - 80",{"$f":"I110*0.525","v":{"v":3.591894886363636,"d":"3.6"}},{"$f":"J110*0.525","v":{"v":2.528694,"d":"2.5"}},{"$f":"G110*100/E110","v":{"v":5.283169533169533,"d":"5.3"}},{"$nulls":4},{"v":18,"d":"18.0"},{"v":10,"d":"10.0"},null,6000,1500,60,null,null,{"v":70,"d":"< 70"},{"v":120,"d":"> 120"}]
["Jungeber 60 - 90 kg LM für 850 g TZ (Zucht)",{"$f":"IF(G111=\"\",\" \",COUNTA($G$11:G110))","v":51},"Jungeber 60 - 90 kg LM für 850 g TZ (Zucht)",{"v":12,"d":"12.0"},{"$f":"180*D111/12","v":180},{"$f":"E111*0.87","v":{"v":156.6,"d":"157"}},{"$f":"H111/0.87","v":{"v":9.379310344827587,"d":"9.4"}},{"$f":"D111*0.68","v":{"v":8.16,"d":"8.2"}},{"$f":"G111*0.7","v":{"v":6.565517241379311,"d":"6.6"}},{"$f":"H111*0.56","v":{"v":4.5696,"d":"4.6"}},{"v":6.096551724137932,"d":"6.1"},{"v":5.304,"d":"5.3"},{"v":1.6882758620689657,"d":"1.7"},{"v":1.4687999999999999,"d":"1.5"},{"$f":"6.8*D111/12","v":6.8},{"$f":"O111/1.28","v":{"v":5.3125,"d":"5.3"}},{"$f":"O111/2.53","v":{"v":2.6877470355731226,"d":"2.7"}},{"$f":"D111*1/12","v":{"v":1,"d":"1.0"}},{"$f":"2.2*D111/12","v":2.2},1,{"$f":"ROUND(I111/$G111,2)","v":{"v":0.7,"d":"0.70"}},{"$f":"ROUND(K111/$G111,2)","v":0.65},{"$f":"ROUND(M111/$G111,2)","v":0.18},{"$f":"ROUND(G111/D111,2)","v":0.78},{"$f":"H111/D111","v":0.68},{"$f":"ROUND(O111/P111,2)","v":1.28},{"$f":"ROUND(O111/Q111,2)","v":2.53},60,"40 - 80",{"v":3.4468965517241386,"d":"3.4"},{"v":2.3990400000000003,"d":"2.4"},{"v":5.2107279693486594,"d":"5.2"},{"$nulls":4},{"v":18,"d":"18.0"},{"v":10,"d":"10.0"},null,6000,1500,60,null,null,{"v":70,"d":"< 70"},{"v":120,"d":"> 120"}]
["Jungeber 90 - 120 kg LM für 750 g TZ (Zucht)",{"$f":"IF(G112=\"\",\" \",COUNTA($G$11:G111))","v":52},"Jungeber 90 - 120 kg LM für 750 g TZ (Zucht)",11.6,{"$f":"175*D112/11.6","v":175},{"$f":"E112*0.85","v":{"v":148.75,"d":"149"}},{"$f":"H112/0.85","v":{"v":8.843294117647059,"d":"8.8"}},{"$f":"D112*0.648","v":{"v":7.5168,"d":"7.5"}},{"$f":"G112*0.7","v":{"v":6.19030588235294,"d":"6.2"}},{"$f":"H112*0.56","v":{"v":4.209408000000001,"d":"4.2"}},{"v":5.748141176470588,"d":"5.7"},{"v":4.8859200000000005,"d":"4.9"},{"v":1.5917929411764704,"d":"1.6"},{"v":1.353024,"d":"1.4"},{"$f":"6*D112/11.6","v":{"v":6,"d":"6.0"}},{"$f":"O112/1.27","v":{"v":4.724409448818897,"d":"4.7"}},{"$f":"O112/2.7","v":{"v":2.222222222222222,"d":"2.2"}},{"$f":"D112*1/11.6","v":{"v":1,"d":"1.0"}},{"$f":"2.1*D112/11.6","v":2.1},1,{"$f":"ROUND(I112/$G112,2)","v":{"v":0.7,"d":"0.70"}},{"$f":"ROUND(K112/$G112,2)","v":0.65},{"$f":"ROUND(M112/$G112,2)","v":0.18},{"$f":"ROUND(G112/D112,2)","v":0.76},{"$f":"H112/D112","v":{"v":0.648,"d":"0.65"}},{"$f":"ROUND(O112/P112,2)","v":1.27},{"$f":"ROUND(O112/Q112,2)","v":{"v":2.7,"d":"2.70"}},70,"40 - 80",{"v":3.2499105882352937,"d":"3.2"},{"v":2.2099392000000004,"d":"2.2"},{"v":5.053310924369748,"d":"5.1"},{"$nulls":4},{"v":18,"d":"18.0"},{"v":10,"d":"10.0"},null,6000,1500,60,null,null,{"v":70,"d":"< 70"},{"v":160,"d":"> 160"}]
[]
["Zuchteber",{"$f":"IF(G114=\"\",\" \",COUNTA($G$11:G112))","v":" "},"Zuchteber"]
["Zuchteber 120 - 180 kg LM für 400 g TZ",{"$f":"IF(G115=\"\",\" \",COUNTA($G$11:G114))","v":53},"Zuchteber 120 - 180 kg LM für 400 g TZ",11.6,{"$f":"160*D115/11.6","v":160},{"$f":"E115*0.85","v":136},{"$f":"H115/0.85","v":{"v":8.188235294117646,"d":"8.2"}},{"$f":"D115*0.6","v":{"v":6.96,"d":"7.0"}},{"$f":"G115*0.7","v":{"v":5.731764705882352,"d":"5.7"}},{"$f":"H115*0.56","v":{"v":3.8976,"d":"3.9"}},{"$f":"G115*0.65","v":{"v":5.3223529411764705,"d":"5.3"}},{"$f":"H115*0.65","v":{"v":4.524,"d":"4.5"}},{"$f":"G115*0.18","v":{"v":1.4738823529411762,"d":"1.5"}},{"$f":"H115*0.18","v":{"v":1.2528,"d":"1.3"}},{"$f":"7.2*D115/11.6","v":7.2},{"$f":"O115/1.27","v":{"v":5.669291338582677,"d":"5.7"}},{"$f":"O115/2.75","v":{"v":2.618181818181818,"d":"2.6"}},{"$f":"D115*1/11.6","v":{"v":1,"d":"1.0"}},{"$f":"1.9*D115/11.6","v":1.9},1,{"$f":"ROUND(I115/$G115,2)","v":{"v":0.7,"d":"0.70"}},{"$f":"ROUND(K115/$G115,2)","v":0.65},{"$f":"ROUND(M115/$G115,2)","v":0.18},{"$f":"ROUND(G115/D115,2)","v":0.71},{"$f":"H115/D115","v":{"v":0.6,"d":"0.60"}},{"$f":"ROUND(O115/P115,2)","v":1.27},{"$f":"ROUND(O115/Q115,2)","v":2.75},80,"≥ 70",{"v":3.0091764705882347,"d":"3.0"},{"v":2.04624,"d":"2.0"},{"v":5.117647058823529,"d":"5.1"},{"$nulls":4},{"v":18,"d":"18.0"},{"v":10,"d":"10.0"},null,15000,1500,60,null,null,{"v":80,"d":"< 80"},{"v":200,"d":"> 200"}]
["Zuchteber über 180 kg LM für 200 g TZ",{"$f":"IF(G116=\"\",\" \",COUNTA($G$11:G115))","v":54},"Zuchteber über 180 kg LM für 200 g TZ",11.4,{"$f":"150*D116/11.4","v":150},{"$f":"E116*0.85","v":{"v":127.5,"d":"128"}},{"$f":"H116/0.85","v":{"v":7.175294117647059,"d":"7.2"}},{"$f":"D116*0.535","v":{"v":6.099,"d":"6.1"}},{"$f":"G116*0.7","v":{"v":5.022705882352941,"d":"5.0"}},{"$f":"H116*0.56","v":{"v":3.4154400000000003,"d":"3.4"}},{"$f":"G116*0.65","v":{"v":4.663941176470589,"d":"4.7"}},{"$f":"H116*0.65","v":{"v":3.9643500000000005,"d":"4.0"}},{"$f":"G116*0.18","v":{"v":1.2915529411764706,"d":"1.3"}},{"$f":"H116*0.18","v":{"v":1.09782,"d":"1.1"}},{"$f":"7*D116/11.4","v":{"v":6.999999999999999,"d":"7.0"}},{"$f":"O116/1.27","v":{"v":5.511811023622046,"d":"5.5"}},{"$f":"O116/2.75","v":{"v":2.545454545454545,"d":"2.5"}},{"$f":"D116*1/11.4","v":{"v":1,"d":"1.0"}},{"$f":"1.9*D116/11.4","v":1.9},1,{"$f":"ROUND(I116/$G116,2)","v":{"v":0.7,"d":"0.70"}},{"$f":"ROUND(K116/$G116,2)","v":0.65},{"$f":"ROUND(M116/$G116,2)","v":0.18},{"$f":"ROUND(G116/D116,2)","v":0.63},{"$f":"H116/D116","v":{"v":0.535,"d":"0.54"}},{"$f":"ROUND(O116/P116,2)","v":1.27},{"$f":"ROUND(O116/Q116,2)","v":2.75},80,"≥ 70",{"v":2.636920588235294,"d":"2.6"},{"v":1.7931060000000003,"d":"1.8"},{"v":4.7835294117647065,"d":"4.8"},{"$nulls":4},{"v":18,"d":"18.0"},{"v":10,"d":"10.0"},null,15000,1500,60,null,null,{"v":80,"d":"< 80"},{"v":200,"d":"> 200"}]
[""]
[null,"*","mittlere tägliche Zunahme im Abschnitt von 28 bis 120 kg Lebendmasse"]
[null,"**","davon mindestens 50 % Methionin"]
[null,"***","bei Fütterungsstrategien zur Vorbeugung von Durchfällen sind für einen begrenzten Zeitraum neben anderen Fütterungsmaßnahmen geringere Gehalte ratsam."]
[null,"****","bei tragenden Sauen muss nach der Tierschutz-Nutztierhaltungsverordnung mindestens 8 % Rohfaser  in der Trockenmasse enthalten sein (7,04 % in 88% TM) oder es ist so zu füttern, dass mindestens 200 g Rohfaser je Tier und Tag aufgenommen werden."]

{"sheet":"Höchstgehalte","index":9,"n_rows":65,"n_cols":21,"rows_kept":65,"merged":[[3,0,3,20],[4,0,4,21],[8,2,8,4],[8,5,8,6],[8,8,8,9],[8,13,8,15],[8,16,8,17],[8,19,8,20],[9,3,9,4],[9,14,9,15],[41,13,41,14],[41,16,41,17],[41,19,41,20],[42,13,42,14],[42,16,42,17],[42,19,42,20],[43,13,43,14],[43,16,43,17],[43,19,43,20],[44,13,44,14],[44,16,44,17],[44,19,44,20],[47,16,47,17],[49,12,49,20],[50,12,50,20],[51,12,51,20]]}
[]
[]
[]
["Empfohlene Höchstanteile verschiedener Einzelfuttermittel in Alleinfutter"]
["für Schweine in % bezogen auf lufttrockenes Futter bzw. 880 g TM"]
[]
[]
[]
[null,"Futtermittel","Ferkel",null,null,"Zucht",null,null,"Mast",{"$nulls":3},"Futtermittel","Ferkel",null,null,"Zucht",null,null,"Mast"]
[null,null,"< 15 kg","> 15 kg",null,"tr. ","säug.",null,"AM","EM",{"$nulls":3},"< 15 kg","> 15 kg",null,"tr. ","säug.",null,"AM","EM"]
[]
[]
[null,"Trockenfutter:",{"$nulls":10},"Feucht-, Fließfutter:"]
[]
[null,"Ackerbohnen","-","5",null,"15","15",null,"15","25",null,null,"CCM",10,10,null,20,50,null,50,50]
[null,"Backabfälle, Brot",10,10,null,20,30,null,50,50,null,null,"Maiskornsilage",30,30,null,20,50,null,50,50]
[null,"Bierhefe getrocknet","3-5","3-5",null,"10","10",null,"5-10","10-15",null,null,"Maiskolbenschrot",5,5,null,30,15,null,30,30]
[null,"Biertreber",5,5,null,40,10,null,10,10,null,null,"Lieschkolbenschrot",5,5,null,30,10,null,20,20]
[null,"Erbsen 1)","10","30",null,"25","25",null,"25-40","25-40",null,null,"Kartoffel, gedämpft","-","-",null,20,30,null,40,40]
[null,"Fischmehl","5","8",null,"5","10",null,"5-10","5-10",null,null,"Kartoffel, roh","-","-",null,20,20,null,15,15]
[null,"Futterzucker",5,5,null,5,10,null,20,20,null,null,"Kartoffelschalen, ged.","-","-",null,20,10,null,25,25]
[null,"Gerste","25","25",null,"o. B.","o. B.",null,"o. B.","o. B.",null,null,"Kartoffelschalen, roh","-","-",null,20,10,null,15,15]
[null,"Glycerin","5","5",null,"5","5",null,"5","5",null,null,"Kartoffelpreßpülpe","-","-",null,10,5,null,10,10]
[null,"Grascobs",4,4,null,25,5,null,5,5,null,null,"Melasse",5,5,null,10,5,null,15,15]
[null,"Hafer","5-10","5-10",null,"o. B.",10,null,"10","10",null,null,"Milchzuckermelasse",5,5,null,15,15,null,15,15]
[null,"Hirse - Sorghum","0","10",null,"20","15",null,"25","30",null,null,"Naß-/Preßschnitzel",5,5,null,10,5,null,10,10]
[null,"Kartoffeleiweiß",10,10,null,3,10,null,10,10,null,null,"Mager-/Buttermilch",20,20,null,20,30,null,20,20]
[null,"Leinkuchen","3",5,null,10,10,null,5,5,null,null,"Molke, 5,6 % TM",10,10,null,50,30,null,20,20]
[null,"Leinsamen","3",5,null,10,10,null,3,3,null,null,"Molke, 12 % TM",10,10,null,50,30,null,30,30]
[null,"Leinschrot",5,5,null,10,10,null,10,10,null,null,"Permeatmolke",5,5,null,50,30,null,20,20]
[null,"Luzernecobs",4,4,null,"10-15","2-5",null,"2-5","2-5",null,null,"Vollmilch",20,20,null,20,25,null,25,25]
[null,"Maiskleber",4,4,null,10,5,null,10,"5",null,null,"Schlempen","-","-",null,20,10,null,20,20]
[null,"Maiskörner","50","50",null,20,"40",null,"45","60",null,null,"Zuckerrüben frisch","-","-",null,20,30,null,30,30]
[null,"Malzkeime",2,2,null,"10-15","3-5",null,"3-5","3-5"]
[null,"Melasseschnitzel",5,5,null,20,5,null,10,10]
[null,"Molkepulver","20","20",null,10,20,null,20,20]
[null,"Rapskuchen 3)","5-10","5-10",null,"5-10","5-10",null,"7-10","7-10"]
[null,"Rapsöl 2)","2","2-3",null,"2","3",null,"2-3","2-3"]
[null,"Rapssamen 2)",5,5,null,"5","10",null,8,8,null,null,"Aminosäuren in Mineralfuttern:"]
[null,"Rapsschrot 3)","2-5","5-10",null,"5-10","5-15",null,"5-10","10-20",null,null,"Marktübliche Höchstgehalte bezogen auf 96 % TM"]
[null,"Roggen","-",10,null,"20","30",null,"40","50"]
[null,"Roggenkleie","-",5,null,20,10,null,10,10,null,null,"L-Lysin-HCL","6 - 10",null,null,"4 - 7,7",null,null,"4 - 12 4)"]
[null,"Sonnenblumenkuchen","3","3",null,"5",3,null,"5","5",null,null,"DL-Methionin","1,5 - 3,8",null,null,"1 - 3,5",null,null,"1 - 2,5"]
[null,"Sojabohnenschalen","0","0",null,"15","5",null,"0","0",null,null,"L-Threonin","2 - 4,5",null,null,"0 - 3,5",null,null,"1 - 4"]
[null,"Sojabohne Vollfett","5","5-10",null,"-","5 -10",null,"5-10","2-5",null,null,"Tryptophan","0 - 0,5",null,null,"-",null,null,"-"]
[null,"Sojaöl 2)","2","3",null,"2","3",null,"1-1,5","1-1,5"]
[null,"Sojaschrot & HP-S.","20","25",null,"15","25",null,"30","25"]
[null,"Sonnenblumen","-","-",null,10,5,null,5,5]
[null,"Sonnenblumenschrot","2-5","2-5",null,"10-15","5-10",null,"5-10","5-10"]
[null,"Süßlupine blau","-","5",null,"20-25","20-25",null,"15-20","15-20",null,null,"Quelle: am Feb. 2009 aktuelle UFOP-Praxisinformationen, futtermit-"]
[null,"Süßlupine gelb","-","5",null,"20-25","20-25",null,"15-20","15-20",null,null,"telspezifische Restriktionen vom AK \"Futter und Fütterung im "]
[null,"Süßlupine weiß","-","5",null,"20-25","20-25",null,"10-15","15-20",null,null,"Freistaat Sachsen\" und LfL-Informationen 2007 (teilweise geändert)"]
[null,"Triticale","20","30",null,"20","30",null,"35",50]
[null,"Trockenschlempe","-","-",null,"4","8",null,"10","15"]
[null,"Trockenschnitzel","0",5,null,"20","5",null,"5",10]
[null,"Weizen","45","60",null,"20","50",null,"60","50"]
[null,"Weizenfuttermehl",10,"15",null,"10",20,null,"30","15"]
[null,"Weizenkleie",5,5,null,20,10,null,10,10]
[]
[]
[null,"o. B. = ohne Beschränkungen "]
[null,"1) bei mehr als 25 % in der Trockenfuttermischung kann durch starke Quellung der Futterbrei nicht mehr pumpfähig sein!"]
[null,"2) bei maisfreien Mischungen sowie alternativ"]
[null,"3) wenn der Glucosinolatgehalt unbekannt ist, sollte sich die Dosierung eher an der unteren Grenze bewegen "]
[null,"4) 12 % i.d.R nur bei RAM-Fütterung"]

{"sheet":"Futterkurve Mast","index":10,"n_rows":134,"n_cols":25,"rows_kept":134,"merged":[[3,1,3,23],[8,1,8,23],[10,24,11,24],[17,24,19,24],[23,24,24,24],[30,24,32,24],[36,24,37,24],[43,24,45,24],[50,1,50,23],[52,24,53,24],[57,24,59,24],[63,24,64,24],[68,24,70,24],[74,24,75,24],[79,24,81,24],[86,1,86,23],[88,24,89,24],[93,24,95,24],[99,24,100,24],[104,24,106,24],[110,24,111,24],[115,24,117,24],[122,1,122,23],[124,24,125,24],[129,24,131,24]]}
[]
[]
[]
[null,"Futterkurven für Mastschweine nach GFE 2006, DLG 2010 und Rechenmeister 2010 + 2014"]
[]
[{"$nulls":4},"MJ ME VM         ab 30 kg",null,"MJ ME AM            ab 40 kg",{"$nulls":3},"MJ ME MM          ab 60 kg",null,"MJ ME MM                  ab 70 kg",{"$nulls":3},"MJ ME EM              ab 90 kg"]
[{"$nulls":4},13.4,null,13.2,{"$nulls":3},{"v":13,"d":"13.0"},null,{"v":13,"d":"13.0"},{"$nulls":3},{"v":13,"d":"13.0"}]
[{"$nulls":4},"Norm 13,4",null,"Norm 13,4",{"$nulls":3},"Norm 13,4",null,"Norm 13,0",{"$nulls":3},"Norm 13,0"]
[null,{"$f":"IF($T$6=\"HP\",\"Mast beider Geschlechter mit hohem Proteinansatz & für die Jungebermast geeignet\",\"Mast beider Geschlechter\")","v":"Mast beider Geschlechter"}]
[{"$nulls":9},{"$f":"B9","v":"Mast beider Geschlechter"}]
[null,"Gewicht","kg",25,30,35,40,45,50,55,60,65,70,75,80,85,90,95,100,105,110,115,120,125,"Masttage von 30 bis 120 kg"]
[null,"TZ",{"$f":"ROUND(AVERAGE(E12:W12),-1)","v":{"v":750,"d":"750 g"}},617,660,697,730,758,781,799,812,820,823,821,814,802,785,762,735,703,666,624,577,525]
[null,"Tage + 5 kg","d",{"$f":"5/D12*1000","v":{"v":8.103727714748784,"d":"8.1"}},{"$f":"5/E12*1000","v":{"v":7.575757575757576,"d":"7.6"}},{"v":7.173601147776184,"d":"7.2"},{"v":6.8493150684931505,"d":"6.8"},{"v":6.596306068601583,"d":"6.6"},{"v":6.402048655569782,"d":"6.4"},{"v":6.257822277847309,"d":"6.3"},{"v":6.157635467980296,"d":"6.2"},{"v":6.097560975609756,"d":"6.1"},{"v":6.075334143377886,"d":"6.1"},{"v":6.090133982947624,"d":"6.1"},{"v":6.142506142506142,"d":"6.1"},{"v":6.234413965087282,"d":"6.2"},{"v":6.369426751592357,"d":"6.4"},{"v":6.561679790026247,"d":"6.6"},{"v":6.802721088435374,"d":"6.8"},{"v":7.112375533428165,"d":"7.1"},{"v":7.5075075075075075,"d":"7.5"},{"v":8.012820512820513,"d":"8.0"},{"v":8.665511265164644,"d":"8.7"},{"v":9.523809523809526,"d":"9.5"},{"$f":"ROUND(SUM(E13:V13),0)","v":120}]
[null,"ME ","MJ/Tag",{"v":16,"d":"16.0"},17.9,19.7,21.5,23.1,24.6,{"v":26,"d":"26.0"},27.3,28.4,{"$f":"IF($T$6=\"HP\",M27-3,29.4)","v":29.4},{"$f":"IF($T$6=\"HP\",N27-3,30.3)","v":30.3},{"$f":"IF($T$6=\"HP\",O27-2,31.1)","v":31.1},{"$f":"IF($T$6=\"HP\",P27-2,31.7)","v":31.7},{"$f":"IF($T$6=\"HP\",Q27-2,32.1)","v":32.1},{"$f":"IF($T$6=\"HP\",R27-2,32.3)","v":32.3},{"$f":"IF($T$6=\"HP\",S27-2,32.4)","v":32.4},{"$f":"IF($T$6=\"HP\",T27-2,32.6)","v":32.6},{"$f":"IF($T$6=\"HP\",U27-2,32.5)","v":32.5},{"$f":"IF($T$6=\"HP\",V27-2,32.3)","v":32.3},{"$f":"IF($T$6=\"HP\",W27-2,31.9)","v":31.9},{"$f":"IF($T$6=\"HP\",X27-2,31.3)","v":31.3}]
[null,"pcv Lysin","g/Tag",{"$f":"IF($T$6=\"HP\",D28-2,12.3)","v":12.3},{"$f":"IF($T$6=\"HP\",E28-2,13.15)","v":{"v":13.15,"d":"13.2"}},{"$f":"IF($T$6=\"HP\",F28-2,13.6)","v":13.6},{"$f":"IF($T$6=\"HP\",G28-2,14.15)","v":{"v":14.15,"d":"14.2"}},{"$f":"IF($T$6=\"HP\",H28-2,14.65)","v":{"v":14.65,"d":"14.7"}},{"$f":"IF($T$6=\"HP\",I28-2,15.1)","v":15.1},{"$f":"IF($T$6=\"HP\",J28-2,15.35)","v":{"v":15.35,"d":"15.4"}},{"$f":"IF($T$6=\"HP\",K28-2,15.5)","v":15.5},{"$f":"IF($T$6=\"HP\",L28-2,15.7)","v":15.7},{"$f":"IF($T$6=\"HP\",M28-2,15.945)","v":{"v":15.945,"d":"15.9"}},{"$f":"IF($T$6=\"HP\",N28-2,16.2)","v":16.2},{"$f":"IF($T$6=\"HP\",O28-2,16.5)","v":16.5},{"$f":"IF($T$6=\"HP\",P28-2,16.6)","v":16.6},{"$f":"IF($T$6=\"HP\",Q28-2,16.67)","v":{"v":16.67,"d":"16.7"}},{"$f":"IF($T$6=\"HP\",R28-2,16.55)","v":{"v":16.55,"d":"16.6"}},{"$f":"IF($T$6=\"HP\",S28-2,16.3)","v":16.3},{"$f":"IF($T$6=\"HP\",T28-2,15.85)","v":{"v":15.85,"d":"15.9"}},{"$f":"IF($T$6=\"HP\",U28-2,15.85)","v":{"v":15.85,"d":"15.9"}},{"$f":"IF($T$6=\"HP\",V28-2,15)","v":{"v":15,"d":"15.0"}},{"$f":"IF($T$6=\"HP\",W28-2,13.9)","v":13.9},{"$f":"IF($T$6=\"HP\",X28-2,12.8)","v":12.8}]
[null,"ME ","MJ/kg Futter",{"$f":"$E$7","v":13.4},{"$f":"$E$7","v":13.4},{"$f":"$E$7","v":13.4},{"$f":"$G$7","v":13.2},{"$f":"$G$7","v":13.2},{"$f":"$G$7","v":13.2},{"$f":"$G$7","v":13.2},{"$f":"$K$7","v":{"v":13,"d":"13.0"}},{"$f":"$K$7","v":{"v":13,"d":"13.0"}},{"$f":"$M$7","v":{"v":13,"d":"13.0"}},{"$f":"$M$7","v":{"v":13,"d":"13.0"}},{"$f":"$M$7","v":{"v":13,"d":"13.0"}},{"$f":"$M$7","v":{"v":13,"d":"13.0"}},{"$f":"$Q$7","v":{"v":13,"d":"13.0"}},{"$f":"$Q$7","v":{"v":13,"d":"13.0"}},{"v":13,"d":"13.0"},{"v":13,"d":"13.0"},{"v":13,"d":"13.0"},{"v":13,"d":"13.0"},{"v":13,"d":"13.0"},{"v":13,"d":"13.0"}]
[null,"verdaulicher Phosphor","g/Tag",3.6,3.8,{"v":4,"d":"4.0"},{"v":4.25,"d":"4.3"},4.4,4.6,4.7,{"v":4.87,"d":"4.9"},{"v":4.93,"d":"4.9"},5.1,5.3,{"v":4.98,"d":"5.0"},{"v":4.92,"d":"4.9"},{"v":4.825,"d":"4.8"},4.7,{"v":4.575,"d":"4.6"},{"v":4.425,"d":"4.4"},4.2,4.1,{"v":4,"d":"4.0"},{"v":3.725,"d":"3.7"}]
[null,"Futter","kg/Tag",{"$f":"D14/D16","v":{"v":1.1940298507462686,"d":"1.19"}},{"v":1.3358208955223878,"d":"1.34"},{"v":1.4701492537313432,"d":"1.47"},{"v":1.628787878787879,"d":"1.63"},{"v":1.7500000000000002,"d":"1.75"},{"v":1.8636363636363638,"d":"1.86"},{"v":1.9696969696969697,"d":"1.97"},{"v":2.1,"d":"2.10"},{"v":2.1846153846153844,"d":"2.18"},{"v":2.2615384615384615,"d":"2.26"},{"v":2.330769230769231,"d":"2.33"},{"v":2.3923076923076922,"d":"2.39"},{"v":2.4384615384615382,"d":"2.44"},{"v":2.4692307692307693,"d":"2.47"},{"v":2.4846153846153842,"d":"2.48"},{"v":2.4923076923076923,"d":"2.49"},{"v":2.5076923076923077,"d":"2.51"},{"v":2.5,"d":"2.50"},{"v":2.4846153846153842,"d":"2.48"},{"v":2.4538461538461536,"d":"2.45"},{"v":2.4076923076923076,"d":"2.41"},"Ø bzw. Summe von 30 bis 120 kg"]
[null,"verdaulicher Phosphor","g/kg",{"$f":"D17/D18","v":{"v":3.015,"d":"3.0"}},{"$f":"E17/E18","v":{"v":2.844692737430168,"d":"2.8"}},{"v":2.720812182741117,"d":"2.7"},{"v":2.609302325581395,"d":"2.6"},{"v":2.5142857142857142,"d":"2.5"},{"v":2.468292682926829,"d":"2.5"},{"v":2.3861538461538463,"d":"2.4"},{"v":2.319047619047619,"d":"2.3"},{"v":2.2566901408450706,"d":"2.3"},{"v":2.2551020408163263,"d":"2.3"},{"v":2.2739273927392736,"d":"2.3"},{"v":2.081672025723473,"d":"2.1"},{"v":2.017665615141956,"d":"2.0"},{"v":1.9540498442367602,"d":"2.0"},{"v":1.8916408668730653,"d":"1.9"},{"v":1.8356481481481481,"d":"1.8"},{"v":1.7645705521472392,"d":"1.8"},{"v":1.6800000000000002,"d":"1.7"},{"v":1.65015479876161,"d":"1.7"},{"v":1.6300940438871476,"d":"1.6"},{"v":1.5471246006389778,"d":"1.5"}]
[null,"pcv Lysin","g/kg",{"$f":"D15/D18","v":{"v":10.301250000000001,"d":"10.3"}},{"$f":"E15/E18","v":{"v":9.844134078212292,"d":"9.8"}},{"v":9.250761421319798,"d":"9.3"},{"v":8.687441860465116,"d":"8.7"},{"v":8.37142857142857,"d":"8.4"},{"v":8.102439024390243,"d":"8.1"},{"v":7.793076923076923,"d":"7.8"},{"v":7.3809523809523805,"d":"7.4"},{"v":7.18661971830986,"d":"7.2"},{"v":7.0505102040816325,"d":"7.1"},{"v":6.95049504950495,"d":"7.0"},{"v":6.897106109324759,"d":"6.9"},{"v":6.807570977917982,"d":"6.8"},{"v":6.751090342679128,"d":"6.8"},{"v":6.660990712074304,"d":"6.7"},{"v":6.540123456790123,"d":"6.5"},{"v":6.320552147239264,"d":"6.3"},{"v":6.34,"d":"6.3"},{"v":6.037151702786379,"d":"6.0"},{"v":5.664576802507837,"d":"5.7"},{"v":5.316293929712461,"d":"5.3"}]
[null,"Futterverwertung","kg Futter/kg Zuwachs",{"$f":"D18/(D12/1000)","v":{"v":1.9352185587459783,"d":"1.9"}},{"$f":"E18/(E12/1000)","v":{"v":2.0239710538217994,"d":"2.0"}},{"v":2.109252874793893,"d":"2.1"},{"v":2.231216272312163,"d":"2.2"},{"v":2.3087071240105543,"d":"2.3"},{"v":2.386218135257828,"d":"2.4"},{"v":2.4652027155156064,"d":"2.5"},{"v":2.586206896551724,"d":"2.6"},{"v":2.6641651031894935,"d":"2.7"},{"v":2.747920366389382,"d":"2.7"},{"v":2.8389393797432776,"d":"2.8"},{"v":2.938952938952939,"d":"2.9"},{"v":3.040475733742566,"d":"3.0"},{"v":3.1455169034786867,"d":"3.1"},{"v":3.260650111043811,"d":"3.3"},{"v":3.390894819466248,"d":"3.4"},{"v":3.5671298829193567,"d":"3.6"},{"v":3.7537537537537538,"d":"3.8"},{"v":3.981755424063116,"d":"4.0"},{"v":4.252766297826956,"d":"4.3"},{"v":4.586080586080586,"d":"4.6"},{"$f":"Y22/90","v":{"v":2.8578294160559,"d":"2.86"}}]
[null,"ges. Futterverbrauch","kg/Abschnitt",{"$f":"D18*5/(D12/1000)","v":{"v":9.676092793729891,"d":"9.7"}},{"$f":"E18*5/(E12/1000)","v":{"v":10.119855269108998,"d":"10.1"}},{"v":10.546264373969464,"d":"10.5"},{"v":11.156081361560815,"d":"11.2"},{"v":11.543535620052772,"d":"11.5"},{"v":11.93109067628914,"d":"11.9"},{"v":12.326013577578031,"d":"12.3"},{"v":12.93103448275862,"d":"12.9"},{"v":13.320825515947465,"d":"13.3"},{"v":13.73960183194691,"d":"13.7"},{"v":14.194696898716389,"d":"14.2"},{"v":14.694764694764697,"d":"14.7"},{"v":15.202378668712832,"d":"15.2"},{"v":15.727584517393435,"d":"15.7"},{"v":16.30325055521906,"d":"16.3"},{"v":16.95447409733124,"d":"17.0"},{"v":17.835649414596784,"d":"17.8"},{"v":18.76876876876877,"d":"18.8"},{"v":19.90877712031558,"d":"19.9"},{"v":21.26383148913478,"d":"21.3"},{"v":22.93040293040293,"d":"22.9"},{"$f":"SUM(E22:V22)","v":{"v":257.204647445031,"d":"257.2"}}]
[]
[null,"Gewicht","kg",25,30,35,40,45,50,55,60,65,70,75,80,85,90,95,100,105,110,115,120,125,"Masttage von 30 bis 120 kg"]
[null,"TZ",{"$f":"ROUND(AVERAGE(E25:W25),-1)","v":{"v":850,"d":"850 g"}},717,760,797,830,858,881,899,912,920,923,921,914,902,885,862,835,803,766,724,677,625]
[null,null,"d",{"$f":"5/D25*1000","v":{"v":6.97350069735007,"d":"7.0"}},{"v":6.578947368421052,"d":"6.6"},{"v":6.273525721455458,"d":"6.3"},{"v":6.024096385542169,"d":"6.0"},{"v":5.827505827505828,"d":"5.8"},{"v":5.675368898978434,"d":"5.7"},{"v":5.561735261401558,"d":"5.6"},{"v":5.482456140350877,"d":"5.5"},{"v":5.434782608695652,"d":"5.4"},{"v":5.417118093174431,"d":"5.4"},{"v":5.4288816503800215,"d":"5.4"},{"v":5.470459518599562,"d":"5.5"},{"v":5.543237250554324,"d":"5.5"},{"v":5.649717514124294,"d":"5.6"},{"v":5.800464037122969,"d":"5.8"},{"v":5.9880239520958085,"d":"6.0"},{"v":6.226650062266501,"d":"6.2"},{"v":6.5274151436031325,"d":"6.5"},{"v":6.906077348066298,"d":"6.9"},{"v":7.385524372230428,"d":"7.4"},{"v":8,"d":"8.0"},{"$f":"ROUND(SUM(E26:V26),0)","v":106}]
[null,"ME ","MJ/Tag",17.5,19.6,21.5,23.2,24.9,26.5,27.9,29.3,30.5,{"$f":"IF($T$6=\"HP\",31.46,31.6)","v":31.6},{"$f":"IF($T$6=\"HP\",31.42,32.5)","v":32.5},{"$f":"IF($T$6=\"HP\",32.28,33.3)","v":33.3},{"$f":"IF($T$6=\"HP\",33,34)","v":{"v":34,"d":"34.0"}},{"$f":"IF($T$6=\"HP\",32.7,34.5)","v":34.5},{"$f":"IF($T$6=\"HP\",32.2,34.8)","v":34.8},{"$f":"IF($T$6=\"HP\",32.7,35)","v":{"v":35,"d":"35.0"}},{"$f":"IF($T$6=\"HP\",32,35.1)","v":35.1},{"$f":"IF($T$6=\"HP\",31.32,35.2)","v":35.2},{"$f":"IF($T$6=\"HP\",30.54,35)","v":{"v":35,"d":"35.0"}},{"$f":"IF($T$6=\"HP\",30.54,34.7)","v":34.7},{"$f":"IF($T$6=\"HP\",29.5,34.1)","v":34.1}]
[null,"pcv Lysin","g/Tag",{"$f":"IF($T$6=\"HP\",14.7-0.4,14.1)","v":14.1},{"$f":"IF($T$6=\"HP\",15.7-0.4,14.9)","v":14.9},{"$f":"IF($T$6=\"HP\",16.4-0.4,15.4)","v":15.4},{"$f":"IF($T$6=\"HP\",17-0.45,15.7)","v":15.7},{"$f":"IF($T$6=\"HP\",17.2-0.45,16.2)","v":16.2},{"$f":"IF($T$6=\"HP\",18.2-0.55,16.85)","v":{"v":16.85,"d":"16.9"}},{"$f":"IF($T$6=\"HP\",18.6-0.55,17.1)","v":17.1},{"$f":"IF($T$6=\"HP\",18.8-0.55,17.25)","v":{"v":17.25,"d":"17.3"}},{"$f":"IF($T$6=\"HP\",19.1-0.55,17.6)","v":17.6},{"$f":"IF($T$6=\"HP\",19.2-0.55,17.7)","v":17.7},{"$f":"IF($T$6=\"HP\",19.2-0.55,17.9)","v":17.9},{"$f":"IF($T$6=\"HP\",19.2-0.55,18.15)","v":{"v":18.15,"d":"18.2"}},{"$f":"IF($T$6=\"HP\",18.9-0.55,18.2)","v":18.2},{"$f":"IF($T$6=\"HP\",18.7-0.55,18.2)","v":18.2},{"$f":"IF($T$6=\"HP\",18.2-0.55,18.4)","v":18.4},{"$f":"IF($T$6=\"HP\",17.8-0.5,18.5)","v":18.5},{"$f":"IF($T$6=\"HP\",17.1-0.5,18.5)","v":18.5},{"$f":"IF($T$6=\"HP\",16.5-0.5,18.3)","v":18.3},{"$f":"IF($T$6=\"HP\",15.7-0.5,17.5)","v":17.5},{"$f":"IF($T$6=\"HP\",14.8-0.5,16.25)","v":{"v":16.25,"d":"16.3"}},{"$f":"IF($T$6=\"HP\",13.8-0.5,15.3)","v":15.3}]
[null,"ME ","MJ/kg Futter",{"$f":"$E$7","v":13.4},{"$f":"$E$7","v":13.4},{"$f":"$E$7","v":13.4},{"$f":"$G$7","v":13.2},{"$f":"$G$7","v":13.2},{"$f":"$G$7","v":13.2},{"$f":"$G$7","v":13.2},{"$f":"$K$7","v":{"v":13,"d":"13.0"}},{"$f":"$K$7","v":{"v":13,"d":"13.0"}},{"$f":"$M$7","v":{"v":13,"d":"13.0"}},{"$f":"$M$7","v":{"v":13,"d":"13.0"}},{"$f":"$M$7","v":{"v":13,"d":"13.0"}},{"$f":"$M$7","v":{"v":13,"d":"13.0"}},{"$f":"$Q$7","v":{"v":13,"d":"13.0"}},{"$f":"$Q$7","v":{"v":13,"d":"13.0"}},{"v":13,"d":"13.0"},{"v":13,"d":"13.0"},{"v":13,"d":"13.0"},{"v":13,"d":"13.0"},{"v":13,"d":"13.0"},{"v":13,"d":"13.0"}]
[null,"verdaulicher Phosphor","g/Tag",4.1,{"v":4.375,"d":"4.4"},4.5,{"v":4.75,"d":"4.8"},{"v":4.875,"d":"4.9"},{"v":5.15,"d":"5.2"},5.3,{"v":5.45,"d":"5.5"},5.5,5.6,5.5,{"v":5.525,"d":"5.5"},5.5,5.4,{"v":5.27,"d":"5.3"},5.1,4.9,{"v":4.78,"d":"4.8"},4.6,{"v":4.475,"d":"4.5"},4.2]
[null,"Futter","kg/Tag",{"$f":"D27/D29","v":{"v":1.3059701492537312,"d":"1.31"}},{"v":1.462686567164179,"d":"1.46"},{"v":1.6044776119402984,"d":"1.60"},{"v":1.7575757575757576,"d":"1.76"},{"v":1.8863636363636365,"d":"1.89"},{"v":2.007575757575758,"d":"2.01"},{"v":2.1136363636363638,"d":"2.11"},{"v":2.253846153846154,"d":"2.25"},{"v":2.3461538461538463,"d":"2.35"},{"v":2.430769230769231,"d":"2.43"},{"v":2.5,"d":"2.50"},{"v":2.5615384615384613,"d":"2.56"},{"v":2.6153846153846154,"d":"2.62"},{"v":2.6538461538461537,"d":"2.65"},{"v":2.6769230769230767,"d":"2.68"},{"v":2.6923076923076925,"d":"2.69"},{"v":2.7,"d":"2.70"},{"v":2.707692307692308,"d":"2.71"},{"v":2.6923076923076925,"d":"2.69"},{"v":2.6692307692307695,"d":"2.67"},{"v":2.623076923076923,"d":"2.62"},"Ø bzw. Summe von 30 bis 120 kg"]
[null,"verdaulicher Phosphor","g/kg",{"$f":"D30/D31","v":{"v":3.1394285714285712,"d":"3.1"}},{"v":2.9910714285714284,"d":"3.0"},{"v":2.804651162790698,"d":"2.8"},{"v":2.7025862068965516,"d":"2.7"},{"v":2.58433734939759,"d":"2.6"},{"v":2.5652830188679245,"d":"2.6"},{"v":2.50752688172043,"d":"2.5"},{"v":2.4180887372013653,"d":"2.4"},{"v":2.344262295081967,"d":"2.3"},{"v":2.3037974683544302,"d":"2.3"},2.2,{"v":2.156906906906907,"d":"2.2"},{"v":2.1029411764705883,"d":"2.1"},{"v":2.0347826086956524,"d":"2.0"},{"v":1.9686781609195403,"d":"2.0"},{"v":1.894285714285714,"d":"1.9"},{"v":1.8148148148148149,"d":"1.8"},{"v":1.7653409090909091,"d":"1.8"},{"v":1.7085714285714284,"d":"1.7"},{"v":1.6765129682997115,"d":"1.7"},{"v":1.6011730205278594,"d":"1.6"}]
[null,"pcv Lysin","g/kg",{"$f":"D28/D31","v":{"v":10.79657142857143,"d":"10.8"}},{"$f":"E28/E31","v":{"v":10.18673469387755,"d":"10.2"}},{"v":9.598139534883723,"d":"9.6"},{"v":8.932758620689654,"d":"8.9"},{"v":8.587951807228915,"d":"8.6"},{"v":8.393207547169812,"d":"8.4"},{"v":8.09032258064516,"d":"8.1"},{"v":7.65358361774744,"d":"7.7"},{"v":7.501639344262295,"d":"7.5"},{"v":7.2816455696202524,"d":"7.3"},{"v":7.159999999999999,"d":"7.2"},{"v":7.085585585585585,"d":"7.1"},{"v":6.958823529411764,"d":"7.0"},{"v":6.857971014492754,"d":"6.9"},{"v":6.873563218390805,"d":"6.9"},{"v":6.871428571428571,"d":"6.9"},{"v":6.851851851851851,"d":"6.9"},{"v":6.7585227272727275,"d":"6.8"},{"v":6.499999999999999,"d":"6.5"},{"v":6.087896253602305,"d":"6.1"},{"v":5.832844574780059,"d":"5.8"}]
[null,"Futterverwertung","kg Futter/kg Zuwachs",{"$f":"D31/(D25/1000)","v":{"v":1.821436749307854,"d":"1.8"}},{"$f":"E31/(E25/1000)","v":{"v":1.9245875883739199,"d":"1.9"}},{"v":2.013146313601378,"d":"2.0"},{"v":2.117561153705732,"d":"2.1"},{"v":2.198559016740835,"d":"2.2"},{"v":2.2787466033777046,"d":"2.3"},{"v":2.3510971786833856,"d":"2.4"},{"v":2.4713225371120107,"d":"2.5"},{"v":2.5501672240802677,"d":"2.6"},{"v":2.633552796066339,"d":"2.6"},{"v":2.7144408251900107,"d":"2.7"},{"v":2.802558491836391,"d":"2.8"},{"v":2.8995394849053384,"d":"2.9"},{"v":2.998696219035202,"d":"3.0"},{"v":3.1054792075673743,"d":"3.1"},{"v":3.224320589590051,"d":"3.2"},{"v":3.3623910336239105,"d":"3.4"},{"v":3.5348463546896967,"d":"3.5"},{"v":3.718657033574161,"d":"3.7"},{"v":3.942733780252244,"d":"3.9"},{"v":4.196923076923077,"d":"4.2"},{"$f":"Y35/90","v":{"v":2.7166483139863176,"d":"2.72"}}]
[null,"ges. Futterverbrauch","kg/Abschnitt",{"$f":"D31*5/(D25/1000)","v":{"v":9.10718374653927,"d":"9.1"}},{"$f":"E31*5/(E25/1000)","v":{"v":9.6229379418696,"d":"9.6"}},{"v":10.065731568006889,"d":"10.1"},{"v":10.58780576852866,"d":"10.6"},{"v":10.992795083704175,"d":"11.0"},{"v":11.393733016888524,"d":"11.4"},{"v":11.755485893416928,"d":"11.8"},{"v":12.356612685560055,"d":"12.4"},{"v":12.750836120401338,"d":"12.8"},{"v":13.167763980331696,"d":"13.2"},{"v":13.572204125950053,"d":"13.6"},{"v":14.012792459181954,"d":"14.0"},{"v":14.497697424526692,"d":"14.5"},{"v":14.993481095176008,"d":"15.0"},{"v":15.527396037836871,"d":"15.5"},{"v":16.121602947950258,"d":"16.1"},{"v":16.81195516811955,"d":"16.8"},{"v":17.674231773448486,"d":"17.7"},{"v":18.593285167870807,"d":"18.6"},{"v":19.71366890126122,"d":"19.7"},{"v":20.984615384615385,"d":"21.0"},{"$f":"SUM(E35:V35)","v":{"v":244.49834825876857,"d":"244.5"}}]
[]
[null,"Gewicht","kg",25,30,35,40,45,50,55,60,65,70,75,80,85,90,95,100,105,110,115,120,125,"Masttage von 30 bis 120 kg"]
[null,"TZ",{"$f":"ROUND(AVERAGE(E38:W38),-1)","v":{"v":950,"d":"950 g"}},817,860,897,930,958,981,999,1012,1020,1023,1021,1014,1002,985,962,935,903,866,824,777,725]
[null,null,"d",{"$f":"5/D38*1000","v":{"v":6.119951040391677,"d":"6.1"}},{"v":5.813953488372093,"d":"5.8"},{"v":5.574136008918618,"d":"5.6"},{"v":5.376344086021506,"d":"5.4"},{"v":5.219206680584551,"d":"5.2"},{"v":5.096839959225281,"d":"5.1"},{"v":5.005005005005005,"d":"5.0"},{"v":4.940711462450593,"d":"4.9"},{"v":4.901960784313726,"d":"4.9"},{"v":4.887585532746823,"d":"4.9"},{"v":4.897159647404505,"d":"4.9"},{"v":4.930966469428008,"d":"4.9"},{"v":4.990019960079841,"d":"5.0"},{"v":5.076142131979695,"d":"5.1"},{"v":5.197505197505198,"d":"5.2"},{"v":5.347593582887701,"d":"5.3"},{"v":5.537098560354375,"d":"5.5"},{"v":5.773672055427252,"d":"5.8"},{"v":6.067961165048543,"d":"6.1"},{"v":6.435006435006435,"d":"6.4"},{"v":6.896551724137931,"d":"6.9"},{"$f":"ROUND(SUM(E39:V39),0)","v":95}]
[null,"ME ","MJ/Tag",19.1,21.2,23.2,{"v":25,"d":"25.0"},26.7,28.4,29.9,31.3,32.6,{"$f":"IF($T$6=\"HP\",M27+3,33.7)","v":33.7},{"$f":"IF($T$6=\"HP\",N27+3,34.7)","v":34.7},{"$f":"IF($T$6=\"HP\",O27+2,35.6)","v":35.6},{"$f":"IF($T$6=\"HP\",P27+2,36.3)","v":36.3},{"$f":"IF($T$6=\"HP\",Q27+2,36.9)","v":36.9},{"$f":"IF($T$6=\"HP\",R27+2,37.2)","v":37.2},{"$f":"IF($T$6=\"HP\",S27+2,37.4)","v":37.4},{"$f":"IF($T$6=\"HP\",T27+2,37.7)","v":37.7},{"$f":"IF($T$6=\"HP\",U27+2,37.8)","v":37.8},{"$f":"IF($T$6=\"HP\",V27+2,37.7)","v":37.7},{"$f":"IF($T$6=\"HP\",W27+2,37.4)","v":37.4},{"$f":"IF($T$6=\"HP\",X27+2,36.9)","v":36.9}]
[null,"pcv Lysin","g/Tag",{"$f":"IF($T$6=\"HP\",D28+2,16)","v":{"v":16,"d":"16.0"}},{"$f":"IF($T$6=\"HP\",E28+2,16.6)","v":16.6},{"$f":"IF($T$6=\"HP\",F28+2,17.1)","v":17.1},{"$f":"IF($T$6=\"HP\",G28+2,17.3)","v":17.3},{"$f":"IF($T$6=\"HP\",H28+2,18)","v":{"v":18,"d":"18.0"}},{"$f":"IF($T$6=\"HP\",I28+2,18.7)","v":18.7},{"$f":"IF($T$6=\"HP\",J28+2,18.8)","v":18.8},{"$f":"IF($T$6=\"HP\",K28+2,18.95)","v":{"v":18.95,"d":"19.0"}},{"$f":"IF($T$6=\"HP\",L28+2,19)","v":{"v":19,"d":"19.0"}},{"$f":"IF($T$6=\"HP\",M28+2,19.1)","v":19.1},{"$f":"IF($T$6=\"HP\",N28+2,19.65)","v":{"v":19.65,"d":"19.7"}},{"$f":"IF($T$6=\"HP\",O28+2,19.9)","v":19.9},{"$f":"IF($T$6=\"HP\",P28+2,19.95)","v":{"v":19.95,"d":"20.0"}},{"$f":"IF($T$6=\"HP\",Q28+2,20.05)","v":{"v":20.05,"d":"20.1"}},{"$f":"IF($T$6=\"HP\",R28+2,20.2)","v":20.2},{"$f":"IF($T$6=\"HP\",S28+2,20.4)","v":20.4},{"$f":"IF($T$6=\"HP\",T28+2,20.6)","v":20.6},{"$f":"IF($T$6=\"HP\",U28+2,20.7)","v":20.7},{"$f":"IF($T$6=\"HP\",V28+2,20)","v":{"v":20,"d":"20.0"}},{"$f":"IF($T$6=\"HP\",W28+2,18.75)","v":{"v":18.75,"d":"18.8"}},{"$f":"IF($T$6=\"HP\",X28+2,18)","v":{"v":18,"d":"18.0"}}]
[null,"ME ","MJ/kg Futter",{"$f":"$E$7","v":13.4},{"$f":"$E$7","v":13.4},{"$f":"$E$7","v":13.4},{"$f":"$G$7","v":13.2},{"$f":"$G$7","v":13.2},{"$f":"$G$7","v":13.2},{"$f":"$G$7","v":13.2},{"$f":"$K$7","v":{"v":13,"d":"13.0"}},{"$f":"$K$7","v":{"v":13,"d":"13.0"}},{"$f":"$M$7","v":{"v":13,"d":"13.0"}},{"$f":"$M$7","v":{"v":13,"d":"13.0"}},{"$f":"$M$7","v":{"v":13,"d":"13.0"}},{"$f":"$M$7","v":{"v":13,"d":"13.0"}},{"$f":"$Q$7","v":{"v":13,"d":"13.0"}},{"$f":"$Q$7","v":{"v":13,"d":"13.0"}},{"v":13,"d":"13.0"},{"v":13,"d":"13.0"},{"v":13,"d":"13.0"},{"v":13,"d":"13.0"},{"v":13,"d":"13.0"},{"v":13,"d":"13.0"}]
[null,"verdaulicher Phosphor","g/Tag",4.6,4.9,{"v":5,"d":"5.0"},{"v":5.25,"d":"5.3"},5.4,5.7,5.8,{"v":5.95,"d":"6.0"},{"v":6,"d":"6.0"},6.1,{"v":6.15,"d":"6.2"},{"v":6.07,"d":"6.1"},{"v":6,"d":"6.0"},{"v":5.925,"d":"5.9"},5.8,{"v":5.675,"d":"5.7"},5.5,{"v":5.35,"d":"5.4"},{"v":5.07,"d":"5.1"},{"v":4.88,"d":"4.9"},4.7]
[null,"Futter","kg/Tag",{"$f":"D40/D42","v":{"v":1.4253731343283582,"d":"1.43"}},{"v":1.5820895522388059,"d":"1.58"},{"v":1.7313432835820894,"d":"1.73"},{"v":1.893939393939394,"d":"1.89"},{"v":2.022727272727273,"d":"2.02"},{"v":2.1515151515151514,"d":"2.15"},{"v":2.265151515151515,"d":"2.27"},{"v":2.4076923076923076,"d":"2.41"},{"v":2.5076923076923077,"d":"2.51"},{"v":2.5923076923076924,"d":"2.59"},{"v":2.6692307692307695,"d":"2.67"},{"v":2.7384615384615385,"d":"2.74"},{"v":2.792307692307692,"d":"2.79"},{"v":2.838461538461538,"d":"2.84"},{"v":2.8615384615384616,"d":"2.86"},{"v":2.876923076923077,"d":"2.88"},{"v":2.9000000000000004,"d":"2.90"},{"v":2.9076923076923076,"d":"2.91"},{"v":2.9000000000000004,"d":"2.90"},{"v":2.876923076923077,"d":"2.88"},{"v":2.838461538461538,"d":"2.84"},"Ø bzw. Summe von 30 bis 120 kg"]
[null,"verdaulicher Phosphor","g/kg",{"$f":"D43/D44","v":{"v":3.227225130890052,"d":"3.2"}},{"v":3.097169811320755,"d":"3.1"},{"v":2.887931034482759,"d":"2.9"},{"v":2.772,"d":"2.8"},{"v":2.6696629213483147,"d":"2.7"},{"v":2.6492957746478876,"d":"2.6"},{"v":2.560535117056856,"d":"2.6"},{"v":2.4712460063897765,"d":"2.5"},{"v":2.392638036809816,"d":"2.4"},{"v":2.353115727002967,"d":"2.4"},{"v":2.3040345821325645,"d":"2.3"},{"v":2.2165730337078653,"d":"2.2"},{"v":2.1487603305785123,"d":"2.1"},{"v":2.08739837398374,"d":"2.1"},{"v":2.0268817204301075,"d":"2.0"},{"v":1.9725935828877004,"d":"2.0"},{"v":1.8965517241379308,"d":"1.9"},{"v":1.83994708994709,"d":"1.8"},{"v":1.7482758620689653,"d":"1.7"},{"v":1.6962566844919786,"d":"1.7"},{"v":1.655826558265583,"d":"1.7"}]
[null,"pcv Lysin","g/kg",{"$f":"D41/D44","v":{"v":11.225130890052355,"d":"11.2"}},{"$f":"E41/E44","v":{"v":10.49245283018868,"d":"10.5"}},{"v":9.876724137931037,"d":"9.9"},{"v":9.1344,"d":"9.1"},{"v":8.89887640449438,"d":"8.9"},{"v":8.691549295774648,"d":"8.7"},{"v":8.299665551839466,"d":"8.3"},{"v":7.8706070287539935,"d":"7.9"},{"v":7.576687116564417,"d":"7.6"},{"v":7.367952522255193,"d":"7.4"},{"v":7.3616714697406325,"d":"7.4"},{"v":7.266853932584269,"d":"7.3"},{"v":7.144628099173554,"d":"7.1"},{"v":7.06368563685637,"d":"7.1"},{"v":7.059139784946236,"d":"7.1"},{"v":7.090909090909091,"d":"7.1"},{"v":7.1034482758620685,"d":"7.1"},{"v":7.1190476190476195,"d":"7.1"},{"v":6.896551724137931,"d":"6.9"},{"v":6.517379679144385,"d":"6.5"},{"v":6.341463414634147,"d":"6.3"}]
[null,"Futterverwertung","kg Futter/kg Zuwachs",{"$f":"D44/(D38/1000)","v":{"v":1.7446427592758365,"d":"1.7"}},{"$f":"E44/(E38/1000)","v":{"v":1.8396390142311696,"d":"1.8"}},{"v":1.9301485881628644,"d":"1.9"},{"v":2.0364939719778428,"d":"2.0"},{"v":2.1114063389637505,"d":"2.1"},{"v":2.1931856794242113,"d":"2.2"},{"v":2.2674189340856006,"d":"2.3"},{"v":2.379142596533901,"d":"2.4"},{"v":2.4585218702865763,"d":"2.5"},{"v":2.534025114670276,"d":"2.5"},{"v":2.6143298425374826,"d":"2.6"},{"v":2.7006524047944165,"d":"2.7"},{"v":2.7867342238599724,"d":"2.8"},{"v":2.8816868410777037,"d":"2.9"},{"v":2.974572205341436,"d":"3.0"},{"v":3.0769230769230766,"d":"3.1"},{"v":3.2115171650055374,"d":"3.2"},{"v":3.357612364540771,"d":"3.4"},{"v":3.5194174757281558,"d":"3.5"},{"v":3.7026037026037026,"d":"3.7"},{"v":3.9151193633952253,"d":"3.9"},{"$f":"Y48/90","v":{"v":2.6040793171191523,"d":"2.60"}}]
[null,"ges. Futterverbrauch","kg/Abschnitt",{"$f":"D44*5/(D38/1000)","v":{"v":8.723213796379182,"d":"8.7"}},{"$f":"E44*5/(E38/1000)","v":{"v":9.198195071155848,"d":"9.2"}},{"v":9.650742940814322,"d":"9.7"},{"v":10.182469859889215,"d":"10.2"},{"v":10.557031694818754,"d":"10.6"},{"v":10.965928397121058,"d":"11.0"},{"v":11.337094670428003,"d":"11.3"},{"v":11.895712982669504,"d":"11.9"},{"v":12.29260935143288,"d":"12.3"},{"v":12.670125573351381,"d":"12.7"},{"v":13.071649212687412,"d":"13.1"},{"v":13.503262023972084,"d":"13.5"},{"v":13.933671119299861,"d":"13.9"},{"v":14.408434205388518,"d":"14.4"},{"v":14.872861026707183,"d":"14.9"},{"v":15.384615384615385,"d":"15.4"},{"v":16.057585825027687,"d":"16.1"},{"v":16.788061822703856,"d":"16.8"},{"v":17.59708737864078,"d":"17.6"},{"v":18.513018513018512,"d":"18.5"},{"v":19.575596816976123,"d":"19.6"},{"$f":"SUM(E48:V48)","v":{"v":234.36713854072372,"d":"234.4"}}]
[]
[]
[null,{"$f":"IF($T$6=\"HP\",\"Mast weiblicher Tiere mit sehr hohem Proteinansatz\",\"Mast weiblicher Tiere\")","v":"Mast weiblicher Tiere"}]
[{"$nulls":9},{"$f":"B51","v":"Mast weiblicher Tiere"}]
[null,"Gewicht","kg",25,30,35,40,45,50,55,60,65,70,75,80,85,90,95,100,105,110,115,120,125,"Masttage von 30 bis 120 kg"]
[null,"TZ",{"$f":"ROUND(AVERAGE(E54:W54),-1)","v":{"v":720,"d":"720 g"}},{"$f":"D65-100","v":592},{"$f":"E65-100","v":635},672,705,733,756,774,787,795,798,796,789,777,760,737,710,678,641,599,552,500]
[null,"Tage + 5 kg","d",{"$f":"5/D54*1000","v":{"v":8.445945945945946,"d":"8.4"}},{"v":7.874015748031496,"d":"7.9"},{"v":7.44047619047619,"d":"7.4"},{"v":7.092198581560283,"d":"7.1"},{"v":6.8212824010914055,"d":"6.8"},{"v":6.613756613756613,"d":"6.6"},{"v":6.459948320413436,"d":"6.5"},{"v":6.353240152477763,"d":"6.4"},{"v":6.289308176100629,"d":"6.3"},{"v":6.265664160401002,"d":"6.3"},{"v":6.28140703517588,"d":"6.3"},{"v":6.337135614702154,"d":"6.3"},{"v":6.435006435006435,"d":"6.4"},{"v":6.578947368421052,"d":"6.6"},{"v":6.784260515603799,"d":"6.8"},{"v":7.042253521126761,"d":"7.0"},{"v":7.374631268436578,"d":"7.4"},{"v":7.800312012480499,"d":"7.8"},{"v":8.347245409015025,"d":"8.3"},{"v":9.057971014492754,"d":"9.1"},{"v":10,"d":"10.0"},{"$f":"ROUND(SUM(E55:V55),0)","v":124}]
[null,"ME ","MJ/Tag",15.5,17.5,{"v":19,"d":"19.0"},20.5,{"v":22,"d":"22.0"},23.5,24.5,25.5,26.5,{"$f":"IF($T$6=\"HP\",M67-3,27.5)","v":27.5},{"$f":"IF($T$6=\"HP\",N67-3,28.5)","v":28.5},{"$f":"IF($T$6=\"HP\",O67-2,29)","v":{"v":29,"d":"29.0"}},{"$f":"IF($T$6=\"HP\",P67-2,29.5)","v":29.5},{"$f":"IF($T$6=\"HP\",Q67-2,30)","v":{"v":30,"d":"30.0"}},{"$f":"IF($T$6=\"HP\",R67-2,30)","v":{"v":30,"d":"30.0"}},{"$f":"IF($T$6=\"HP\",S67-2,30)","v":{"v":30,"d":"30.0"}},{"v":30,"d":"30.0"},{"v":30,"d":"30.0"},{"v":30,"d":"30.0"},{"v":30,"d":"30.0"},{"v":30,"d":"30.0"}]
[null,"pcv Lysin","g/Tag",{"$f":"IF($T$6=\"HP\",D68-2,D68-2)","v":11.8},{"$f":"IF($T$6=\"HP\",E68-2,E68-2)","v":12.6},13.2,13.8,14.3,{"v":14.600000000000001,"d":"14.6"},{"v":14.899999999999999,"d":"14.9"},{"v":15,"d":"15.0"},{"v":15.100000000000001,"d":"15.1"},{"v":15.100000000000001,"d":"15.1"},{"v":15,"d":"15.0"},14.8,14.5,{"v":14.100000000000001,"d":"14.1"},13.9,13.1,12.5,11.8,{"v":11,"d":"11.0"},10.2,9.4]
[null,"ME ","MJ/kg Futter",{"$f":"$E$7","v":13.4},{"$f":"$E$7","v":13.4},{"$f":"$E$7","v":13.4},{"$f":"$G$7","v":13.2},{"$f":"$G$7","v":13.2},{"$f":"$G$7","v":13.2},{"$f":"$G$7","v":13.2},{"$f":"$K$7","v":{"v":13,"d":"13.0"}},{"$f":"$K$7","v":{"v":13,"d":"13.0"}},{"$f":"$M$7","v":{"v":13,"d":"13.0"}},{"$f":"$M$7","v":{"v":13,"d":"13.0"}},{"$f":"$M$7","v":{"v":13,"d":"13.0"}},{"$f":"$M$7","v":{"v":13,"d":"13.0"}},{"$f":"$Q$7","v":{"v":13,"d":"13.0"}},{"$f":"$Q$7","v":{"v":13,"d":"13.0"}},{"v":13,"d":"13.0"},{"v":13,"d":"13.0"},{"v":13,"d":"13.0"},{"v":13,"d":"13.0"},{"v":13,"d":"13.0"},{"v":13,"d":"13.0"},"Ø bzw. Summe von 30 bis 120 kg"]
[null,"Futter","kg/Tag",{"$f":"D56/D58","v":{"v":1.1567164179104477,"d":"1.16"}},{"$f":"E56/E58","v":{"v":1.3059701492537312,"d":"1.31"}},{"v":1.417910447761194,"d":"1.42"},{"v":1.5530303030303032,"d":"1.55"},{"v":1.6666666666666667,"d":"1.67"},{"v":1.7803030303030305,"d":"1.78"},{"v":1.8560606060606062,"d":"1.86"},{"v":1.9615384615384615,"d":"1.96"},{"v":2.0384615384615383,"d":"2.04"},{"v":2.1153846153846154,"d":"2.12"},{"v":2.1923076923076925,"d":"2.19"},{"v":2.230769230769231,"d":"2.23"},{"v":2.269230769230769,"d":"2.27"},{"v":2.3076923076923075,"d":"2.31"},{"v":2.3076923076923075,"d":"2.31"},{"v":2.3076923076923075,"d":"2.31"},{"v":2.3076923076923075,"d":"2.31"},{"v":2.3076923076923075,"d":"2.31"},{"v":2.3076923076923075,"d":"2.31"},{"v":2.3076923076923075,"d":"2.31"},{"v":2.3076923076923075,"d":"2.31"}]
[null,"pcv Lysin","g/kg",{"$f":"D57/D59","v":{"v":10.201290322580647,"d":"10.2"}},{"v":9.648000000000001,"d":"9.6"},{"v":9.309473684210527,"d":"9.3"},{"v":8.885853658536584,"d":"8.9"},{"v":8.58,"d":"8.6"},{"v":8.200851063829788,"d":"8.2"},{"v":8.027755102040816,"d":"8.0"},{"v":7.647058823529412,"d":"7.6"},{"v":7.4075471698113216,"d":"7.4"},{"v":7.138181818181819,"d":"7.1"},{"v":6.842105263157894,"d":"6.8"},{"v":6.63448275862069,"d":"6.6"},{"v":6.389830508474576,"d":"6.4"},{"v":6.110000000000001,"d":"6.1"},{"v":6.023333333333334,"d":"6.0"},{"v":5.676666666666667,"d":"5.7"},{"v":5.416666666666667,"d":"5.4"},{"v":5.113333333333334,"d":"5.1"},{"v":4.7666666666666675,"d":"4.8"},{"v":4.42,"d":"4.4"},{"v":4.073333333333334,"d":"4.1"}]
[null,"Futterverwertung","kg Futter/kg Zuwachs",{"$f":"D59/(D54/1000)","v":{"v":1.9539128680919724,"d":"2.0"}},{"$f":"E59/(E54/1000)","v":{"v":2.056645904336585,"d":"2.1"}},{"v":2.1099857853589192,"d":"2.1"},{"v":2.202879862454331,"d":"2.2"},{"v":2.2737608003638017,"d":"2.3"},{"v":2.354898188231522,"d":"2.4"},{"v":2.3980111189413518,"d":"2.4"},{"v":2.4924249828951224,"d":"2.5"},{"v":2.564102564102564,"d":"2.6"},{"v":2.6508579140158086,"d":"2.7"},{"v":2.7541553923463473,"d":"2.8"},{"v":2.8273374280978842,"d":"2.8"},{"v":2.9205029205029205,"d":"2.9"},{"v":3.0364372469635623,"d":"3.0"},{"v":3.1311971610479072,"d":"3.1"},{"v":3.2502708559046587,"d":"3.3"},{"v":3.403675970047651,"d":"3.4"},{"v":3.60014400576023,"d":"3.6"},{"v":3.852574804160781,"d":"3.9"},{"v":4.180602006688963,"d":"4.2"},{"v":4.615384615384615,"d":"4.6"},{"$f":"Y62/90","v":{"v":2.771103494751775,"d":"2.77"}}]
[null,"ges. Futterverbrauch","kg/Abschnitt",{"$f":"D59*5/(D54/1000)","v":{"v":9.769564340459862,"d":"9.8"}},{"$f":"E59*5/(E54/1000)","v":{"v":10.283229521682923,"d":"10.3"}},{"v":10.549928926794598,"d":"10.5"},{"v":11.014399312271655,"d":"11.0"},{"v":11.36880400181901,"d":"11.4"},{"v":11.774490941157609,"d":"11.8"},{"v":11.990055594706758,"d":"12.0"},{"v":12.462124914475611,"d":"12.5"},{"v":12.82051282051282,"d":"12.8"},{"v":13.254289570079044,"d":"13.3"},{"v":13.770776961731737,"d":"13.8"},{"v":14.136687140489421,"d":"14.1"},{"v":14.602514602514603,"d":"14.6"},{"v":15.182186234817811,"d":"15.2"},{"v":15.655985805239535,"d":"15.7"},{"v":16.25135427952329,"d":"16.3"},{"v":17.018379850238254,"d":"17.0"},{"v":18.000720028801148,"d":"18.0"},{"v":19.262874020803903,"d":"19.3"},{"v":20.90301003344481,"d":"20.9"},{"v":23.076923076923073,"d":"23.1"},{"$f":"SUM(E62:V62)","v":{"v":249.39931452765975,"d":"249.4"}}]
[]
[null,"Gewicht","kg",25,30,35,40,45,50,55,60,65,70,75,80,85,90,95,100,105,110,115,120,125,"Masttage von 30 bis 120 kg"]
[null,"TZ",{"$f":"ROUND(AVERAGE(E65:W65),-1)","v":{"v":820,"d":"820 g"}},692,735,772,805,833,856,874,887,895,898,896,889,877,860,837,810,778,741,699,652,600]
[null,"Tage + 5 kg","d",{"$f":"5/D65*1000","v":{"v":7.22543352601156,"d":"7.2"}},{"v":6.802721088435374,"d":"6.8"},{"v":6.476683937823834,"d":"6.5"},{"v":6.211180124223602,"d":"6.2"},{"v":6.002400960384154,"d":"6.0"},{"v":5.841121495327102,"d":"5.8"},{"v":5.720823798627002,"d":"5.7"},{"v":5.636978579481398,"d":"5.6"},{"v":5.58659217877095,"d":"5.6"},{"v":5.567928730512249,"d":"5.6"},{"v":5.580357142857143,"d":"5.6"},{"v":5.624296962879639,"d":"5.6"},{"v":5.701254275940707,"d":"5.7"},{"v":5.813953488372093,"d":"5.8"},{"v":5.973715651135007,"d":"6.0"},{"v":6.172839506172839,"d":"6.2"},{"v":6.426735218508997,"d":"6.4"},{"v":6.747638326585696,"d":"6.7"},{"v":7.15307582260372,"d":"7.2"},{"v":7.668711656441718,"d":"7.7"},{"v":8.333333333333334,"d":"8.3"},{"$f":"ROUND(SUM(E66:V66),0)","v":109}]
[null,"ME ","MJ/Tag",{"v":17,"d":"17.0"},{"v":19,"d":"19.0"},20.5,{"v":22,"d":"22.0"},{"v":24,"d":"24.0"},{"v":25,"d":"25.0"},26.5,27.5,28.5,{"$f":"IF($T$6=\"HP\",31,29.5)","v":29.5},{"$f":"IF($T$6=\"HP\",31,30.5)","v":30.5},{"$f":"IF($T$6=\"HP\",32.8,31)","v":{"v":31,"d":"31.0"}},{"$f":"IF($T$6=\"HP\",31.2,31.5)","v":31.5},{"$f":"IF($T$6=\"HP\",32.2,32)","v":{"v":32,"d":"32.0"}},{"$f":"IF($T$6=\"HP\",31.8,32)","v":{"v":32,"d":"32.0"}},{"$f":"IF($T$6=\"HP\",32.2,32)","v":{"v":32,"d":"32.0"}},{"$f":"IF($T$6=\"HP\",32.4,32)","v":{"v":32,"d":"32.0"}},{"$f":"IF($T$6=\"HP\",30.8,32)","v":{"v":32,"d":"32.0"}},{"$f":"IF($T$6=\"HP\",30,32)","v":{"v":32,"d":"32.0"}},{"$f":"IF($T$6=\"HP\",30,32)","v":{"v":32,"d":"32.0"}},{"$f":"IF($T$6=\"HP\",29,32)","v":{"v":32,"d":"32.0"}}]
[null,"pcv Lysin","g/Tag",{"$f":"IF($T$6=\"HP\",14.19,13.8)","v":13.8},{"$f":"IF($T$6=\"HP\",15.1,14.6)","v":14.6},{"$f":"IF($T$6=\"HP\",15.89,15.2)","v":15.2},{"$f":"IF($T$6=\"HP\",16.6,15.8)","v":15.8},{"$f":"IF($T$6=\"HP\",17.21,16.3)","v":16.3},{"$f":"IF($T$6=\"HP\",17.72,16.6)","v":16.6},{"$f":"IF($T$6=\"HP\",18.05,16.9)","v":16.9},{"$f":"IF($T$6=\"HP\",18.44,17)","v":{"v":17,"d":"17.0"}},{"$f":"IF($T$6=\"HP\",18.65,17.1)","v":17.1},{"$f":"IF($T$6=\"HP\",18.76,17.1)","v":17.1},{"$f":"IF($T$6=\"HP\",18.77,17)","v":{"v":17,"d":"17.0"}},{"$f":"IF($T$6=\"HP\",18.68,16.8)","v":16.8},{"$f":"IF($T$6=\"HP\",18.49,16.5)","v":16.5},{"$f":"IF($T$6=\"HP\",18.2,16.1)","v":16.1},{"$f":"IF($T$6=\"HP\",17.79,15.9)","v":15.9},{"$f":"IF($T$6=\"HP\",17.3,15.1)","v":15.1},{"$f":"IF($T$6=\"HP\",16.71,14.5)","v":14.5},{"$f":"IF($T$6=\"HP\",16.02,13.8)","v":13.8},{"$f":"IF($T$6=\"HP\",15.23,13)","v":{"v":13,"d":"13.0"}},{"$f":"IF($T$6=\"HP\",14.24,12.2)","v":12.2},{"$f":"IF($T$6=\"HP\",13.35,11.4)","v":11.4}]
[null,"ME ","MJ/kg Futter",{"$f":"$E$7","v":13.4},{"$f":"$E$7","v":13.4},{"$f":"$E$7","v":13.4},{"$f":"$G$7","v":13.2},{"$f":"$G$7","v":13.2},{"$f":"$G$7","v":13.2},{"$f":"$G$7","v":13.2},{"$f":"$K$7","v":{"v":13,"d":"13.0"}},{"$f":"$K$7","v":{"v":13,"d":"13.0"}},{"$f":"$M$7","v":{"v":13,"d":"13.0"}},{"$f":"$M$7","v":{"v":13,"d":"13.0"}},{"$f":"$M$7","v":{"v":13,"d":"13.0"}},{"$f":"$M$7","v":{"v":13,"d":"13.0"}},{"$f":"$Q$7","v":{"v":13,"d":"13.0"}},{"$f":"$Q$7","v":{"v":13,"d":"13.0"}},{"v":13,"d":"13.0"},{"v":13,"d":"13.0"},{"v":13,"d":"13.0"},{"v":13,"d":"13.0"},{"v":13,"d":"13.0"},{"v":13,"d":"13.0"},"Ø bzw. Summe von 30 bis 120 kg"]
[null,"Futter","kg/Tag",{"$f":"D67/D69","v":{"v":1.2686567164179103,"d":"1.27"}},{"v":1.417910447761194,"d":"1.42"},{"v":1.5298507462686566,"d":"1.53"},{"v":1.6666666666666667,"d":"1.67"},{"v":1.8181818181818183,"d":"1.82"},{"v":1.893939393939394,"d":"1.89"},{"v":2.007575757575758,"d":"2.01"},{"v":2.1153846153846154,"d":"2.12"},{"v":2.1923076923076925,"d":"2.19"},{"v":2.269230769230769,"d":"2.27"},{"v":2.3461538461538463,"d":"2.35"},{"v":2.3846153846153846,"d":"2.38"},{"v":2.423076923076923,"d":"2.42"},{"v":2.4615384615384617,"d":"2.46"},{"v":2.4615384615384617,"d":"2.46"},{"v":2.4615384615384617,"d":"2.46"},{"v":2.4615384615384617,"d":"2.46"},{"v":2.4615384615384617,"d":"2.46"},{"v":2.4615384615384617,"d":"2.46"},{"v":2.4615384615384617,"d":"2.46"},{"$f":"X67/X69","v":{"v":2.4615384615384617,"d":"2.46"}}]
[null,"pcv Lysin","g/kg",{"v":10.87764705882353,"d":"10.9"},{"v":10.296842105263158,"d":"10.3"},{"v":9.935609756097561,"d":"9.9"},{"v":9.48,"d":"9.5"},{"v":8.965,"d":"9.0"},{"v":8.764800000000001,"d":"8.8"},{"v":8.418113207547169,"d":"8.4"},{"v":8.036363636363637,"d":"8.0"},7.8,{"v":7.535593220338984,"d":"7.5"},{"v":7.245901639344262,"d":"7.2"},{"v":7.045161290322581,"d":"7.0"},{"v":6.80952380952381,"d":"6.8"},{"v":6.540625,"d":"6.5"},{"v":6.459375,"d":"6.5"},{"v":6.1343749999999995,"d":"6.1"},{"v":5.890625,"d":"5.9"},{"v":5.60625,"d":"5.6"},{"v":5.28125,"d":"5.3"},{"v":4.95625,"d":"5.0"},{"$f":"X68/X70","v":{"v":4.63125,"d":"4.6"}}]
[null,"Futterverwertung","kg Futter/kg Zuwachs",{"$f":"D70/(D65/1000)","v":{"v":1.8333189543611423,"d":"1.8"}},{"$f":"E70/(E65/1000)","v":{"v":1.9291298608995835,"d":"1.9"}},{"v":1.9816719511252028,"d":"2.0"},{"v":2.070393374741201,"d":"2.1"},{"v":2.1826912583215106,"d":"2.2"},{"v":2.212546020957236,"d":"2.2"},{"v":2.296997434297206,"d":"2.3"},{"v":2.3848755528575145,"d":"2.4"},{"v":2.449505801461109,"d":"2.4"},{"v":2.526983039232482,"d":"2.5"},{"v":2.6184752747252746,"d":"2.6"},{"v":2.6823570130656744,"d":"2.7"},{"v":2.7629155337251117,"d":"2.8"},{"v":2.862254025044723,"d":"2.9"},{"v":2.9409061667126184,"d":"2.9"},{"v":3.0389363722697054,"d":"3.0"},{"v":3.1639311844967373,"d":"3.2"},{"v":3.3219142530883423,"d":"3.3"},{"v":3.5215142511279853,"d":"3.5"},{"v":3.7753657385559225,"d":"3.8"},{"v":4.102564102564103,"d":"4.1"},{"$f":"Y73/90","v":{"v":2.608222131563845,"d":"2.61"}}]
[null,"ges. Futterverbrauch","kg/Abschnitt",{"$f":"D70*5/(D65/1000)","v":{"v":9.16659477180571,"d":"9.2"}},{"$f":"E70*5/(E65/1000)","v":{"v":9.645649304497919,"d":"9.6"}},{"v":9.908359755626014,"d":"9.9"},{"v":10.351966873706004,"d":"10.4"},{"v":10.913456291607554,"d":"10.9"},{"v":11.062730104786182,"d":"11.1"},{"v":11.48498717148603,"d":"11.5"},{"v":11.924377764287572,"d":"11.9"},{"v":12.247529007305545,"d":"12.2"},{"v":12.634915196162412,"d":"12.6"},{"v":13.092376373626374,"d":"13.1"},{"v":13.411785065328372,"d":"13.4"},{"v":13.814577668625558,"d":"13.8"},{"v":14.311270125223615,"d":"14.3"},{"v":14.704530833563092,"d":"14.7"},{"v":15.194681861348528,"d":"15.2"},{"v":15.819655922483687,"d":"15.8"},{"v":16.609571265441712,"d":"16.6"},{"v":17.60757125563993,"d":"17.6"},{"v":18.876828692779615,"d":"18.9"},{"v":20.512820512820515,"d":"20.5"},{"$f":"SUM(E73:V73)","v":{"v":234.7399918407461,"d":"234.7"}}]
[]
[null,"Gewicht","kg",25,30,35,40,45,50,55,60,65,70,75,80,85,90,95,100,105,110,115,120,125,"Masttage von 30 bis 120 kg"]
[null,"TZ",{"$f":"ROUND(AVERAGE(E76:W76),-1)","v":{"v":920,"d":"920 g"}},{"$f":"D65+100","v":792},{"$f":"E65+100","v":835},{"$f":"F65+100","v":872},905,933,956,974,987,995,998,996,989,977,960,937,910,878,841,799,752,700]
[null,"Tage + 5 kg","d",{"$f":"5/D76*1000","v":{"v":6.313131313131313,"d":"6.3"}},{"v":5.9880239520958085,"d":"6.0"},{"v":5.73394495412844,"d":"5.7"},{"v":5.524861878453039,"d":"5.5"},{"v":5.359056806002144,"d":"5.4"},{"v":5.230125523012552,"d":"5.2"},{"v":5.133470225872689,"d":"5.1"},{"v":5.065856129685917,"d":"5.1"},{"v":5.025125628140704,"d":"5.0"},{"v":5.01002004008016,"d":"5.0"},{"v":5.020080321285141,"d":"5.0"},{"v":5.055611729019211,"d":"5.1"},{"v":5.117707267144319,"d":"5.1"},{"v":5.208333333333333,"d":"5.2"},{"v":5.3361792956243335,"d":"5.3"},{"v":5.4945054945054945,"d":"5.5"},{"v":5.694760820045558,"d":"5.7"},{"v":5.945303210463734,"d":"5.9"},{"v":6.257822277847309,"d":"6.3"},{"v":6.648936170212766,"d":"6.6"},{"v":7.142857142857142,"d":"7.1"},{"$f":"ROUND(SUM(E77:V77),0)","v":97}]
[null,"ME ","MJ/Tag",18.5,20.5,22.5,{"v":24,"d":"24.0"},25.5,{"v":27,"d":"27.0"},{"v":28,"d":"28.0"},29.5,30.5,{"$f":"IF($T$6=\"HP\",M67+3,31.5)","v":31.5},{"$f":"IF($T$6=\"HP\",N67+3,32.5)","v":32.5},{"$f":"IF($T$6=\"HP\",O67+2,33)","v":{"v":33,"d":"33.0"}},{"$f":"IF($T$6=\"HP\",P67+2,33.5)","v":33.5},{"$f":"IF($T$6=\"HP\",Q67+2,34)","v":{"v":34,"d":"34.0"}},{"$f":"IF($T$6=\"HP\",R67+2,34.5)","v":34.5},34.5,34.5,34.5,34.5,34.5,34.5]
[null,"pcv Lysin","g/Tag",{"$f":"IF($T$6=\"HP\",D68+2,D68+2)","v":15.8},{"$f":"IF($T$6=\"HP\",E68+2,E68+2)","v":16.6},17.2,17.8,18.3,18.6,18.9,{"v":19,"d":"19.0"},19.1,19.1,{"v":19,"d":"19.0"},18.8,18.5,18.1,17.9,17.1,16.5,15.8,{"v":15,"d":"15.0"},14.2,13.4]
[null,"ME ","MJ/kg Futter",{"$f":"$E$7","v":13.4},{"$f":"$E$7","v":13.4},{"$f":"$E$7","v":13.4},{"$f":"$G$7","v":13.2},{"$f":"$G$7","v":13.2},{"$f":"$G$7","v":13.2},{"$f":"$G$7","v":13.2},{"$f":"$K$7","v":{"v":13,"d":"13.0"}},{"$f":"$K$7","v":{"v":13,"d":"13.0"}},{"$f":"$M$7","v":{"v":13,"d":"13.0"}},{"$f":"$M$7","v":{"v":13,"d":"13.0"}},{"$f":"$M$7","v":{"v":13,"d":"13.0"}},{"$f":"$M$7","v":{"v":13,"d":"13.0"}},{"$f":"$Q$7","v":{"v":13,"d":"13.0"}},{"$f":"$Q$7","v":{"v":13,"d":"13.0"}},{"v":13,"d":"13.0"},{"v":13,"d":"13.0"},{"v":13,"d":"13.0"},{"v":13,"d":"13.0"},{"v":13,"d":"13.0"},{"v":13,"d":"13.0"},"Ø bzw. Summe von 30 bis 120 kg"]
[null,"Futter","kg/Tag",{"$f":"D78/D80","v":{"v":1.380597014925373,"d":"1.38"}},{"v":1.5298507462686566,"d":"1.53"},{"v":1.6791044776119401,"d":"1.68"},{"v":1.8181818181818183,"d":"1.82"},{"v":1.9318181818181819,"d":"1.93"},{"v":2.0454545454545454,"d":"2.05"},{"v":2.121212121212121,"d":"2.12"},{"v":2.269230769230769,"d":"2.27"},{"v":2.3461538461538463,"d":"2.35"},{"v":2.423076923076923,"d":"2.42"},{"v":2.5,"d":"2.50"},{"v":2.5384615384615383,"d":"2.54"},{"v":2.576923076923077,"d":"2.58"},{"v":2.6153846153846154,"d":"2.62"},{"v":2.6538461538461537,"d":"2.65"},{"v":2.6538461538461537,"d":"2.65"},{"v":2.6538461538461537,"d":"2.65"},{"v":2.6538461538461537,"d":"2.65"},{"v":2.6538461538461537,"d":"2.65"},{"v":2.6538461538461537,"d":"2.65"},{"$f":"X78/X80","v":{"v":2.6538461538461537,"d":"2.65"}}]
[null,"pcv Lysin","g/kg",{"v":11.444324324324326,"d":"11.4"},{"v":10.850731707317076,"d":"10.9"},{"v":10.243555555555556,"d":"10.2"},{"v":9.79,"d":"9.8"},{"v":9.472941176470588,"d":"9.5"},{"v":9.093333333333334,"d":"9.1"},{"v":8.91,"d":"8.9"},{"v":8.372881355932204,"d":"8.4"},{"v":8.140983606557377,"d":"8.1"},{"v":7.882539682539684,"d":"7.9"},7.6,{"v":7.406060606060607,"d":"7.4"},{"v":7.17910447761194,"d":"7.2"},{"v":6.920588235294118,"d":"6.9"},{"v":6.7449275362318835,"d":"6.7"},{"v":6.443478260869566,"d":"6.4"},{"v":6.217391304347826,"d":"6.2"},{"v":5.953623188405798,"d":"6.0"},{"v":5.6521739130434785,"d":"5.7"},{"v":5.350724637681159,"d":"5.4"},{"$f":"X79/X81","v":{"v":5.049275362318841,"d":"5.0"}}]
[null,"Futterverwertung","kg Futter/kg Zuwachs",{"$f":"D81/(D76/1000)","v":{"v":1.743178049148198,"d":"1.7"}},{"$f":"E81/(E76/1000)","v":{"v":1.8321565823576726,"d":"1.8"}},{"v":1.925578529371491,"d":"1.9"},{"v":2.0090406830738323,"d":"2.0"},{"v":2.070544675046283,"d":"2.1"},{"v":2.1395968048687712,"d":"2.1"},{"v":2.177835853400535,"d":"2.2"},{"v":2.299119320395916,"d":"2.3"},{"v":2.357943563973715,"d":"2.4"},{"v":2.4279327886542315,"d":"2.4"},{"v":2.5100401606425704,"d":"2.5"},{"v":2.566695185502061,"d":"2.6"},{"v":2.6375875915282263,"d":"2.6"},{"v":2.7243589743589745,"d":"2.7"},{"v":2.8322797799852224,"d":"2.8"},{"v":2.916314454775993,"d":"2.9"},{"v":3.0226038198703344,"d":"3.0"},{"v":3.155584011707674,"d":"3.2"},{"v":3.3214595167035714,"d":"3.3"},{"v":3.529050736497545,"d":"3.5"},{"v":3.7912087912087915,"d":"3.8"},{"$f":"Y84/90","v":{"v":2.4959262386787264,"d":"2.50"}}]
[null,"ges. Futterverbrauch","kg/Abschnitt",{"$f":"D81*5/(D76/1000)","v":{"v":8.71589024574099,"d":"8.7"}},{"$f":"E81*5/(E76/1000)","v":{"v":9.160782911788363,"d":"9.2"}},{"v":9.627892646857456,"d":"9.6"},{"v":10.045203415369162,"d":"10.0"},{"v":10.352723375231415,"d":"10.4"},{"v":10.697984024343857,"d":"10.7"},{"v":10.889179267002675,"d":"10.9"},{"v":11.495596601979582,"d":"11.5"},{"v":11.789717819868574,"d":"11.8"},{"v":12.139663943271158,"d":"12.1"},{"v":12.550200803212851,"d":"12.6"},{"v":12.833475927510305,"d":"12.8"},{"v":13.18793795764113,"d":"13.2"},{"v":13.621794871794872,"d":"13.6"},{"v":14.161398899926112,"d":"14.2"},{"v":14.581572273879965,"d":"14.6"},{"v":15.113019099351673,"d":"15.1"},{"v":15.777920058538369,"d":"15.8"},{"v":16.607297583517855,"d":"16.6"},{"v":17.645253682487724,"d":"17.6"},{"v":18.956043956043956,"d":"19.0"},{"$f":"SUM(E84:V84)","v":{"v":224.6333614810854,"d":"224.6"}}]
[]
[]
[null,{"$f":"IF($T$6=\"HP\",\"Mast männlicher Tiere mit sehr hohem Proteinansatz\",\"Mast männlicher Tiere\")","v":"Mast männlicher Tiere"}]
[{"$nulls":9},{"$f":"B87","v":"Mast männlicher Tiere"}]
[null,"Gewicht","kg",25,30,35,40,45,50,55,60,65,70,75,80,85,90,95,100,105,110,115,120,125,"Masttage von 30 bis 120 kg"]
[null,"TZ",{"$f":"ROUND(AVERAGE(E90:W90),-1)","v":{"v":770,"d":"770 g"}},{"$f":"D101-100","v":642},{"$f":"E101-100","v":685},722,755,783,806,824,837,845,848,846,836,827,810,787,760,728,691,649,602,550]
[null,"Tage + 5 kg","d",{"$f":"5/D90*1000","v":{"v":7.788161993769471,"d":"7.8"}},{"v":7.299270072992701,"d":"7.3"},{"v":6.925207756232687,"d":"6.9"},{"v":6.622516556291391,"d":"6.6"},{"v":6.385696040868455,"d":"6.4"},{"v":6.20347394540943,"d":"6.2"},{"v":6.067961165048543,"d":"6.1"},{"v":5.973715651135007,"d":"6.0"},{"v":5.9171597633136095,"d":"5.9"},{"v":5.89622641509434,"d":"5.9"},{"v":5.91016548463357,"d":"5.9"},{"v":5.980861244019139,"d":"6.0"},{"v":6.045949214026602,"d":"6.0"},{"v":6.172839506172839,"d":"6.2"},{"v":6.353240152477763,"d":"6.4"},{"v":6.578947368421052,"d":"6.6"},{"v":6.868131868131868,"d":"6.9"},{"v":7.23589001447178,"d":"7.2"},{"v":7.704160246533128,"d":"7.7"},{"v":8.305647840531561,"d":"8.3"},{"v":9.09090909090909,"d":"9.1"},{"$f":"ROUND(SUM(E91:V91),0)","v":116}]
[null,"ME ","MJ/Tag",16.5,18.5,20.5,22.5,{"v":24,"d":"24.0"},{"v":26,"d":"26.0"},27.5,{"v":29,"d":"29.0"},{"v":30,"d":"30.0"},{"$f":"IF($T$6=\"HP\",M103-3,31.5)","v":31.5},{"$f":"IF($T$6=\"HP\",N103-3,32.5)","v":32.5},{"$f":"IF($T$6=\"HP\",O103-2,33)","v":{"v":33,"d":"33.0"}},{"$f":"IF($T$6=\"HP\",P103-2,34)","v":{"v":34,"d":"34.0"}},{"$f":"IF($T$6=\"HP\",Q103-2,34.5)","v":34.5},{"$f":"IF($T$6=\"HP\",R103-2,35)","v":{"v":35,"d":"35.0"}},{"$f":"IF($T$6=\"HP\",S103-2,35.5)","v":35.5},{"$f":"IF($T$6=\"HP\",T103-2,35)","v":{"v":35,"d":"35.0"}},{"$f":"IF($T$6=\"HP\",U103-2,32.35)","v":{"v":32.35,"d":"32.4"}},{"$f":"IF($T$6=\"HP\",V103-2,32.35)","v":{"v":32.35,"d":"32.4"}},{"$f":"IF($T$6=\"HP\",W103-2,32.35)","v":{"v":32.35,"d":"32.4"}},{"$f":"IF($T$6=\"HP\",X103-2,32.35)","v":{"v":32.35,"d":"32.4"}}]
[null,"pcv Lysin","g/Tag",{"$f":"IF($T$6=\"HP\",D104-1.9,D104-1.9)","v":{"v":12.799999999999999,"d":"12.8"}},{"$f":"IF($T$6=\"HP\",E104-1.9,E104-1.9)","v":13.6},{"$f":"IF($T$6=\"HP\",F104-1.9,F104-1.9)","v":{"v":14.118,"d":"14.1"}},{"$f":"IF($T$6=\"HP\",G104-1.9,G104-1.9)","v":{"v":14.795,"d":"14.8"}},{"$f":"IF($T$6=\"HP\",H104-1.85,H104-1.85)","v":{"v":15.35,"d":"15.4"}},{"$f":"IF($T$6=\"HP\",I104-1.8,I104-1.8)","v":{"v":15.814,"d":"15.8"}},{"$f":"IF($T$6=\"HP\",J104-1.8,J104-1.8)","v":{"v":16,"d":"16.0"}},{"$f":"IF($T$6=\"HP\",K104-1.8,K104-1.8)","v":16.2},{"$f":"IF($T$6=\"HP\",L104-1.85,L104-1.85)","v":{"v":16.15,"d":"16.2"}},{"$f":"IF($T$6=\"HP\",M104-1.9,M104-1.9)","v":16.1},{"$f":"IF($T$6=\"HP\",N104-1.9,N104-1.9)","v":{"v":15.999999999999998,"d":"16.0"}},{"v":15.799999999999999,"d":"15.8"},{"v":15.499999999999998,"d":"15.5"},15.1,14.6,14.1,{"$f":"IF($T$6=\"HP\",T104-1.85,T104-1.85)","v":{"v":13.450000000000001,"d":"13.5"}},{"$f":"IF($T$6=\"HP\",U104-1.8,U104-1.8)","v":{"v":12.799999999999999,"d":"12.8"}},{"$f":"IF($T$6=\"HP\",V104-1.8,V104-1.8)","v":12.1},{"$f":"IF($T$6=\"HP\",W104-1.8,W104-1.8)","v":11.2},{"$f":"IF($T$6=\"HP\",X104-1.8,X104-1.8)","v":{"v":10.399999999999999,"d":"10.4"}}]
[null,"ME ","MJ/kg Futter",{"$f":"$E$7","v":13.4},{"$f":"$E$7","v":13.4},{"$f":"$E$7","v":13.4},{"$f":"$G$7","v":13.2},{"$f":"$G$7","v":13.2},{"$f":"$G$7","v":13.2},{"$f":"$G$7","v":13.2},{"$f":"$K$7","v":{"v":13,"d":"13.0"}},{"$f":"$K$7","v":{"v":13,"d":"13.0"}},{"$f":"$M$7","v":{"v":13,"d":"13.0"}},{"$f":"$M$7","v":{"v":13,"d":"13.0"}},{"$f":"$M$7","v":{"v":13,"d":"13.0"}},{"$f":"$M$7","v":{"v":13,"d":"13.0"}},{"$f":"$Q$7","v":{"v":13,"d":"13.0"}},{"$f":"$Q$7","v":{"v":13,"d":"13.0"}},{"v":13,"d":"13.0"},{"v":13,"d":"13.0"},{"v":13,"d":"13.0"},{"v":13,"d":"13.0"},{"v":13,"d":"13.0"},{"v":13,"d":"13.0"},"Ø bzw. Summe von 30 bis 120 kg"]
[null,"Futter","kg/Tag",{"$f":"D92/D94","v":{"v":1.2313432835820894,"d":"1.23"}},{"v":1.380597014925373,"d":"1.38"},{"v":1.5298507462686566,"d":"1.53"},{"v":1.7045454545454546,"d":"1.70"},{"v":1.8181818181818183,"d":"1.82"},{"v":1.9696969696969697,"d":"1.97"},{"v":2.0833333333333335,"d":"2.08"},{"v":2.230769230769231,"d":"2.23"},{"v":2.3076923076923075,"d":"2.31"},{"v":2.423076923076923,"d":"2.42"},{"v":2.5,"d":"2.50"},{"v":2.5384615384615383,"d":"2.54"},{"v":2.6153846153846154,"d":"2.62"},{"v":2.6538461538461537,"d":"2.65"},{"v":2.6923076923076925,"d":"2.69"},{"v":2.730769230769231,"d":"2.73"},{"v":2.6923076923076925,"d":"2.69"},{"v":2.4884615384615385,"d":"2.49"},{"v":2.4884615384615385,"d":"2.49"},{"v":2.4884615384615385,"d":"2.49"},{"$f":"X92/X94","v":{"v":2.4884615384615385,"d":"2.49"}}]
[null,"pcv Lysin","g/kg",{"v":10.395151515151515,"d":"10.4"},{"v":9.850810810810811,"d":"9.9"},{"v":9.228351219512197,"d":"9.2"},{"v":8.679733333333333,"d":"8.7"},{"v":8.442499999999999,"d":"8.4"},{"v":8.028646153846154,"d":"8.0"},{"v":7.68,"d":"7.7"},{"v":7.262068965517241,"d":"7.3"},{"v":6.998333333333333,"d":"7.0"},{"v":6.644444444444446,"d":"6.6"},{"v":6.3999999999999995,"d":"6.4"},{"v":6.224242424242425,"d":"6.2"},{"v":5.9264705882352935,"d":"5.9"},{"v":5.689855072463768,"d":"5.7"},{"v":5.422857142857143,"d":"5.4"},{"v":5.163380281690141,"d":"5.2"},{"v":4.9957142857142856,"d":"5.0"},{"v":5.143740340030911,"d":"5.1"},{"v":4.8624420401854715,"d":"4.9"},{"v":4.5007727975270475,"d":"4.5"},{"$f":"X93/X95","v":{"v":4.179289026275115,"d":"4.2"}}]
[null,"Futterverwertung","kg Futter/kg Zuwachs",{"$f":"D95/(D90/1000)","v":{"v":1.9179801924954665,"d":"1.9"}},{"$f":"E95/(E90/1000)","v":{"v":2.0154700947815662,"d":"2.0"}},{"v":2.118906850787613,"d":"2.1"},{"v":2.2576760987357014,"d":"2.3"},{"v":2.322071287588529,"d":"2.3"},{"v":2.4437927663734116,"d":"2.4"},{"v":2.5283171521035603,"d":"2.5"},{"v":2.6651962135833105,"d":"2.7"},{"v":2.7309968138370504,"d":"2.7"},{"v":2.8574020319303335,"d":"2.9"},{"v":2.955082742316785,"d":"3.0"},{"v":3.0364372469635628,"d":"3.0"},{"v":3.162496511952377,"d":"3.2"},{"v":3.276353276353276,"d":"3.3"},{"v":3.420975466718796,"d":"3.4"},{"v":3.5931174089068825,"d":"3.6"},{"v":3.6982248520710064,"d":"3.7"},{"v":3.6012467995101862,"d":"3.6"},{"v":3.8343012919284103,"d":"3.8"},{"v":4.133657040633785,"d":"4.1"},{"v":4.524475524475524,"d":"4.5"},{"$f":"Y98/90","v":{"v":2.917670272580131,"d":"2.92"}}]
[null,"ges. Futterverbrauch","kg/Abschnitt",{"$f":"D95*5/(D90/1000)","v":{"v":9.589900962477332,"d":"9.6"}},{"$f":"E95*5/(E90/1000)","v":{"v":10.077350473907831,"d":"10.1"}},{"v":10.594534253938065,"d":"10.6"},{"v":11.288380493678508,"d":"11.3"},{"v":11.610356437942645,"d":"11.6"},{"v":12.218963831867056,"d":"12.2"},{"v":12.6415857605178,"d":"12.6"},{"v":13.325981067916551,"d":"13.3"},{"v":13.65498406918525,"d":"13.7"},{"v":14.287010159651668,"d":"14.3"},{"v":14.775413711583925,"d":"14.8"},{"v":15.182186234817813,"d":"15.2"},{"v":15.812482559761882,"d":"15.8"},{"v":16.38176638176638,"d":"16.4"},{"v":17.10487733359398,"d":"17.1"},{"v":17.965587044534413,"d":"18.0"},{"v":18.491124260355033,"d":"18.5"},{"v":18.006233997550932,"d":"18.0"},{"v":19.171506459642053,"d":"19.2"},{"v":20.668285203168928,"d":"20.7"},{"v":22.622377622377623,"d":"22.6"},{"$f":"SUM(E98:V98)","v":{"v":262.5903245322118,"d":"262.6"}}]
[]
[null,"Gewicht","kg",25,30,35,40,45,50,55,60,65,70,75,80,85,90,95,100,105,110,115,120,125,"Masttage von 30 bis 120 kg"]
[null,"TZ",{"$f":"ROUND(AVERAGE(E101:W101),-1)","v":{"v":870,"d":"870 g"}},742,785,822,855,883,906,924,937,945,948,946,936,927,910,887,860,828,791,749,702,650]
[null,"Tage + 5 kg","d",{"$f":"5/D101*1000","v":{"v":6.738544474393532,"d":"6.7"}},{"v":6.369426751592357,"d":"6.4"},{"v":6.082725060827251,"d":"6.1"},{"v":5.847953216374268,"d":"5.8"},{"v":5.662514156285391,"d":"5.7"},{"v":5.518763796909493,"d":"5.5"},{"v":5.411255411255411,"d":"5.4"},{"v":5.3361792956243335,"d":"5.3"},{"v":5.291005291005291,"d":"5.3"},{"v":5.274261603375527,"d":"5.3"},{"v":5.2854122621564485,"d":"5.3"},{"v":5.3418803418803416,"d":"5.3"},{"v":5.393743257820928,"d":"5.4"},{"v":5.4945054945054945,"d":"5.5"},{"v":5.636978579481398,"d":"5.6"},{"v":5.813953488372093,"d":"5.8"},{"v":6.038647342995169,"d":"6.0"},{"v":6.321112515802781,"d":"6.3"},{"v":6.675567423230975,"d":"6.7"},{"v":7.122507122507122,"d":"7.1"},{"v":7.6923076923076925,"d":"7.7"},{"$f":"ROUND(SUM(E102:V102),0)","v":103}]
[null,"ME ","MJ/Tag",{"v":18,"d":"18.0"},20.5,{"v":22,"d":"22.0"},{"v":24,"d":"24.0"},{"v":26,"d":"26.0"},{"v":28,"d":"28.0"},29.5,{"v":31,"d":"31.0"},{"v":32,"d":"32.0"},{"$f":"IF($T$6=\"HP\",32,33.5)","v":33.5},{"$f":"IF($T$6=\"HP\",33,35)","v":{"v":35,"d":"35.0"}},{"$f":"IF($T$6=\"HP\",32.8,36)","v":{"v":36,"d":"36.0"}},{"$f":"IF($T$6=\"HP\",32.6,36.5)","v":36.5},{"$f":"IF($T$6=\"HP\",33.2,37)","v":{"v":37,"d":"37.0"}},{"$f":"IF($T$6=\"HP\",32.7,37.5)","v":37.5},{"$f":"IF($T$6=\"HP\",33.2,38)","v":{"v":38,"d":"38.0"}},{"$f":"IF($T$6=\"HP\",32.6,38)","v":{"v":38,"d":"38.0"}},{"$f":"IF($T$6=\"HP\",33.2,38)","v":{"v":38,"d":"38.0"}},{"$f":"IF($T$6=\"HP\",31.5,38)","v":{"v":38,"d":"38.0"}},{"$f":"IF($T$6=\"HP\",31,38)","v":{"v":38,"d":"38.0"}},{"$f":"IF($T$6=\"HP\",30,38)","v":{"v":38,"d":"38.0"}}]
[null,"pcv Lysin","g/Tag",{"$f":"IF($T$6=\"HP\",14.35,14.7)","v":14.7},{"$f":"IF($T$6=\"HP\",15.32,15.5)","v":15.5},{"$f":"IF($T$6=\"HP\",16.02,15.6+1.9*0.22)","v":{"v":16.018,"d":"16.0"}},{"$f":"IF($T$6=\"HP\",16.7,15.65+1.9*0.55)","v":{"v":16.695,"d":"16.7"}},{"$f":"IF($T$6=\"HP\",17.33,17.2)","v":17.2},{"$f":"IF($T$6=\"HP\",17.61,17.5+1.9*0.06)","v":{"v":17.614,"d":"17.6"}},{"$f":"IF($T$6=\"HP\",17.99,17.8)","v":17.8},{"$f":"IF($T$6=\"HP\",18.27,18)","v":{"v":18,"d":"18.0"}},{"$f":"IF($T$6=\"HP\",18.46,18)","v":{"v":18,"d":"18.0"}},{"$f":"IF($T$6=\"HP\",18.56,18)","v":{"v":18,"d":"18.0"}},{"$f":"IF($T$6=\"HP\",18.58,17.9)","v":17.9},{"$f":"IF($T$6=\"HP\",18.45,17.7)","v":17.7},{"$f":"IF($T$6=\"HP\",18.34,17.4)","v":17.4},{"$f":"IF($T$6=\"HP\",18.08,17)","v":{"v":17,"d":"17.0"}},{"$f":"IF($T$6=\"HP\",17.7,16.5)","v":16.5},{"$f":"IF($T$6=\"HP\",17.15,16)","v":{"v":16,"d":"16.0"}},{"$f":"IF($T$6=\"HP\",16.68,15.3)","v":15.3},{"$f":"IF($T$6=\"HP\",16.03,14.6)","v":14.6},{"$f":"IF($T$6=\"HP\",15.28,13.9)","v":13.9},{"$f":"IF($T$6=\"HP\",14.34,13)","v":{"v":13,"d":"13.0"}},{"$f":"IF($T$6=\"HP\",13.55,12.2)","v":12.2}]
[null,"ME ","MJ/kg Futter",{"$f":"$E$7","v":13.4},{"$f":"$E$7","v":13.4},{"$f":"$E$7","v":13.4},{"$f":"$G$7","v":13.2},{"$f":"$G$7","v":13.2},{"$f":"$G$7","v":13.2},{"$f":"$G$7","v":13.2},{"$f":"$K$7","v":{"v":13,"d":"13.0"}},{"$f":"$K$7","v":{"v":13,"d":"13.0"}},{"$f":"$M$7","v":{"v":13,"d":"13.0"}},{"$f":"$M$7","v":{"v":13,"d":"13.0"}},{"$f":"$M$7","v":{"v":13,"d":"13.0"}},{"$f":"$M$7","v":{"v":13,"d":"13.0"}},{"$f":"$Q$7","v":{"v":13,"d":"13.0"}},{"$f":"$Q$7","v":{"v":13,"d":"13.0"}},{"v":13,"d":"13.0"},{"v":13,"d":"13.0"},{"v":13,"d":"13.0"},{"v":13,"d":"13.0"},{"v":13,"d":"13.0"},{"v":13,"d":"13.0"},"Ø bzw. Summe von 30 bis 120 kg"]
[null,"Futter","kg/Tag",{"$f":"D103/D105","v":{"v":1.3432835820895521,"d":"1.34"}},{"v":1.5298507462686566,"d":"1.53"},{"v":1.6417910447761193,"d":"1.64"},{"v":1.8181818181818183,"d":"1.82"},{"v":1.9696969696969697,"d":"1.97"},{"v":2.121212121212121,"d":"2.12"},{"v":2.234848484848485,"d":"2.23"},{"v":2.3846153846153846,"d":"2.38"},{"v":2.4615384615384617,"d":"2.46"},{"v":2.576923076923077,"d":"2.58"},{"v":2.6923076923076925,"d":"2.69"},{"v":2.769230769230769,"d":"2.77"},{"v":2.8076923076923075,"d":"2.81"},{"v":2.8461538461538463,"d":"2.85"},{"v":2.8846153846153846,"d":"2.88"},{"v":2.923076923076923,"d":"2.92"},{"v":2.923076923076923,"d":"2.92"},{"v":2.923076923076923,"d":"2.92"},{"v":2.923076923076923,"d":"2.92"},{"v":2.923076923076923,"d":"2.92"},{"$f":"X103/X105","v":{"v":2.923076923076923,"d":"2.92"}}]
[null,"pcv Lysin","g/kg",{"v":10.943333333333333,"d":"10.9"},{"v":10.131707317073172,"d":"10.1"},{"v":9.756418181818184,"d":"9.8"},{"v":9.18225,"d":"9.2"},{"v":8.732307692307693,"d":"8.7"},{"v":8.303742857142858,"d":"8.3"},{"v":7.964745762711865,"d":"8.0"},{"v":7.548387096774194,"d":"7.5"},{"v":7.3125,"d":"7.3"},{"v":6.985074626865671,"d":"7.0"},{"v":6.648571428571428,"d":"6.6"},{"v":6.391666666666667,"d":"6.4"},{"v":6.197260273972603,"d":"6.2"},{"v":5.972972972972973,"d":"6.0"},{"v":5.72,"d":"5.7"},{"v":5.473684210526316,"d":"5.5"},{"v":5.23421052631579,"d":"5.2"},{"v":4.994736842105263,"d":"5.0"},{"v":4.7552631578947375,"d":"4.8"},{"v":4.447368421052632,"d":"4.4"},{"$f":"X104/X106","v":{"v":4.173684210526316,"d":"4.2"}}]
[null,"Futterverwertung","kg Futter/kg Zuwachs",{"$f":"D106/(D101/1000)","v":{"v":1.81035523192662,"d":"1.8"}},{"$f":"E106/(E101/1000)","v":{"v":1.9488544538454222,"d":"1.9"}},{"v":1.9973127065402911,"d":"2.0"},{"v":2.126528442317916,"d":"2.1"},{"v":2.2306873949003054,"d":"2.2"},{"v":2.3412937320222085,"d":"2.3"},{"v":2.418667191394464,"d":"2.4"},{"v":2.544947048682374,"d":"2.5"},{"v":2.604802604802605,"d":"2.6"},{"v":2.7182732878935414,"d":"2.7"},{"v":2.8459912180842415,"d":"2.8"},{"v":2.9585798816568043,"d":"3.0"},{"v":3.028794290930213,"d":"3.0"},{"v":3.1276415891800506,"d":"3.1"},{"v":3.2521030266238835,"d":"3.3"},{"v":3.3989266547406083,"d":"3.4"},{"v":3.530286138981791,"d":"3.5"},{"v":3.695419624623164,"d":"3.7"},{"v":3.902639416658108,"d":"3.9"},{"v":4.163927240850318,"d":"4.2"},{"v":4.497041420118343,"d":"4.5"},{"$f":"Y109/90","v":{"v":2.815097150215444,"d":"2.82"}}]
[null,"ges. Futterverbrauch","kg/Abschnitt",{"$f":"D106*5/(D101/1000)","v":{"v":9.0517761596331,"d":"9.1"}},{"$f":"E106*5/(E101/1000)","v":{"v":9.74427226922711,"d":"9.7"}},{"v":9.986563532701457,"d":"10.0"},{"v":10.632642211589582,"d":"10.6"},{"v":11.153436974501526,"d":"11.2"},{"v":11.706468660111044,"d":"11.7"},{"v":12.09333595697232,"d":"12.1"},{"v":12.724735243411871,"d":"12.7"},{"v":13.024013024013026,"d":"13.0"},{"v":13.591366439467706,"d":"13.6"},{"v":14.22995609042121,"d":"14.2"},{"v":14.792899408284024,"d":"14.8"},{"v":15.143971454651064,"d":"15.1"},{"v":15.638207945900254,"d":"15.6"},{"v":16.260515133119416,"d":"16.3"},{"v":16.99463327370304,"d":"17.0"},{"v":17.651430694908957,"d":"17.7"},{"v":18.47709812311582,"d":"18.5"},{"v":19.513197083290542,"d":"19.5"},{"v":20.81963620425159,"d":"20.8"},{"v":22.485207100591715,"d":"22.5"},{"$f":"SUM(E109:V109)","v":{"v":253.35874351938995,"d":"253.4"}}]
[]
[null,"Gewicht","kg",25,30,35,40,45,50,55,60,65,70,75,80,85,90,95,100,105,110,115,120,125,"Masttage von 30 bis 120 kg"]
[null,"TZ",{"$f":"ROUND(AVERAGE(E112:W112),-1)","v":{"v":970,"d":"970 g"}},{"$f":"D101+100","v":842},{"$f":"E101+100","v":885},{"$f":"F101+100","v":922},955,983,1006,1024,1037,1045,1048,1046,1036,1027,1010,987,960,928,891,849,802,750]
[null,"Tage + 5 kg","d",{"$f":"5/D112*1000","v":{"v":5.938242280285036,"d":"5.9"}},{"v":5.649717514124294,"d":"5.6"},{"v":5.422993492407809,"d":"5.4"},{"v":5.235602094240838,"d":"5.2"},{"v":5.0864699898270604,"d":"5.1"},{"v":4.970178926441352,"d":"5.0"},{"v":4.8828125,"d":"4.9"},{"v":4.821600771456123,"d":"4.8"},{"v":4.784688995215311,"d":"4.8"},{"v":4.770992366412214,"d":"4.8"},{"v":4.780114722753346,"d":"4.8"},{"v":4.826254826254826,"d":"4.8"},{"v":4.868549172346641,"d":"4.9"},{"v":4.9504950495049505,"d":"5.0"},{"v":5.065856129685917,"d":"5.1"},{"v":5.208333333333333,"d":"5.2"},{"v":5.387931034482759,"d":"5.4"},{"v":5.611672278338944,"d":"5.6"},{"v":5.889281507656066,"d":"5.9"},{"v":6.234413965087282,"d":"6.2"},{"v":6.666666666666667,"d":"6.7"},{"$f":"ROUND(SUM(E113:V113),0)","v":92}]
[null,"ME ","MJ/Tag",{"v":20,"d":"20.0"},{"v":22,"d":"22.0"},{"v":24,"d":"24.0"},{"v":26,"d":"26.0"},{"v":28,"d":"28.0"},{"v":30,"d":"30.0"},31.5,{"v":33,"d":"33.0"},34.5,{"$f":"IF($T$6=\"HP\",M103+3,36)","v":{"v":36,"d":"36.0"}},{"$f":"IF($T$6=\"HP\",N103+3,37)","v":{"v":37,"d":"37.0"}},{"$f":"IF($T$6=\"HP\",O103+2,38)","v":{"v":38,"d":"38.0"}},{"$f":"IF($T$6=\"HP\",P103+2,39)","v":{"v":39,"d":"39.0"}},{"$f":"IF($T$6=\"HP\",Q103+2,39.5)","v":39.5},{"$f":"IF($T$6=\"HP\",R103+2,40)","v":{"v":40,"d":"40.0"}},{"$f":"IF($T$6=\"HP\",S103+2,40.5)","v":40.5},{"$f":"IF($T$6=\"HP\",T103+2,41)","v":{"v":41,"d":"41.0"}},{"$f":"IF($T$6=\"HP\",U103+2,41)","v":{"v":41,"d":"41.0"}},{"$f":"IF($T$6=\"HP\",V103+2,41)","v":{"v":41,"d":"41.0"}},{"$f":"IF($T$6=\"HP\",W103+2,41)","v":{"v":41,"d":"41.0"}},{"$f":"IF($T$6=\"HP\",X103+2,41)","v":{"v":41,"d":"41.0"}}]
[null,"pcv Lysin","g/Tag",{"$f":"IF($T$6=\"HP\",D104+1.9,D104+1.9)","v":{"v":16.599999999999998,"d":"16.6"}},{"$f":"IF($T$6=\"HP\",E104+1.9,E104+1.9)","v":17.4},{"$f":"IF($T$6=\"HP\",F104+1.9,F104+1.9)","v":{"v":17.918,"d":"17.9"}},{"$f":"IF($T$6=\"HP\",G104+1.9,G104+1.9)","v":{"v":18.595,"d":"18.6"}},{"$f":"IF($T$6=\"HP\",H104+1.9,H104+1.9)","v":{"v":19.099999999999998,"d":"19.1"}},{"$f":"IF($T$6=\"HP\",I104+1.9,I104+1.9)","v":{"v":19.514,"d":"19.5"}},19.7,19.9,19.9,19.9,{"v":19.799999999999997,"d":"19.8"},{"v":19.599999999999998,"d":"19.6"},{"$f":"IF($T$6=\"HP\",P104+1.85,P104+1.85)","v":{"v":19.25,"d":"19.3"}},{"$f":"IF($T$6=\"HP\",Q104+1.8,Q104+1.8)","v":18.8},{"$f":"IF($T$6=\"HP\",R104+1.8,R104+1.8)","v":18.3},{"$f":"IF($T$6=\"HP\",S104+1.8,S104+1.8)","v":17.8},{"$f":"IF($T$6=\"HP\",T104+1.85,T104+1.85)","v":{"v":17.150000000000002,"d":"17.2"}},16.5,15.8,14.9,14.1]
[null,"ME ","MJ/kg Futter",{"$f":"$E$7","v":13.4},{"$f":"$E$7","v":13.4},{"$f":"$E$7","v":13.4},{"$f":"$G$7","v":13.2},{"$f":"$G$7","v":13.2},{"$f":"$G$7","v":13.2},{"$f":"$G$7","v":13.2},{"$f":"$K$7","v":{"v":13,"d":"13.0"}},{"$f":"$K$7","v":{"v":13,"d":"13.0"}},{"$f":"$M$7","v":{"v":13,"d":"13.0"}},{"$f":"$M$7","v":{"v":13,"d":"13.0"}},{"$f":"$M$7","v":{"v":13,"d":"13.0"}},{"$f":"$M$7","v":{"v":13,"d":"13.0"}},{"$f":"$Q$7","v":{"v":13,"d":"13.0"}},{"$f":"$Q$7","v":{"v":13,"d":"13.0"}},{"v":13,"d":"13.0"},{"v":13,"d":"13.0"},{"v":13,"d":"13.0"},{"v":13,"d":"13.0"},{"v":13,"d":"13.0"},{"v":13,"d":"13.0"},"Ø bzw. Summe von 30 bis 120 kg"]
[null,"Futter","kg/Tag",{"$f":"D114/D116","v":{"v":1.4925373134328357,"d":"1.49"}},{"v":1.6417910447761193,"d":"1.64"},{"v":1.791044776119403,"d":"1.79"},{"v":1.9696969696969697,"d":"1.97"},{"v":2.121212121212121,"d":"2.12"},{"v":2.272727272727273,"d":"2.27"},{"v":2.3863636363636367,"d":"2.39"},{"v":2.5384615384615383,"d":"2.54"},{"v":2.6538461538461537,"d":"2.65"},{"v":2.769230769230769,"d":"2.77"},{"v":2.8461538461538463,"d":"2.85"},{"v":2.923076923076923,"d":"2.92"},{"v":3,"d":"3.00"},{"v":3.0384615384615383,"d":"3.04"},{"v":3.076923076923077,"d":"3.08"},{"v":3.1153846153846154,"d":"3.12"},{"v":3.1538461538461537,"d":"3.15"},{"v":3.1538461538461537,"d":"3.15"},{"v":3.1538461538461537,"d":"3.15"},{"v":3.1538461538461537,"d":"3.15"},{"$f":"X114/X116","v":{"v":3.1538461538461537,"d":"3.15"}}]
[null,"pcv Lysin","g/kg",{"v":11.122,"d":"11.1"},{"v":10.598181818181818,"d":"10.6"},{"v":10.004216666666666,"d":"10.0"},{"v":9.44053846153846,"d":"9.4"},{"v":9.004285714285714,"d":"9.0"},{"v":8.58616,"d":"8.6"},{"v":8.255238095238093,"d":"8.3"},{"v":7.839393939393939,"d":"7.8"},{"v":7.498550724637681,"d":"7.5"},{"v":7.186111111111111,"d":"7.2"},{"v":6.956756756756755,"d":"7.0"},{"v":6.705263157894737,"d":"6.7"},{"v":6.416666666666667,"d":"6.4"},{"v":6.187341772151899,"d":"6.2"},{"v":5.9475,"d":"5.9"},{"v":5.713580246913581,"d":"5.7"},{"v":5.437804878048781,"d":"5.4"},{"v":5.2317073170731705,"d":"5.2"},{"v":5.009756097560976,"d":"5.0"},{"v":4.724390243902439,"d":"4.7"},{"$f":"X115/X117","v":{"v":4.470731707317073,"d":"4.5"}}]
[null,"Futterverwertung","kg Futter/kg Zuwachs",{"$f":"D117/(D112/1000)","v":{"v":1.7726096359059806,"d":"1.8"}},{"$f":"E117/(E112/1000)","v":{"v":1.8551311240408126,"d":"1.9"}},{"v":1.9425648331013048,"d":"1.9"},{"v":2.0625099159130573,"d":"2.1"},{"v":2.1578963593205707,"d":"2.2"},{"v":2.259172239291524,"d":"2.3"},{"v":2.3304332386363638,"d":"2.3"},{"v":2.4478896224315703,"d":"2.4"},{"v":2.5395656974604344,"d":"2.5"},{"v":2.6423957721667644,"d":"2.6"},{"v":2.7209883806442123,"d":"2.7"},{"v":2.821502821502821,"d":"2.8"},{"v":2.9211295034079847,"d":"2.9"},{"v":3.008377760853008,"d":"3.0"},{"v":3.1174499259605644,"d":"3.1"},{"v":3.245192307692308,"d":"3.2"},{"v":3.398541114058355,"d":"3.4"},{"v":3.539670206336873,"d":"3.5"},{"v":3.7147775663676725,"d":"3.7"},{"v":3.932476501055054,"d":"3.9"},{"v":4.205128205128205,"d":"4.2"},{"$f":"Y120/90","v":{"v":2.7069549105103445,"d":"2.71"}}]
[null,"ges. Futterverbrauch","kg/Abschnitt",{"$f":"D117*5/(D112/1000)","v":{"v":8.863048179529903,"d":"8.9"}},{"$f":"E117*5/(E112/1000)","v":{"v":9.275655620204065,"d":"9.3"}},{"v":9.712824165506525,"d":"9.7"},{"v":10.312549579565285,"d":"10.3"},{"v":10.789481796602853,"d":"10.8"},{"v":11.295861196457619,"d":"11.3"},{"v":11.65216619318182,"d":"11.7"},{"v":12.239448112157852,"d":"12.2"},{"v":12.697828487302171,"d":"12.7"},{"v":13.211978860833822,"d":"13.2"},{"v":13.604941903221063,"d":"13.6"},{"v":14.107514107514106,"d":"14.1"},{"v":14.605647517039923,"d":"14.6"},{"v":15.04188880426504,"d":"15.0"},{"v":15.587249629802821,"d":"15.6"},{"v":16.22596153846154,"d":"16.2"},{"v":16.992705570291776,"d":"17.0"},{"v":17.698351031684364,"d":"17.7"},{"v":18.573887831838363,"d":"18.6"},{"v":19.66238250527527,"d":"19.7"},{"v":21.025641025641026,"d":"21.0"},{"$f":"SUM(E120:V120)","v":{"v":243.625941945931,"d":"243.6"}}]
[]
[]
[null,"Futterkurve  Ebermast 850g TZ in Anlehnung an den Rechenmeister NRW 2010 + 2014"]
[{"$nulls":9},{"$f":"B123","v":"Futterkurve  Ebermast 850g TZ in Anlehnung an den Rechenmeister NRW 2010 + 2014"}]
[null,"kg",25,25,30,35,40,45,50,55,60,65,70,75,80,85,90,95,100,105,110,115,120,125,"Masttage von 30 bis 120 kg"]
[null,"TZ",{"$f":"ROUND(AVERAGE(E126:W126),-1)","v":{"v":850,"d":"850 g"}},{"$f":"692-20+50","v":722},{"$f":"760-70+50","v":740},{"$f":"797-70+50","v":777},{"$f":"830-70+50","v":810},{"$f":"858-70+50","v":838},{"$f":"881-80+50","v":851},{"$f":"899-90+50","v":859},{"$f":"912-90+50","v":872},{"$f":"920-90+50","v":880},{"$f":"923-80+50","v":893},{"$f":"921-70+50","v":901},{"$f":"914-20+50","v":944},{"$f":"902-20+50","v":932},{"$f":"885-20+50","v":915},{"$f":"862-20+50","v":892},{"$f":"835-20+50","v":865},{"$f":"803-20+50","v":833},{"$f":"766-20+50","v":796},{"$f":"724-20+50","v":754},{"$f":"677-20+50","v":707},{"$f":"625-20+50","v":655}]
[null,"Tage + 5 kg","d",{"$f":"5/D126*1000","v":{"v":6.925207756232687,"d":"6.9"}},{"$f":"5/E126*1000","v":{"v":6.756756756756757,"d":"6.8"}},{"v":6.435006435006435,"d":"6.4"},{"v":6.172839506172839,"d":"6.2"},{"v":5.966587112171838,"d":"6.0"},{"v":5.875440658049354,"d":"5.9"},{"v":5.820721769499419,"d":"5.8"},{"v":5.73394495412844,"d":"5.7"},{"v":5.681818181818182,"d":"5.7"},{"v":5.599104143337066,"d":"5.6"},{"v":5.549389567147614,"d":"5.5"},{"v":5.296610169491525,"d":"5.3"},{"v":5.364806866952789,"d":"5.4"},{"v":5.46448087431694,"d":"5.5"},{"v":5.605381165919282,"d":"5.6"},{"v":5.780346820809248,"d":"5.8"},{"v":6.002400960384154,"d":"6.0"},{"v":6.28140703517588,"d":"6.3"},{"v":6.631299734748011,"d":"6.6"},{"v":7.072135785007072,"d":"7.1"},{"v":7.633587786259541,"d":"7.6"},{"$f":"ROUND(SUM(E127:V127),0)","v":106}]
[null,"ME ","MJ/Tag",{"v":17,"d":"17.0"},{"v":19,"d":"19.0"},{"v":21,"d":"21.0"},{"v":23,"d":"23.0"},24.5,{"v":28,"d":"28.0"},29.5,{"v":31,"d":"31.0"},31.5,{"v":32,"d":"32.0"},32.5,{"v":33,"d":"33.0"},{"v":33,"d":"33.0"},{"v":33,"d":"33.0"},{"v":33,"d":"33.0"},{"v":33,"d":"33.0"},{"v":33,"d":"33.0"},{"v":33,"d":"33.0"},{"v":33,"d":"33.0"},{"v":33,"d":"33.0"},{"v":33,"d":"33.0"}]
[null,"pcv Lysin","g/Tag",{"$f":"0.87*D128","v":{"v":14.79,"d":"14.8"}},{"$f":"0.835*E128","v":{"v":15.864999999999998,"d":"15.9"}},{"$f":"0.8*F128","v":16.8},{"$f":"0.75*G128","v":{"v":17.25,"d":"17.3"}},{"$f":"0.744*H128","v":{"v":18.228,"d":"18.2"}},{"$f":"0.735*I128","v":{"v":20.58,"d":"20.6"}},{"$f":"0.7*J128","v":{"v":20.65,"d":"20.7"}},{"$f":"0.666*K128","v":{"v":20.646,"d":"20.6"}},{"$f":"0.645*L128","v":{"v":20.3175,"d":"20.3"}},{"$f":"0.645*M128","v":{"v":20.64,"d":"20.6"}},{"$f":"0.633*N128","v":{"v":20.5725,"d":"20.6"}},{"$f":"0.62*O128","v":{"v":20.46,"d":"20.5"}},{"$f":"0.605*P128","v":{"v":19.965,"d":"20.0"}},{"$f":"0.59*Q128","v":{"v":19.47,"d":"19.5"}},{"v":19.47,"d":"19.5"},{"v":19.47,"d":"19.5"},{"v":19.47,"d":"19.5"},{"v":19.47,"d":"19.5"},{"v":19.47,"d":"19.5"},{"v":19.47,"d":"19.5"},{"v":19.47,"d":"19.5"}]
[null,"ME ","MJ/kg Futter",{"$f":"$E$7","v":13.4},{"$f":"$E$7","v":13.4},{"$f":"$E$7","v":13.4},{"$f":"$E$7","v":13.4},{"$f":"$G$7","v":13.2},{"$f":"$G$7","v":13.2},{"$f":"$G$7","v":13.2},{"$f":"$G$7","v":13.2},{"$f":"$K$7","v":{"v":13,"d":"13.0"}},{"$f":"$K$7","v":{"v":13,"d":"13.0"}},{"$f":"$M$7","v":{"v":13,"d":"13.0"}},{"$f":"$M$7","v":{"v":13,"d":"13.0"}},{"$f":"$M$7","v":{"v":13,"d":"13.0"}},{"$f":"$M$7","v":{"v":13,"d":"13.0"}},{"$f":"$Q$7","v":{"v":13,"d":"13.0"}},{"$f":"$Q$7","v":{"v":13,"d":"13.0"}},{"v":13,"d":"13.0"},{"v":13,"d":"13.0"},{"v":13,"d":"13.0"},{"v":13,"d":"13.0"},{"v":13,"d":"13.0"},"Ø bzw. Summe von 30 bis 120 kg"]
[null,"Futter","kg/Tag",{"$f":"D128/D130","v":{"v":1.2686567164179103,"d":"1.27"}},{"$f":"E128/E130","v":{"v":1.417910447761194,"d":"1.42"}},{"$f":"F128/F130","v":{"v":1.5671641791044775,"d":"1.57"}},{"v":1.716417910447761,"d":"1.72"},{"v":1.8560606060606062,"d":"1.86"},{"v":2.121212121212121,"d":"2.12"},{"v":2.234848484848485,"d":"2.23"},{"v":2.3484848484848486,"d":"2.35"},{"v":2.423076923076923,"d":"2.42"},{"v":2.4615384615384617,"d":"2.46"},{"v":2.5,"d":"2.50"},{"v":2.5384615384615383,"d":"2.54"},{"v":2.5384615384615383,"d":"2.54"},{"v":2.5384615384615383,"d":"2.54"},{"v":2.5384615384615383,"d":"2.54"},{"v":2.5384615384615383,"d":"2.54"},{"v":2.5384615384615383,"d":"2.54"},{"v":2.5384615384615383,"d":"2.54"},{"v":2.5384615384615383,"d":"2.54"},{"v":2.5384615384615383,"d":"2.54"},{"v":2.5384615384615383,"d":"2.54"}]
[null,"pcv Lysin","g/kg",{"$f":"D129/D131","v":{"v":11.658000000000001,"d":"11.7"}},{"$f":"E129/E131","v":{"v":11.189,"d":"11.2"}},{"v":10.72,"d":"10.7"},{"v":10.05,"d":"10.1"},{"v":9.8208,"d":"9.8"},{"v":9.702,"d":"9.7"},{"v":9.239999999999998,"d":"9.2"},{"v":8.7912,"d":"8.8"},{"v":8.385,"d":"8.4"},{"v":8.385,"d":"8.4"},{"v":8.229000000000001,"d":"8.2"},{"v":8.06,"d":"8.1"},{"v":7.865,"d":"7.9"},{"v":7.67,"d":"7.7"},{"v":7.67,"d":"7.7"},{"v":7.67,"d":"7.7"},{"v":7.67,"d":"7.7"},{"v":7.67,"d":"7.7"},{"v":7.67,"d":"7.7"},{"v":7.67,"d":"7.7"},{"v":7.67,"d":"7.7"}]
[null,"Futterverwertung","kg Futter/kg Zuwachs",{"$f":"D131/(D126/1000)","v":{"v":1.757142266506801,"d":"1.8"}},{"$f":"E131/(E126/1000)","v":{"v":1.916095199677289,"d":"1.9"}},{"$f":"F131/(F126/1000)","v":{"v":2.016942315449778,"d":"2.0"}},{"v":2.1190344573429147,"d":"2.1"},{"v":2.2148694583062127,"d":"2.2"},{"v":2.492611188263362,"d":"2.5"},{"v":2.6016862454580734,"d":"2.6"},{"v":2.6932165693633587,"d":"2.7"},{"v":2.7534965034965033,"d":"2.8"},{"v":2.7564820397967096,"d":"2.8"},{"v":2.774694783573807,"d":"2.8"},{"v":2.6890482398956976,"d":"2.7"},{"v":2.7236711786068004,"d":"2.7"},{"v":2.774274905422446,"d":"2.8"},{"v":2.845808899620559,"d":"2.8"},{"v":2.9346376167185415,"d":"2.9"},{"v":3.0473727952719547,"d":"3.0"},{"v":3.1890220332431385,"d":"3.2"},{"v":3.366659865333605,"d":"3.4"},{"v":3.5904689370035903,"d":"3.6"},{"v":3.875513799177921,"d":"3.9"},{"$f":"Y134/90","v":{"v":2.66164579415782,"d":"2.66"}}]
[null,"ges. Futterverbrauch","kg/Abschnitt",{"$f":"D131*5/(D126/1000)","v":{"v":8.785711332534005,"d":"8.8"}},{"$f":"E131*5/(E126/1000)","v":{"v":9.580475998386445,"d":"9.6"}},{"$f":"F131*5/(F126/1000)","v":{"v":10.08471157724889,"d":"10.1"}},{"v":10.595172286714574,"d":"10.6"},{"v":11.074347291531064,"d":"11.1"},{"v":12.46305594131681,"d":"12.5"},{"v":13.008431227290366,"d":"13.0"},{"v":13.466082846816791,"d":"13.5"},{"v":13.767482517482517,"d":"13.8"},{"v":13.782410198983548,"d":"13.8"},{"v":13.873473917869035,"d":"13.9"},{"v":13.445241199478488,"d":"13.4"},{"v":13.618355893034003,"d":"13.6"},{"v":13.87137452711223,"d":"13.9"},{"v":14.229044498102793,"d":"14.2"},{"v":14.673188083592708,"d":"14.7"},{"v":15.236863976359775,"d":"15.2"},{"v":15.945110166215692,"d":"15.9"},{"v":16.833299326668026,"d":"16.8"},{"v":17.95234468501795,"d":"18.0"},{"v":19.377568995889604,"d":"19.4"},{"$f":"SUM(E134:V134)","v":{"v":239.54812147420378,"d":"239.5"}}]

{"sheet":"Futterkurve Sauen","index":11,"n_rows":49,"n_cols":11,"rows_kept":49,"merged":[[3,1,3,10],[4,1,4,2],[15,1,18,1],[20,1,22,1],[23,1,27,1],[29,1,45,1],[46,1,47,1]]}
[]
[]
[]
[null,"Futterkurve für Sauen nach GFE 2006"]
[{"$nulls":7},"kg Wurfzuwachs pro Tag",{"$f":"I6*0.2","v":{"v":2.4000000000000004,"d":"2.4 kg/d"}},"Lebendmasse-verlust der Jungsau wäh-rend der Lak-tation ca 10kg",{"v":10,"d":"10  kg"}]
[null,"Temperatur im Stall - Abferkelung Basis 19 °C",{"v":19,"d":"19 °C"},"Temperatur im Stall - Deckzentrum Basis 19 °C",{"v":19,"d":"19 °C"},"Temperatur im Stall - Wartebereich              Basis 14 °C",{"v":14,"d":"14 °C"},"Anzahl Ferkel Jungsau",{"v":12,"d":"12.0"},"Lebendmasse der Jungsau          1.Wurf in kg                            ca. Ø 185 kg",{"v":140,"d":"140  kg"}]
[null,"MJ ME pro kg Futter für niedertragen-de Sauen                 11,8-12,2 MJ",{"v":12,"d":"12.0  MJ ME"},"MJ ME pro kg Futter für hochtragende Sauen normal 11,8-12,2 MJ",{"v":12,"d":"12.0  MJ ME"},"MJ ME pro kg Futter für lak-tierende Sau-en normal 13,0-13,4 MJ",{"v":13,"d":"13.0  MJ ME"},"Anzahl Ferkel",{"v":13,"d":"13.0"},"Lebendmasse der Sau           3.Wurf in kg             ca. Ø 255 kg",{"v":225,"d":"225  kg"}]
[null,"Gesamter Futterver-brauch Tragefutter                in kg / Jahr",{"$f":"((SUM(D!C2:C115,D!C144:C148)+SUM(D!E2:E115,D!E144:E148)+SUM(D!G2:G115,D!G144:G148)+SUM(D!I2:I115,D!I144:I148)*2)/5+((SUM(D!C2:C28,D!C144:C148)+SUM(D!E2:E28,D!E144:E148)+SUM(D!G2:G28,D!G144:G148)+SUM(D!I2:I28,D!I144:I148)*2)/5)*'Futterkurve Sauen'!G10)*365/(115+5+E10)","v":{"v":925.50260770975,"d":"925.5 kg"}},"Gesamter Futterver-brauch Säugefutter                in kg / Jahr",{"$f":"((SUM(D!C116:C133)+SUM(D!E116:E133)+SUM(D!G116:G133)+SUM(D!I116:I133)*2)/5+(D!C143+D!E143+D!G143+D!I143*2)/5*('Futterkurve Sauen'!E10-18))*C10","v":{"v":359.0578637348467,"d":"359.1 kg"}},"Gesamter Futterver-brauch                 in kg / Jahr",{"$f":"C8+E8","v":{"v":1284.5604714445967,"d":"1284.6 kg"}},"kg Wurfzuwachs pro Tag",{"$f":"I7*0.2","v":{"v":2.6,"d":"2.6 kg/d"}},"Lebendmasse-verlust der Sau während der Laktation (ca. 10-20 kg)",{"v":15,"d":"15  kg"}]
[null,"Prozent",{"$f":"C8/G8","v":{"v":0.7204819300324135,"d":"72.05%"}},"Prozent",{"$f":"E8/G8","v":{"v":0.2795180699675865,"d":"27.95%"}},"Prozent",{"v":1,"d":"100.00%"}]
[null,"Anzahl Würfe / Sau & Jahr",{"$f":"365/(120+E10+G10*E10)","v":{"v":2.4382097528390116,"d":"2.44"}},"Säugezeit ",{"v":27,"d":"27 Tage"},"% Umrauscher",{"v":0.1,"d":"10.0%"}]
[]
[]
[]
[]
[null,"Phase","Tag","MJ ME                   1. Trächtigkeit 140 kg LM","kg Futter                            1. Trächtigkeit 140 kg LM","MJ ME                 2. Trächtigkeit 185 kg LM","kg Futter                    2. Trächtigkeit 185 kg LM","MJ ME                 3. Trächtigkeit 225 kg LM","kg Futter                          3. Trächtigkeit 225 kg LM","MJ ME                      4. Trächtigkeit 255 kg LM","kg Futter                            4. Trächtigkeit 255 kg LM"]
[null,"niedertragend (nach 28 Tagen Umstallung)",1,{"$f":"D!B2","v":29},{"$f":"D!C2","v":{"v":2.4166666666666665,"d":"2.4"}},{"$f":"D!D2","v":32},{"$f":"D!E2","v":{"v":2.6666666666666665,"d":"2.7"}},{"$f":"D!F2","v":33},{"$f":"D!G2","v":{"v":2.75,"d":"2.8"}},{"$f":"D!H2","v":31},{"$f":"D!I2","v":{"v":2.5833333333333335,"d":"2.6"}}]
[null,null,{"$f":"D!A29","v":28},{"$f":"D!B29","v":29},{"$f":"D!C29","v":{"v":2.4166666666666665,"d":"2.4"}},{"$f":"D!D29","v":32},{"$f":"D!E29","v":{"v":2.6666666666666665,"d":"2.7"}},{"$f":"D!F29","v":33},{"$f":"D!G29","v":{"v":2.75,"d":"2.8"}},{"$f":"D!H29","v":31},{"$f":"D!I29","v":{"v":2.5833333333333335,"d":"2.6"}}]
[null,null,{"$f":"D!A30","v":29},{"$f":"D!B30","v":33},{"$f":"D!C30","v":{"v":2.75,"d":"2.8"}},{"$f":"D!D30","v":38},{"$f":"D!E30","v":{"v":3.1666666666666665,"d":"3.2"}},{"$f":"D!F30","v":39},{"$f":"D!G30","v":{"v":3.25,"d":"3.3"}},{"$f":"D!H30","v":37},{"$f":"D!I30","v":{"v":3.0833333333333335,"d":"3.1"}}]
[null,null,70,{"$f":"D!B66","v":33},{"$f":"D!C66","v":{"v":2.75,"d":"2.8"}},{"$f":"D!D66","v":38},{"$f":"D!E66","v":{"v":3.1666666666666665,"d":"3.2"}},{"$f":"D!F66","v":39},{"$f":"D!G66","v":{"v":3.25,"d":"3.3"}},{"$f":"D!H66","v":37},{"$f":"D!I66","v":{"v":3.0833333333333335,"d":"3.1"}}]
[null,"Übergangs-phase",{"$f":"D!A72","v":71},{"$f":"D!B72","v":37},{"$f":"D!C72","v":{"v":3.0833333333333335,"d":"3.1"}},{"$f":"D!D72","v":42},{"$f":"D!E72","v":3.5},{"$f":"D!F72","v":43},{"$f":"D!G72","v":{"v":3.5833333333333335,"d":"3.6"}},{"$f":"D!H72","v":40},{"$f":"D!I72","v":{"v":3.3333333333333335,"d":"3.3"}}]
[null,"hochtragend 108. Tag Umstallung!",86,{"$f":"D!B87","v":39},{"$f":"D!C87","v":{"v":3.25,"d":"3.3"}},{"$f":"D!D87","v":42},{"$f":"D!E87","v":3.5},{"$f":"D!F87","v":43},{"$f":"D!G87","v":{"v":3.5833333333333335,"d":"3.6"}},{"$f":"D!H87","v":40},{"$f":"D!I87","v":{"v":3.3333333333333335,"d":"3.3"}}]
[null,null,{"$f":"D!A109","v":108},{"$f":"D!B109","v":39},{"$f":"D!C109","v":{"v":3.25,"d":"3.3"}},{"$f":"D!D109","v":42},{"$f":"D!E109","v":3.5},{"$f":"D!F109","v":43},{"$f":"D!G109","v":{"v":3.5833333333333335,"d":"3.6"}},{"$f":"D!H109","v":39},{"$f":"D!I109","v":{"v":3.25,"d":"3.3"}}]
[null,null,109,{"$f":"D!B110","v":39},{"$f":"D!C110","v":{"v":3.25,"d":"3.3"}},{"$f":"D!D110","v":42},{"$f":"D!E110","v":3.5},{"$f":"D!F110","v":43},{"$f":"D!G110","v":{"v":3.5833333333333335,"d":"3.6"}},{"$f":"D!H110","v":39},{"$f":"D!I110","v":{"v":3.25,"d":"3.3"}}]
[null,"Geburts-vorberei-tungsphase kann geändert werden",110,{"$f":"D!B111","v":36},{"$f":"D!C111","v":{"v":3,"d":"3.0"}},{"$f":"D!D111","v":39},{"$f":"D!E111","v":{"v":3.25,"d":"3.3"}},{"$f":"D!F111","v":40},{"$f":"D!G111","v":{"v":3.3333333333333335,"d":"3.3"}},{"$f":"D!H111","v":39},{"$f":"D!I111","v":{"v":3.25,"d":"3.3"}}]
[null,null,111,{"$f":"D!B112","v":33},{"$f":"D!C112","v":{"v":2.75,"d":"2.8"}},{"$f":"D!D112","v":36},{"$f":"D!E112","v":{"v":3,"d":"3.0"}},{"$f":"D!F112","v":37},{"$f":"D!G112","v":{"v":3.0833333333333335,"d":"3.1"}},{"$f":"D!H112","v":36},{"$f":"D!I112","v":{"v":3,"d":"3.0"}}]
[null,null,112,{"$f":"D!B113","v":31},{"$f":"D!C113","v":{"v":2.5833333333333335,"d":"2.6"}},{"$f":"D!D113","v":33},{"$f":"D!E113","v":{"v":2.75,"d":"2.8"}},{"$f":"D!F113","v":34},{"$f":"D!G113","v":{"v":2.8333333333333335,"d":"2.8"}},{"$f":"D!H113","v":33},{"$f":"D!I113","v":{"v":2.75,"d":"2.8"}}]
[null,null,113,{"$f":"D!B114","v":29},{"$f":"D!C114","v":{"v":2.4166666666666665,"d":"2.4"}},{"$f":"D!D114","v":30},{"$f":"D!E114","v":2.5},{"$f":"D!F114","v":30},{"$f":"D!G114","v":2.5},{"$f":"D!H114","v":30},{"$f":"D!I114","v":2.5}]
[null,null,114,{"$f":"D!B115","v":26},{"$f":"D!C115","v":{"v":2.1666666666666665,"d":"2.2"}},{"$f":"D!D115","v":26},{"$f":"D!E115","v":{"v":2.1666666666666665,"d":"2.2"}},{"$f":"D!F115","v":26},{"$f":"D!G115","v":{"v":2.1666666666666665,"d":"2.2"}},{"$f":"D!H115","v":26},{"$f":"D!I115","v":{"v":2.1666666666666665,"d":"2.2"}}]
[null,"Geburt",115,{"$f":"D!B116","v":26},{"$f":"D!C116","v":{"v":2,"d":"2.0"}},{"$f":"D!D116","v":26},{"$f":"D!E116","v":{"v":2,"d":"2.0"}},{"$f":"D!F116","v":26},{"$f":"D!G116","v":{"v":2,"d":"2.0"}},{"$f":"D!H116","v":26},{"$f":"D!I116","v":{"v":2,"d":"2.0"}}]
[null,"Anfütter-rungsphase: Jungsauen + 0,4 kg/Tag Sauen + 0,5 kg/Tag. Alle 3 Tage mit Steigerung der Futtermenge einen Tag ausetzen!",{"$f":"D!A117","v":116},{"$f":"D!B117","v":{"v":31.2,"d":"31"}},{"$f":"D!C117","v":2.4},{"$f":"D!D117","v":{"v":32.5,"d":"33"}},{"$f":"D!E117","v":2.5},{"$f":"D!F117","v":{"v":32.5,"d":"33"}},{"$f":"D!G117","v":2.5},{"$f":"D!H117","v":{"v":32.5,"d":"33"}},{"$f":"D!I117","v":2.5}]
[null,null,{"$f":"D!A118","v":117},{"$f":"D!B118","v":{"v":36.4,"d":"36"}},{"$f":"D!C118","v":2.8},{"$f":"D!D118","v":39},{"$f":"D!E118","v":{"v":3,"d":"3.0"}},{"$f":"D!F118","v":39},{"$f":"D!G118","v":{"v":3,"d":"3.0"}},{"$f":"D!H118","v":39},{"$f":"D!I118","v":{"v":3,"d":"3.0"}}]
[null,null,{"$f":"D!A119","v":118},{"$f":"D!B119","v":{"v":41.599999999999994,"d":"42"}},{"$f":"D!C119","v":{"v":3.1999999999999997,"d":"3.2"}},{"$f":"D!D119","v":{"v":45.5,"d":"46"}},{"$f":"D!E119","v":3.5},{"$f":"D!F119","v":{"v":45.5,"d":"46"}},{"$f":"D!G119","v":3.5},{"$f":"D!H119","v":{"v":45.5,"d":"46"}},{"$f":"D!I119","v":3.5}]
[null,null,{"$f":"D!A120","v":119},{"$f":"D!B120","v":{"v":41.599999999999994,"d":"42"}},{"$f":"D!C120","v":{"v":3.1999999999999997,"d":"3.2"}},{"$f":"D!D120","v":{"v":45.5,"d":"46"}},{"$f":"D!E120","v":3.5},{"$f":"D!F120","v":{"v":45.5,"d":"46"}},{"$f":"D!G120","v":3.5},{"$f":"D!H120","v":{"v":45.5,"d":"46"}},{"$f":"D!I120","v":3.5}]
[null,null,{"$f":"D!A121","v":120},{"$f":"D!B121","v":{"v":46.8,"d":"47"}},{"$f":"D!C121","v":{"v":3.5999999999999996,"d":"3.6"}},{"$f":"D!D121","v":52},{"$f":"D!E121","v":{"v":4,"d":"4.0"}},{"$f":"D!F121","v":52},{"$f":"D!G121","v":{"v":4,"d":"4.0"}},{"$f":"D!H121","v":52},{"$f":"D!I121","v":{"v":4,"d":"4.0"}}]
[null,null,{"$f":"D!A122","v":121},{"$f":"D!B122","v":{"v":51.99999999999999,"d":"52"}},{"$f":"D!C122","v":{"v":3.9999999999999996,"d":"4.0"}},{"$f":"D!D122","v":{"v":58.5,"d":"59"}},{"$f":"D!E122","v":4.5},{"$f":"D!F122","v":{"v":58.5,"d":"59"}},{"$f":"D!G122","v":4.5},{"$f":"D!H122","v":{"v":58.5,"d":"59"}},{"$f":"D!I122","v":4.5}]
[null,null,{"$f":"D!A123","v":122},{"$f":"D!B123","v":{"v":57.199999999999996,"d":"57"}},{"$f":"D!C123","v":{"v":4.3999999999999995,"d":"4.4"}},{"$f":"D!D123","v":65},{"$f":"D!E123","v":{"v":5,"d":"5.0"}},{"$f":"D!F123","v":65},{"$f":"D!G123","v":{"v":5,"d":"5.0"}},{"$f":"D!H123","v":65},{"$f":"D!I123","v":{"v":5,"d":"5.0"}}]
[null,null,{"$f":"D!A124","v":123},{"$f":"D!B124","v":{"v":57.199999999999996,"d":"57"}},{"$f":"D!C124","v":{"v":4.3999999999999995,"d":"4.4"}},{"$f":"D!D124","v":65},{"$f":"D!E124","v":{"v":5,"d":"5.0"}},{"$f":"D!F124","v":65},{"$f":"D!G124","v":{"v":5,"d":"5.0"}},{"$f":"D!H124","v":65},{"$f":"D!I124","v":{"v":5,"d":"5.0"}}]
[null,null,{"$f":"D!A125","v":124},{"$f":"D!B125","v":{"v":62.4,"d":"62"}},{"$f":"D!C125","v":4.8},{"$f":"D!D125","v":{"v":71.5,"d":"72"}},{"$f":"D!E125","v":5.5},{"$f":"D!F125","v":{"v":71.5,"d":"72"}},{"$f":"D!G125","v":5.5},{"$f":"D!H125","v":{"v":71.5,"d":"72"}},{"$f":"D!I125","v":5.5}]
[null,null,{"$f":"D!A126","v":125},{"$f":"D!B126","v":{"v":67.60000000000001,"d":"68"}},{"$f":"D!C126","v":5.2},{"$f":"D!D126","v":78},{"$f":"D!E126","v":{"v":6,"d":"6.0"}},{"$f":"D!F126","v":78},{"$f":"D!G126","v":{"v":6,"d":"6.0"}},{"$f":"D!H126","v":78},{"$f":"D!I126","v":{"v":6,"d":"6.0"}}]
[null,null,{"$f":"D!A127","v":126},{"$f":"D!B127","v":{"v":72.80000000000001,"d":"73"}},{"$f":"D!C127","v":{"v":5.6000000000000005,"d":"5.6"}},{"$f":"D!D127","v":{"v":82.47148086877878,"d":"82"}},{"$f":"D!E127","v":{"v":6.343960066829137,"d":"6.3"}},{"$f":"D!F127","v":{"v":84.5,"d":"85"}},{"$f":"D!G127","v":6.5},{"$f":"D!H127","v":{"v":84.5,"d":"85"}},{"$f":"D!I127","v":6.5}]
[null,null,{"$f":"D!A128","v":127},{"$f":"D!B128","v":{"v":72.80000000000001,"d":"73"}},{"$f":"D!C128","v":{"v":5.6000000000000005,"d":"5.6"}},{"$f":"D!D128","v":{"v":82.47148086877878,"d":"82"}},{"$f":"D!E128","v":{"v":6.343960066829137,"d":"6.3"}},{"$f":"D!F128","v":{"v":84.5,"d":"85"}},{"$f":"D!G128","v":6.5},{"$f":"D!H128","v":{"v":84.5,"d":"85"}},{"$f":"D!I128","v":6.5}]
[null,null,{"$f":"D!A129","v":128},{"$f":"D!B129","v":{"v":77.50806669862115,"d":"78"}},{"$f":"D!C129","v":{"v":5.962158976817012,"d":"6.0"}},{"$f":"D!D129","v":{"v":82.47148086877878,"d":"82"}},{"$f":"D!E129","v":{"v":6.343960066829137,"d":"6.3"}},{"$f":"D!F129","v":{"v":85.96169008496894,"d":"86"}},{"$f":"D!G129","v":{"v":6.612437698843764,"d":"6.6"}},{"$f":"D!H129","v":{"v":88.47745965108732,"d":"88"}},{"$f":"D!I129","v":{"v":6.805958434699024,"d":"6.8"}}]
[null,null,{"$f":"D!A130","v":129},{"$f":"D!B130","v":{"v":77.50806669862115,"d":"78"}},{"$f":"D!C130","v":{"v":5.962158976817012,"d":"6.0"}},{"$f":"D!D130","v":{"v":82.47148086877878,"d":"82"}},{"$f":"D!E130","v":{"v":6.343960066829137,"d":"6.3"}},{"$f":"D!F130","v":{"v":85.96169008496894,"d":"86"}},{"$f":"D!G130","v":{"v":6.612437698843764,"d":"6.6"}},{"$f":"D!H130","v":{"v":88.47745965108732,"d":"88"}},{"$f":"D!I130","v":{"v":6.805958434699024,"d":"6.8"}}]
[null,null,{"$f":"D!A131","v":130},{"$f":"D!B131","v":{"v":77.50806669862115,"d":"78"}},{"$f":"D!C131","v":{"v":5.962158976817012,"d":"6.0"}},{"$f":"D!D131","v":{"v":82.47148086877878,"d":"82"}},{"$f":"D!E131","v":{"v":6.343960066829137,"d":"6.3"}},{"$f":"D!F131","v":{"v":85.96169008496894,"d":"86"}},{"$f":"D!G131","v":{"v":6.612437698843764,"d":"6.6"}},{"$f":"D!H131","v":{"v":88.47745965108732,"d":"88"}},{"$f":"D!I131","v":{"v":6.805958434699024,"d":"6.8"}}]
[null,null,{"$f":"D!A132","v":131},{"$f":"D!B132","v":{"v":77.50806669862115,"d":"78"}},{"$f":"D!C132","v":{"v":5.962158976817012,"d":"6.0"}},{"$f":"D!D132","v":{"v":82.47148086877878,"d":"82"}},{"$f":"D!E132","v":{"v":6.343960066829137,"d":"6.3"}},{"$f":"D!F132","v":{"v":85.96169008496894,"d":"86"}},{"$f":"D!G132","v":{"v":6.612437698843764,"d":"6.6"}},{"$f":"D!H132","v":{"v":88.47745965108732,"d":"88"}},{"$f":"D!I132","v":{"v":6.805958434699024,"d":"6.8"}}]
[null,null,{"$f":"D!A133","v":132},{"$f":"D!B133","v":{"v":77.50806669862115,"d":"78"}},{"$f":"D!C133","v":{"v":5.962158976817012,"d":"6.0"}},{"$f":"D!D133","v":{"v":82.47148086877878,"d":"82"}},{"$f":"D!E133","v":{"v":6.343960066829137,"d":"6.3"}},{"$f":"D!F133","v":{"v":85.96169008496894,"d":"86"}},{"$f":"D!G133","v":{"v":6.612437698843764,"d":"6.6"}},{"$f":"D!H133","v":{"v":88.47745965108732,"d":"88"}},{"$f":"D!I133","v":{"v":6.805958434699024,"d":"6.8"}}]
[null,"Laktation",133,{"$f":"D!B134","v":{"v":77.50806669862115,"d":"78"}},{"$f":"D!C134","v":{"v":5.962158976817012,"d":"6.0"}},{"$f":"D!D134","v":{"v":82.47148086877878,"d":"82"}},{"$f":"D!E134","v":{"v":6.343960066829137,"d":"6.3"}},{"$f":"D!F134","v":{"v":85.96169008496894,"d":"86"}},{"$f":"D!G134","v":{"v":6.612437698843764,"d":"6.6"}},{"$f":"D!H134","v":{"v":88.47745965108732,"d":"88"}},{"$f":"D!I134","v":{"v":6.805958434699024,"d":"6.8"}}]
[null,null,139,{"$f":"D!B142","v":{"v":77.50806669862115,"d":"78"}},{"$f":"D!C142","v":{"v":5.962158976817012,"d":"6.0"}},{"$f":"D!D142","v":{"v":82.47148086877878,"d":"82"}},{"$f":"D!E142","v":{"v":6.343960066829137,"d":"6.3"}},{"$f":"D!F142","v":{"v":85.96169008496894,"d":"86"}},{"$f":"D!G142","v":{"v":6.612437698843764,"d":"6.6"}},{"$f":"D!H142","v":{"v":88.47745965108732,"d":"88"}},{"$f":"D!I142","v":{"v":6.805958434699024,"d":"6.8"}}]
[null,"Güst",140,{"$f":"D!B144","v":37},{"$f":"D!C144","v":{"v":3.0833333333333335,"d":"3.1"}},{"$f":"D!D144","v":42},{"$f":"D!E144","v":3.5},{"$f":"D!F144","v":43},{"$f":"D!G144","v":{"v":3.5833333333333335,"d":"3.6"}},{"$f":"D!H144","v":40},{"$f":"D!I144","v":{"v":3.3333333333333335,"d":"3.3"}}]

{"sheet":"Futterkurve Ferkel","index":12,"n_rows":31,"n_cols":16,"rows_kept":31,"merged":[[3,4,3,6],[7,1,7,15],[9,1,10,1],[9,2,9,3],[9,4,9,5],[9,6,9,7],[9,8,9,9],[9,10,9,11],[9,12,9,13],[10,2,10,3],[10,4,10,5],[10,6,10,7],[10,8,10,9],[10,10,10,11],[10,12,10,13],[11,2,11,3],[11,4,11,5],[11,6,13,11],[11,12,11,13],[12,2,12,3],[12,4,12,5],[12,12,12,13],[13,2,13,3],[13,4,13,5],[13,12,13,13],[14,2,14,3],[14,4,14,5],[14,6,14,7],[14,8,14,9],[14,10,14,11],[14,12,14,13],[15,2,15,15],[25,6,25,9],[26,6,26,9],[27,6,27,9],[29,1,29,5],[30,1,31,15]]}
[]
[]
[]
[{"$nulls":4},"Absetzfutter",{"$nulls":3},"Ferkel I",null,null,"Ferkel II"]
[{"$nulls":5},"MJ ME          ab 7,5 kg",null,null,"MJ ME            ab 12 kg",null,null,"MJ ME            ab 20 kg"]
[{"$nulls":5},13.8,null,null,13.4,null,null,{"v":13,"d":"13.0"}]
[{"$nulls":5},"Norm 13,8",null,null,"Norm 13,4",null,null,"Norm 13"]
[null,"Empfehlungen zur Nährstoffversorgung von Ferkeln für mittlere und hohe Tageszunahmen in der Aufzucht (DLG 2008 ergänzt)"]
[]
[null,"Lebens-woche","tägliche Zunahmen",null,"Gewicht Wochenende",null,"Energieaufnahme",null,"Futteraufnahme",null,"Futteraufnahme",null,"Futterverwertung",null,"pcv Lysin","Brutto Lysin"]
[null,null,"g",null,"kg",null,"MJ ME / Tag",null,"g / Tag 3)",null,"kg / Woche",null,"kg Futter/kg Zuwachs",null,"g / MJ ME","g / MJ ME"]
[null,"1.",200,null,2.9,null,"Sauenmilch eventuell Beifütterung"]
[null,"2.",225,null,4.5]
[null,"3.",260,null,6.3]
[null,"4. 1)",300,null,7.5,{"$nulls":3},"20 - 50",null,"0,08 - 0,2",{"$nulls":3},{"v":0.9,"d":"0.90"},{"v":1,"d":"1.00"}]
[null,"Absetzen","Leitungsniveau (durschnschnittliche Tageszunahmen in g nach dem Absetzen)"]
[null,"(25. Tag)",450,500,450,500,450,500,450,500,450,500,450,500]
[null,"4. 2)",200,200,8.1,8.1,4.1,4.1,{"$f":"ROUND(G18*1000/$F$6,0)","v":297},{"$f":"ROUND(H18*1000/$F$6,0)","v":297},{"$f":"I18*3/1000","v":{"v":0.891,"d":"0.89"}},{"$f":"J18*3/1000","v":{"v":0.891,"d":"0.89"}},{"$f":"(K18)/(E18-$E$15)","v":{"v":1.485000000000001,"d":"1.49"}},{"$f":"(L18)/(F18-$E$15)","v":{"v":1.485000000000001,"d":"1.49"}},{"v":0.9,"d":"0.90"},{"v":1,"d":"1.00"}]
[null,"5.",270,300,{"v":10,"d":"10.0"},10.2,{"v":6,"d":"6.0"},6.5,{"$f":"ROUND(G19*1000/$F$6,0)","v":435},{"$f":"ROUND(H19*1000/$F$6,0)","v":471},{"$f":"I19*7/1000","v":{"v":3.045,"d":"3.05"}},{"$f":"J19*7/1000","v":{"v":3.297,"d":"3.30"}},{"$f":"((K19))/(E19-E18)","v":{"v":1.6026315789473682,"d":"1.60"}},{"v":1.5700000000000003,"d":"1.57"},{"v":0.9,"d":"0.90"},{"v":1,"d":"1.00"}]
[null,"6.",350,400,12.4,{"v":13,"d":"13.0"},7.6,8.3,{"$f":"ROUND(G20*1000/$I$6,0)","v":567},{"$f":"ROUND(H20*1000/$I$6,0)","v":619},{"$f":"I20*7/1000","v":{"v":3.969,"d":"3.97"}},{"v":4.333,"d":"4.33"},{"v":1.6537499999999996,"d":"1.65"},{"v":1.5474999999999997,"d":"1.55"},0.85,0.95]
[null,"7.",420,480,15.4,16.4,9.2,10.3,{"$f":"ROUND(G21*1000/$I$6,0)","v":687},{"$f":"ROUND(H21*1000/$I$6,0)","v":769},{"v":4.809,"d":"4.81"},{"v":5.383,"d":"5.38"},{"v":1.603,"d":"1.60"},{"v":1.5832352941176477,"d":"1.58"},0.85,0.95]
[null,"8.",510,580,{"v":19,"d":"19.0"},20.4,11.3,12.6,{"$f":"ROUND(G22*1000/$L$6,0)","v":869},969,{"v":6.083,"d":"6.08"},{"v":6.783,"d":"6.78"},{"v":1.6897222222222223,"d":"1.69"},{"v":1.69575,"d":"1.70"},{"v":0.8,"d":"0.80"},{"v":0.9,"d":"0.90"}]
[null,"9.",610,650,23.2,{"v":25,"d":"25.0"},13.8,14.8,1062,1138,{"v":7.434,"d":"7.43"},{"v":7.966,"d":"7.97"},{"v":1.7700000000000002,"d":"1.77"},{"v":1.7317391304347822,"d":"1.73"},{"v":0.8,"d":"0.80"},{"v":0.9,"d":"0.90"}]
[null,"10.",680,720,{"v":28,"d":"28.0"},{"v":30,"d":"30.0"},16.1,17.3,1238,1331,{"v":8.666,"d":"8.67"},{"v":9.317,"d":"9.32"},{"v":1.8054166666666664,"d":"1.81"},{"v":1.8634,"d":"1.86"},{"v":0.8,"d":"0.80"},{"v":0.9,"d":"0.90"}]
[]
[{"$nulls":6},"Summe Absetzfutterverbrauch in kg:",{"$nulls":3},{"$f":"0.08*13.8/F6+K18+K19","v":{"v":4.016,"d":"4.0"}},{"$f":"0.2*13.8/F6+L18+L19","v":{"v":4.388,"d":"4.4"}}]
[{"$nulls":6},"Summe Ferkel I - Futterverbrauch in kg:",{"$nulls":3},{"$f":"K20+K21","v":{"v":8.778,"d":"8.8"}},{"$f":"L20+L21","v":{"v":9.716000000000001,"d":"9.7"}}]
[{"$nulls":6},"Summe Ferkel II - Futterverbrauch in kg:",{"$nulls":3},{"$f":"K22+K23+K24","v":{"v":22.183,"d":"22.2"}},{"$f":"L22+L23+L24","v":{"v":24.066000000000003,"d":"24.1"}}]
[]
[null,"Summe bzw Ø:",{"$nulls":4},460,501,null,null,{"$f":"SUM(K18:K24,0.08*13.8/F6)","v":{"v":34.977,"d":"35.0"}},{"$f":"SUM(L18:L24,0.2*13.8/F6)","v":{"v":38.17,"d":"38.2"}},{"$f":"(K30-(0.08*13.8/F6))/(E24-$E$15)","v":{"v":1.7022926829268292,"d":"1.70"}},{"$f":"(L30-(0.2*13.8/F6))/(F24-$E$15)","v":{"v":1.6875555555555555,"d":"1.69"}}]
[null,"1) bis zum 25. Tag; 2) 26-28. Tag; Absetzen mit 7,5 kg Lebendmasse; 3) je kg Futter; ab 4. Lebenswoche Absetzfutter mit normal 13,8 MJ ME, ab 6. Lebenswoche Ferkel I mit normal 13,4 MJ ME, ab 8. Lebenswoche Ferkel II mit normal 13,0 MJ ME"]

{"sheet":"Futterkurve Jungsauen","index":13,"n_rows":27,"n_cols":16,"rows_kept":27,"merged":[[12,1,12,15],[16,1,16,15],[20,1,20,15],[24,1,24,7],[24,10,24,15],[26,1,26,15]]}
[]
[]
[]
[]
[null,null,"MJ ME          ab 28 kg",null,null,"MJ ME          ab 40 kg",null,null,"MJ ME            ab 70 kg",null,null,"MJ ME            ab 95 kg",null,null,"MJ ME          ab 120 kg"]
[null,null,{"v":13,"d":"13.0"},null,null,{"v":13,"d":"13.0"},null,null,{"v":13,"d":"13.0"},null,null,{"v":13,"d":"13.0"},null,null,{"v":13,"d":"13.0"}]
[null,null,"Norm 13,0",null,null,"Norm 12,6 - 13,0",null,null,"Norm 12,2 - 13,0",null,null,"Norm 13,0 - 13,4",null,null,"Norm 13,0 - 13,4"]
[]
[]
[]
[]
[]
[null,"Empfehlungen zur Nährstoffversorgung von Zuchtläufern und Jungsauen (GfE 2006 und DLG 2008 ergänzt)"]
[]
[null,"Lebend-gewicht","Zuwachs","ME","pcv Lysin *","ME","Rohprotein-gehalt","Futterauf-nahme","Futterauf-nahme gesamt","Futterver- wertung","pcv Lysin *","Lysin *","Lysin / MJ ME","Calcium","Phoshor ohne Phytase","verd. Phosphor ohne Phyt."]
[null,"kg","g / Tag","MJ / Tag","g / Tag","MJ / kg Futter","%","kg / Tag","kg ","kg Futter / kg Zuwachs","g / kg Futter","g / kg Futter","g / MJ ME","g / kg Futter","g / kg Futter","g / kg Futter"]
[null,"Aufzuchtphase"]
[null,"28 - 40",600,{"$f":"17*C18/600","v":{"v":17,"d":"17.0"}},{"$f":"11.4*C18/600","v":11.4},{"$f":"C6","v":{"v":13,"d":"13.0"}},"≥ 17",{"$f":"D18/F18","v":{"v":1.3076923076923077,"d":"1.3"}},{"$f":"12/(C18/1000)*H18","v":{"v":26.153846153846153,"d":"26.2"}},{"$f":"H18/(C18/1000)","v":{"v":2.1794871794871797,"d":"2.2"}},{"$f":"E18/H18","v":{"v":8.71764705882353,"d":"8.7"}},{"$f":"K18/0.885","v":{"v":9.850448654037887,"d":"9.9"}},{"$f":"L18/F18","v":{"v":0.7577268195413759,"d":"0.76"}},{"$f":"8*C6/13","v":{"v":8,"d":"8.0"}},{"$f":"N18/1.33","v":{"v":6.015037593984962,"d":"6.0"}},{"$f":"N18/2.65","v":{"v":3.018867924528302,"d":"3.0"}}]
[null,"40 - 70",680,{"$f":"24*C19/680","v":{"v":24,"d":"24.0"}},{"$f":"14*C19/680","v":{"v":14,"d":"14.0"}},{"$f":"F6","v":{"v":13,"d":"13.0"}},"≥ 16",{"$f":"D19/F19","v":{"v":1.8461538461538463,"d":"1.8"}},{"$f":"30/(C19/1000)*H19","v":{"v":81.44796380090499,"d":"81.4"}},{"$f":"H19/(C19/1000)","v":{"v":2.7149321266968327,"d":"2.7"}},{"$f":"E19/H19","v":{"v":7.583333333333333,"d":"7.6"}},{"$f":"K19/0.8","v":{"v":9.479166666666666,"d":"9.5"}},{"$f":"L19/F19","v":{"v":0.7291666666666666,"d":"0.73"}},{"$f":"7*F6/13","v":{"v":7,"d":"7.0"}},{"$f":"N19/1.2","v":{"v":5.833333333333334,"d":"5.8"}},{"$f":"N19/2.55","v":{"v":2.7450980392156863,"d":"2.7"}}]
[null,"70 - 95",700,{"$f":"30*C20/700","v":{"v":30,"d":"30.0"}},{"$f":"15.5*C20/700","v":15.5},{"$f":"I6","v":{"v":13,"d":"13.0"}},"≥ 15",{"$f":"D20/F20","v":{"v":2.3076923076923075,"d":"2.3"}},{"$f":"25/(C20/1000)*H20","v":{"v":82.41758241758241,"d":"82.4"}},{"$f":"H20/(C20/1000)","v":{"v":3.2967032967032965,"d":"3.3"}},{"$f":"E20/H20","v":{"v":6.716666666666668,"d":"6.7"}},{"$f":"K20/0.8","v":{"v":8.395833333333334,"d":"8.4"}},{"$f":"L20/F20","v":{"v":0.6458333333333334,"d":"0.65"}},{"$f":"6*I6/13","v":{"v":6,"d":"6.0"}},{"$f":"N20/1.2","v":{"v":5,"d":"5.0"}},{"$f":"N20/2.4","v":2.5}]
[null,"Eingliederungsphase"]
[null,"95 - 120",700,{"$f":"33*C22/700","v":{"v":33,"d":"33.0"}},{"$f":"13.1*C22/700","v":13.1},{"$f":"L6","v":{"v":13,"d":"13.0"}},14,{"$f":"D22/F22","v":{"v":2.5384615384615383,"d":"2.5"}},{"$f":"25/(C22/1000)*H22","v":{"v":90.65934065934066,"d":"90.7"}},{"$f":"H22/(C22/1000)","v":{"v":3.6263736263736264,"d":"3.6"}},{"$f":"E22/H22","v":{"v":5.160606060606061,"d":"5.2"}},{"$f":"K22/0.8","v":{"v":6.450757575757576,"d":"6.5"}},{"$f":"L22/F22","v":{"v":0.4962121212121212,"d":"0.50"}},{"$f":"6*L6/13","v":{"v":6,"d":"6.0"}},{"$f":"N22/1.2","v":{"v":5,"d":"5.0"}},{"$f":"N22/2.4","v":2.5}]
[null,"120 - 140",725,{"$f":"39*C23/700","v":{"v":40.392857142857146,"d":"40.4"}},{"$f":"13.9*C23/700","v":{"v":14.396428571428572,"d":"14.4"}},{"$f":"O6","v":{"v":13,"d":"13.0"}},"13 - 14",{"$f":"D23/F23","v":{"v":3.107142857142857,"d":"3.1"}},{"$f":"20/(C23/1000)*H23","v":{"v":85.71428571428572,"d":"85.7"}},{"$f":"H23/(C23/1000)","v":{"v":4.285714285714286,"d":"4.3"}},{"$f":"E23/H23","v":{"v":4.633333333333334,"d":"4.6"}},{"$f":"K23/0.8","v":{"v":5.791666666666667,"d":"5.8"}},{"$f":"L23/F23","v":{"v":0.44551282051282054,"d":"0.45"}},{"$f":"6*O6/13","v":{"v":6,"d":"6.0"}},{"$f":"N23/1.2","v":{"v":5,"d":"5.0"}},{"$f":"N23/2.4","v":2.5}]
[]
[null,"Summe kg Futter und Ø Futterverwertung in kg Futter / kg Zuwachs:",{"$nulls":6},{"$f":"SUM(I22:I24,I18:I20)","v":{"v":366.39301874596,"d":"366.4"}},{"$f":"I25/112","v":{"v":3.271366238803214,"d":"3.27"}}]
[]
[null,"* übrige Aminosäuren im Verhältnis: Lysin : Methionin / Cystin : Threonin : Tryptophan = 1 : 0,55 : 0,65 : 0,18"]

{"sheet":"Futterkurve Eber","index":14,"n_rows":27,"n_cols":17,"rows_kept":27,"merged":[[12,1,12,16],[16,1,16,16],[20,1,20,16],[24,1,24,7],[24,10,24,16],[26,1,26,16]]}
[]
[]
[]
[]
[null,null,"MJ ME          ab 28 kg",null,null,"MJ ME          ab 60 kg",null,null,"MJ ME            ab 90 kg",{"$nulls":3},"MJ ME            ab 120 kg",null,null,"MJ ME          ab 180 kg"]
[null,null,12.2,null,null,{"v":12,"d":"12.0"},null,null,11.6,{"$nulls":3},11.6,null,null,11.4]
[null,null,"Norm 11,8 - 12,6",null,null,"Norm 11,4 - 12,6",null,null,"Norm 11,4 - 12,6",{"$nulls":3},"Norm 11,4 - 11,6",null,null,"Norm 11,4 - 11,6"]
[]
[]
[]
[]
[]
[null,"Empfehlungen zur Nährstoffversorgung von Jung- und Zuchtebern (GfE 2006 und Hühn 2008 ergänzt)"]
[]
[null,"Lebend-gewicht","Zuwachs","ME","pcv Lysin *","ME","Rohprotein-gehalt","Futterauf-nahme","Futterauf-nahme gesamt","Futterver- wertung","pcv Lysin *","Lysin *","Lysin / MJ ME","pcv Lysin / MJ ME","Calcium","Phoshor ohne Phytase","verd. Phosphor ohne Phyt."]
[null,"kg","g / Tag","MJ / Tag","g / Tag","MJ / kg Futter","%","kg / Tag","kg ","kg Futter / kg Zuwachs","g / kg Futter","g / kg Futter","g / MJ ME","g / MJ ME","g / kg Futter","g / kg Futter","g / kg Futter"]
[null,"Aufzuchtphase Jungeber"]
[null,"28 - 60",700,{"$f":"21*C18/700","v":{"v":21,"d":"21.0"}},{"$f":"14.8*C18/700","v":14.8},{"$f":"C6","v":12.2},"≥ 18",{"$f":"D18/F18","v":{"v":1.7213114754098362,"d":"1.7"}},{"$f":"32/(C18/1000)*H18","v":{"v":78.68852459016394,"d":"78.7"}},{"$f":"H18/(C18/1000)","v":{"v":2.4590163934426235,"d":"2.5"}},{"$f":"E18/H18","v":{"v":8.598095238095238,"d":"8.6"}},{"$f":"K18/0.88","v":{"v":9.770562770562771,"d":"9.8"}},{"$f":"L18/F18","v":{"v":0.800865800865801,"d":"0.80"}},{"$f":"K18/F18","v":{"v":0.7047619047619048,"d":"0.70"}},{"$f":"12.5/H18*C6/13","v":{"v":6.815018315018313,"d":"6.8"}},{"$f":"O18/1.28","v":{"v":5.324233058608057,"d":"5.3"}},{"$f":"O18/2.33","v":{"v":2.924900564385542,"d":"2.9"}}]
[null,"60 - 90",850,{"$f":"27*C19/850","v":{"v":27,"d":"27.0"}},{"$f":"18.4*C19/850","v":18.4},{"$f":"F6","v":{"v":12,"d":"12.0"}},"≥ 18",{"$f":"D19/F19","v":{"v":2.25,"d":"2.3"}},{"$f":"30/(C19/1000)*H19","v":{"v":79.41176470588236,"d":"79.4"}},{"$f":"H19/(C19/1000)","v":{"v":2.6470588235294117,"d":"2.6"}},{"$f":"E19/H19","v":{"v":8.177777777777777,"d":"8.2"}},{"$f":"K19/0.87","v":{"v":9.399744572158365,"d":"9.4"}},{"$f":"L19/F19","v":{"v":0.7833120476798637,"d":"0.78"}},{"$f":"K19/F19","v":{"v":0.6814814814814815,"d":"0.68"}},{"$f":"16.5/H19*F6/13","v":{"v":6.769230769230769,"d":"6.8"}},{"$f":"O19/1.28","v":{"v":5.288461538461538,"d":"5.3"}},{"$f":"O19/2.5","v":{"v":2.707692307692308,"d":"2.7"}}]
[null,"90 - 120",750,{"$f":"31*C20/750","v":{"v":31,"d":"31.0"}},{"$f":"20.1*C20/750","v":20.1},{"$f":"I6","v":11.6},"17 - 18",{"$f":"D20/F20","v":{"v":2.6724137931034484,"d":"2.7"}},{"$f":"30/(C20/1000)*H20","v":{"v":106.89655172413794,"d":"106.9"}},{"$f":"H20/(C20/1000)","v":{"v":3.563218390804598,"d":"3.6"}},{"$f":"E20/H20","v":{"v":7.521290322580645,"d":"7.5"}},{"$f":"K20/0.86","v":{"v":8.745686421605402,"d":"8.7"}},{"$f":"L20/F20","v":{"v":0.7539384846211554,"d":"0.75"}},{"$f":"K20/F20","v":{"v":0.6483870967741936,"d":"0.65"}},{"$f":"18/H20*I6/13","v":{"v":6.010124069478907,"d":"6.0"}},{"$f":"O20/1.28","v":{"v":4.695409429280396,"d":"4.7"}},{"$f":"O20/2.2","v":{"v":2.7318745770358666,"d":"2.7"}}]
[null,"Zuchteber"]
[null,"120 - 180",400,{"$f":"30*C22/400","v":{"v":30,"d":"30.0"}},{"$f":"18*C22/400","v":{"v":18,"d":"18.0"}},{"$f":"M6","v":11.6},"≥ 16",{"$f":"D22/F22","v":{"v":2.586206896551724,"d":"2.6"}},{"$f":"60/(C22/1000)*H22","v":{"v":387.9310344827586,"d":"387.9"}},{"$f":"H22/(C22/1000)","v":{"v":6.4655172413793105,"d":"6.5"}},{"$f":"E22/H22","v":{"v":6.96,"d":"7.0"}},{"$f":"K22/0.85","v":{"v":8.188235294117646,"d":"8.2"}},{"$f":"L22/F22","v":{"v":0.7058823529411764,"d":"0.71"}},{"$f":"K22/F22","v":{"v":0.6,"d":"0.60"}},{"$f":"21/H22*M6/13","v":{"v":7.245538461538461,"d":"7.2"}},{"$f":"O22/1.28","v":{"v":5.660576923076922,"d":"5.7"}},{"$f":"O22/2.75","v":{"v":2.634741258741258,"d":"2.6"}}]
[null,"über 180",200,{"$f":"30*C23/200","v":{"v":30,"d":"30.0"}},{"$f":"16*C23/200","v":{"v":16,"d":"16.0"}},{"$f":"P6","v":11.4},"≥ 15",{"$f":"D23/F23","v":{"v":2.631578947368421,"d":"2.6"}},null,null,{"$f":"E23/H23","v":{"v":6.080000000000001,"d":"6.1"}},{"$f":"K23/0.85","v":{"v":7.1529411764705895,"d":"7.2"}},{"$f":"L23/F23","v":{"v":0.627450980392157,"d":"0.63"}},{"$f":"K23/F23","v":{"v":0.5333333333333334,"d":"0.53"}},{"$f":"21/H23*P6/13","v":{"v":6.9978461538461545,"d":"7.0"}},{"$f":"O23/1.28","v":{"v":5.467067307692308,"d":"5.5"}},{"$f":"O23/2.75","v":{"v":2.544671328671329,"d":"2.5"}}]
[]
[null,"Summe kg Futter und Ø Futterverwertung in kg Futter / kg Zuwachs bis 180 kg LM:",{"$nulls":6},{"$f":"SUM(I22:I24,I18:I20)","v":{"v":652.9278755029428,"d":"652.9"}},{"$f":"I25/152","v":{"v":4.295578128308835,"d":"4.30"}}]
[]
[null,"* übrige Aminosäuren im Verhältnis: Lysin : Methionin / Cystin : Threonin : Tryptophan = 1 : 0,7 : 0,65 : 0,18"]

{"sheet":"Vit. & Spurenel.","index":15,"n_rows":160,"n_cols":9,"rows_kept":160,"merged":[[4,0,4,9],[6,2,6,3],[6,5,6,6],[6,7,6,8],[7,2,9,3],[30,4,31,4],[30,6,31,6],[30,7,31,7],[80,2,82,2],[97,1,97,8],[98,2,98,3],[98,5,98,6],[98,7,98,8],[99,2,101,3],[102,5,102,6],[102,7,102,8],[103,5,103,6],[103,7,103,8],[104,5,104,6],[104,7,104,8],[105,5,105,6],[105,7,105,8],[106,5,106,6],[107,5,107,6],[107,7,107,8],[108,5,108,6],[108,7,108,8],[109,5,109,6],[109,7,109,8],[110,5,110,6],[110,7,110,8],[111,5,111,6],[111,7,111,8],[112,5,112,6],[113,5,113,6],[113,7,113,8],[114,5,114,6],[114,7,114,8],[115,5,115,6],[115,7,115,8],[116,5,116,6],[116,7,116,8],[117,5,117,6],[117,7,117,8],[118,5,118,6],[119,5,119,6],[119,7,119,8],[120,5,120,6],[120,7,120,8],[121,5,121,6],[121,7,121,8],[122,5,122,6],[122,7,122,8],[123,5,123,6],[123,7,123,8],[124,5,124,6],[125,5,125,6],[125,7,125,8],[126,5,126,6],[126,7,126,8],[127,5,127,6],[127,7,127,8],[128,5,128,6],[128,7,128,8],[129,5,129,6],[129,7,129,8],[130,5,130,6],[131,5,131,6],[131,7,131,8],[132,5,132,6],[132,7,132,8],[133,5,133,6],[133,7,133,8],[134,5,134,6],[134,7,134,8],[135,5,135,6],[135,7,135,8],[136,5,136,6],[137,5,137,6],[137,7,137,8],[138,1,138,8]]}
[]
[]
[]
[]
["Vergleich Empfehlungen zu Vitamin- und Spurenelementegehalten je kg Alleinfutter (88% TM)"]
[]
[null,"von","Vitamine",null,"Zuchtsauen","Ferkel",null,"Mast"]
[{"$nulls":4},"a) tragende Sauen"]
[{"$nulls":4},"und Zuchtläufer"]
[{"$nulls":4},"b) laktierende Sauen","Saugferkel","Aufzuchtferkel","Anfangsmast","Endmast"]
[null,"DLG","A ","I.E.","4000a) - 2300b)",4000,4000,2200,2200]
[null,"LfL",null,null," 5000a) - 3000b)",10000,"5000 - 10000 1)",7000,5000]
[null,"LWK Nds.",null,null,"10000 - 12000","-","10000 - 15000",6000,5000]
[null,"RM",null,null,"12000 - 15000","-","12000 - 16000","10000 - 12000","8000 - 10000"]
[null,"NSNG",null,null,8800,6600,6600,5500,4400]
[null,"AWT",null,null,"12000 - 20000","15000 - 20000","12000 - 20000","10000 - 12000","8000 - 10000"]
[null,null,"höchstens*",null,"(12000 *)","(16000 *)","(16000 *)","(6500 *)","(6500 *)"]
[null,"DLG","D3 ","I.E.",200,500,500,"150-200","150 - 200"]
[null,"LfL",null,null,500,1000,"500 - 1000 1)",500,300]
[null,"LWK Nds.",null,null,"1000 - 1500","-","1000 - 1500","1000 - 1500","600 - 1000"]
[null,"RM",null,null,"1500 - 2000","-","1500 - 2000","1500 - 2000","1000 - 1500"]
[null,"NSNG",null,null,660,660,660,550,440]
[null,"AWT",null,null,"1500 - 2000","1800 - 2000","1500 - 2000","1500 - 2000","1000 - 1500"]
[null,null,"höchstens*",null,"(2000 *)","(10000 *)","(10000 *)","(2000 *)","(2000 *)"]
[null,"DLG","E","I.E.","15 a) - 30 b)",15,15,15,15]
[{"$nulls":5},"225 - 285 2)",null,null,"170 - 335 3)"]
[null,"LfL",null,null,"60 - 100","60 - 100","60 - 100","60 - 80","60 - 80"]
[null,"LWK Nds.",null,null,"40 - 80","-","50 - 100","40 - 80","30 - 60"]
[null,"RM",null,null,"40 - 80","-","50 - 100","40 - 80","20 - 60"]
[null,"NSNG",null,null,66,66,66,33,26]
[null,"AWT",null,null,"60 - 80","80 - 120","70 - 100","60 - 80","40 - 60"]
[{"$nulls":5},"250 1)",null,null,"150 - 200 3)"]
[null,"DLG","K3","mg","(0,1) 4)",0.15,0.15,"(0,1) 4)","(0,1) 4)"]
[null,"LfL",null,null,"(0 - 2)","2 - 4","2 - 4","1 - 2","0,5 - 1"]
[null,"LWK Nds.",null,null,"0 - 2","-","1 - 3","-","-"]
[null,"RM",null,null,"0 - 2","-","2 - 3","2 - 3",2]
[null,"NSNG",null,null,4.4,4.4,4.4,2.2,1.8]
[null,"AWT",null,null,2,"2 - 4","2 - 3","2 - 3","2"]
[null,"DLG","B1","mg",1.7,1.7,1.7,1.7,1.7]
[null,"LfL",null,null,"2","2 - 3","2 - 3","2","2"]
[null,"LWK Nds.",null,null,"1 - 2","-","2 - 3","-","-"]
[null,"RM",null,null,"1,5 - 2","-","2 - 3",2,1]
[null,"NSNG",null,null,"-","-","-","-","-"]
[null,"AWT",null,null,"2","3 - 4","2 - 3","2","1"]
[null,"DLG","B2","mg",4.2,4.4,3.7,2.8,2.3]
[null,"LfL",null,null,"5 - 7","5 - 7","5 - 7","4","3"]
[null,"LWK Nds.",null,null,"4 - 7","-","4 - 7","4 - 6","3 - 5"]
[null,"RM",null,null,"5 - 7","-","5 - 7","4 - 6","3 - 5"]
[null,"NSNG",null,null,8.8,8.8,8.8,8.8,6.6]
[null,"AWT",null,null,"5 - 7","6 - 8","5 - 7","4 - 6","3 - 5"]
[null,"DLG","B6","mg",1.5,3,3,3,3]
[null,"LfL",null,null,"2 - 4","3 - 5","3 - 5","4","3"]
[null,"LWK Nds.",null,null,"2 - 5","-","3 - 6","3 - 4","2 - 3"]
[null,"RM",null,null,"4 - 6","-","4 - 6","3 - 5","2 - 4"]
[null,"NSNG",null,null,0,0,0,0,0]
[null,"AWT",null,null,"4 - 6","5 - 7","4 - 6","3 - 5","2 - 4"]
[null,"DLG","B12","mcg",17,40,23,10,10]
[null,"LfL",null,null,"20 - 25","30 - 50","30 - 50","20 - 30","15 - 25"]
[null,"LWK Nds.",null,null,"15 - 20","-","20 - 40","20 - 30","15 - 20"]
[null,"RM",null,null,"20 - 30","-","30 - 50","20 - 30","15 - 25"]
[null,"NSNG",null,null,22,44,44,22,18]
[null,"AWT",null,null,"20 - 30","40 - 60","30 - 50","20 - 30","15 - 25"]
[null,"DLG","Biotin","mcg",220,90,90,60,60]
[null,"LfL",null,null,"200 - 300","150 - 250","150 - 250","100 - 150","50 - 80"]
[null,"LWK Nds.",null,null,"200","-","100 - 150","-","-"]
[null,"RM",null,null,"200 - 300","-","150 - 250","100 - 150","50 - 80"]
[null,"NSNG",null,null,220,0,0,0,0]
[null,"AWT",null,null,"200 - 300","250 - 350","150 - 250","100 - 150","50 - 80"]
[null,"DLG","Cholin","mg",1200,1000,1000,800,500]
[null,"LfL",null,null,"1200","1000","1000","800","500"]
[null,"LWK Nds.",null,null,"1200","-","1200","-","-"]
[null,"RM",null,null,"300 - 500","-","300 - 500","250 - 400","250 - 400"]
[null,"NSNG",null,null,550,0,0,0,0]
[null,"AWT",null,null,"300 - 500","400 - 600","300 - 500","250 - 400","200 - 350"]
[null,"DLG","Folsäure","mg",1.44,0.33,0.33,0.33,0.33]
[null,"LfL",null,null,"2 - 3","0,5 - 1","0,5 - 1","0,5","0,3"]
[null,"LWK Nds.",null,null,"2 - 3","-","1 - 2","-","-"]
[null,"RM",null,null,"2 - 3","-",2,1,"-"]
[null,"NSNG",null,null,1.65,0,0,0,0]
[null,"AWT",null,null,"2 - 3","2","2","1","1"]
[null,"DLG","Niacin (Nikotinsäure)","mg",11,20,15,15,15]
[null,"LfL",null,null,"20 - 40","30 - 40","30 - 40","20 - 30","15 - 25"]
[null,"LWK Nds.",null,null,"20 - 40","-","25 - 45","20 - 30","15 - 20"]
[null,"RM",null,null,"30 - 40","-","30 - 40","20 - 30","15 - 25"]
[null,"NSNG",null,null,33,49,49,24,20]
[null,"AWT",null,null,"30 - 40","40 - 50","30 - 40","20 - 30","15 - 25"]
[null,"DLG","Panthothensäure","mg",13,13,13,10,10]
[null,"LfL",null,null,"15 - 20","10 - 15","10 - 15","10 - 14","8 - 12"]
[null,"LWK Nds.",null,null,"10 - 16","-","10 - 16","10 - 14","8 - 12"]
[null,"RM",null,null,"12 - 16","-","12 - 16","10 - 14","6 - 12"]
[null,"NSNG",null,null,22,26,26,15,13]
[null,"AWT",null,null,"12 - 16","15 - 20","12 - 16","10 - 14","8 - 12"]
[null,"LfL","Vit. C (bei Streß)","mg","(100 - 200)","100 - 150 5)","100 - 150 5)","-","-"]
[null,"RM",null,null,"150 - 200 5)","-","100 - 150 5)","-","-"]
[null,"AWT",null,null,"150 - 200 6)","150 - 200","100 - 150 5)","50 - 100 5)","50 - 100 5)"]
[null,"LfL","L-Carnitin","mg","50","-","-","-","-"]
[null,"AWT","ß-Carotin","mg","300 6)","-","-","-","-"]
[]
[null,"von","Spurenelemente",null,"Zuchtsauen","Ferkel",null,"Mast"]
[{"$nulls":4},"a) tragende Sauen"]
[{"$nulls":4},"und Zuchtläufer"]
[{"$nulls":4},"b) laktierende Sauen","Saugferkel","Aufzuchtferkel","Anfangsmast","Endmast"]
[null,"DLG","Eisen (Fe)","mg",80,"100 7)",null,"50 - 60"]
[null,"LfL",null,null,"80 - 100","100 - 120 7)",null,"50 - 60"]
[null,"LWK Nds.",null,null,"80 - 100","100 - 150 7)",null,"> 50"]
[null,"RM",null,null,"100 - 150","100 - 150 7)",null,"50 - 75"]
[null,"NSNG",null,null,165,"165 7)",null,125,100]
[null,null,"höchstens *",null,"(750 *)","(250/Tag bis 1 Woche vor dem Absetzen ansonsten 750 *)",null,"(750 *)"]
[null,"DLG","Kupfer (Cu)","mg","8a) - 10b)",6,null,"4 - 5"]
[null,"LfL",null,null,"15 - 20","20 - 170",null,"10 - 15"]
[null,"LWK Nds.",null,null,"10 - 15","20",null,"> 10"]
[null,"RM",null,null,"10 - 25","25 - 170",null,"15 - 25"]
[null,"NSNG",null,null,"16","16",null,"12","10"]
[null,null,"höchstens *",null,"(25 *)","(170 bis 12. Lebenswoche *)",null,"(25 *)"]
[null,"DLG","Zink (Zn)","mg",50,"80 - 100",null,"50 - 60"]
[null,"LfL",null,null,"60 - 80","70 - 100",null,"50 - 60"]
[null,"LWK Nds.",null,null,"50 - 80","100",null,"> 50"]
[null,"RM",null,null,"100 - 150","100 - 150",null,"50 - 60"]
[null,"NSNG",null,null,165,165,null,125,100]
[null,null,"höchstens *",null,"(150 *)","(150 *)",null,"(150 *)"]
[null,"DLG","Mangan (Mn)","mg","20 - 25",20,null,20]
[null,"LfL",null,null,"20 - 30","20 - 30",null,"20 - 30"]
[null,"LWK Nds.",null,null,"20 - 40","30 - 50",null,"> 20"]
[null,"RM",null,null,"50 - 100","50 - 100",null,"20 - 40"]
[null,"NSNG",null,null,30,10,null,6,5]
[null,null,"höchstens *",null,"(150 *)","(150 *)",null,"(150 *)"]
[null,"DLG","Jod (J)","mg","0,6 8)","0,15 8)",null,"0,15 8)"]
[null,"LfL",null,null,"1 - 1,5","1 - 1,5",null,"1 - 1,5"]
[null,"LWK Nds.",null,null,"0,6 - 0,7 (1,0) 8)","0,15 - 0,20 (0,30) 8)",null,"> 0,15 (0,5) 8)"]
[null,"RM",null,null,"1 - 1,5","0,25 - 0,5",null,0.15]
[null,"NSNG",null,null,0.3,0.3,null,0.25,0.2]
[null,null,"höchstens *",null,"(10 *)","(10 *)",null,"(10 *)"]
[null,"DLG","Selen (Se)","mg",0.2,0.25,null,"0,15 - 0,20"]
[null,"LfL",null,null,"0,2 - 0,4","0,2 - 0,4",null,"0,2 - 0,3"]
[null,"LWK Nds.",null,null,"0,3 - 0,4","0,3 - 0,4",null,"> 0,2"]
[null,"RM",null,null,"0,3 - 0,5","0,3 - 0,5",null,"0,2 - 0,5"]
[null,"NSNG",null,null,0.3,0.3,null,0.25,0.2]
[null,null,"höchstens *",null,"   (0,5 *)","(0,5 *)",null,"(0,5 *)"]
[null,"Quelle: DLG-Information 1/2008, DLG \"Erfolgreiche Mastschweinefütterung\" 2010, LfL \"Futterberechnung für Schweine\" 15. Auflage 2007, offizielle Beraterempfehlungen der LWK Nds. 2015, RM=Rechenmeister NRW 2014, National Swine Nutrition Guide 2006 Autoren: Duane E. Reese, University of Nebraska, Gretchen Myers Hill, Michigan State University, AWT \"Vitamine in der Tierernährung\" 2001 und Grüne Broschüre Futtermittelrecht 2009"]
[]
[null,null,"1)  im Ferkelfutter bis 20 kg LM"]
[null,null,"2)     zur Verbesserung der Immunität"]
[null,null,"3)    zur Verbesserung der Fleischqualität durch antioxidative Wirkung"]
[null,null,"4)    Empfehlung unsicher (mikrobielle Synthese)"]
[null,null,"5)    unter Stressbedingungen und zur Steigerung der Reproduktionsleistung"]
[null,null,"6)   zur Verbesserung der Fruchtbarkeit vom Absetzen bis zum erfolreichen Wiederholen (mg/Tier/Tag)"]
[null,null,"7)    bei Saugferkeln mind. 200 mg Fe intramuskulär 2. - 3. Tag nach der Geburt oder oral nach der Geburt"]
[null,null,"8)    bei Einsatz von glucosinolathaltigen Futtermitteln (z.B. Rapsschrot) Erhöhung erforderlich,"]
[null,null,"    wenn Glucosinolatgehalt > 1,5 mmol/kg Futter"]
[]
[null,null,"* z.Zt. futtermittelrechtliche zulässige Höchstgehalte je kg Alleinfutter (mit 88 % Trockenmasse)"]
[null,null,"* Vitamin A","Mastschweine 6500 I.E. Ferkel 16000 I.E., Sauen 12000 I.E"]
[null,null,"* Vitamin D","Ferkel 10000 I.E. und sonstige Schweine 2000 I.E."]
[null,null,"* Eisen","max. 750 mg und Saugferkel max. 250 mg/Tag bis 1 Woche vor dem Absetzen"]
[null,null,"* Kupfer","bis 12. Lebenswoche 170 mg, über 12. Lebenswoche 25 mg. Wachstumsfördernde Wirkung "]
[{"$nulls":3},"durch bedarfsüberschreitende Versorgung insbesondere bei Ferkeln"]
[null,null,"* Zink","max. 150 mg. Positive Effekte auf Futterverwertung, Wachstum u. Durchfallerkrankungen"]
[null,null,"* Mangan","max. 150 mg"]
[null,null,"* Jod","max. 10 mg"]
[null,null,"* Selen","max. 0,5 mg. Antioxidativ und immunstimulierend"]

{"sheet":"XP u. ME-Rechner Min.fu.","index":16,"n_rows":35,"n_cols":6,"rows_kept":35,"merged":[[23,2,23,3],[34,2,34,3]]}
[]
[]
[]
[null,null,"XP* in 1 kg","% im Minfu"]
[{"$nulls":3},"hier Eingabe"]
[null,"L-Lysin-HCL",954,{"v":0.1,"d":"10.0%"},{"$f":"D6*C6/0.78","v":{"v":122.3076923076923,"d":"122.31"}}]
[null,"Methionin (DL-Meth.)",584,{"v":0.03,"d":"3.0%"},{"$f":"D7*C7/0.99","v":{"v":17.696969696969695,"d":"17.70"}}]
[null,"Thr (L-Thr.)",731,{"v":0.025,"d":"2.5%"},{"$f":"D8*C8/0.98","v":{"v":18.64795918367347,"d":"18.65"}}]
[null,"Tryptophan (L-Try.)",853,{"v":2E-3,"d":"0.2%"},{"$f":"D9*C9/0.98","v":{"v":1.7408163265306122,"d":"1.74"}}]
[]
[{"$nulls":3},"Ergebnis",{"$f":"SUM(E6:E9)","v":{"v":160.3934375148661,"d":"160"}},"g XP/kg Min.fu."]
[]
[null,null,"* Rohproteinäquivalente"]
[]
[null,null,"MJ ME** in 1 kg"]
[]
[null,"L-Lysin-HCL",{"v":19.56,"d":"19.6"},{"$f":"D6","v":{"v":0.1,"d":"10.0%"}},{"$f":"D17*C17/0.78","v":{"v":2.5076923076923077,"d":"2.51"}}]
[null,"Methionin (DL-Meth.)",{"v":11.97,"d":"12.0"},{"$f":"D7","v":{"v":0.03,"d":"3.0%"}},{"$f":"D18*C18/0.99","v":{"v":0.3627272727272728,"d":"0.36"}}]
[null,"Thr (L-Thr.)",{"v":14.99,"d":"15.0"},{"$f":"D8","v":{"v":0.025,"d":"2.5%"}},{"$f":"D19*C19/0.98","v":{"v":0.38239795918367353,"d":"0.38"}}]
[null,"Tryptophan (L-Try.)",{"v":17.49,"d":"17.5"},{"$f":"D9","v":{"v":2E-3,"d":"0.2%"}},{"$f":"D20*C20/0.98","v":{"v":0.03569387755102041,"d":"0.04"}}]
[]
[{"$nulls":3},"Ergebnis",{"$f":"SUM(E17:E20)","v":{"v":3.2885114171542744,"d":"3.3"}},"MJ ME/kg Min.fu."]
[]
[null,null,"** nach Einzelfutterformel"]
[]
[null,null,"MJ ME*** in 1 kg"]
[]
[null,"L-Lysin-HCL",{"$f":"Futtermittel!M131","v":{"v":20.513862,"d":"20.5"}},{"$f":"D17","v":{"v":0.1,"d":"10.0%"}},{"$f":"D28*C28/0.78","v":{"v":2.6299823076923077,"d":"2.63"}}]
[null,"Methionin (DL-Meth.)",{"$f":"Futtermittel!M132","v":{"v":12.557752,"d":"12.6"}},{"$f":"D18","v":{"v":0.03,"d":"3.0%"}},{"$f":"D29*C29/0.99","v":{"v":0.3805379393939394,"d":"0.38"}}]
[null,"Thr (L-Thr.)",{"$f":"Futtermittel!M133","v":{"v":15.718693000000002,"d":"15.7"}},{"$f":"D19","v":{"v":0.025,"d":"2.5%"}},{"$f":"D30*C30/0.98","v":{"v":0.4009870663265307,"d":"0.40"}}]
[null,"Tryptophan (L-Try.)",{"$f":"Futtermittel!M134","v":{"v":18.342059000000003,"d":"18.3"}},{"$f":"D20","v":{"v":2E-3,"d":"0.2%"}},{"$f":"D31*C31/0.98","v":{"v":0.03743277346938777,"d":"0.04"}}]
[]
[{"$nulls":3},"Ergebnis",{"$f":"SUM(E28:E31)","v":{"v":3.4489400868821654,"d":"3.4"}},"MJ ME/kg Min.fu."]
[]
[null,null,"*** nach Mischfutterformel neu"]

{"sheet":"D","index":17,"n_rows":148,"n_cols":10,"rows_kept":148}
["Tag","MJ ME 1. Trächtigkeit","kg Futter Jungsau","MJ ME 2. Trächtigkeit","kg Futter 2. Trächtigkeit","MJ ME 3. Trächtigkeit","kg Futter Altsau","MJ ME 4. Trächtigkeit","kg Futter 4. Trächtigkeit",{"$f":"'Futterkurve Sauen'!K5/2.5","v":4}]
[1,{"$f":"IF('Futterkurve Sauen'!$E$6>19,29,29+(19-'Futterkurve Sauen'!$E$6)*0.6)","v":29},{"$f":"B2/'Futterkurve Sauen'!$E$7","v":{"v":2.4166666666666665,"d":"2.4"}},{"$f":"IF('Futterkurve Sauen'!$E$6>19,32,32+(19-'Futterkurve Sauen'!$E$6)*0.05*12)","v":32},{"$f":"D2/'Futterkurve Sauen'!$C$7","v":{"v":2.6666666666666665,"d":"2.7"}},{"$f":"IF('Futterkurve Sauen'!$E$6>19,33,33+(19-'Futterkurve Sauen'!$E$6)*0.6)","v":33},{"$f":"F2/'Futterkurve Sauen'!$C$7","v":{"v":2.75,"d":"2.8"}},{"$f":"IF('Futterkurve Sauen'!$G$6>19,31,31+(19-'Futterkurve Sauen'!$E$6)*0.6)","v":31},{"$f":"H2/'Futterkurve Sauen'!$C$7","v":{"v":2.5833333333333335,"d":"2.6"}},{"$f":"'Futterkurve Sauen'!K8/2.5","v":6}]
[2,{"$f":"IF('Futterkurve Sauen'!$E$6>19,29,29+(19-'Futterkurve Sauen'!$E$6)*0.6)","v":29},{"$f":"B3/'Futterkurve Sauen'!$E$7","v":{"v":2.4166666666666665,"d":"2.4"}},{"$f":"IF('Futterkurve Sauen'!$E$6>19,32,32+(19-'Futterkurve Sauen'!$E$6)*0.05*12)","v":32},{"$f":"D3/'Futterkurve Sauen'!$C$7","v":{"v":2.6666666666666665,"d":"2.7"}},{"$f":"IF('Futterkurve Sauen'!$E$6>19,33,33+(19-'Futterkurve Sauen'!$E$6)*0.6)","v":33},{"$f":"F3/'Futterkurve Sauen'!$C$7","v":{"v":2.75,"d":"2.8"}},{"$f":"IF('Futterkurve Sauen'!$G$6>19,31,31+(19-'Futterkurve Sauen'!$E$6)*0.6)","v":31},{"$f":"H3/'Futterkurve Sauen'!$C$7","v":{"v":2.5833333333333335,"d":"2.6"}}]
[3,{"$f":"IF('Futterkurve Sauen'!$E$6>19,29,29+(19-'Futterkurve Sauen'!$E$6)*0.6)","v":29},{"$f":"B4/'Futterkurve Sauen'!$E$7","v":{"v":2.4166666666666665,"d":"2.4"}},{"$f":"IF('Futterkurve Sauen'!$E$6>19,32,32+(19-'Futterkurve Sauen'!$E$6)*0.05*12)","v":32},{"$f":"D4/'Futterkurve Sauen'!$C$7","v":{"v":2.6666666666666665,"d":"2.7"}},{"$f":"IF('Futterkurve Sauen'!$E$6>19,33,33+(19-'Futterkurve Sauen'!$E$6)*0.6)","v":33},{"$f":"F4/'Futterkurve Sauen'!$C$7","v":{"v":2.75,"d":"2.8"}},{"$f":"IF('Futterkurve Sauen'!$G$6>19,31,31+(19-'Futterkurve Sauen'!$E$6)*0.6)","v":31},{"$f":"H4/'Futterkurve Sauen'!$C$7","v":{"v":2.5833333333333335,"d":"2.6"}}]
[4,{"$f":"IF('Futterkurve Sauen'!$E$6>19,29,29+(19-'Futterkurve Sauen'!$E$6)*0.6)","v":29},{"$f":"B5/'Futterkurve Sauen'!$E$7","v":{"v":2.4166666666666665,"d":"2.4"}},{"$f":"IF('Futterkurve Sauen'!$E$6>19,32,32+(19-'Futterkurve Sauen'!$E$6)*0.05*12)","v":32},{"$f":"D5/'Futterkurve Sauen'!$C$7","v":{"v":2.6666666666666665,"d":"2.7"}},{"$f":"IF('Futterkurve Sauen'!$E$6>19,33,33+(19-'Futterkurve Sauen'!$E$6)*0.6)","v":33},{"$f":"F5/'Futterkurve Sauen'!$C$7","v":{"v":2.75,"d":"2.8"}},{"$f":"IF('Futterkurve Sauen'!$G$6>19,31,31+(19-'Futterkurve Sauen'!$E$6)*0.6)","v":31},{"$f":"H5/'Futterkurve Sauen'!$C$7","v":{"v":2.5833333333333335,"d":"2.6"}}]
[5,{"$f":"IF('Futterkurve Sauen'!$E$6>19,29,29+(19-'Futterkurve Sauen'!$E$6)*0.6)","v":29},{"$f":"B6/'Futterkurve Sauen'!$E$7","v":{"v":2.4166666666666665,"d":"2.4"}},{"$f":"IF('Futterkurve Sauen'!$E$6>19,32,32+(19-'Futterkurve Sauen'!$E$6)*0.05*12)","v":32},{"$f":"D6/'Futterkurve Sauen'!$C$7","v":{"v":2.6666666666666665,"d":"2.7"}},{"$f":"IF('Futterkurve Sauen'!$E$6>19,33,33+(19-'Futterkurve Sauen'!$E$6)*0.6)","v":33},{"$f":"F6/'Futterkurve Sauen'!$C$7","v":{"v":2.75,"d":"2.8"}},{"$f":"IF('Futterkurve Sauen'!$G$6>19,31,31+(19-'Futterkurve Sauen'!$E$6)*0.6)","v":31},{"$f":"H6/'Futterkurve Sauen'!$C$7","v":{"v":2.5833333333333335,"d":"2.6"}}]
[6,{"$f":"IF('Futterkurve Sauen'!$E$6>19,29,29+(19-'Futterkurve Sauen'!$E$6)*0.6)","v":29},{"$f":"B7/'Futterkurve Sauen'!$E$7","v":{"v":2.4166666666666665,"d":"2.4"}},{"$f":"IF('Futterkurve Sauen'!$E$6>19,32,32+(19-'Futterkurve Sauen'!$E$6)*0.05*12)","v":32},{"$f":"D7/'Futterkurve Sauen'!$C$7","v":{"v":2.6666666666666665,"d":"2.7"}},{"$f":"IF('Futterkurve Sauen'!$E$6>19,33,33+(19-'Futterkurve Sauen'!$E$6)*0.6)","v":33},{"$f":"F7/'Futterkurve Sauen'!$C$7","v":{"v":2.75,"d":"2.8"}},{"$f":"IF('Futterkurve Sauen'!$G$6>19,31,31+(19-'Futterkurve Sauen'!$E$6)*0.6)","v":31},{"$f":"H7/'Futterkurve Sauen'!$C$7","v":{"v":2.5833333333333335,"d":"2.6"}}]
[7,{"$f":"IF('Futterkurve Sauen'!$E$6>19,29,29+(19-'Futterkurve Sauen'!$E$6)*0.6)","v":29},{"$f":"B8/'Futterkurve Sauen'!$E$7","v":{"v":2.4166666666666665,"d":"2.4"}},{"$f":"IF('Futterkurve Sauen'!$E$6>19,32,32+(19-'Futterkurve Sauen'!$E$6)*0.05*12)","v":32},{"$f":"D8/'Futterkurve Sauen'!$C$7","v":{"v":2.6666666666666665,"d":"2.7"}},{"$f":"IF('Futterkurve Sauen'!$E$6>19,33,33+(19-'Futterkurve Sauen'!$E$6)*0.6)","v":33},{"$f":"F8/'Futterkurve Sauen'!$C$7","v":{"v":2.75,"d":"2.8"}},{"$f":"IF('Futterkurve Sauen'!$G$6>19,31,31+(19-'Futterkurve Sauen'!$E$6)*0.6)","v":31},{"$f":"H8/'Futterkurve Sauen'!$C$7","v":{"v":2.5833333333333335,"d":"2.6"}}]
[8,{"$f":"IF('Futterkurve Sauen'!$E$6>19,29,29+(19-'Futterkurve Sauen'!$E$6)*0.6)","v":29},{"$f":"B9/'Futterkurve Sauen'!$E$7","v":{"v":2.4166666666666665,"d":"2.4"}},{"$f":"IF('Futterkurve Sauen'!$E$6>19,32,32+(19-'Futterkurve Sauen'!$E$6)*0.05*12)","v":32},{"$f":"D9/'Futterkurve Sauen'!$C$7","v":{"v":2.6666666666666665,"d":"2.7"}},{"$f":"IF('Futterkurve Sauen'!$E$6>19,33,33+(19-'Futterkurve Sauen'!$E$6)*0.6)","v":33},{"$f":"F9/'Futterkurve Sauen'!$C$7","v":{"v":2.75,"d":"2.8"}},{"$f":"IF('Futterkurve Sauen'!$G$6>19,31,31+(19-'Futterkurve Sauen'!$E$6)*0.6)","v":31},{"$f":"H9/'Futterkurve Sauen'!$C$7","v":{"v":2.5833333333333335,"d":"2.6"}}]
[9,{"$f":"IF('Futterkurve Sauen'!$E$6>19,29,29+(19-'Futterkurve Sauen'!$E$6)*0.6)","v":29},{"$f":"B10/'Futterkurve Sauen'!$E$7","v":{"v":2.4166666666666665,"d":"2.4"}},{"$f":"IF('Futterkurve Sauen'!$E$6>19,32,32+(19-'Futterkurve Sauen'!$E$6)*0.05*12)","v":32},{"$f":"D10/'Futterkurve Sauen'!$C$7","v":{"v":2.6666666666666665,"d":"2.7"}},{"$f":"IF('Futterkurve Sauen'!$E$6>19,33,33+(19-'Futterkurve Sauen'!$E$6)*0.6)","v":33},{"$f":"F10/'Futterkurve Sauen'!$C$7","v":{"v":2.75,"d":"2.8"}},{"$f":"IF('Futterkurve Sauen'!$G$6>19,31,31+(19-'Futterkurve Sauen'!$E$6)*0.6)","v":31},{"$f":"H10/'Futterkurve Sauen'!$C$7","v":{"v":2.5833333333333335,"d":"2.6"}}]
[10,{"$f":"IF('Futterkurve Sauen'!$E$6>19,29,29+(19-'Futterkurve Sauen'!$E$6)*0.6)","v":29},{"$f":"B11/'Futterkurve Sauen'!$E$7","v":{"v":2.4166666666666665,"d":"2.4"}},{"$f":"IF('Futterkurve Sauen'!$E$6>19,32,32+(19-'Futterkurve Sauen'!$E$6)*0.05*12)","v":32},{"$f":"D11/'Futterkurve Sauen'!$C$7","v":{"v":2.6666666666666665,"d":"2.7"}},{"$f":"IF('Futterkurve Sauen'!$E$6>19,33,33+(19-'Futterkurve Sauen'!$E$6)*0.6)","v":33},{"$f":"F11/'Futterkurve Sauen'!$C$7","v":{"v":2.75,"d":"2.8"}},{"$f":"IF('Futterkurve Sauen'!$G$6>19,31,31+(19-'Futterkurve Sauen'!$E$6)*0.6)","v":31},{"$f":"H11/'Futterkurve Sauen'!$C$7","v":{"v":2.5833333333333335,"d":"2.6"}}]
[11,{"$f":"IF('Futterkurve Sauen'!$E$6>19,29,29+(19-'Futterkurve Sauen'!$E$6)*0.6)","v":29},{"$f":"B12/'Futterkurve Sauen'!$E$7","v":{"v":2.4166666666666665,"d":"2.4"}},{"$f":"IF('Futterkurve Sauen'!$E$6>19,32,32+(19-'Futterkurve Sauen'!$E$6)*0.05*12)","v":32},{"$f":"D12/'Futterkurve Sauen'!$C$7","v":{"v":2.6666666666666665,"d":"2.7"}},{"$f":"IF('Futterkurve Sauen'!$E$6>19,33,33+(19-'Futterkurve Sauen'!$E$6)*0.6)","v":33},{"$f":"F12/'Futterkurve Sauen'!$C$7","v":{"v":2.75,"d":"2.8"}},{"$f":"IF('Futterkurve Sauen'!$G$6>19,31,31+(19-'Futterkurve Sauen'!$E$6)*0.6)","v":31},{"$f":"H12/'Futterkurve Sauen'!$C$7","v":{"v":2.5833333333333335,"d":"2.6"}}]
[12,{"$f":"IF('Futterkurve Sauen'!$E$6>19,29,29+(19-'Futterkurve Sauen'!$E$6)*0.6)","v":29},{"$f":"B13/'Futterkurve Sauen'!$E$7","v":{"v":2.4166666666666665,"d":"2.4"}},{"$f":"IF('Futterkurve Sauen'!$E$6>19,32,32+(19-'Futterkurve Sauen'!$E$6)*0.05*12)","v":32},{"$f":"D13/'Futterkurve Sauen'!$C$7","v":{"v":2.6666666666666665,"d":"2.7"}},{"$f":"IF('Futterkurve Sauen'!$E$6>19,33,33+(19-'Futterkurve Sauen'!$E$6)*0.6)","v":33},{"$f":"F13/'Futterkurve Sauen'!$C$7","v":{"v":2.75,"d":"2.8"}},{"$f":"IF('Futterkurve Sauen'!$G$6>19,31,31+(19-'Futterkurve Sauen'!$E$6)*0.6)","v":31},{"$f":"H13/'Futterkurve Sauen'!$C$7","v":{"v":2.5833333333333335,"d":"2.6"}}]
[13,{"$f":"IF('Futterkurve Sauen'!$E$6>19,29,29+(19-'Futterkurve Sauen'!$E$6)*0.6)","v":29},{"$f":"B14/'Futterkurve Sauen'!$E$7","v":{"v":2.4166666666666665,"d":"2.4"}},{"$f":"IF('Futterkurve Sauen'!$E$6>19,32,32+(19-'Futterkurve Sauen'!$E$6)*0.05*12)","v":32},{"$f":"D14/'Futterkurve Sauen'!$C$7","v":{"v":2.6666666666666665,"d":"2.7"}},{"$f":"IF('Futterkurve Sauen'!$E$6>19,33,33+(19-'Futterkurve Sauen'!$E$6)*0.6)","v":33},{"$f":"F14/'Futterkurve Sauen'!$C$7","v":{"v":2.75,"d":"2.8"}},{"$f":"IF('Futterkurve Sauen'!$G$6>19,31,31+(19-'Futterkurve Sauen'!$E$6)*0.6)","v":31},{"$f":"H14/'Futterkurve Sauen'!$C$7","v":{"v":2.5833333333333335,"d":"2.6"}}]
[14,{"$f":"IF('Futterkurve Sauen'!$E$6>19,29,29+(19-'Futterkurve Sauen'!$E$6)*0.6)","v":29},{"$f":"B15/'Futterkurve Sauen'!$E$7","v":{"v":2.4166666666666665,"d":"2.4"}},{"$f":"IF('Futterkurve Sauen'!$E$6>19,32,32+(19-'Futterkurve Sauen'!$E$6)*0.05*12)","v":32},{"$f":"D15/'Futterkurve Sauen'!$C$7","v":{"v":2.6666666666666665,"d":"2.7"}},{"$f":"IF('Futterkurve Sauen'!$E$6>19,33,33+(19-'Futterkurve Sauen'!$E$6)*0.6)","v":33},{"$f":"F15/'Futterkurve Sauen'!$C$7","v":{"v":2.75,"d":"2.8"}},{"$f":"IF('Futterkurve Sauen'!$G$6>19,31,31+(19-'Futterkurve Sauen'!$E$6)*0.6)","v":31},{"$f":"H15/'Futterkurve Sauen'!$C$7","v":{"v":2.5833333333333335,"d":"2.6"}}]
[15,{"$f":"IF('Futterkurve Sauen'!$E$6>19,29,29+(19-'Futterkurve Sauen'!$E$6)*0.6)","v":29},{"$f":"B16/'Futterkurve Sauen'!$E$7","v":{"v":2.4166666666666665,"d":"2.4"}},{"$f":"IF('Futterkurve Sauen'!$E$6>19,32,32+(19-'Futterkurve Sauen'!$E$6)*0.05*12)","v":32},{"$f":"D16/'Futterkurve Sauen'!$C$7","v":{"v":2.6666666666666665,"d":"2.7"}},{"$f":"IF('Futterkurve Sauen'!$E$6>19,33,33+(19-'Futterkurve Sauen'!$E$6)*0.6)","v":33},{"$f":"F16/'Futterkurve Sauen'!$C$7","v":{"v":2.75,"d":"2.8"}},{"$f":"IF('Futterkurve Sauen'!$G$6>19,31,31+(19-'Futterkurve Sauen'!$E$6)*0.6)","v":31},{"$f":"H16/'Futterkurve Sauen'!$C$7","v":{"v":2.5833333333333335,"d":"2.6"}}]
[16,{"$f":"IF('Futterkurve Sauen'!$E$6>19,29,29+(19-'Futterkurve Sauen'!$E$6)*0.6)","v":29},{"$f":"B17/'Futterkurve Sauen'!$E$7","v":{"v":2.4166666666666665,"d":"2.4"}},{"$f":"IF('Futterkurve Sauen'!$E$6>19,32,32+(19-'Futterkurve Sauen'!$E$6)*0.05*12)","v":32},{"$f":"D17/'Futterkurve Sauen'!$C$7","v":{"v":2.6666666666666665,"d":"2.7"}},{"$f":"IF('Futterkurve Sauen'!$E$6>19,33,33+(19-'Futterkurve Sauen'!$E$6)*0.6)","v":33},{"$f":"F17/'Futterkurve Sauen'!$C$7","v":{"v":2.75,"d":"2.8"}},{"$f":"IF('Futterkurve Sauen'!$G$6>19,31,31+(19-'Futterkurve Sauen'!$E$6)*0.6)","v":31},{"$f":"H17/'Futterkurve Sauen'!$C$7","v":{"v":2.5833333333333335,"d":"2.6"}}]
[17,{"$f":"IF('Futterkurve Sauen'!$E$6>19,29,29+(19-'Futterkurve Sauen'!$E$6)*0.6)","v":29},{"$f":"B18/'Futterkurve Sauen'!$E$7","v":{"v":2.4166666666666665,"d":"2.4"}},{"$f":"IF('Futterkurve Sauen'!$E$6>19,32,32+(19-'Futterkurve Sauen'!$E$6)*0.05*12)","v":32},{"$f":"D18/'Futterkurve Sauen'!$C$7","v":{"v":2.6666666666666665,"d":"2.7"}},{"$f":"IF('Futterkurve Sauen'!$E$6>19,33,33+(19-'Futterkurve Sauen'!$E$6)*0.6)","v":33},{"$f":"F18/'Futterkurve Sauen'!$C$7","v":{"v":2.75,"d":"2.8"}},{"$f":"IF('Futterkurve Sauen'!$G$6>19,31,31+(19-'Futterkurve Sauen'!$E$6)*0.6)","v":31},{"$f":"H18/'Futterkurve Sauen'!$C$7","v":{"v":2.5833333333333335,"d":"2.6"}}]
[18,{"$f":"IF('Futterkurve Sauen'!$E$6>19,29,29+(19-'Futterkurve Sauen'!$E$6)*0.6)","v":29},{"$f":"B19/'Futterkurve Sauen'!$E$7","v":{"v":2.4166666666666665,"d":"2.4"}},{"$f":"IF('Futterkurve Sauen'!$E$6>19,32,32+(19-'Futterkurve Sauen'!$E$6)*0.05*12)","v":32},{"$f":"D19/'Futterkurve Sauen'!$C$7","v":{"v":2.6666666666666665,"d":"2.7"}},{"$f":"IF('Futterkurve Sauen'!$E$6>19,33,33+(19-'Futterkurve Sauen'!$E$6)*0.6)","v":33},{"$f":"F19/'Futterkurve Sauen'!$C$7","v":{"v":2.75,"d":"2.8"}},{"$f":"IF('Futterkurve Sauen'!$G$6>19,31,31+(19-'Futterkurve Sauen'!$E$6)*0.6)","v":31},{"$f":"H19/'Futterkurve Sauen'!$C$7","v":{"v":2.5833333333333335,"d":"2.6"}}]
[19,{"$f":"IF('Futterkurve Sauen'!$E$6>19,29,29+(19-'Futterkurve Sauen'!$E$6)*0.6)","v":29},{"$f":"B20/'Futterkurve Sauen'!$E$7","v":{"v":2.4166666666666665,"d":"2.4"}},{"$f":"IF('Futterkurve Sauen'!$E$6>19,32,32+(19-'Futterkurve Sauen'!$E$6)*0.05*12)","v":32},{"$f":"D20/'Futterkurve Sauen'!$C$7","v":{"v":2.6666666666666665,"d":"2.7"}},{"$f":"IF('Futterkurve Sauen'!$E$6>19,33,33+(19-'Futterkurve Sauen'!$E$6)*0.6)","v":33},{"$f":"F20/'Futterkurve Sauen'!$C$7","v":{"v":2.75,"d":"2.8"}},{"$f":"IF('Futterkurve Sauen'!$G$6>19,31,31+(19-'Futterkurve Sauen'!$E$6)*0.6)","v":31},{"$f":"H20/'Futterkurve Sauen'!$C$7","v":{"v":2.5833333333333335,"d":"2.6"}}]
[20,{"$f":"IF('Futterkurve Sauen'!$E$6>19,29,29+(19-'Futterkurve Sauen'!$E$6)*0.6)","v":29},{"$f":"B21/'Futterkurve Sauen'!$E$7","v":{"v":2.4166666666666665,"d":"2.4"}},{"$f":"IF('Futterkurve Sauen'!$E$6>19,32,32+(19-'Futterkurve Sauen'!$E$6)*0.05*12)","v":32},{"$f":"D21/'Futterkurve Sauen'!$C$7","v":{"v":2.6666666666666665,"d":"2.7"}},{"$f":"IF('Futterkurve Sauen'!$E$6>19,33,33+(19-'Futterkurve Sauen'!$E$6)*0.6)","v":33},{"$f":"F21/'Futterkurve Sauen'!$C$7","v":{"v":2.75,"d":"2.8"}},{"$f":"IF('Futterkurve Sauen'!$G$6>19,31,31+(19-'Futterkurve Sauen'!$E$6)*0.6)","v":31},{"$f":"H21/'Futterkurve Sauen'!$C$7","v":{"v":2.5833333333333335,"d":"2.6"}}]
[21,{"$f":"IF('Futterkurve Sauen'!$E$6>19,29,29+(19-'Futterkurve Sauen'!$E$6)*0.6)","v":29},{"$f":"B22/'Futterkurve Sauen'!$E$7","v":{"v":2.4166666666666665,"d":"2.4"}},{"$f":"IF('Futterkurve Sauen'!$E$6>19,32,32+(19-'Futterkurve Sauen'!$E$6)*0.05*12)","v":32},{"$f":"D22/'Futterkurve Sauen'!$C$7","v":{"v":2.6666666666666665,"d":"2.7"}},{"$f":"IF('Futterkurve Sauen'!$E$6>19,33,33+(19-'Futterkurve Sauen'!$E$6)*0.6)","v":33},{"$f":"F22/'Futterkurve Sauen'!$C$7","v":{"v":2.75,"d":"2.8"}},{"$f":"IF('Futterkurve Sauen'!$G$6>19,31,31+(19-'Futterkurve Sauen'!$E$6)*0.6)","v":31},{"$f":"H22/'Futterkurve Sauen'!$C$7","v":{"v":2.5833333333333335,"d":"2.6"}}]
[22,{"$f":"IF('Futterkurve Sauen'!$E$6>19,29,29+(19-'Futterkurve Sauen'!$E$6)*0.6)","v":29},{"$f":"B23/'Futterkurve Sauen'!$E$7","v":{"v":2.4166666666666665,"d":"2.4"}},{"$f":"IF('Futterkurve Sauen'!$E$6>19,32,32+(19-'Futterkurve Sauen'!$E$6)*0.05*12)","v":32},{"$f":"D23/'Futterkurve Sauen'!$C$7","v":{"v":2.6666666666666665,"d":"2.7"}},{"$f":"IF('Futterkurve Sauen'!$E$6>19,33,33+(19-'Futterkurve Sauen'!$E$6)*0.6)","v":33},{"$f":"F23/'Futterkurve Sauen'!$C$7","v":{"v":2.75,"d":"2.8"}},{"$f":"IF('Futterkurve Sauen'!$G$6>19,31,31+(19-'Futterkurve Sauen'!$E$6)*0.6)","v":31},{"$f":"H23/'Futterkurve Sauen'!$C$7","v":{"v":2.5833333333333335,"d":"2.6"}}]
[23,{"$f":"IF('Futterkurve Sauen'!$E$6>19,29,29+(19-'Futterkurve Sauen'!$E$6)*0.6)","v":29},{"$f":"B24/'Futterkurve Sauen'!$E$7","v":{"v":2.4166666666666665,"d":"2.4"}},{"$f":"IF('Futterkurve Sauen'!$E$6>19,32,32+(19-'Futterkurve Sauen'!$E$6)*0.05*12)","v":32},{"$f":"D24/'Futterkurve Sauen'!$C$7","v":{"v":2.6666666666666665,"d":"2.7"}},{"$f":"IF('Futterkurve Sauen'!$E$6>19,33,33+(19-'Futterkurve Sauen'!$E$6)*0.6)","v":33},{"$f":"F24/'Futterkurve Sauen'!$C$7","v":{"v":2.75,"d":"2.8"}},{"$f":"IF('Futterkurve Sauen'!$G$6>19,31,31+(19-'Futterkurve Sauen'!$E$6)*0.6)","v":31},{"$f":"H24/'Futterkurve Sauen'!$C$7","v":{"v":2.5833333333333335,"d":"2.6"}}]
[24,{"$f":"IF('Futterkurve Sauen'!$E$6>19,29,29+(19-'Futterkurve Sauen'!$E$6)*0.6)","v":29},{"$f":"B25/'Futterkurve Sauen'!$E$7","v":{"v":2.4166666666666665,"d":"2.4"}},{"$f":"IF('Futterkurve Sauen'!$E$6>19,32,32+(19-'Futterkurve Sauen'!$E$6)*0.05*12)","v":32},{"$f":"D25/'Futterkurve Sauen'!$C$7","v":{"v":2.6666666666666665,"d":"2.7"}},{"$f":"IF('Futterkurve Sauen'!$E$6>19,33,33+(19-'Futterkurve Sauen'!$E$6)*0.6)","v":33},{"$f":"F25/'Futterkurve Sauen'!$C$7","v":{"v":2.75,"d":"2.8"}},{"$f":"IF('Futterkurve Sauen'!$G$6>19,31,31+(19-'Futterkurve Sauen'!$E$6)*0.6)","v":31},{"$f":"H25/'Futterkurve Sauen'!$C$7","v":{"v":2.5833333333333335,"d":"2.6"}}]
[25,{"$f":"IF('Futterkurve Sauen'!$E$6>19,29,29+(19-'Futterkurve Sauen'!$E$6)*0.6)","v":29},{"$f":"B26/'Futterkurve Sauen'!$E$7","v":{"v":2.4166666666666665,"d":"2.4"}},{"$f":"IF('Futterkurve Sauen'!$E$6>19,32,32+(19-'Futterkurve Sauen'!$E$6)*0.05*12)","v":32},{"$f":"D26/'Futterkurve Sauen'!$C$7","v":{"v":2.6666666666666665,"d":"2.7"}},{"$f":"IF('Futterkurve Sauen'!$E$6>19,33,33+(19-'Futterkurve Sauen'!$E$6)*0.6)","v":33},{"$f":"F26/'Futterkurve Sauen'!$C$7","v":{"v":2.75,"d":"2.8"}},{"$f":"IF('Futterkurve Sauen'!$G$6>19,31,31+(19-'Futterkurve Sauen'!$E$6)*0.6)","v":31},{"$f":"H26/'Futterkurve Sauen'!$C$7","v":{"v":2.5833333333333335,"d":"2.6"}}]
[26,{"$f":"IF('Futterkurve Sauen'!$E$6>19,29,29+(19-'Futterkurve Sauen'!$E$6)*0.6)","v":29},{"$f":"B27/'Futterkurve Sauen'!$E$7","v":{"v":2.4166666666666665,"d":"2.4"}},{"$f":"IF('Futterkurve Sauen'!$E$6>19,32,32+(19-'Futterkurve Sauen'!$E$6)*0.05*12)","v":32},{"$f":"D27/'Futterkurve Sauen'!$C$7","v":{"v":2.6666666666666665,"d":"2.7"}},{"$f":"IF('Futterkurve Sauen'!$E$6>19,33,33+(19-'Futterkurve Sauen'!$E$6)*0.6)","v":33},{"$f":"F27/'Futterkurve Sauen'!$C$7","v":{"v":2.75,"d":"2.8"}},{"$f":"IF('Futterkurve Sauen'!$G$6>19,31,31+(19-'Futterkurve Sauen'!$E$6)*0.6)","v":31},{"$f":"H27/'Futterkurve Sauen'!$C$7","v":{"v":2.5833333333333335,"d":"2.6"}}]
[27,{"$f":"IF('Futterkurve Sauen'!$E$6>19,29,29+(19-'Futterkurve Sauen'!$E$6)*0.6)","v":29},{"$f":"B28/'Futterkurve Sauen'!$E$7","v":{"v":2.4166666666666665,"d":"2.4"}},{"$f":"IF('Futterkurve Sauen'!$E$6>19,32,32+(19-'Futterkurve Sauen'!$E$6)*0.05*12)","v":32},{"$f":"D28/'Futterkurve Sauen'!$C$7","v":{"v":2.6666666666666665,"d":"2.7"}},{"$f":"IF('Futterkurve Sauen'!$E$6>19,33,33+(19-'Futterkurve Sauen'!$E$6)*0.6)","v":33},{"$f":"F28/'Futterkurve Sauen'!$C$7","v":{"v":2.75,"d":"2.8"}},{"$f":"IF('Futterkurve Sauen'!$G$6>19,31,31+(19-'Futterkurve Sauen'!$E$6)*0.6)","v":31},{"$f":"H28/'Futterkurve Sauen'!$C$7","v":{"v":2.5833333333333335,"d":"2.6"}}]
[28,{"$f":"IF('Futterkurve Sauen'!$E$6>19,29,29+(19-'Futterkurve Sauen'!$E$6)*0.6)","v":29},{"$f":"B29/'Futterkurve Sauen'!$E$7","v":{"v":2.4166666666666665,"d":"2.4"}},{"$f":"IF('Futterkurve Sauen'!$E$6>19,32,32+(19-'Futterkurve Sauen'!$E$6)*0.05*12)","v":32},{"$f":"D29/'Futterkurve Sauen'!$C$7","v":{"v":2.6666666666666665,"d":"2.7"}},{"$f":"IF('Futterkurve Sauen'!$E$6>19,33,33+(19-'Futterkurve Sauen'!$E$6)*0.6)","v":33},{"$f":"F29/'Futterkurve Sauen'!$C$7","v":{"v":2.75,"d":"2.8"}},{"$f":"IF('Futterkurve Sauen'!$G$6>19,31,31+(19-'Futterkurve Sauen'!$E$6)*0.6)","v":31},{"$f":"H29/'Futterkurve Sauen'!$C$7","v":{"v":2.5833333333333335,"d":"2.6"}}]
[29,{"$f":"IF('Futterkurve Sauen'!G$6>14,29+J$1,29+(14-'Futterkurve Sauen'!$G$6)*0.3+J$1)","v":33},{"$f":"B30/'Futterkurve Sauen'!$E$7","v":{"v":2.75,"d":"2.8"}},{"$f":"IF('Futterkurve Sauen'!G$6>14,32+J$2,32+J$2+(14-'Futterkurve Sauen'!$G$6)*0.3)","v":38},{"$f":"D30/'Futterkurve Sauen'!$C$7","v":{"v":3.1666666666666665,"d":"3.2"}},{"$f":"IF('Futterkurve Sauen'!G$6>14,33+J$2,33+J$2+(14-'Futterkurve Sauen'!$G$6)*0.3)","v":39},{"$f":"F30/'Futterkurve Sauen'!$C$7","v":{"v":3.25,"d":"3.3"}},{"$f":"IF('Futterkurve Sauen'!G$6>14,32+J$2,31+J$2+(14-'Futterkurve Sauen'!$G$6)*0.3)","v":37},{"$f":"H30/'Futterkurve Sauen'!$C$7","v":{"v":3.0833333333333335,"d":"3.1"}}]
[30,{"$f":"IF('Futterkurve Sauen'!G$6>14,29+J$1,29+(14-'Futterkurve Sauen'!$G$6)*0.3+J$1)","v":33},{"$f":"B31/'Futterkurve Sauen'!$E$7","v":{"v":2.75,"d":"2.8"}},{"$f":"IF('Futterkurve Sauen'!G$6>14,32+J$2,32+J$2+(14-'Futterkurve Sauen'!$G$6)*0.3)","v":38},{"$f":"D31/'Futterkurve Sauen'!$C$7","v":{"v":3.1666666666666665,"d":"3.2"}},{"$f":"IF('Futterkurve Sauen'!G$6>14,33+J$2,33+J$2+(14-'Futterkurve Sauen'!$G$6)*0.3)","v":39},{"$f":"F31/'Futterkurve Sauen'!$C$7","v":{"v":3.25,"d":"3.3"}},{"$f":"IF('Futterkurve Sauen'!G$6>14,32+J$2,31+J$2+(14-'Futterkurve Sauen'!$G$6)*0.3)","v":37},{"$f":"H31/'Futterkurve Sauen'!$C$7","v":{"v":3.0833333333333335,"d":"3.1"}}]
[31,{"$f":"IF('Futterkurve Sauen'!G$6>14,29+J$1,29+(14-'Futterkurve Sauen'!$G$6)*0.3+J$1)","v":33},{"$f":"B32/'Futterkurve Sauen'!$E$7","v":{"v":2.75,"d":"2.8"}},{"$f":"IF('Futterkurve Sauen'!G$6>14,32+J$2,32+J$2+(14-'Futterkurve Sauen'!$G$6)*0.3)","v":38},{"$f":"D32/'Futterkurve Sauen'!$C$7","v":{"v":3.1666666666666665,"d":"3.2"}},{"$f":"IF('Futterkurve Sauen'!G$6>14,33+J$2,33+J$2+(14-'Futterkurve Sauen'!$G$6)*0.3)","v":39},{"$f":"F32/'Futterkurve Sauen'!$C$7","v":{"v":3.25,"d":"3.3"}},{"$f":"IF('Futterkurve Sauen'!G$6>14,32+J$2,31+J$2+(14-'Futterkurve Sauen'!$G$6)*0.3)","v":37},{"$f":"H32/'Futterkurve Sauen'!$C$7","v":{"v":3.0833333333333335,"d":"3.1"}}]
[32,{"$f":"IF('Futterkurve Sauen'!G$6>14,29+J$1,29+(14-'Futterkurve Sauen'!$G$6)*0.3+J$1)","v":33},{"$f":"B33/'Futterkurve Sauen'!$E$7","v":{"v":2.75,"d":"2.8"}},{"$f":"IF('Futterkurve Sauen'!G$6>14,32+J$2,32+J$2+(14-'Futterkurve Sauen'!$G$6)*0.3)","v":38},{"$f":"D33/'Futterkurve Sauen'!$C$7","v":{"v":3.1666666666666665,"d":"3.2"}},{"$f":"IF('Futterkurve Sauen'!G$6>14,33+J$2,33+J$2+(14-'Futterkurve Sauen'!$G$6)*0.3)","v":39},{"$f":"F33/'Futterkurve Sauen'!$C$7","v":{"v":3.25,"d":"3.3"}},{"$f":"IF('Futterkurve Sauen'!G$6>14,32+J$2,31+J$2+(14-'Futterkurve Sauen'!$G$6)*0.3)","v":37},{"$f":"H33/'Futterkurve Sauen'!$C$7","v":{"v":3.0833333333333335,"d":"3.1"}}]
[33,{"$f":"IF('Futterkurve Sauen'!G$6>14,29+J$1,29+(14-'Futterkurve Sauen'!$G$6)*0.3+J$1)","v":33},{"$f":"B34/'Futterkurve Sauen'!$E$7","v":{"v":2.75,"d":"2.8"}},{"$f":"IF('Futterkurve Sauen'!G$6>14,32+J$2,32+J$2+(14-'Futterkurve Sauen'!$G$6)*0.3)","v":38},{"$f":"D34/'Futterkurve Sauen'!$C$7","v":{"v":3.1666666666666665,"d":"3.2"}},{"$f":"IF('Futterkurve Sauen'!G$6>14,33+J$2,33+J$2+(14-'Futterkurve Sauen'!$G$6)*0.3)","v":39},{"$f":"F34/'Futterkurve Sauen'!$C$7","v":{"v":3.25,"d":"3.3"}},{"$f":"IF('Futterkurve Sauen'!G$6>14,32+J$2,31+J$2+(14-'Futterkurve Sauen'!$G$6)*0.3)","v":37},{"$f":"H34/'Futterkurve Sauen'!$C$7","v":{"v":3.0833333333333335,"d":"3.1"}}]
[34,{"$f":"IF('Futterkurve Sauen'!G$6>14,29+J$1,29+(14-'Futterkurve Sauen'!$G$6)*0.3+J$1)","v":33},{"$f":"B35/'Futterkurve Sauen'!$E$7","v":{"v":2.75,"d":"2.8"}},{"$f":"IF('Futterkurve Sauen'!G$6>14,32+J$2,32+J$2+(14-'Futterkurve Sauen'!$G$6)*0.3)","v":38},{"$f":"D35/'Futterkurve Sauen'!$C$7","v":{"v":3.1666666666666665,"d":"3.2"}},{"$f":"IF('Futterkurve Sauen'!G$6>14,33+J$2,33+J$2+(14-'Futterkurve Sauen'!$G$6)*0.3)","v":39},{"$f":"F35/'Futterkurve Sauen'!$C$7","v":{"v":3.25,"d":"3.3"}},{"$f":"IF('Futterkurve Sauen'!G$6>14,32+J$2,31+J$2+(14-'Futterkurve Sauen'!$G$6)*0.3)","v":37},{"$f":"H35/'Futterkurve Sauen'!$C$7","v":{"v":3.0833333333333335,"d":"3.1"}}]
[35,{"$f":"IF('Futterkurve Sauen'!G$6>14,29+J$1,29+(14-'Futterkurve Sauen'!$G$6)*0.3+J$1)","v":33},{"$f":"B36/'Futterkurve Sauen'!$E$7","v":{"v":2.75,"d":"2.8"}},{"$f":"IF('Futterkurve Sauen'!G$6>14,32+J$2,32+J$2+(14-'Futterkurve Sauen'!$G$6)*0.3)","v":38},{"$f":"D36/'Futterkurve Sauen'!$C$7","v":{"v":3.1666666666666665,"d":"3.2"}},{"$f":"IF('Futterkurve Sauen'!G$6>14,33+J$2,33+J$2+(14-'Futterkurve Sauen'!$G$6)*0.3)","v":39},{"$f":"F36/'Futterkurve Sauen'!$C$7","v":{"v":3.25,"d":"3.3"}},{"$f":"IF('Futterkurve Sauen'!G$6>14,32+J$2,31+J$2+(14-'Futterkurve Sauen'!$G$6)*0.3)","v":37},{"$f":"H36/'Futterkurve Sauen'!$C$7","v":{"v":3.0833333333333335,"d":"3.1"}}]
[36,{"$f":"IF('Futterkurve Sauen'!G$6>14,29+J$1,29+(14-'Futterkurve Sauen'!$G$6)*0.3+J$1)","v":33},{"$f":"B37/'Futterkurve Sauen'!$E$7","v":{"v":2.75,"d":"2.8"}},{"$f":"IF('Futterkurve Sauen'!G$6>14,32+J$2,32+J$2+(14-'Futterkurve Sauen'!$G$6)*0.3)","v":38},{"$f":"D37/'Futterkurve Sauen'!$C$7","v":{"v":3.1666666666666665,"d":"3.2"}},{"$f":"IF('Futterkurve Sauen'!G$6>14,33+J$2,33+J$2+(14-'Futterkurve Sauen'!$G$6)*0.3)","v":39},{"$f":"F37/'Futterkurve Sauen'!$C$7","v":{"v":3.25,"d":"3.3"}},{"$f":"IF('Futterkurve Sauen'!G$6>14,32+J$2,31+J$2+(14-'Futterkurve Sauen'!$G$6)*0.3)","v":37},{"$f":"H37/'Futterkurve Sauen'!$C$7","v":{"v":3.0833333333333335,"d":"3.1"}}]
[37,{"$f":"IF('Futterkurve Sauen'!G$6>14,29+J$1,29+(14-'Futterkurve Sauen'!$G$6)*0.3+J$1)","v":33},{"$f":"B38/'Futterkurve Sauen'!$E$7","v":{"v":2.75,"d":"2.8"}},{"$f":"IF('Futterkurve Sauen'!G$6>14,32+J$2,32+J$2+(14-'Futterkurve Sauen'!$G$6)*0.3)","v":38},{"$f":"D38/'Futterkurve Sauen'!$C$7","v":{"v":3.1666666666666665,"d":"3.2"}},{"$f":"IF('Futterkurve Sauen'!G$6>14,33+J$2,33+J$2+(14-'Futterkurve Sauen'!$G$6)*0.3)","v":39},{"$f":"F38/'Futterkurve Sauen'!$C$7","v":{"v":3.25,"d":"3.3"}},{"$f":"IF('Futterkurve Sauen'!G$6>14,32+J$2,31+J$2+(14-'Futterkurve Sauen'!$G$6)*0.3)","v":37},{"$f":"H38/'Futterkurve Sauen'!$C$7","v":{"v":3.0833333333333335,"d":"3.1"}}]
[38,{"$f":"IF('Futterkurve Sauen'!G$6>14,29+J$1,29+(14-'Futterkurve Sauen'!$G$6)*0.3+J$1)","v":33},{"$f":"B39/'Futterkurve Sauen'!$E$7","v":{"v":2.75,"d":"2.8"}},{"$f":"IF('Futterkurve Sauen'!G$6>14,32+J$2,32+J$2+(14-'Futterkurve Sauen'!$G$6)*0.3)","v":38},{"$f":"D39/'Futterkurve Sauen'!$C$7","v":{"v":3.1666666666666665,"d":"3.2"}},{"$f":"IF('Futterkurve Sauen'!G$6>14,33+J$2,33+J$2+(14-'Futterkurve Sauen'!$G$6)*0.3)","v":39},{"$f":"F39/'Futterkurve Sauen'!$C$7","v":{"v":3.25,"d":"3.3"}},{"$f":"IF('Futterkurve Sauen'!G$6>14,32+J$2,31+J$2+(14-'Futterkurve Sauen'!$G$6)*0.3)","v":37},{"$f":"H39/'Futterkurve Sauen'!$C$7","v":{"v":3.0833333333333335,"d":"3.1"}}]
[39,{"$f":"IF('Futterkurve Sauen'!G$6>14,29+J$1,29+(14-'Futterkurve Sauen'!$G$6)*0.3+J$1)","v":33},{"$f":"B40/'Futterkurve Sauen'!$E$7","v":{"v":2.75,"d":"2.8"}},{"$f":"IF('Futterkurve Sauen'!G$6>14,32+J$2,32+J$2+(14-'Futterkurve Sauen'!$G$6)*0.3)","v":38},{"$f":"D40/'Futterkurve Sauen'!$C$7","v":{"v":3.1666666666666665,"d":"3.2"}},{"$f":"IF('Futterkurve Sauen'!G$6>14,33+J$2,33+J$2+(14-'Futterkurve Sauen'!$G$6)*0.3)","v":39},{"$f":"F40/'Futterkurve Sauen'!$C$7","v":{"v":3.25,"d":"3.3"}},{"$f":"IF('Futterkurve Sauen'!G$6>14,32+J$2,31+J$2+(14-'Futterkurve Sauen'!$G$6)*0.3)","v":37},{"$f":"H40/'Futterkurve Sauen'!$C$7","v":{"v":3.0833333333333335,"d":"3.1"}}]
[40,{"$f":"IF('Futterkurve Sauen'!G$6>14,29+J$1,29+(14-'Futterkurve Sauen'!$G$6)*0.3+J$1)","v":33},{"$f":"B41/'Futterkurve Sauen'!$E$7","v":{"v":2.75,"d":"2.8"}},{"$f":"IF('Futterkurve Sauen'!G$6>14,32+J$2,32+J$2+(14-'Futterkurve Sauen'!$G$6)*0.3)","v":38},{"$f":"D41/'Futterkurve Sauen'!$C$7","v":{"v":3.1666666666666665,"d":"3.2"}},{"$f":"IF('Futterkurve Sauen'!G$6>14,33+J$2,33+J$2+(14-'Futterkurve Sauen'!$G$6)*0.3)","v":39},{"$f":"F41/'Futterkurve Sauen'!$C$7","v":{"v":3.25,"d":"3.3"}},{"$f":"IF('Futterkurve Sauen'!G$6>14,32+J$2,31+J$2+(14-'Futterkurve Sauen'!$G$6)*0.3)","v":37},{"$f":"H41/'Futterkurve Sauen'!$C$7","v":{"v":3.0833333333333335,"d":"3.1"}}]
[41,{"$f":"IF('Futterkurve Sauen'!G$6>14,29+J$1,29+(14-'Futterkurve Sauen'!$G$6)*0.3+J$1)","v":33},{"$f":"B42/'Futterkurve Sauen'!$E$7","v":{"v":2.75,"d":"2.8"}},{"$f":"IF('Futterkurve Sauen'!G$6>14,32+J$2,32+J$2+(14-'Futterkurve Sauen'!$G$6)*0.3)","v":38},{"$f":"D42/'Futterkurve Sauen'!$C$7","v":{"v":3.1666666666666665,"d":"3.2"}},{"$f":"IF('Futterkurve Sauen'!G$6>14,33+J$2,33+J$2+(14-'Futterkurve Sauen'!$G$6)*0.3)","v":39},{"$f":"F42/'Futterkurve Sauen'!$C$7","v":{"v":3.25,"d":"3.3"}},{"$f":"IF('Futterkurve Sauen'!G$6>14,32+J$2,31+J$2+(14-'Futterkurve Sauen'!$G$6)*0.3)","v":37},{"$f":"H42/'Futterkurve Sauen'!$C$7","v":{"v":3.0833333333333335,"d":"3.1"}}]
[42,{"$f":"IF('Futterkurve Sauen'!G$6>14,29+J$1,29+(14-'Futterkurve Sauen'!$G$6)*0.3+J$1)","v":33},{"$f":"B43/'Futterkurve Sauen'!$E$7","v":{"v":2.75,"d":"2.8"}},{"$f":"IF('Futterkurve Sauen'!G$6>14,32+J$2,32+J$2+(14-'Futterkurve Sauen'!$G$6)*0.3)","v":38},{"$f":"D43/'Futterkurve Sauen'!$C$7","v":{"v":3.1666666666666665,"d":"3.2"}},{"$f":"IF('Futterkurve Sauen'!G$6>14,33+J$2,33+J$2+(14-'Futterkurve Sauen'!$G$6)*0.3)","v":39},{"$f":"F43/'Futterkurve Sauen'!$C$7","v":{"v":3.25,"d":"3.3"}},{"$f":"IF('Futterkurve Sauen'!G$6>14,32+J$2,31+J$2+(14-'Futterkurve Sauen'!$G$6)*0.3)","v":37},{"$f":"H43/'Futterkurve Sauen'!$C$7","v":{"v":3.0833333333333335,"d":"3.1"}}]
[43,{"$f":"IF('Futterkurve Sauen'!G$6>14,29+J$1,29+(14-'Futterkurve Sauen'!$G$6)*0.3+J$1)","v":33},{"$f":"B44/'Futterkurve Sauen'!$E$7","v":{"v":2.75,"d":"2.8"}},{"$f":"IF('Futterkurve Sauen'!G$6>14,32+J$2,32+J$2+(14-'Futterkurve Sauen'!$G$6)*0.3)","v":38},{"$f":"D44/'Futterkurve Sauen'!$C$7","v":{"v":3.1666666666666665,"d":"3.2"}},{"$f":"IF('Futterkurve Sauen'!G$6>14,33+J$2,33+J$2+(14-'Futterkurve Sauen'!$G$6)*0.3)","v":39},{"$f":"F44/'Futterkurve Sauen'!$C$7","v":{"v":3.25,"d":"3.3"}},{"$f":"IF('Futterkurve Sauen'!G$6>14,32+J$2,31+J$2+(14-'Futterkurve Sauen'!$G$6)*0.3)","v":37},{"$f":"H44/'Futterkurve Sauen'!$C$7","v":{"v":3.0833333333333335,"d":"3.1"}}]
[44,{"$f":"IF('Futterkurve Sauen'!G$6>14,29+J$1,29+(14-'Futterkurve Sauen'!$G$6)*0.3+J$1)","v":33},{"$f":"B45/'Futterkurve Sauen'!$E$7","v":{"v":2.75,"d":"2.8"}},{"$f":"IF('Futterkurve Sauen'!G$6>14,32+J$2,32+J$2+(14-'Futterkurve Sauen'!$G$6)*0.3)","v":38},{"$f":"D45/'Futterkurve Sauen'!$C$7","v":{"v":3.1666666666666665,"d":"3.2"}},{"$f":"IF('Futterkurve Sauen'!G$6>14,33+J$2,33+J$2+(14-'Futterkurve Sauen'!$G$6)*0.3)","v":39},{"$f":"F45/'Futterkurve Sauen'!$C$7","v":{"v":3.25,"d":"3.3"}},{"$f":"IF('Futterkurve Sauen'!G$6>14,32+J$2,31+J$2+(14-'Futterkurve Sauen'!$G$6)*0.3)","v":37},{"$f":"H45/'Futterkurve Sauen'!$C$7","v":{"v":3.0833333333333335,"d":"3.1"}}]
[45,{"$f":"IF('Futterkurve Sauen'!G$6>14,29+J$1,29+(14-'Futterkurve Sauen'!$G$6)*0.3+J$1)","v":33},{"$f":"B46/'Futterkurve Sauen'!$E$7","v":{"v":2.75,"d":"2.8"}},{"$f":"IF('Futterkurve Sauen'!G$6>14,32+J$2,32+J$2+(14-'Futterkurve Sauen'!$G$6)*0.3)","v":38},{"$f":"D46/'Futterkurve Sauen'!$C$7","v":{"v":3.1666666666666665,"d":"3.2"}},{"$f":"IF('Futterkurve Sauen'!G$6>14,33+J$2,33+J$2+(14-'Futterkurve Sauen'!$G$6)*0.3)","v":39},{"$f":"F46/'Futterkurve Sauen'!$C$7","v":{"v":3.25,"d":"3.3"}},{"$f":"IF('Futterkurve Sauen'!G$6>14,32+J$2,31+J$2+(14-'Futterkurve Sauen'!$G$6)*0.3)","v":37},{"$f":"H46/'Futterkurve Sauen'!$C$7","v":{"v":3.0833333333333335,"d":"3.1"}}]
[46,{"$f":"IF('Futterkurve Sauen'!G$6>14,29+J$1,29+(14-'Futterkurve Sauen'!$G$6)*0.3+J$1)","v":33},{"$f":"B47/'Futterkurve Sauen'!$E$7","v":{"v":2.75,"d":"2.8"}},{"$f":"IF('Futterkurve Sauen'!G$6>14,32+J$2,32+J$2+(14-'Futterkurve Sauen'!$G$6)*0.3)","v":38},{"$f":"D47/'Futterkurve Sauen'!$C$7","v":{"v":3.1666666666666665,"d":"3.2"}},{"$f":"IF('Futterkurve Sauen'!G$6>14,33+J$2,33+J$2+(14-'Futterkurve Sauen'!$G$6)*0.3)","v":39},{"$f":"F47/'Futterkurve Sauen'!$C$7","v":{"v":3.25,"d":"3.3"}},{"$f":"IF('Futterkurve Sauen'!G$6>14,32+J$2,31+J$2+(14-'Futterkurve Sauen'!$G$6)*0.3)","v":37},{"$f":"H47/'Futterkurve Sauen'!$C$7","v":{"v":3.0833333333333335,"d":"3.1"}}]
[47,{"$f":"IF('Futterkurve Sauen'!G$6>14,29+J$1,29+(14-'Futterkurve Sauen'!$G$6)*0.3+J$1)","v":33},{"$f":"B48/'Futterkurve Sauen'!$E$7","v":{"v":2.75,"d":"2.8"}},{"$f":"IF('Futterkurve Sauen'!G$6>14,32+J$2,32+J$2+(14-'Futterkurve Sauen'!$G$6)*0.3)","v":38},{"$f":"D48/'Futterkurve Sauen'!$C$7","v":{"v":3.1666666666666665,"d":"3.2"}},{"$f":"IF('Futterkurve Sauen'!G$6>14,33+J$2,33+J$2+(14-'Futterkurve Sauen'!$G$6)*0.3)","v":39},{"$f":"F48/'Futterkurve Sauen'!$C$7","v":{"v":3.25,"d":"3.3"}},{"$f":"IF('Futterkurve Sauen'!G$6>14,32+J$2,31+J$2+(14-'Futterkurve Sauen'!$G$6)*0.3)","v":37},{"$f":"H48/'Futterkurve Sauen'!$C$7","v":{"v":3.0833333333333335,"d":"3.1"}}]
[48,{"$f":"IF('Futterkurve Sauen'!G$6>14,29+J$1,29+(14-'Futterkurve Sauen'!$G$6)*0.3+J$1)","v":33},{"$f":"B49/'Futterkurve Sauen'!$E$7","v":{"v":2.75,"d":"2.8"}},{"$f":"IF('Futterkurve Sauen'!G$6>14,32+J$2,32+J$2+(14-'Futterkurve Sauen'!$G$6)*0.3)","v":38},{"$f":"D49/'Futterkurve Sauen'!$C$7","v":{"v":3.1666666666666665,"d":"3.2"}},{"$f":"IF('Futterkurve Sauen'!G$6>14,33+J$2,33+J$2+(14-'Futterkurve Sauen'!$G$6)*0.3)","v":39},{"$f":"F49/'Futterkurve Sauen'!$C$7","v":{"v":3.25,"d":"3.3"}},{"$f":"IF('Futterkurve Sauen'!G$6>14,32+J$2,31+J$2+(14-'Futterkurve Sauen'!$G$6)*0.3)","v":37},{"$f":"H49/'Futterkurve Sauen'!$C$7","v":{"v":3.0833333333333335,"d":"3.1"}}]
[49,{"$f":"IF('Futterkurve Sauen'!G$6>14,29+J$1,29+(14-'Futterkurve Sauen'!$G$6)*0.3+J$1)","v":33},{"$f":"B50/'Futterkurve Sauen'!$E$7","v":{"v":2.75,"d":"2.8"}},{"$f":"IF('Futterkurve Sauen'!G$6>14,32+J$2,32+J$2+(14-'Futterkurve Sauen'!$G$6)*0.3)","v":38},{"$f":"D50/'Futterkurve Sauen'!$C$7","v":{"v":3.1666666666666665,"d":"3.2"}},{"$f":"IF('Futterkurve Sauen'!G$6>14,33+J$2,33+J$2+(14-'Futterkurve Sauen'!$G$6)*0.3)","v":39},{"$f":"F50/'Futterkurve Sauen'!$C$7","v":{"v":3.25,"d":"3.3"}},{"$f":"IF('Futterkurve Sauen'!G$6>14,32+J$2,31+J$2+(14-'Futterkurve Sauen'!$G$6)*0.3)","v":37},{"$f":"H50/'Futterkurve Sauen'!$C$7","v":{"v":3.0833333333333335,"d":"3.1"}}]
[50,{"$f":"IF('Futterkurve Sauen'!G$6>14,29+J$1,29+(14-'Futterkurve Sauen'!$G$6)*0.3+J$1)","v":33},{"$f":"B51/'Futterkurve Sauen'!$E$7","v":{"v":2.75,"d":"2.8"}},{"$f":"IF('Futterkurve Sauen'!G$6>14,32+J$2,32+J$2+(14-'Futterkurve Sauen'!$G$6)*0.3)","v":38},{"$f":"D51/'Futterkurve Sauen'!$C$7","v":{"v":3.1666666666666665,"d":"3.2"}},{"$f":"IF('Futterkurve Sauen'!G$6>14,33+J$2,33+J$2+(14-'Futterkurve Sauen'!$G$6)*0.3)","v":39},{"$f":"F51/'Futterkurve Sauen'!$C$7","v":{"v":3.25,"d":"3.3"}},{"$f":"IF('Futterkurve Sauen'!G$6>14,32+J$2,31+J$2+(14-'Futterkurve Sauen'!$G$6)*0.3)","v":37},{"$f":"H51/'Futterkurve Sauen'!$C$7","v":{"v":3.0833333333333335,"d":"3.1"}}]
[51,{"$f":"IF('Futterkurve Sauen'!G$6>14,29+J$1,29+(14-'Futterkurve Sauen'!$G$6)*0.3+J$1)","v":33},{"$f":"B52/'Futterkurve Sauen'!$E$7","v":{"v":2.75,"d":"2.8"}},{"$f":"IF('Futterkurve Sauen'!G$6>14,32+J$2,32+J$2+(14-'Futterkurve Sauen'!$G$6)*0.3)","v":38},{"$f":"D52/'Futterkurve Sauen'!$C$7","v":{"v":3.1666666666666665,"d":"3.2"}},{"$f":"IF('Futterkurve Sauen'!G$6>14,33+J$2,33+J$2+(14-'Futterkurve Sauen'!$G$6)*0.3)","v":39},{"$f":"F52/'Futterkurve Sauen'!$C$7","v":{"v":3.25,"d":"3.3"}},{"$f":"IF('Futterkurve Sauen'!G$6>14,32+J$2,31+J$2+(14-'Futterkurve Sauen'!$G$6)*0.3)","v":37},{"$f":"H52/'Futterkurve Sauen'!$C$7","v":{"v":3.0833333333333335,"d":"3.1"}}]
[52,{"$f":"IF('Futterkurve Sauen'!G$6>14,29+J$1,29+(14-'Futterkurve Sauen'!$G$6)*0.3+J$1)","v":33},{"$f":"B53/'Futterkurve Sauen'!$E$7","v":{"v":2.75,"d":"2.8"}},{"$f":"IF('Futterkurve Sauen'!G$6>14,32+J$2,32+J$2+(14-'Futterkurve Sauen'!$G$6)*0.3)","v":38},{"$f":"D53/'Futterkurve Sauen'!$C$7","v":{"v":3.1666666666666665,"d":"3.2"}},{"$f":"IF('Futterkurve Sauen'!G$6>14,33+J$2,33+J$2+(14-'Futterkurve Sauen'!$G$6)*0.3)","v":39},{"$f":"F53/'Futterkurve Sauen'!$C$7","v":{"v":3.25,"d":"3.3"}},{"$f":"IF('Futterkurve Sauen'!G$6>14,32+J$2,31+J$2+(14-'Futterkurve Sauen'!$G$6)*0.3)","v":37},{"$f":"H53/'Futterkurve Sauen'!$C$7","v":{"v":3.0833333333333335,"d":"3.1"}}]
[53,{"$f":"IF('Futterkurve Sauen'!G$6>14,29+J$1,29+(14-'Futterkurve Sauen'!$G$6)*0.3+J$1)","v":33},{"$f":"B54/'Futterkurve Sauen'!$E$7","v":{"v":2.75,"d":"2.8"}},{"$f":"IF('Futterkurve Sauen'!G$6>14,32+J$2,32+J$2+(14-'Futterkurve Sauen'!$G$6)*0.3)","v":38},{"$f":"D54/'Futterkurve Sauen'!$C$7","v":{"v":3.1666666666666665,"d":"3.2"}},{"$f":"IF('Futterkurve Sauen'!G$6>14,33+J$2,33+J$2+(14-'Futterkurve Sauen'!$G$6)*0.3)","v":39},{"$f":"F54/'Futterkurve Sauen'!$C$7","v":{"v":3.25,"d":"3.3"}},{"$f":"IF('Futterkurve Sauen'!G$6>14,32+J$2,31+J$2+(14-'Futterkurve Sauen'!$G$6)*0.3)","v":37},{"$f":"H54/'Futterkurve Sauen'!$C$7","v":{"v":3.0833333333333335,"d":"3.1"}}]
[54,{"$f":"IF('Futterkurve Sauen'!G$6>14,29+J$1,29+(14-'Futterkurve Sauen'!$G$6)*0.3+J$1)","v":33},{"$f":"B55/'Futterkurve Sauen'!$E$7","v":{"v":2.75,"d":"2.8"}},{"$f":"IF('Futterkurve Sauen'!G$6>14,32+J$2,32+J$2+(14-'Futterkurve Sauen'!$G$6)*0.3)","v":38},{"$f":"D55/'Futterkurve Sauen'!$C$7","v":{"v":3.1666666666666665,"d":"3.2"}},{"$f":"IF('Futterkurve Sauen'!G$6>14,33+J$2,33+J$2+(14-'Futterkurve Sauen'!$G$6)*0.3)","v":39},{"$f":"F55/'Futterkurve Sauen'!$C$7","v":{"v":3.25,"d":"3.3"}},{"$f":"IF('Futterkurve Sauen'!G$6>14,32+J$2,31+J$2+(14-'Futterkurve Sauen'!$G$6)*0.3)","v":37},{"$f":"H55/'Futterkurve Sauen'!$C$7","v":{"v":3.0833333333333335,"d":"3.1"}}]
[55,{"$f":"IF('Futterkurve Sauen'!G$6>14,29+J$1,29+(14-'Futterkurve Sauen'!$G$6)*0.3+J$1)","v":33},{"$f":"B56/'Futterkurve Sauen'!$E$7","v":{"v":2.75,"d":"2.8"}},{"$f":"IF('Futterkurve Sauen'!G$6>14,32+J$2,32+J$2+(14-'Futterkurve Sauen'!$G$6)*0.3)","v":38},{"$f":"D56/'Futterkurve Sauen'!$C$7","v":{"v":3.1666666666666665,"d":"3.2"}},{"$f":"IF('Futterkurve Sauen'!G$6>14,33+J$2,33+J$2+(14-'Futterkurve Sauen'!$G$6)*0.3)","v":39},{"$f":"F56/'Futterkurve Sauen'!$C$7","v":{"v":3.25,"d":"3.3"}},{"$f":"IF('Futterkurve Sauen'!G$6>14,32+J$2,31+J$2+(14-'Futterkurve Sauen'!$G$6)*0.3)","v":37},{"$f":"H56/'Futterkurve Sauen'!$C$7","v":{"v":3.0833333333333335,"d":"3.1"}}]
[56,{"$f":"IF('Futterkurve Sauen'!G$6>14,29+J$1,29+(14-'Futterkurve Sauen'!$G$6)*0.3+J$1)","v":33},{"$f":"B57/'Futterkurve Sauen'!$E$7","v":{"v":2.75,"d":"2.8"}},{"$f":"IF('Futterkurve Sauen'!G$6>14,32+J$2,32+J$2+(14-'Futterkurve Sauen'!$G$6)*0.3)","v":38},{"$f":"D57/'Futterkurve Sauen'!$C$7","v":{"v":3.1666666666666665,"d":"3.2"}},{"$f":"IF('Futterkurve Sauen'!G$6>14,33+J$2,33+J$2+(14-'Futterkurve Sauen'!$G$6)*0.3)","v":39},{"$f":"F57/'Futterkurve Sauen'!$C$7","v":{"v":3.25,"d":"3.3"}},{"$f":"IF('Futterkurve Sauen'!G$6>14,32+J$2,31+J$2+(14-'Futterkurve Sauen'!$G$6)*0.3)","v":37},{"$f":"H57/'Futterkurve Sauen'!$C$7","v":{"v":3.0833333333333335,"d":"3.1"}}]
[57,{"$f":"IF('Futterkurve Sauen'!G$6>14,29+J$1,29+(14-'Futterkurve Sauen'!$G$6)*0.3+J$1)","v":33},{"$f":"B58/'Futterkurve Sauen'!$E$7","v":{"v":2.75,"d":"2.8"}},{"$f":"IF('Futterkurve Sauen'!G$6>14,32+J$2,32+J$2+(14-'Futterkurve Sauen'!$G$6)*0.3)","v":38},{"$f":"D58/'Futterkurve Sauen'!$C$7","v":{"v":3.1666666666666665,"d":"3.2"}},{"$f":"IF('Futterkurve Sauen'!G$6>14,33+J$2,33+J$2+(14-'Futterkurve Sauen'!$G$6)*0.3)","v":39},{"$f":"F58/'Futterkurve Sauen'!$C$7","v":{"v":3.25,"d":"3.3"}},{"$f":"IF('Futterkurve Sauen'!G$6>14,32+J$2,31+J$2+(14-'Futterkurve Sauen'!$G$6)*0.3)","v":37},{"$f":"H58/'Futterkurve Sauen'!$C$7","v":{"v":3.0833333333333335,"d":"3.1"}}]
[58,{"$f":"IF('Futterkurve Sauen'!G$6>14,29+J$1,29+(14-'Futterkurve Sauen'!$G$6)*0.3+J$1)","v":33},{"$f":"B59/'Futterkurve Sauen'!$E$7","v":{"v":2.75,"d":"2.8"}},{"$f":"IF('Futterkurve Sauen'!G$6>14,32+J$2,32+J$2+(14-'Futterkurve Sauen'!$G$6)*0.3)","v":38},{"$f":"D59/'Futterkurve Sauen'!$C$7","v":{"v":3.1666666666666665,"d":"3.2"}},{"$f":"IF('Futterkurve Sauen'!G$6>14,33+J$2,33+J$2+(14-'Futterkurve Sauen'!$G$6)*0.3)","v":39},{"$f":"F59/'Futterkurve Sauen'!$C$7","v":{"v":3.25,"d":"3.3"}},{"$f":"IF('Futterkurve Sauen'!G$6>14,32+J$2,31+J$2+(14-'Futterkurve Sauen'!$G$6)*0.3)","v":37},{"$f":"H59/'Futterkurve Sauen'!$C$7","v":{"v":3.0833333333333335,"d":"3.1"}}]
[59,{"$f":"IF('Futterkurve Sauen'!G$6>14,29+J$1,29+(14-'Futterkurve Sauen'!$G$6)*0.3+J$1)","v":33},{"$f":"B60/'Futterkurve Sauen'!$E$7","v":{"v":2.75,"d":"2.8"}},{"$f":"IF('Futterkurve Sauen'!G$6>14,32+J$2,32+J$2+(14-'Futterkurve Sauen'!$G$6)*0.3)","v":38},{"$f":"D60/'Futterkurve Sauen'!$C$7","v":{"v":3.1666666666666665,"d":"3.2"}},{"$f":"IF('Futterkurve Sauen'!G$6>14,33+J$2,33+J$2+(14-'Futterkurve Sauen'!$G$6)*0.3)","v":39},{"$f":"F60/'Futterkurve Sauen'!$C$7","v":{"v":3.25,"d":"3.3"}},{"$f":"IF('Futterkurve Sauen'!G$6>14,32+J$2,31+J$2+(14-'Futterkurve Sauen'!$G$6)*0.3)","v":37},{"$f":"H60/'Futterkurve Sauen'!$C$7","v":{"v":3.0833333333333335,"d":"3.1"}}]
[60,{"$f":"IF('Futterkurve Sauen'!G$6>14,29+J$1,29+(14-'Futterkurve Sauen'!$G$6)*0.3+J$1)","v":33},{"$f":"B61/'Futterkurve Sauen'!$E$7","v":{"v":2.75,"d":"2.8"}},{"$f":"IF('Futterkurve Sauen'!G$6>14,32+J$2,32+J$2+(14-'Futterkurve Sauen'!$G$6)*0.3)","v":38},{"$f":"D61/'Futterkurve Sauen'!$C$7","v":{"v":3.1666666666666665,"d":"3.2"}},{"$f":"IF('Futterkurve Sauen'!G$6>14,33+J$2,33+J$2+(14-'Futterkurve Sauen'!$G$6)*0.3)","v":39},{"$f":"F61/'Futterkurve Sauen'!$C$7","v":{"v":3.25,"d":"3.3"}},{"$f":"IF('Futterkurve Sauen'!G$6>14,32+J$2,31+J$2+(14-'Futterkurve Sauen'!$G$6)*0.3)","v":37},{"$f":"H61/'Futterkurve Sauen'!$C$7","v":{"v":3.0833333333333335,"d":"3.1"}}]
[61,{"$f":"IF('Futterkurve Sauen'!G$6>14,29+J$1,29+(14-'Futterkurve Sauen'!$G$6)*0.3+J$1)","v":33},{"$f":"B62/'Futterkurve Sauen'!$E$7","v":{"v":2.75,"d":"2.8"}},{"$f":"IF('Futterkurve Sauen'!G$6>14,32+J$2,32+J$2+(14-'Futterkurve Sauen'!$G$6)*0.3)","v":38},{"$f":"D62/'Futterkurve Sauen'!$C$7","v":{"v":3.1666666666666665,"d":"3.2"}},{"$f":"IF('Futterkurve Sauen'!G$6>14,33+J$2,33+J$2+(14-'Futterkurve Sauen'!$G$6)*0.3)","v":39},{"$f":"F62/'Futterkurve Sauen'!$C$7","v":{"v":3.25,"d":"3.3"}},{"$f":"IF('Futterkurve Sauen'!G$6>14,32+J$2,31+J$2+(14-'Futterkurve Sauen'!$G$6)*0.3)","v":37},{"$f":"H62/'Futterkurve Sauen'!$C$7","v":{"v":3.0833333333333335,"d":"3.1"}}]
[62,{"$f":"IF('Futterkurve Sauen'!G$6>14,29+J$1,29+(14-'Futterkurve Sauen'!$G$6)*0.3+J$1)","v":33},{"$f":"B63/'Futterkurve Sauen'!$E$7","v":{"v":2.75,"d":"2.8"}},{"$f":"IF('Futterkurve Sauen'!G$6>14,32+J$2,32+J$2+(14-'Futterkurve Sauen'!$G$6)*0.3)","v":38},{"$f":"D63/'Futterkurve Sauen'!$C$7","v":{"v":3.1666666666666665,"d":"3.2"}},{"$f":"IF('Futterkurve Sauen'!G$6>14,33+J$2,33+J$2+(14-'Futterkurve Sauen'!$G$6)*0.3)","v":39},{"$f":"F63/'Futterkurve Sauen'!$C$7","v":{"v":3.25,"d":"3.3"}},{"$f":"IF('Futterkurve Sauen'!G$6>14,32+J$2,31+J$2+(14-'Futterkurve Sauen'!$G$6)*0.3)","v":37},{"$f":"H63/'Futterkurve Sauen'!$C$7","v":{"v":3.0833333333333335,"d":"3.1"}}]
[63,{"$f":"IF('Futterkurve Sauen'!G$6>14,29+J$1,29+(14-'Futterkurve Sauen'!$G$6)*0.3+J$1)","v":33},{"$f":"B64/'Futterkurve Sauen'!$E$7","v":{"v":2.75,"d":"2.8"}},{"$f":"IF('Futterkurve Sauen'!G$6>14,32+J$2,32+J$2+(14-'Futterkurve Sauen'!$G$6)*0.3)","v":38},{"$f":"D64/'Futterkurve Sauen'!$C$7","v":{"v":3.1666666666666665,"d":"3.2"}},{"$f":"IF('Futterkurve Sauen'!G$6>14,33+J$2,33+J$2+(14-'Futterkurve Sauen'!$G$6)*0.3)","v":39},{"$f":"F64/'Futterkurve Sauen'!$C$7","v":{"v":3.25,"d":"3.3"}},{"$f":"IF('Futterkurve Sauen'!G$6>14,32+J$2,31+J$2+(14-'Futterkurve Sauen'!$G$6)*0.3)","v":37},{"$f":"H64/'Futterkurve Sauen'!$C$7","v":{"v":3.0833333333333335,"d":"3.1"}}]
[64,{"$f":"IF('Futterkurve Sauen'!G$6>14,29+J$1,29+(14-'Futterkurve Sauen'!$G$6)*0.3+J$1)","v":33},{"$f":"B65/'Futterkurve Sauen'!$E$7","v":{"v":2.75,"d":"2.8"}},{"$f":"IF('Futterkurve Sauen'!G$6>14,32+J$2,32+J$2+(14-'Futterkurve Sauen'!$G$6)*0.3)","v":38},{"$f":"D65/'Futterkurve Sauen'!$C$7","v":{"v":3.1666666666666665,"d":"3.2"}},{"$f":"IF('Futterkurve Sauen'!G$6>14,33+J$2,33+J$2+(14-'Futterkurve Sauen'!$G$6)*0.3)","v":39},{"$f":"F65/'Futterkurve Sauen'!$C$7","v":{"v":3.25,"d":"3.3"}},{"$f":"IF('Futterkurve Sauen'!G$6>14,32+J$2,31+J$2+(14-'Futterkurve Sauen'!$G$6)*0.3)","v":37},{"$f":"H65/'Futterkurve Sauen'!$C$7","v":{"v":3.0833333333333335,"d":"3.1"}}]
[65,{"$f":"IF('Futterkurve Sauen'!G$6>14,29+J$1,29+(14-'Futterkurve Sauen'!$G$6)*0.3+J$1)","v":33},{"$f":"B66/'Futterkurve Sauen'!$E$7","v":{"v":2.75,"d":"2.8"}},{"$f":"IF('Futterkurve Sauen'!G$6>14,32+J$2,32+J$2+(14-'Futterkurve Sauen'!$G$6)*0.3)","v":38},{"$f":"D66/'Futterkurve Sauen'!$C$7","v":{"v":3.1666666666666665,"d":"3.2"}},{"$f":"IF('Futterkurve Sauen'!G$6>14,33+J$2,33+J$2+(14-'Futterkurve Sauen'!$G$6)*0.3)","v":39},{"$f":"F66/'Futterkurve Sauen'!$C$7","v":{"v":3.25,"d":"3.3"}},{"$f":"IF('Futterkurve Sauen'!G$6>14,32+J$2,31+J$2+(14-'Futterkurve Sauen'!$G$6)*0.3)","v":37},{"$f":"H66/'Futterkurve Sauen'!$C$7","v":{"v":3.0833333333333335,"d":"3.1"}}]
[66,{"$f":"IF('Futterkurve Sauen'!G$6>14,29+J$1,29+(14-'Futterkurve Sauen'!$G$6)*0.3+J$1)","v":33},{"$f":"B67/'Futterkurve Sauen'!$E$7","v":{"v":2.75,"d":"2.8"}},{"$f":"IF('Futterkurve Sauen'!G$6>14,32+J$2,32+J$2+(14-'Futterkurve Sauen'!$G$6)*0.3)","v":38},{"$f":"D67/'Futterkurve Sauen'!$C$7","v":{"v":3.1666666666666665,"d":"3.2"}},{"$f":"IF('Futterkurve Sauen'!G$6>14,33+J$2,33+J$2+(14-'Futterkurve Sauen'!$G$6)*0.3)","v":39},{"$f":"F67/'Futterkurve Sauen'!$C$7","v":{"v":3.25,"d":"3.3"}},{"$f":"IF('Futterkurve Sauen'!G$6>14,32+J$2,31+J$2+(14-'Futterkurve Sauen'!$G$6)*0.3)","v":37},{"$f":"H67/'Futterkurve Sauen'!$C$7","v":{"v":3.0833333333333335,"d":"3.1"}}]
[67,{"$f":"IF('Futterkurve Sauen'!G$6>14,29+J$1,29+(14-'Futterkurve Sauen'!$G$6)*0.3+J$1)","v":33},{"$f":"B68/'Futterkurve Sauen'!$E$7","v":{"v":2.75,"d":"2.8"}},{"$f":"IF('Futterkurve Sauen'!G$6>14,32+J$2,32+J$2+(14-'Futterkurve Sauen'!$G$6)*0.3)","v":38},{"$f":"D68/'Futterkurve Sauen'!$C$7","v":{"v":3.1666666666666665,"d":"3.2"}},{"$f":"IF('Futterkurve Sauen'!G$6>14,33+J$2,33+J$2+(14-'Futterkurve Sauen'!$G$6)*0.3)","v":39},{"$f":"F68/'Futterkurve Sauen'!$C$7","v":{"v":3.25,"d":"3.3"}},{"$f":"IF('Futterkurve Sauen'!G$6>14,32+J$2,31+J$2+(14-'Futterkurve Sauen'!$G$6)*0.3)","v":37},{"$f":"H68/'Futterkurve Sauen'!$C$7","v":{"v":3.0833333333333335,"d":"3.1"}}]
[68,{"$f":"IF('Futterkurve Sauen'!G$6>14,29+J$1,29+(14-'Futterkurve Sauen'!$G$6)*0.3+J$1)","v":33},{"$f":"B69/'Futterkurve Sauen'!$E$7","v":{"v":2.75,"d":"2.8"}},{"$f":"IF('Futterkurve Sauen'!G$6>14,32+J$2,32+J$2+(14-'Futterkurve Sauen'!$G$6)*0.3)","v":38},{"$f":"D69/'Futterkurve Sauen'!$C$7","v":{"v":3.1666666666666665,"d":"3.2"}},{"$f":"IF('Futterkurve Sauen'!G$6>14,33+J$2,33+J$2+(14-'Futterkurve Sauen'!$G$6)*0.3)","v":39},{"$f":"F69/'Futterkurve Sauen'!$C$7","v":{"v":3.25,"d":"3.3"}},{"$f":"IF('Futterkurve Sauen'!G$6>14,32+J$2,31+J$2+(14-'Futterkurve Sauen'!$G$6)*0.3)","v":37},{"$f":"H69/'Futterkurve Sauen'!$C$7","v":{"v":3.0833333333333335,"d":"3.1"}}]
[69,{"$f":"IF('Futterkurve Sauen'!G$6>14,29+J$1,29+(14-'Futterkurve Sauen'!$G$6)*0.3+J$1)","v":33},{"$f":"B70/'Futterkurve Sauen'!$E$7","v":{"v":2.75,"d":"2.8"}},{"$f":"IF('Futterkurve Sauen'!G$6>14,32+J$2,32+J$2+(14-'Futterkurve Sauen'!$G$6)*0.3)","v":38},{"$f":"D70/'Futterkurve Sauen'!$C$7","v":{"v":3.1666666666666665,"d":"3.2"}},{"$f":"IF('Futterkurve Sauen'!G$6>14,33+J$2,33+J$2+(14-'Futterkurve Sauen'!$G$6)*0.3)","v":39},{"$f":"F70/'Futterkurve Sauen'!$C$7","v":{"v":3.25,"d":"3.3"}},{"$f":"IF('Futterkurve Sauen'!G$6>14,32+J$2,31+J$2+(14-'Futterkurve Sauen'!$G$6)*0.3)","v":37},{"$f":"H70/'Futterkurve Sauen'!$C$7","v":{"v":3.0833333333333335,"d":"3.1"}}]
[70,{"$f":"IF('Futterkurve Sauen'!G$6>14,29+J$1,29+(14-'Futterkurve Sauen'!$G$6)*0.3+J$1)","v":33},{"$f":"B71/'Futterkurve Sauen'!$E$7","v":{"v":2.75,"d":"2.8"}},{"$f":"IF('Futterkurve Sauen'!G$6>14,32+J$2,32+J$2+(14-'Futterkurve Sauen'!$G$6)*0.3)","v":38},{"$f":"D71/'Futterkurve Sauen'!$C$7","v":{"v":3.1666666666666665,"d":"3.2"}},{"$f":"IF('Futterkurve Sauen'!G$6>14,33+J$2,33+J$2+(14-'Futterkurve Sauen'!$G$6)*0.3)","v":39},{"$f":"F71/'Futterkurve Sauen'!$C$7","v":{"v":3.25,"d":"3.3"}},{"$f":"IF('Futterkurve Sauen'!G$6>14,32+J$2,31+J$2+(14-'Futterkurve Sauen'!$G$6)*0.3)","v":37},{"$f":"H71/'Futterkurve Sauen'!$C$7","v":{"v":3.0833333333333335,"d":"3.1"}}]
[71,{"$f":"IF('Futterkurve Sauen'!G$6>14,33,33+(14-'Futterkurve Sauen'!$G$6)*0.3+J$1)","v":37},{"$f":"B72/'Futterkurve Sauen'!$C$7","v":{"v":3.0833333333333335,"d":"3.1"}},{"$f":"IF('Futterkurve Sauen'!G$6>14,36+J$2,36+J$2+(14-'Futterkurve Sauen'!$G$6)*0.3)","v":42},{"$f":"D72/'Futterkurve Sauen'!$C$7","v":3.5},{"$f":"IF('Futterkurve Sauen'!G$6>14,37+J$2,37+J$2+(14-'Futterkurve Sauen'!$G$6)*0.3)","v":43},{"$f":"F72/'Futterkurve Sauen'!$C$7","v":{"v":3.5833333333333335,"d":"3.6"}},{"$f":"IF('Futterkurve Sauen'!G$6>14,34+J$2,34+J$2+(14-'Futterkurve Sauen'!$G$6)*0.3)","v":40},{"$f":"H72/'Futterkurve Sauen'!$C$7","v":{"v":3.3333333333333335,"d":"3.3"}}]
[72,{"$f":"IF('Futterkurve Sauen'!G$6>14,33,33+(14-'Futterkurve Sauen'!$G$6)*0.3+J$1)","v":37},{"$f":"B73/'Futterkurve Sauen'!$C$7","v":{"v":3.0833333333333335,"d":"3.1"}},{"$f":"IF('Futterkurve Sauen'!G$6>14,36+J$2,36+J$2+(14-'Futterkurve Sauen'!$G$6)*0.3)","v":42},{"$f":"D73/'Futterkurve Sauen'!$C$7","v":3.5},{"$f":"IF('Futterkurve Sauen'!G$6>14,37+J$2,37+J$2+(14-'Futterkurve Sauen'!$G$6)*0.3)","v":43},{"$f":"F73/'Futterkurve Sauen'!$C$7","v":{"v":3.5833333333333335,"d":"3.6"}},{"$f":"IF('Futterkurve Sauen'!G$6>14,34+J$2,34+J$2+(14-'Futterkurve Sauen'!$G$6)*0.3)","v":40},{"$f":"H73/'Futterkurve Sauen'!$C$7","v":{"v":3.3333333333333335,"d":"3.3"}}]
[73,{"$f":"IF('Futterkurve Sauen'!G$6>14,33,33+(14-'Futterkurve Sauen'!$G$6)*0.3+J$1)","v":37},{"$f":"B74/'Futterkurve Sauen'!$C$7","v":{"v":3.0833333333333335,"d":"3.1"}},{"$f":"IF('Futterkurve Sauen'!G$6>14,36+J$2,36+J$2+(14-'Futterkurve Sauen'!$G$6)*0.3)","v":42},{"$f":"D74/'Futterkurve Sauen'!$C$7","v":3.5},{"$f":"IF('Futterkurve Sauen'!G$6>14,37+J$2,37+J$2+(14-'Futterkurve Sauen'!$G$6)*0.3)","v":43},{"$f":"F74/'Futterkurve Sauen'!$C$7","v":{"v":3.5833333333333335,"d":"3.6"}},{"$f":"IF('Futterkurve Sauen'!G$6>14,34+J$2,34+J$2+(14-'Futterkurve Sauen'!$G$6)*0.3)","v":40},{"$f":"H74/'Futterkurve Sauen'!$C$7","v":{"v":3.3333333333333335,"d":"3.3"}}]
[74,{"$f":"IF('Futterkurve Sauen'!G$6>14,33,33+(14-'Futterkurve Sauen'!$G$6)*0.3+J$1)","v":37},{"$f":"B75/'Futterkurve Sauen'!$C$7","v":{"v":3.0833333333333335,"d":"3.1"}},{"$f":"IF('Futterkurve Sauen'!G$6>14,36+J$2,36+J$2+(14-'Futterkurve Sauen'!$G$6)*0.3)","v":42},{"$f":"D75/'Futterkurve Sauen'!$C$7","v":3.5},{"$f":"IF('Futterkurve Sauen'!G$6>14,37+J$2,37+J$2+(14-'Futterkurve Sauen'!$G$6)*0.3)","v":43},{"$f":"F75/'Futterkurve Sauen'!$C$7","v":{"v":3.5833333333333335,"d":"3.6"}},{"$f":"IF('Futterkurve Sauen'!G$6>14,34+J$2,34+J$2+(14-'Futterkurve Sauen'!$G$6)*0.3)","v":40},{"$f":"H75/'Futterkurve Sauen'!$C$7","v":{"v":3.3333333333333335,"d":"3.3"}}]
[75,{"$f":"IF('Futterkurve Sauen'!G$6>14,33,33+(14-'Futterkurve Sauen'!$G$6)*0.3+J$1)","v":37},{"$f":"B76/'Futterkurve Sauen'!$C$7","v":{"v":3.0833333333333335,"d":"3.1"}},{"$f":"IF('Futterkurve Sauen'!G$6>14,36+J$2,36+J$2+(14-'Futterkurve Sauen'!$G$6)*0.3)","v":42},{"$f":"D76/'Futterkurve Sauen'!$C$7","v":3.5},{"$f":"IF('Futterkurve Sauen'!G$6>14,37+J$2,37+J$2+(14-'Futterkurve Sauen'!$G$6)*0.3)","v":43},{"$f":"F76/'Futterkurve Sauen'!$C$7","v":{"v":3.5833333333333335,"d":"3.6"}},{"$f":"IF('Futterkurve Sauen'!G$6>14,34+J$2,34+J$2+(14-'Futterkurve Sauen'!$G$6)*0.3)","v":40},{"$f":"H76/'Futterkurve Sauen'!$C$7","v":{"v":3.3333333333333335,"d":"3.3"}}]
[76,{"$f":"IF('Futterkurve Sauen'!G$6>14,33,33+(14-'Futterkurve Sauen'!$G$6)*0.3+J$1)","v":37},{"$f":"B77/'Futterkurve Sauen'!$C$7","v":{"v":3.0833333333333335,"d":"3.1"}},{"$f":"IF('Futterkurve Sauen'!G$6>14,36+J$2,36+J$2+(14-'Futterkurve Sauen'!$G$6)*0.3)","v":42},{"$f":"D77/'Futterkurve Sauen'!$C$7","v":3.5},{"$f":"IF('Futterkurve Sauen'!G$6>14,37+J$2,37+J$2+(14-'Futterkurve Sauen'!$G$6)*0.3)","v":43},{"$f":"F77/'Futterkurve Sauen'!$C$7","v":{"v":3.5833333333333335,"d":"3.6"}},{"$f":"IF('Futterkurve Sauen'!G$6>14,34+J$2,34+J$2+(14-'Futterkurve Sauen'!$G$6)*0.3)","v":40},{"$f":"H77/'Futterkurve Sauen'!$C$7","v":{"v":3.3333333333333335,"d":"3.3"}}]
[77,{"$f":"IF('Futterkurve Sauen'!G$6>14,33,33+(14-'Futterkurve Sauen'!$G$6)*0.3+J$1)","v":37},{"$f":"B78/'Futterkurve Sauen'!$C$7","v":{"v":3.0833333333333335,"d":"3.1"}},{"$f":"IF('Futterkurve Sauen'!G$6>14,36+J$2,36+J$2+(14-'Futterkurve Sauen'!$G$6)*0.3)","v":42},{"$f":"D78/'Futterkurve Sauen'!$C$7","v":3.5},{"$f":"IF('Futterkurve Sauen'!G$6>14,37+J$2,37+J$2+(14-'Futterkurve Sauen'!$G$6)*0.3)","v":43},{"$f":"F78/'Futterkurve Sauen'!$C$7","v":{"v":3.5833333333333335,"d":"3.6"}},{"$f":"IF('Futterkurve Sauen'!G$6>14,34+J$2,34+J$2+(14-'Futterkurve Sauen'!$G$6)*0.3)","v":40},{"$f":"H78/'Futterkurve Sauen'!$C$7","v":{"v":3.3333333333333335,"d":"3.3"}}]
[78,{"$f":"IF('Futterkurve Sauen'!G$6>14,33,33+(14-'Futterkurve Sauen'!$G$6)*0.3+J$1)","v":37},{"$f":"B79/'Futterkurve Sauen'!$C$7","v":{"v":3.0833333333333335,"d":"3.1"}},{"$f":"IF('Futterkurve Sauen'!G$6>14,36+J$2,36+J$2+(14-'Futterkurve Sauen'!$G$6)*0.3)","v":42},{"$f":"D79/'Futterkurve Sauen'!$C$7","v":3.5},{"$f":"IF('Futterkurve Sauen'!G$6>14,37+J$2,37+J$2+(14-'Futterkurve Sauen'!$G$6)*0.3)","v":43},{"$f":"F79/'Futterkurve Sauen'!$C$7","v":{"v":3.5833333333333335,"d":"3.6"}},{"$f":"IF('Futterkurve Sauen'!G$6>14,34+J$2,34+J$2+(14-'Futterkurve Sauen'!$G$6)*0.3)","v":40},{"$f":"H79/'Futterkurve Sauen'!$C$7","v":{"v":3.3333333333333335,"d":"3.3"}}]
[79,{"$f":"IF('Futterkurve Sauen'!G$6>14,33,33+(14-'Futterkurve Sauen'!$G$6)*0.3+J$1)","v":37},{"$f":"B80/'Futterkurve Sauen'!$C$7","v":{"v":3.0833333333333335,"d":"3.1"}},{"$f":"IF('Futterkurve Sauen'!G$6>14,36+J$2,36+J$2+(14-'Futterkurve Sauen'!$G$6)*0.3)","v":42},{"$f":"D80/'Futterkurve Sauen'!$C$7","v":3.5},{"$f":"IF('Futterkurve Sauen'!G$6>14,37+J$2,37+J$2+(14-'Futterkurve Sauen'!$G$6)*0.3)","v":43},{"$f":"F80/'Futterkurve Sauen'!$C$7","v":{"v":3.5833333333333335,"d":"3.6"}},{"$f":"IF('Futterkurve Sauen'!G$6>14,34+J$2,34+J$2+(14-'Futterkurve Sauen'!$G$6)*0.3)","v":40},{"$f":"H80/'Futterkurve Sauen'!$C$7","v":{"v":3.3333333333333335,"d":"3.3"}}]
[80,{"$f":"IF('Futterkurve Sauen'!G$6>14,33,33+(14-'Futterkurve Sauen'!$G$6)*0.3+J$1)","v":37},{"$f":"B81/'Futterkurve Sauen'!$C$7","v":{"v":3.0833333333333335,"d":"3.1"}},{"$f":"IF('Futterkurve Sauen'!G$6>14,36+J$2,36+J$2+(14-'Futterkurve Sauen'!$G$6)*0.3)","v":42},{"$f":"D81/'Futterkurve Sauen'!$C$7","v":3.5},{"$f":"IF('Futterkurve Sauen'!G$6>14,37+J$2,37+J$2+(14-'Futterkurve Sauen'!$G$6)*0.3)","v":43},{"$f":"F81/'Futterkurve Sauen'!$C$7","v":{"v":3.5833333333333335,"d":"3.6"}},{"$f":"IF('Futterkurve Sauen'!G$6>14,34+J$2,34+J$2+(14-'Futterkurve Sauen'!$G$6)*0.3)","v":40},{"$f":"H81/'Futterkurve Sauen'!$C$7","v":{"v":3.3333333333333335,"d":"3.3"}}]
[81,{"$f":"IF('Futterkurve Sauen'!G$6>14,33,33+(14-'Futterkurve Sauen'!$G$6)*0.3+J$1)","v":37},{"$f":"B82/'Futterkurve Sauen'!$C$7","v":{"v":3.0833333333333335,"d":"3.1"}},{"$f":"IF('Futterkurve Sauen'!G$6>14,36+J$2,36+J$2+(14-'Futterkurve Sauen'!$G$6)*0.3)","v":42},{"$f":"D82/'Futterkurve Sauen'!$C$7","v":3.5},{"$f":"IF('Futterkurve Sauen'!G$6>14,37+J$2,37+J$2+(14-'Futterkurve Sauen'!$G$6)*0.3)","v":43},{"$f":"F82/'Futterkurve Sauen'!$C$7","v":{"v":3.5833333333333335,"d":"3.6"}},{"$f":"IF('Futterkurve Sauen'!G$6>14,34+J$2,34+J$2+(14-'Futterkurve Sauen'!$G$6)*0.3)","v":40},{"$f":"H82/'Futterkurve Sauen'!$C$7","v":{"v":3.3333333333333335,"d":"3.3"}}]
[82,{"$f":"IF('Futterkurve Sauen'!G$6>14,33,33+(14-'Futterkurve Sauen'!$G$6)*0.3+J$1)","v":37},{"$f":"B83/'Futterkurve Sauen'!$C$7","v":{"v":3.0833333333333335,"d":"3.1"}},{"$f":"IF('Futterkurve Sauen'!G$6>14,36+J$2,36+J$2+(14-'Futterkurve Sauen'!$G$6)*0.3)","v":42},{"$f":"D83/'Futterkurve Sauen'!$C$7","v":3.5},{"$f":"IF('Futterkurve Sauen'!G$6>14,37+J$2,37+J$2+(14-'Futterkurve Sauen'!$G$6)*0.3)","v":43},{"$f":"F83/'Futterkurve Sauen'!$C$7","v":{"v":3.5833333333333335,"d":"3.6"}},{"$f":"IF('Futterkurve Sauen'!G$6>14,34+J$2,34+J$2+(14-'Futterkurve Sauen'!$G$6)*0.3)","v":40},{"$f":"H83/'Futterkurve Sauen'!$C$7","v":{"v":3.3333333333333335,"d":"3.3"}}]
[83,{"$f":"IF('Futterkurve Sauen'!G$6>14,33,33+(14-'Futterkurve Sauen'!$G$6)*0.3+J$1)","v":37},{"$f":"B84/'Futterkurve Sauen'!$C$7","v":{"v":3.0833333333333335,"d":"3.1"}},{"$f":"IF('Futterkurve Sauen'!G$6>14,36+J$2,36+J$2+(14-'Futterkurve Sauen'!$G$6)*0.3)","v":42},{"$f":"D84/'Futterkurve Sauen'!$C$7","v":3.5},{"$f":"IF('Futterkurve Sauen'!G$6>14,37+J$2,37+J$2+(14-'Futterkurve Sauen'!$G$6)*0.3)","v":43},{"$f":"F84/'Futterkurve Sauen'!$C$7","v":{"v":3.5833333333333335,"d":"3.6"}},{"$f":"IF('Futterkurve Sauen'!G$6>14,34+J$2,34+J$2+(14-'Futterkurve Sauen'!$G$6)*0.3)","v":40},{"$f":"H84/'Futterkurve Sauen'!$C$7","v":{"v":3.3333333333333335,"d":"3.3"}}]
[84,{"$f":"IF('Futterkurve Sauen'!G$6>14,33,33+(14-'Futterkurve Sauen'!$G$6)*0.3+J$1)","v":37},{"$f":"B85/'Futterkurve Sauen'!$C$7","v":{"v":3.0833333333333335,"d":"3.1"}},{"$f":"IF('Futterkurve Sauen'!G$6>14,36+J$2,36+J$2+(14-'Futterkurve Sauen'!$G$6)*0.3)","v":42},{"$f":"D85/'Futterkurve Sauen'!$C$7","v":3.5},{"$f":"IF('Futterkurve Sauen'!G$6>14,37+J$2,37+J$2+(14-'Futterkurve Sauen'!$G$6)*0.3)","v":43},{"$f":"F85/'Futterkurve Sauen'!$C$7","v":{"v":3.5833333333333335,"d":"3.6"}},{"$f":"IF('Futterkurve Sauen'!G$6>14,34+J$2,34+J$2+(14-'Futterkurve Sauen'!$G$6)*0.3)","v":40},{"$f":"H85/'Futterkurve Sauen'!$C$7","v":{"v":3.3333333333333335,"d":"3.3"}}]
[85,{"$f":"IF('Futterkurve Sauen'!G$6>14,33,33+(14-'Futterkurve Sauen'!$G$6)*0.3+J$1)","v":37},{"$f":"B86/'Futterkurve Sauen'!$C$7","v":{"v":3.0833333333333335,"d":"3.1"}},{"$f":"IF('Futterkurve Sauen'!G$6>14,36+J$2,36+J$2+(14-'Futterkurve Sauen'!$G$6)*0.3)","v":42},{"$f":"D86/'Futterkurve Sauen'!$C$7","v":3.5},{"$f":"IF('Futterkurve Sauen'!G$6>14,37+J$2,37+J$2+(14-'Futterkurve Sauen'!$G$6)*0.3)","v":43},{"$f":"F86/'Futterkurve Sauen'!$C$7","v":{"v":3.5833333333333335,"d":"3.6"}},{"$f":"IF('Futterkurve Sauen'!G$6>14,34+J$2,34+J$2+(14-'Futterkurve Sauen'!$G$6)*0.3)","v":40},{"$f":"H86/'Futterkurve Sauen'!$C$7","v":{"v":3.3333333333333335,"d":"3.3"}}]
[86,{"$f":"IF($B$86>$B$109,$B$86,IF('Futterkurve Sauen'!G$6>14,39,39+(14-'Futterkurve Sauen'!$G$6)*0.3))","v":39},{"$f":"B87/'Futterkurve Sauen'!$E$7","v":{"v":3.25,"d":"3.3"}},{"$f":"IF($D$86>$D$109,$D$86,IF('Futterkurve Sauen'!G$6>14,42,42+(14-'Futterkurve Sauen'!$G$6)*0.3))","v":42},{"$f":"D87/'Futterkurve Sauen'!$E$7","v":3.5},{"$f":"IF($F$86>$F$109,$F$86,IF('Futterkurve Sauen'!G$6>14,43,43+(14-'Futterkurve Sauen'!$G$6)*0.3))","v":43},{"$f":"F87/'Futterkurve Sauen'!$E$7","v":{"v":3.5833333333333335,"d":"3.6"}},{"$f":"IF($H$86>$H$109,$H$86,IF('Futterkurve Sauen'!G$6>14,39,39+(14-'Futterkurve Sauen'!$G$6)*0.3))","v":40},{"$f":"H87/'Futterkurve Sauen'!$E$7","v":{"v":3.3333333333333335,"d":"3.3"}}]
[87,{"$f":"IF($B$86>$B$109,$B$86,IF('Futterkurve Sauen'!G$6>14,39,39+(14-'Futterkurve Sauen'!$G$6)*0.3))","v":39},{"$f":"B88/'Futterkurve Sauen'!$E$7","v":{"v":3.25,"d":"3.3"}},{"$f":"IF($D$86>$D$109,$D$86,IF('Futterkurve Sauen'!G$6>14,42,42+(14-'Futterkurve Sauen'!$G$6)*0.3))","v":42},{"$f":"D88/'Futterkurve Sauen'!$E$7","v":3.5},{"$f":"IF($F$86>$F$109,$F$86,IF('Futterkurve Sauen'!G$6>14,43,43+(14-'Futterkurve Sauen'!$G$6)*0.3))","v":43},{"$f":"F88/'Futterkurve Sauen'!$E$7","v":{"v":3.5833333333333335,"d":"3.6"}},{"$f":"IF($H$86>$H$109,$H$86,IF('Futterkurve Sauen'!G$6>14,39,39+(14-'Futterkurve Sauen'!$G$6)*0.3))","v":40},{"$f":"H88/'Futterkurve Sauen'!$E$7","v":{"v":3.3333333333333335,"d":"3.3"}}]
[88,{"$f":"IF($B$86>$B$109,$B$86,IF('Futterkurve Sauen'!G$6>14,39,39+(14-'Futterkurve Sauen'!$G$6)*0.3))","v":39},{"$f":"B89/'Futterkurve Sauen'!$E$7","v":{"v":3.25,"d":"3.3"}},{"$f":"IF($D$86>$D$109,$D$86,IF('Futterkurve Sauen'!G$6>14,42,42+(14-'Futterkurve Sauen'!$G$6)*0.3))","v":42},{"$f":"D89/'Futterkurve Sauen'!$E$7","v":3.5},{"$f":"IF($F$86>$F$109,$F$86,IF('Futterkurve Sauen'!G$6>14,43,43+(14-'Futterkurve Sauen'!$G$6)*0.3))","v":43},{"$f":"F89/'Futterkurve Sauen'!$E$7","v":{"v":3.5833333333333335,"d":"3.6"}},{"$f":"IF($H$86>$H$109,$H$86,IF('Futterkurve Sauen'!G$6>14,39,39+(14-'Futterkurve Sauen'!$G$6)*0.3))","v":40},{"$f":"H89/'Futterkurve Sauen'!$E$7","v":{"v":3.3333333333333335,"d":"3.3"}}]
[89,{"$f":"IF($B$86>$B$109,$B$86,IF('Futterkurve Sauen'!G$6>14,39,39+(14-'Futterkurve Sauen'!$G$6)*0.3))","v":39},{"$f":"B90/'Futterkurve Sauen'!$E$7","v":{"v":3.25,"d":"3.3"}},{"$f":"IF($D$86>$D$109,$D$86,IF('Futterkurve Sauen'!G$6>14,42,42+(14-'Futterkurve Sauen'!$G$6)*0.3))","v":42},{"$f":"D90/'Futterkurve Sauen'!$E$7","v":3.5},{"$f":"IF($F$86>$F$109,$F$86,IF('Futterkurve Sauen'!G$6>14,43,43+(14-'Futterkurve Sauen'!$G$6)*0.3))","v":43},{"$f":"F90/'Futterkurve Sauen'!$E$7","v":{"v":3.5833333333333335,"d":"3.6"}},{"$f":"IF($H$86>$H$109,$H$86,IF('Futterkurve Sauen'!G$6>14,39,39+(14-'Futterkurve Sauen'!$G$6)*0.3))","v":40},{"$f":"H90/'Futterkurve Sauen'!$E$7","v":{"v":3.3333333333333335,"d":"3.3"}}]
[90,{"$f":"IF($B$86>$B$109,$B$86,IF('Futterkurve Sauen'!G$6>14,39,39+(14-'Futterkurve Sauen'!$G$6)*0.3))","v":39},{"$f":"B91/'Futterkurve Sauen'!$E$7","v":{"v":3.25,"d":"3.3"}},{"$f":"IF($D$86>$D$109,$D$86,IF('Futterkurve Sauen'!G$6>14,42,42+(14-'Futterkurve Sauen'!$G$6)*0.3))","v":42},{"$f":"D91/'Futterkurve Sauen'!$E$7","v":3.5},{"$f":"IF($F$86>$F$109,$F$86,IF('Futterkurve Sauen'!G$6>14,43,43+(14-'Futterkurve Sauen'!$G$6)*0.3))","v":43},{"$f":"F91/'Futterkurve Sauen'!$E$7","v":{"v":3.5833333333333335,"d":"3.6"}},{"$f":"IF($H$86>$H$109,$H$86,IF('Futterkurve Sauen'!G$6>14,39,39+(14-'Futterkurve Sauen'!$G$6)*0.3))","v":40},{"$f":"H91/'Futterkurve Sauen'!$E$7","v":{"v":3.3333333333333335,"d":"3.3"}}]
[91,{"$f":"IF($B$86>$B$109,$B$86,IF('Futterkurve Sauen'!G$6>14,39,39+(14-'Futterkurve Sauen'!$G$6)*0.3))","v":39},{"$f":"B92/'Futterkurve Sauen'!$E$7","v":{"v":3.25,"d":"3.3"}},{"$f":"IF($D$86>$D$109,$D$86,IF('Futterkurve Sauen'!G$6>14,42,42+(14-'Futterkurve Sauen'!$G$6)*0.3))","v":42},{"$f":"D92/'Futterkurve Sauen'!$E$7","v":3.5},{"$f":"IF($F$86>$F$109,$F$86,IF('Futterkurve Sauen'!G$6>14,43,43+(14-'Futterkurve Sauen'!$G$6)*0.3))","v":43},{"$f":"F92/'Futterkurve Sauen'!$E$7","v":{"v":3.5833333333333335,"d":"3.6"}},{"$f":"IF($H$86>$H$109,$H$86,IF('Futterkurve Sauen'!G$6>14,39,39+(14-'Futterkurve Sauen'!$G$6)*0.3))","v":40},{"$f":"H92/'Futterkurve Sauen'!$E$7","v":{"v":3.3333333333333335,"d":"3.3"}}]
[92,{"$f":"IF($B$86>$B$109,$B$86,IF('Futterkurve Sauen'!G$6>14,39,39+(14-'Futterkurve Sauen'!$G$6)*0.3))","v":39},{"$f":"B93/'Futterkurve Sauen'!$E$7","v":{"v":3.25,"d":"3.3"}},{"$f":"IF($D$86>$D$109,$D$86,IF('Futterkurve Sauen'!G$6>14,42,42+(14-'Futterkurve Sauen'!$G$6)*0.3))","v":42},{"$f":"D93/'Futterkurve Sauen'!$E$7","v":3.5},{"$f":"IF($F$86>$F$109,$F$86,IF('Futterkurve Sauen'!G$6>14,43,43+(14-'Futterkurve Sauen'!$G$6)*0.3))","v":43},{"$f":"F93/'Futterkurve Sauen'!$E$7","v":{"v":3.5833333333333335,"d":"3.6"}},{"$f":"IF($H$86>$H$109,$H$86,IF('Futterkurve Sauen'!G$6>14,39,39+(14-'Futterkurve Sauen'!$G$6)*0.3))","v":40},{"$f":"H93/'Futterkurve Sauen'!$E$7","v":{"v":3.3333333333333335,"d":"3.3"}}]
[93,{"$f":"IF($B$86>$B$109,$B$86,IF('Futterkurve Sauen'!G$6>14,39,39+(14-'Futterkurve Sauen'!$G$6)*0.3))","v":39},{"$f":"B94/'Futterkurve Sauen'!$E$7","v":{"v":3.25,"d":"3.3"}},{"$f":"IF($D$86>$D$109,$D$86,IF('Futterkurve Sauen'!G$6>14,42,42+(14-'Futterkurve Sauen'!$G$6)*0.3))","v":42},{"$f":"D94/'Futterkurve Sauen'!$E$7","v":3.5},{"$f":"IF($F$86>$F$109,$F$86,IF('Futterkurve Sauen'!G$6>14,43,43+(14-'Futterkurve Sauen'!$G$6)*0.3))","v":43},{"$f":"F94/'Futterkurve Sauen'!$E$7","v":{"v":3.5833333333333335,"d":"3.6"}},{"$f":"IF($H$86>$H$109,$H$86,IF('Futterkurve Sauen'!G$6>14,39,39+(14-'Futterkurve Sauen'!$G$6)*0.3))","v":40},{"$f":"H94/'Futterkurve Sauen'!$E$7","v":{"v":3.3333333333333335,"d":"3.3"}}]
[94,{"$f":"IF($B$86>$B$109,$B$86,IF('Futterkurve Sauen'!G$6>14,39,39+(14-'Futterkurve Sauen'!$G$6)*0.3))","v":39},{"$f":"B95/'Futterkurve Sauen'!$E$7","v":{"v":3.25,"d":"3.3"}},{"$f":"IF($D$86>$D$109,$D$86,IF('Futterkurve Sauen'!G$6>14,42,42+(14-'Futterkurve Sauen'!$G$6)*0.3))","v":42},{"$f":"D95/'Futterkurve Sauen'!$E$7","v":3.5},{"$f":"IF($F$86>$F$109,$F$86,IF('Futterkurve Sauen'!G$6>14,43,43+(14-'Futterkurve Sauen'!$G$6)*0.3))","v":43},{"$f":"F95/'Futterkurve Sauen'!$E$7","v":{"v":3.5833333333333335,"d":"3.6"}},{"$f":"IF($H$86>$H$109,$H$86,IF('Futterkurve Sauen'!G$6>14,39,39+(14-'Futterkurve Sauen'!$G$6)*0.3))","v":40},{"$f":"H95/'Futterkurve Sauen'!$E$7","v":{"v":3.3333333333333335,"d":"3.3"}}]
[95,{"$f":"IF($B$86>$B$109,$B$86,IF('Futterkurve Sauen'!G$6>14,39,39+(14-'Futterkurve Sauen'!$G$6)*0.3))","v":39},{"$f":"B96/'Futterkurve Sauen'!$E$7","v":{"v":3.25,"d":"3.3"}},{"$f":"IF($D$86>$D$109,$D$86,IF('Futterkurve Sauen'!G$6>14,42,42+(14-'Futterkurve Sauen'!$G$6)*0.3))","v":42},{"$f":"D96/'Futterkurve Sauen'!$E$7","v":3.5},{"$f":"IF($F$86>$F$109,$F$86,IF('Futterkurve Sauen'!G$6>14,43,43+(14-'Futterkurve Sauen'!$G$6)*0.3))","v":43},{"$f":"F96/'Futterkurve Sauen'!$E$7","v":{"v":3.5833333333333335,"d":"3.6"}},{"$f":"IF($H$86>$H$109,$H$86,IF('Futterkurve Sauen'!G$6>14,39,39+(14-'Futterkurve Sauen'!$G$6)*0.3))","v":40},{"$f":"H96/'Futterkurve Sauen'!$E$7","v":{"v":3.3333333333333335,"d":"3.3"}}]
[96,{"$f":"IF($B$86>$B$109,$B$86,IF('Futterkurve Sauen'!G$6>14,39,39+(14-'Futterkurve Sauen'!$G$6)*0.3))","v":39},{"$f":"B97/'Futterkurve Sauen'!$E$7","v":{"v":3.25,"d":"3.3"}},{"$f":"IF($D$86>$D$109,$D$86,IF('Futterkurve Sauen'!G$6>14,42,42+(14-'Futterkurve Sauen'!$G$6)*0.3))","v":42},{"$f":"D97/'Futterkurve Sauen'!$E$7","v":3.5},{"$f":"IF($F$86>$F$109,$F$86,IF('Futterkurve Sauen'!G$6>14,43,43+(14-'Futterkurve Sauen'!$G$6)*0.3))","v":43},{"$f":"F97/'Futterkurve Sauen'!$E$7","v":{"v":3.5833333333333335,"d":"3.6"}},{"$f":"IF($H$86>$H$109,$H$86,IF('Futterkurve Sauen'!G$6>14,39,39+(14-'Futterkurve Sauen'!$G$6)*0.3))","v":40},{"$f":"H97/'Futterkurve Sauen'!$E$7","v":{"v":3.3333333333333335,"d":"3.3"}}]
[97,{"$f":"IF($B$86>$B$109,$B$86,IF('Futterkurve Sauen'!G$6>14,39,39+(14-'Futterkurve Sauen'!$G$6)*0.3))","v":39},{"$f":"B98/'Futterkurve Sauen'!$E$7","v":{"v":3.25,"d":"3.3"}},{"$f":"IF($D$86>$D$109,$D$86,IF('Futterkurve Sauen'!G$6>14,42,42+(14-'Futterkurve Sauen'!$G$6)*0.3))","v":42},{"$f":"D98/'Futterkurve Sauen'!$E$7","v":3.5},{"$f":"IF($F$86>$F$109,$F$86,IF('Futterkurve Sauen'!G$6>14,43,43+(14-'Futterkurve Sauen'!$G$6)*0.3))","v":43},{"$f":"F98/'Futterkurve Sauen'!$E$7","v":{"v":3.5833333333333335,"d":"3.6"}},{"$f":"IF($H$86>$H$109,$H$86,IF('Futterkurve Sauen'!G$6>14,39,39+(14-'Futterkurve Sauen'!$G$6)*0.3))","v":40},{"$f":"H98/'Futterkurve Sauen'!$E$7","v":{"v":3.3333333333333335,"d":"3.3"}}]
[98,{"$f":"IF($B$86>$B$109,$B$86,IF('Futterkurve Sauen'!G$6>14,39,39+(14-'Futterkurve Sauen'!$G$6)*0.3))","v":39},{"$f":"B99/'Futterkurve Sauen'!$E$7","v":{"v":3.25,"d":"3.3"}},{"$f":"IF($D$86>$D$109,$D$86,IF('Futterkurve Sauen'!G$6>14,42,42+(14-'Futterkurve Sauen'!$G$6)*0.3))","v":42},{"$f":"D99/'Futterkurve Sauen'!$E$7","v":3.5},{"$f":"IF($F$86>$F$109,$F$86,IF('Futterkurve Sauen'!G$6>14,43,43+(14-'Futterkurve Sauen'!$G$6)*0.3))","v":43},{"$f":"F99/'Futterkurve Sauen'!$E$7","v":{"v":3.5833333333333335,"d":"3.6"}},{"$f":"IF($H$86>$H$109,$H$86,IF('Futterkurve Sauen'!G$6>14,39,39+(14-'Futterkurve Sauen'!$G$6)*0.3))","v":40},{"$f":"H99/'Futterkurve Sauen'!$E$7","v":{"v":3.3333333333333335,"d":"3.3"}}]
[99,{"$f":"IF($B$86>$B$109,$B$86,IF('Futterkurve Sauen'!G$6>14,39,39+(14-'Futterkurve Sauen'!$G$6)*0.3))","v":39},{"$f":"B100/'Futterkurve Sauen'!$E$7","v":{"v":3.25,"d":"3.3"}},{"$f":"IF($D$86>$D$109,$D$86,IF('Futterkurve Sauen'!G$6>14,42,42+(14-'Futterkurve Sauen'!$G$6)*0.3))","v":42},{"$f":"D100/'Futterkurve Sauen'!$E$7","v":3.5},{"$f":"IF($F$86>$F$109,$F$86,IF('Futterkurve Sauen'!G$6>14,43,43+(14-'Futterkurve Sauen'!$G$6)*0.3))","v":43},{"$f":"F100/'Futterkurve Sauen'!$E$7","v":{"v":3.5833333333333335,"d":"3.6"}},{"$f":"IF($H$86>$H$109,$H$86,IF('Futterkurve Sauen'!G$6>14,39,39+(14-'Futterkurve Sauen'!$G$6)*0.3))","v":40},{"$f":"H100/'Futterkurve Sauen'!$E$7","v":{"v":3.3333333333333335,"d":"3.3"}}]
[100,{"$f":"IF($B$86>$B$109,$B$86,IF('Futterkurve Sauen'!G$6>14,39,39+(14-'Futterkurve Sauen'!$G$6)*0.3))","v":39},{"$f":"B101/'Futterkurve Sauen'!$E$7","v":{"v":3.25,"d":"3.3"}},{"$f":"IF($D$86>$D$109,$D$86,IF('Futterkurve Sauen'!G$6>14,42,42+(14-'Futterkurve Sauen'!$G$6)*0.3))","v":42},{"$f":"D101/'Futterkurve Sauen'!$E$7","v":3.5},{"$f":"IF($F$86>$F$109,$F$86,IF('Futterkurve Sauen'!G$6>14,43,43+(14-'Futterkurve Sauen'!$G$6)*0.3))","v":43},{"$f":"F101/'Futterkurve Sauen'!$E$7","v":{"v":3.5833333333333335,"d":"3.6"}},{"$f":"IF($H$86>$H$109,$H$86,IF('Futterkurve Sauen'!G$6>14,39,39+(14-'Futterkurve Sauen'!$G$6)*0.3))","v":40},{"$f":"H101/'Futterkurve Sauen'!$E$7","v":{"v":3.3333333333333335,"d":"3.3"}}]
[101,{"$f":"IF($B$86>$B$109,$B$86,IF('Futterkurve Sauen'!G$6>14,39,39+(14-'Futterkurve Sauen'!$G$6)*0.3))","v":39},{"$f":"B102/'Futterkurve Sauen'!$E$7","v":{"v":3.25,"d":"3.3"}},{"$f":"IF($D$86>$D$109,$D$86,IF('Futterkurve Sauen'!G$6>14,42,42+(14-'Futterkurve Sauen'!$G$6)*0.3))","v":42},{"$f":"D102/'Futterkurve Sauen'!$E$7","v":3.5},{"$f":"IF($F$86>$F$109,$F$86,IF('Futterkurve Sauen'!G$6>14,43,43+(14-'Futterkurve Sauen'!$G$6)*0.3))","v":43},{"$f":"F102/'Futterkurve Sauen'!$E$7","v":{"v":3.5833333333333335,"d":"3.6"}},{"$f":"IF($H$86>$H$109,$H$86,IF('Futterkurve Sauen'!G$6>14,39,39+(14-'Futterkurve Sauen'!$G$6)*0.3))","v":40},{"$f":"H102/'Futterkurve Sauen'!$E$7","v":{"v":3.3333333333333335,"d":"3.3"}}]
[102,{"$f":"IF($B$86>$B$109,$B$86,IF('Futterkurve Sauen'!G$6>14,39,39+(14-'Futterkurve Sauen'!$G$6)*0.3))","v":39},{"$f":"B103/'Futterkurve Sauen'!$E$7","v":{"v":3.25,"d":"3.3"}},{"$f":"IF($D$86>$D$109,$D$86,IF('Futterkurve Sauen'!G$6>14,42,42+(14-'Futterkurve Sauen'!$G$6)*0.3))","v":42},{"$f":"D103/'Futterkurve Sauen'!$E$7","v":3.5},{"$f":"IF($F$86>$F$109,$F$86,IF('Futterkurve Sauen'!G$6>14,43,43+(14-'Futterkurve Sauen'!$G$6)*0.3))","v":43},{"$f":"F103/'Futterkurve Sauen'!$E$7","v":{"v":3.5833333333333335,"d":"3.6"}},{"$f":"IF($H$86>$H$109,$H$86,IF('Futterkurve Sauen'!G$6>14,39,39+(14-'Futterkurve Sauen'!$G$6)*0.3))","v":40},{"$f":"H103/'Futterkurve Sauen'!$E$7","v":{"v":3.3333333333333335,"d":"3.3"}}]
[103,{"$f":"IF($B$86>$B$109,$B$86,IF('Futterkurve Sauen'!G$6>14,39,39+(14-'Futterkurve Sauen'!$G$6)*0.3))","v":39},{"$f":"B104/'Futterkurve Sauen'!$E$7","v":{"v":3.25,"d":"3.3"}},{"$f":"IF($D$86>$D$109,$D$86,IF('Futterkurve Sauen'!G$6>14,42,42+(14-'Futterkurve Sauen'!$G$6)*0.3))","v":42},{"$f":"D104/'Futterkurve Sauen'!$E$7","v":3.5},{"$f":"IF($F$86>$F$109,$F$86,IF('Futterkurve Sauen'!G$6>14,43,43+(14-'Futterkurve Sauen'!$G$6)*0.3))","v":43},{"$f":"F104/'Futterkurve Sauen'!$E$7","v":{"v":3.5833333333333335,"d":"3.6"}},{"$f":"IF($H$86>$H$109,$H$86,IF('Futterkurve Sauen'!G$6>14,39,39+(14-'Futterkurve Sauen'!$G$6)*0.3))","v":40},{"$f":"H104/'Futterkurve Sauen'!$E$7","v":{"v":3.3333333333333335,"d":"3.3"}}]
[104,{"$f":"IF($B$86>$B$109,$B$86,IF('Futterkurve Sauen'!G$6>14,39,39+(14-'Futterkurve Sauen'!$G$6)*0.3))","v":39},{"$f":"B105/'Futterkurve Sauen'!$E$7","v":{"v":3.25,"d":"3.3"}},{"$f":"IF($D$86>$D$109,$D$86,IF('Futterkurve Sauen'!G$6>14,42,42+(14-'Futterkurve Sauen'!$G$6)*0.3))","v":42},{"$f":"D105/'Futterkurve Sauen'!$E$7","v":3.5},{"$f":"IF($F$86>$F$109,$F$86,IF('Futterkurve Sauen'!G$6>14,43,43+(14-'Futterkurve Sauen'!$G$6)*0.3))","v":43},{"$f":"F105/'Futterkurve Sauen'!$E$7","v":{"v":3.5833333333333335,"d":"3.6"}},{"$f":"IF($H$86>$H$109,$H$86,IF('Futterkurve Sauen'!G$6>14,39,39+(14-'Futterkurve Sauen'!$G$6)*0.3))","v":40},{"$f":"H105/'Futterkurve Sauen'!$E$7","v":{"v":3.3333333333333335,"d":"3.3"}}]
[105,{"$f":"IF($B$86>$B$109,$B$86,IF('Futterkurve Sauen'!G$6>14,39,39+(14-'Futterkurve Sauen'!$G$6)*0.3))","v":39},{"$f":"B106/'Futterkurve Sauen'!$E$7","v":{"v":3.25,"d":"3.3"}},{"$f":"IF($D$86>$D$109,$D$86,IF('Futterkurve Sauen'!G$6>14,42,42+(14-'Futterkurve Sauen'!$G$6)*0.3))","v":42},{"$f":"D106/'Futterkurve Sauen'!$E$7","v":3.5},{"$f":"IF($F$86>$F$109,$F$86,IF('Futterkurve Sauen'!G$6>14,43,43+(14-'Futterkurve Sauen'!$G$6)*0.3))","v":43},{"$f":"F106/'Futterkurve Sauen'!$E$7","v":{"v":3.5833333333333335,"d":"3.6"}},{"$f":"IF($H$86>$H$109,$H$86,IF('Futterkurve Sauen'!G$6>14,39,39+(14-'Futterkurve Sauen'!$G$6)*0.3))","v":40},{"$f":"H106/'Futterkurve Sauen'!$E$7","v":{"v":3.3333333333333335,"d":"3.3"}}]
[106,{"$f":"IF($B$86>$B$109,$B$86,IF('Futterkurve Sauen'!G$6>14,39,39+(14-'Futterkurve Sauen'!$G$6)*0.3))","v":39},{"$f":"B107/'Futterkurve Sauen'!$E$7","v":{"v":3.25,"d":"3.3"}},{"$f":"IF($D$86>$D$109,$D$86,IF('Futterkurve Sauen'!G$6>14,42,42+(14-'Futterkurve Sauen'!$G$6)*0.3))","v":42},{"$f":"D107/'Futterkurve Sauen'!$E$7","v":3.5},{"$f":"IF($F$86>$F$109,$F$86,IF('Futterkurve Sauen'!G$6>14,43,43+(14-'Futterkurve Sauen'!$G$6)*0.3))","v":43},{"$f":"F107/'Futterkurve Sauen'!$E$7","v":{"v":3.5833333333333335,"d":"3.6"}},{"$f":"IF($H$86>$H$109,$H$86,IF('Futterkurve Sauen'!G$6>14,39,39+(14-'Futterkurve Sauen'!$G$6)*0.3))","v":40},{"$f":"H107/'Futterkurve Sauen'!$E$7","v":{"v":3.3333333333333335,"d":"3.3"}}]
[107,{"$f":"IF($B$86>$B$109,$B$86,IF('Futterkurve Sauen'!G$6>14,39,39+(14-'Futterkurve Sauen'!$G$6)*0.3))","v":39},{"$f":"B108/'Futterkurve Sauen'!$E$7","v":{"v":3.25,"d":"3.3"}},{"$f":"IF($D$86>$D$109,$D$86,IF('Futterkurve Sauen'!G$6>14,42,42+(14-'Futterkurve Sauen'!$G$6)*0.3))","v":42},{"$f":"D108/'Futterkurve Sauen'!$E$7","v":3.5},{"$f":"IF($F$86>$F$109,$F$86,IF('Futterkurve Sauen'!G$6>14,43,43+(14-'Futterkurve Sauen'!$G$6)*0.3))","v":43},{"$f":"F108/'Futterkurve Sauen'!$E$7","v":{"v":3.5833333333333335,"d":"3.6"}},{"$f":"IF($H$86>$H$109,$H$86,IF('Futterkurve Sauen'!G$6>14,39,39+(14-'Futterkurve Sauen'!$G$6)*0.3))","v":40},{"$f":"H108/'Futterkurve Sauen'!$E$7","v":{"v":3.3333333333333335,"d":"3.3"}}]
[108,{"$f":"IF('Futterkurve Sauen'!$C$6>19,39,39+(19-'Futterkurve Sauen'!$C$6)*0.6)","v":39},{"$f":"B109/'Futterkurve Sauen'!$E$7","v":{"v":3.25,"d":"3.3"}},{"$f":"IF('Futterkurve Sauen'!$C$6>19,42,42+(19-'Futterkurve Sauen'!$C$6)*0.6)","v":42},{"$f":"D109/'Futterkurve Sauen'!$E$7","v":3.5},{"$f":"IF('Futterkurve Sauen'!$C$6>19,43,43+(19-'Futterkurve Sauen'!$C$6)*0.6)","v":43},{"$f":"F109/'Futterkurve Sauen'!$E$7","v":{"v":3.5833333333333335,"d":"3.6"}},{"$f":"IF('Futterkurve Sauen'!$C$6>19,39,39+(19-'Futterkurve Sauen'!$C$6)*0.6)","v":39},{"$f":"H109/'Futterkurve Sauen'!$E$7","v":{"v":3.25,"d":"3.3"}}]
[109,{"$f":"IF('Futterkurve Sauen'!$C$6>19,39,39+(19-'Futterkurve Sauen'!$C$6)*0.6)","v":39},{"$f":"B110/'Futterkurve Sauen'!$E$7","v":{"v":3.25,"d":"3.3"}},{"$f":"IF('Futterkurve Sauen'!$C$6>19,42,42+(19-'Futterkurve Sauen'!$C$6)*0.6)","v":42},{"$f":"D110/'Futterkurve Sauen'!$E$7","v":3.5},{"$f":"IF('Futterkurve Sauen'!$C$6>19,43,43+(19-'Futterkurve Sauen'!$C$6)*0.6)","v":43},{"$f":"F110/'Futterkurve Sauen'!$E$7","v":{"v":3.5833333333333335,"d":"3.6"}},{"$f":"IF('Futterkurve Sauen'!$C$6>19,39,39+(19-'Futterkurve Sauen'!$C$6)*0.6)","v":39},{"$f":"H110/'Futterkurve Sauen'!$E$7","v":{"v":3.25,"d":"3.3"}}]
[110,{"$f":"IF('Futterkurve Sauen'!$C$6>19,36,36+(19-'Futterkurve Sauen'!$C$6)*0.6)","v":36},{"$f":"B111/'Futterkurve Sauen'!$E$7","v":{"v":3,"d":"3.0"}},{"$f":"IF('Futterkurve Sauen'!$C$6>19,39,39+(19-'Futterkurve Sauen'!$C$6)*0.6)","v":39},{"$f":"D111/'Futterkurve Sauen'!$E$7","v":{"v":3.25,"d":"3.3"}},{"$f":"IF('Futterkurve Sauen'!$C$6>19,40,40+(19-'Futterkurve Sauen'!$C$6)*0.6)","v":40},{"$f":"F111/'Futterkurve Sauen'!$E$7","v":{"v":3.3333333333333335,"d":"3.3"}},{"$f":"IF('Futterkurve Sauen'!$C$6>19,39,39+(19-'Futterkurve Sauen'!$C$6)*0.6)","v":39},{"$f":"H111/'Futterkurve Sauen'!$E$7","v":{"v":3.25,"d":"3.3"}}]
[111,{"$f":"IF('Futterkurve Sauen'!$C$6>19,33,33+(19-'Futterkurve Sauen'!$C$6)*0.6)","v":33},{"$f":"B112/'Futterkurve Sauen'!$E$7","v":{"v":2.75,"d":"2.8"}},{"$f":"IF('Futterkurve Sauen'!$C$6>19,36,36+(19-'Futterkurve Sauen'!$C$6)*0.6)","v":36},{"$f":"D112/'Futterkurve Sauen'!$E$7","v":{"v":3,"d":"3.0"}},{"$f":"IF('Futterkurve Sauen'!$C$6>19,37,37+(19-'Futterkurve Sauen'!$C$6)*0.6)","v":37},{"$f":"F112/'Futterkurve Sauen'!$E$7","v":{"v":3.0833333333333335,"d":"3.1"}},{"$f":"IF('Futterkurve Sauen'!$C$6>19,36,36+(19-'Futterkurve Sauen'!$C$6)*0.6)","v":36},{"$f":"H112/'Futterkurve Sauen'!$E$7","v":{"v":3,"d":"3.0"}}]
[112,{"$f":"IF('Futterkurve Sauen'!$C$6>19,31,31+(19-'Futterkurve Sauen'!$C$6)*0.6)","v":31},{"$f":"B113/'Futterkurve Sauen'!$E$7","v":{"v":2.5833333333333335,"d":"2.6"}},{"$f":"IF('Futterkurve Sauen'!$C$6>19,33,33+(19-'Futterkurve Sauen'!$C$6)*0.6)","v":33},{"$f":"D113/'Futterkurve Sauen'!$E$7","v":{"v":2.75,"d":"2.8"}},{"$f":"IF('Futterkurve Sauen'!$C$6>19,34,34+(19-'Futterkurve Sauen'!$C$6)*0.6)","v":34},{"$f":"F113/'Futterkurve Sauen'!$E$7","v":{"v":2.8333333333333335,"d":"2.8"}},{"$f":"IF('Futterkurve Sauen'!$C$6>19,33,33+(19-'Futterkurve Sauen'!$C$6)*0.6)","v":33},{"$f":"H113/'Futterkurve Sauen'!$E$7","v":{"v":2.75,"d":"2.8"}}]
[113,{"$f":"IF('Futterkurve Sauen'!$C$6>19,29,29+(19-'Futterkurve Sauen'!$C$6)*0.6)","v":29},{"$f":"B114/'Futterkurve Sauen'!$E$7","v":{"v":2.4166666666666665,"d":"2.4"}},{"$f":"IF('Futterkurve Sauen'!$C$6>19,30,30+(19-'Futterkurve Sauen'!$C$6)*0.6)","v":30},{"$f":"D114/'Futterkurve Sauen'!$E$7","v":2.5},{"$f":"IF('Futterkurve Sauen'!$C$6>19,30,30+(19-'Futterkurve Sauen'!$C$6)*0.6)","v":30},{"$f":"F114/'Futterkurve Sauen'!$E$7","v":2.5},{"$f":"IF('Futterkurve Sauen'!$C$6>19,30,30+(19-'Futterkurve Sauen'!$C$6)*0.6)","v":30},{"$f":"H114/'Futterkurve Sauen'!$E$7","v":2.5}]
[114,{"$f":"IF('Futterkurve Sauen'!$C$6>19,26,26+(19-'Futterkurve Sauen'!$C$6)*0.6)","v":26},{"$f":"B115/'Futterkurve Sauen'!$E$7","v":{"v":2.1666666666666665,"d":"2.2"}},{"$f":"IF('Futterkurve Sauen'!$C$6>19,26,26+(19-'Futterkurve Sauen'!$C$6)*0.6)","v":26},{"$f":"D115/'Futterkurve Sauen'!$E$7","v":{"v":2.1666666666666665,"d":"2.2"}},{"$f":"IF('Futterkurve Sauen'!$C$6>19,26,26+(19-'Futterkurve Sauen'!$C$6)*0.6)","v":26},{"$f":"F115/'Futterkurve Sauen'!$E$7","v":{"v":2.1666666666666665,"d":"2.2"}},{"$f":"IF('Futterkurve Sauen'!$C$6>19,26,26+(19-'Futterkurve Sauen'!$C$6)*0.6)","v":26},{"$f":"H115/'Futterkurve Sauen'!$E$7","v":{"v":2.1666666666666665,"d":"2.2"}}]
[115,{"$f":"IF('Futterkurve Sauen'!$C$6>19,26,26+(19-'Futterkurve Sauen'!$C$6)*0.6)","v":26},{"$f":"B116/'Futterkurve Sauen'!$G$7","v":{"v":2,"d":"2.0"}},{"$f":"IF('Futterkurve Sauen'!$C$6>19,26,26+(19-'Futterkurve Sauen'!$C$6)*0.6)","v":26},{"$f":"D116/'Futterkurve Sauen'!$G$7","v":{"v":2,"d":"2.0"}},{"$f":"IF('Futterkurve Sauen'!$C$6>19,26,26+(19-'Futterkurve Sauen'!$C$6)*0.6)","v":26},{"$f":"F116/'Futterkurve Sauen'!$G$7","v":{"v":2,"d":"2.0"}},{"$f":"IF('Futterkurve Sauen'!$C$6>19,26,26+(19-'Futterkurve Sauen'!$C$6)*0.6)","v":26},{"$f":"H116/'Futterkurve Sauen'!$G$7","v":{"v":2,"d":"2.0"}}]
[116,{"$f":"IF(C117*'Futterkurve Sauen'!$G$7>$B$143,$B$143,C117*'Futterkurve Sauen'!$G$7)","v":{"v":31.2,"d":"31"}},{"$f":"IF(C116+0.4>$C$143,$C$143,C116+0.4)","v":2.4},{"$f":"IF(E117*'Futterkurve Sauen'!$G$7>$D$143,$D$143,E117*'Futterkurve Sauen'!$G$7)","v":{"v":32.5,"d":"33"}},{"$f":"IF(E116+0.5>E$143,E$143,E116+0.5)","v":2.5},{"$f":"IF(G117*'Futterkurve Sauen'!$G$7>$F$143,$F$143,G117*'Futterkurve Sauen'!$G$7)","v":{"v":32.5,"d":"33"}},{"$f":"IF(G116+0.5>G$143,G$143,G116+0.5)","v":2.5},{"$f":"IF(I117*'Futterkurve Sauen'!$G$7>$H$143,$H$143,I117*'Futterkurve Sauen'!$G$7)","v":{"v":32.5,"d":"33"}},{"$f":"IF(I116+0.5>I$143,I$143,I116+0.5)","v":2.5}]
[117,{"$f":"IF(C118*'Futterkurve Sauen'!$G$7>$B$143,$B$143,C118*'Futterkurve Sauen'!$G$7)","v":{"v":36.4,"d":"36"}},{"$f":"IF(C117+0.4>$C$143,$C$143,C117+0.4)","v":2.8},{"$f":"IF(E118*'Futterkurve Sauen'!$G$7>$D$143,$D$143,E118*'Futterkurve Sauen'!$G$7)","v":39},{"$f":"IF(E117+0.5>E$143,E$143,E117+0.5)","v":{"v":3,"d":"3.0"}},{"$f":"IF(G118*'Futterkurve Sauen'!$G$7>$F$143,$F$143,G118*'Futterkurve Sauen'!$G$7)","v":39},{"$f":"IF(G117+0.5>G$143,G$143,G117+0.5)","v":{"v":3,"d":"3.0"}},{"$f":"IF(I118*'Futterkurve Sauen'!$G$7>$H$143,$H$143,I118*'Futterkurve Sauen'!$G$7)","v":39},{"$f":"IF(I117+0.5>I$143,I$143,I117+0.5)","v":{"v":3,"d":"3.0"}}]
[118,{"$f":"IF(C119*'Futterkurve Sauen'!$G$7>$B$143,$B$143,C119*'Futterkurve Sauen'!$G$7)","v":{"v":41.599999999999994,"d":"42"}},{"$f":"IF(C118+0.4>$C$143,$C$143,C118+0.4)","v":{"v":3.1999999999999997,"d":"3.2"}},{"$f":"IF(E119*'Futterkurve Sauen'!$G$7>$D$143,$D$143,E119*'Futterkurve Sauen'!$G$7)","v":{"v":45.5,"d":"46"}},{"$f":"IF(E118+0.5>E$143,E$143,E118+0.5)","v":3.5},{"$f":"IF(G119*'Futterkurve Sauen'!$G$7>$F$143,$F$143,G119*'Futterkurve Sauen'!$G$7)","v":{"v":45.5,"d":"46"}},{"$f":"IF(G118+0.5>G$143,G$143,G118+0.5)","v":3.5},{"$f":"IF(I119*'Futterkurve Sauen'!$G$7>$H$143,$H$143,I119*'Futterkurve Sauen'!$G$7)","v":{"v":45.5,"d":"46"}},{"$f":"IF(I118+0.5>I$143,I$143,I118+0.5)","v":3.5}]
[119,{"$f":"IF(C120*'Futterkurve Sauen'!$G$7>$B$143,$B$143,C120*'Futterkurve Sauen'!$G$7)","v":{"v":41.599999999999994,"d":"42"}},{"$f":"IF(C119>$C$143,$C$143,C119)","v":{"v":3.1999999999999997,"d":"3.2"}},{"$f":"IF(E120*'Futterkurve Sauen'!$G$7>$D$143,$D$143,E120*'Futterkurve Sauen'!$G$7)","v":{"v":45.5,"d":"46"}},{"$f":"IF(E119>E$143,E$143,E119)","v":3.5},{"$f":"IF(G120*'Futterkurve Sauen'!$G$7>$F$143,$F$143,G120*'Futterkurve Sauen'!$G$7)","v":{"v":45.5,"d":"46"}},{"$f":"IF(G119>G$143,G$143,G119)","v":3.5},{"$f":"IF(I120*'Futterkurve Sauen'!$G$7>$H$143,$H$143,I120*'Futterkurve Sauen'!$G$7)","v":{"v":45.5,"d":"46"}},{"$f":"IF(I119>I$143,I$143,I119)","v":3.5}]
[120,{"$f":"IF(C121*'Futterkurve Sauen'!$G$7>$B$143,$B$143,C121*'Futterkurve Sauen'!$G$7)","v":{"v":46.8,"d":"47"}},{"$f":"IF(C120+0.4>$C$143,$C$143,C120+0.4)","v":{"v":3.5999999999999996,"d":"3.6"}},{"$f":"IF(E121*'Futterkurve Sauen'!$G$7>$D$143,$D$143,E121*'Futterkurve Sauen'!$G$7)","v":52},{"$f":"IF(E120+0.5>E$143,E$143,E120+0.5)","v":{"v":4,"d":"4.0"}},{"$f":"IF(G121*'Futterkurve Sauen'!$G$7>$F$143,$F$143,G121*'Futterkurve Sauen'!$G$7)","v":52},{"$f":"IF(G120+0.5>G$143,G$143,G120+0.5)","v":{"v":4,"d":"4.0"}},{"$f":"IF(I121*'Futterkurve Sauen'!$G$7>$H$143,$H$143,I121*'Futterkurve Sauen'!$G$7)","v":52},{"$f":"IF(I120+0.5>I$143,I$143,I120+0.5)","v":{"v":4,"d":"4.0"}}]
[121,{"$f":"IF(C122*'Futterkurve Sauen'!$G$7>$B$143,$B$143,C122*'Futterkurve Sauen'!$G$7)","v":{"v":51.99999999999999,"d":"52"}},{"$f":"IF(C121+0.4>$C$143,$C$143,C121+0.4)","v":{"v":3.9999999999999996,"d":"4.0"}},{"$f":"IF(E122*'Futterkurve Sauen'!$G$7>$D$143,$D$143,E122*'Futterkurve Sauen'!$G$7)","v":{"v":58.5,"d":"59"}},{"$f":"IF(E121+0.5>E$143,E$143,E121+0.5)","v":4.5},{"$f":"IF(G122*'Futterkurve Sauen'!$G$7>$F$143,$F$143,G122*'Futterkurve Sauen'!$G$7)","v":{"v":58.5,"d":"59"}},{"$f":"IF(G121+0.5>G$143,G$143,G121+0.5)","v":4.5},{"$f":"IF(I122*'Futterkurve Sauen'!$G$7>$H$143,$H$143,I122*'Futterkurve Sauen'!$G$7)","v":{"v":58.5,"d":"59"}},{"$f":"IF(I121+0.5>I$143,I$143,I121+0.5)","v":4.5}]
[122,{"$f":"IF(C123*'Futterkurve Sauen'!$G$7>$B$143,$B$143,C123*'Futterkurve Sauen'!$G$7)","v":{"v":57.199999999999996,"d":"57"}},{"$f":"IF(C122+0.4>$C$143,$C$143,C122+0.4)","v":{"v":4.3999999999999995,"d":"4.4"}},{"$f":"IF(E123*'Futterkurve Sauen'!$G$7>$D$143,$D$143,E123*'Futterkurve Sauen'!$G$7)","v":65},{"$f":"IF(E122+0.5>E$143,E$143,E122+0.5)","v":{"v":5,"d":"5.0"}},{"$f":"IF(G123*'Futterkurve Sauen'!$G$7>$F$143,$F$143,G123*'Futterkurve Sauen'!$G$7)","v":65},{"$f":"IF(G122+0.5>G$143,G$143,G122+0.5)","v":{"v":5,"d":"5.0"}},{"$f":"IF(I123*'Futterkurve Sauen'!$G$7>$H$143,$H$143,I123*'Futterkurve Sauen'!$G$7)","v":65},{"$f":"IF(I122+0.5>I$143,I$143,I122+0.5)","v":{"v":5,"d":"5.0"}}]
[123,{"$f":"IF(C124*'Futterkurve Sauen'!$G$7>$B$143,$B$143,C124*'Futterkurve Sauen'!$G$7)","v":{"v":57.199999999999996,"d":"57"}},{"$f":"IF(C123>$C$143,$C$143,C123)","v":{"v":4.3999999999999995,"d":"4.4"}},{"$f":"IF(E124*'Futterkurve Sauen'!$G$7>$D$143,$D$143,E124*'Futterkurve Sauen'!$G$7)","v":65},{"$f":"IF(E123>E$143,E$143,E123)","v":{"v":5,"d":"5.0"}},{"$f":"IF(G124*'Futterkurve Sauen'!$G$7>$F$143,$F$143,G124*'Futterkurve Sauen'!$G$7)","v":65},{"$f":"IF(G123>G$143,G$143,G123)","v":{"v":5,"d":"5.0"}},{"$f":"IF(I124*'Futterkurve Sauen'!$G$7>$H$143,$H$143,I124*'Futterkurve Sauen'!$G$7)","v":65},{"$f":"IF(I123>I$143,I$143,I123)","v":{"v":5,"d":"5.0"}}]
[124,{"$f":"IF(C125*'Futterkurve Sauen'!$G$7>$B$143,$B$143,C125*'Futterkurve Sauen'!$G$7)","v":{"v":62.4,"d":"62"}},{"$f":"IF(C124+0.4>$C$143,$C$143,C124+0.4)","v":4.8},{"$f":"IF(E125*'Futterkurve Sauen'!$G$7>$D$143,$D$143,E125*'Futterkurve Sauen'!$G$7)","v":{"v":71.5,"d":"72"}},{"$f":"IF(E124+0.5>E$143,E$143,E124+0.5)","v":5.5},{"$f":"IF(G125*'Futterkurve Sauen'!$G$7>$F$143,$F$143,G125*'Futterkurve Sauen'!$G$7)","v":{"v":71.5,"d":"72"}},{"$f":"IF(G124+0.5>G$143,G$143,G124+0.5)","v":5.5},{"$f":"IF(I125*'Futterkurve Sauen'!$G$7>$H$143,$H$143,I125*'Futterkurve Sauen'!$G$7)","v":{"v":71.5,"d":"72"}},{"$f":"IF(I124+0.5>I$143,I$143,I124+0.5)","v":5.5}]
[125,{"$f":"IF(C126*'Futterkurve Sauen'!$G$7>$B$143,$B$143,C126*'Futterkurve Sauen'!$G$7)","v":{"v":67.60000000000001,"d":"68"}},{"$f":"IF(C125+0.4>$C$143,$C$143,C125+0.4)","v":5.2},{"$f":"IF(E126*'Futterkurve Sauen'!$G$7>$D$143,$D$143,E126*'Futterkurve Sauen'!$G$7)","v":78},{"$f":"IF(E125+0.5>E$143,E$143,E125+0.5)","v":{"v":6,"d":"6.0"}},{"$f":"IF(G126*'Futterkurve Sauen'!$G$7>$F$143,$F$143,G126*'Futterkurve Sauen'!$G$7)","v":78},{"$f":"IF(G125+0.5>G$143,G$143,G125+0.5)","v":{"v":6,"d":"6.0"}},{"$f":"IF(I126*'Futterkurve Sauen'!$G$7>$H$143,$H$143,I126*'Futterkurve Sauen'!$G$7)","v":78},{"$f":"IF(I125+0.5>I$143,I$143,I125+0.5)","v":{"v":6,"d":"6.0"}}]
[126,{"$f":"IF(C127*'Futterkurve Sauen'!$G$7>$B$143,$B$143,C127*'Futterkurve Sauen'!$G$7)","v":{"v":72.80000000000001,"d":"73"}},{"$f":"IF(C126+0.4>$C$143,$C$143,C126+0.4)","v":{"v":5.6000000000000005,"d":"5.6"}},{"$f":"IF(E127*'Futterkurve Sauen'!$G$7>$D$143,$D$143,E127*'Futterkurve Sauen'!$G$7)","v":{"v":82.47148086877878,"d":"82"}},{"$f":"IF(E126+0.5>E$143,E$143,E126+0.5)","v":{"v":6.343960066829137,"d":"6.3"}},{"$f":"IF(G127*'Futterkurve Sauen'!$G$7>$F$143,$F$143,G127*'Futterkurve Sauen'!$G$7)","v":{"v":84.5,"d":"85"}},{"$f":"IF(G126+0.5>G$143,G$143,G126+0.5)","v":6.5},{"$f":"IF(I127*'Futterkurve Sauen'!$G$7>$H$143,$H$143,I127*'Futterkurve Sauen'!$G$7)","v":{"v":84.5,"d":"85"}},{"$f":"IF(I126+0.5>I$143,I$143,I126+0.5)","v":6.5}]
[127,{"$f":"IF(C128*'Futterkurve Sauen'!$G$7>$B$143,$B$143,C128*'Futterkurve Sauen'!$G$7)","v":{"v":72.80000000000001,"d":"73"}},{"$f":"IF(C127>$C$143,$C$143,C127)","v":{"v":5.6000000000000005,"d":"5.6"}},{"$f":"IF(E128*'Futterkurve Sauen'!$G$7>$D$143,$D$143,E128*'Futterkurve Sauen'!$G$7)","v":{"v":82.47148086877878,"d":"82"}},{"$f":"IF(E127>E$143,E$143,E127)","v":{"v":6.343960066829137,"d":"6.3"}},{"$f":"IF(G128*'Futterkurve Sauen'!$G$7>$F$143,$F$143,G128*'Futterkurve Sauen'!$G$7)","v":{"v":84.5,"d":"85"}},{"$f":"IF(G127>G$143,G$143,G127)","v":6.5},{"$f":"IF(I128*'Futterkurve Sauen'!$G$7>$H$143,$H$143,I128*'Futterkurve Sauen'!$G$7)","v":{"v":84.5,"d":"85"}},{"$f":"IF(I127>I$143,I$143,I127)","v":6.5}]
[128,{"$f":"IF(C129*'Futterkurve Sauen'!$G$7>$B$143,$B$143,C129*'Futterkurve Sauen'!$G$7)","v":{"v":77.50806669862115,"d":"78"}},{"$f":"IF(C128+0.4>$C$143,$C$143,C128+0.4)","v":{"v":5.962158976817012,"d":"6.0"}},{"$f":"IF(E129*'Futterkurve Sauen'!$G$7>$D$143,$D$143,E129*'Futterkurve Sauen'!$G$7)","v":{"v":82.47148086877878,"d":"82"}},{"$f":"IF(E128+0.5>E$143,E$143,E128+0.5)","v":{"v":6.343960066829137,"d":"6.3"}},{"$f":"IF(G129*'Futterkurve Sauen'!$G$7>$F$143,$F$143,G129*'Futterkurve Sauen'!$G$7)","v":{"v":85.96169008496894,"d":"86"}},{"$f":"IF(G128+0.5>G$143,G$143,G128+0.5)","v":{"v":6.612437698843764,"d":"6.6"}},{"$f":"IF(I129*'Futterkurve Sauen'!$G$7>$H$143,$H$143,I129*'Futterkurve Sauen'!$G$7)","v":{"v":88.47745965108732,"d":"88"}},{"$f":"IF(I128+0.5>I$143,I$143,I128+0.5)","v":{"v":6.805958434699024,"d":"6.8"}}]
[129,{"$f":"IF(C130*'Futterkurve Sauen'!$G$7>$B$143,$B$143,C130*'Futterkurve Sauen'!$G$7)","v":{"v":77.50806669862115,"d":"78"}},{"$f":"IF(C129+0.4>$C$143,$C$143,C129+0.4)","v":{"v":5.962158976817012,"d":"6.0"}},{"$f":"IF(E130*'Futterkurve Sauen'!$G$7>$D$143,$D$143,E130*'Futterkurve Sauen'!$G$7)","v":{"v":82.47148086877878,"d":"82"}},{"$f":"IF(E129+0.5>E$143,E$143,E129+0.5)","v":{"v":6.343960066829137,"d":"6.3"}},{"$f":"IF(G130*'Futterkurve Sauen'!$G$7>$F$143,$F$143,G130*'Futterkurve Sauen'!$G$7)","v":{"v":85.96169008496894,"d":"86"}},{"$f":"IF(G129+0.5>G$143,G$143,G129+0.5)","v":{"v":6.612437698843764,"d":"6.6"}},{"$f":"IF(I130*'Futterkurve Sauen'!$G$7>$H$143,$H$143,I130*'Futterkurve Sauen'!$G$7)","v":{"v":88.47745965108732,"d":"88"}},{"$f":"IF(I129+0.5>I$143,I$143,I129+0.5)","v":{"v":6.805958434699024,"d":"6.8"}}]
[130,{"$f":"IF(C131*'Futterkurve Sauen'!$G$7>$B$143,$B$143,C131*'Futterkurve Sauen'!$G$7)","v":{"v":77.50806669862115,"d":"78"}},{"$f":"IF(C130+0.4>$C$143,$C$143,C130+0.4)","v":{"v":5.962158976817012,"d":"6.0"}},{"$f":"IF(E131*'Futterkurve Sauen'!$G$7>$D$143,$D$143,E131*'Futterkurve Sauen'!$G$7)","v":{"v":82.47148086877878,"d":"82"}},{"$f":"IF(E130+0.5>E$143,E$143,E130+0.5)","v":{"v":6.343960066829137,"d":"6.3"}},{"$f":"IF(G131*'Futterkurve Sauen'!$G$7>$F$143,$F$143,G131*'Futterkurve Sauen'!$G$7)","v":{"v":85.96169008496894,"d":"86"}},{"$f":"IF(G130+0.5>G$143,G$143,G130+0.5)","v":{"v":6.612437698843764,"d":"6.6"}},{"$f":"IF(I131*'Futterkurve Sauen'!$G$7>$H$143,$H$143,I131*'Futterkurve Sauen'!$G$7)","v":{"v":88.47745965108732,"d":"88"}},{"$f":"IF(I130+0.5>I$143,I$143,I130+0.5)","v":{"v":6.805958434699024,"d":"6.8"}}]
[131,{"$f":"IF(C132*'Futterkurve Sauen'!$G$7>$B$143,$B$143,C132*'Futterkurve Sauen'!$G$7)","v":{"v":77.50806669862115,"d":"78"}},{"$f":"IF(C131>$C$143,$C$143,C131)","v":{"v":5.962158976817012,"d":"6.0"}},{"$f":"IF(E132*'Futterkurve Sauen'!$G$7>$D$143,$D$143,E132*'Futterkurve Sauen'!$G$7)","v":{"v":82.47148086877878,"d":"82"}},{"$f":"IF(E131>E$143,E$143,E131)","v":{"v":6.343960066829137,"d":"6.3"}},{"$f":"IF(G132*'Futterkurve Sauen'!$G$7>$F$143,$F$143,G132*'Futterkurve Sauen'!$G$7)","v":{"v":85.96169008496894,"d":"86"}},{"$f":"IF(G131>G$143,G$143,G131)","v":{"v":6.612437698843764,"d":"6.6"}},{"$f":"IF(I132*'Futterkurve Sauen'!$G$7>$H$143,$H$143,I132*'Futterkurve Sauen'!$G$7)","v":{"v":88.47745965108732,"d":"88"}},{"$f":"IF(I131>I$143,I$143,I131)","v":{"v":6.805958434699024,"d":"6.8"}}]
[132,{"$f":"IF('Futterkurve Sauen'!$C$6>19,'Futterkurve Sauen'!$K$6^0.75*0.44+5.8*'Futterkurve Sauen'!$I$6-'Futterkurve Sauen'!K$5,'Futterkurve Sauen'!$K$6^0.75*0.44+5.8*'Futterkurve Sauen'!$I$6-'Futterkurve Sauen'!K$5+(19-'Futterkurve Sauen'!$C$6)*0.6)","v":{"v":77.50806669862115,"d":"78"}},{"$f":"IF(C132>$C$143,$C$143,C132)","v":{"v":5.962158976817012,"d":"6.0"}},{"$f":"IF('Futterkurve Sauen'!$C$6>19,('Futterkurve Sauen'!$K$7-40)^0.75*0.44+5.8*'Futterkurve Sauen'!$I$7-'Futterkurve Sauen'!K$8,('Futterkurve Sauen'!$K$7-40)^0.75*0.44+5.8*'Futterkurve Sauen'!$I$7-'Futterkurve Sauen'!K$8+(19-'Futterkurve Sauen'!$C$6)*0.6)","v":{"v":82.47148086877878,"d":"82"}},{"$f":"IF(E132+0.5>E$143,E$143,E132+0.5)","v":{"v":6.343960066829137,"d":"6.3"}},{"$f":"IF('Futterkurve Sauen'!$C$6>19,'Futterkurve Sauen'!$K$7^0.75*0.44+5.8*'Futterkurve Sauen'!$I$7-'Futterkurve Sauen'!K$8,'Futterkurve Sauen'!$K$7^0.75*0.44+5.8*'Futterkurve Sauen'!$I$7-'Futterkurve Sauen'!K$8+(19-'Futterkurve Sauen'!$C$6)*0.6)","v":{"v":85.96169008496894,"d":"86"}},{"$f":"IF(G132+0.5>G$143,G$143,G132+0.5)","v":{"v":6.612437698843764,"d":"6.6"}},{"$f":"IF('Futterkurve Sauen'!$C$6>19,('Futterkurve Sauen'!$K$7+30)^0.75*0.44+5.8*'Futterkurve Sauen'!$I$7-'Futterkurve Sauen'!K$8,('Futterkurve Sauen'!$K$7+30)^0.75*0.44+5.8*'Futterkurve Sauen'!$I$7-'Futterkurve Sauen'!K$8+(19-'Futterkurve Sauen'!$C$6)*0.6)","v":{"v":88.47745965108732,"d":"88"}},{"$f":"IF(I132+0.5>I$143,I$143,I132+0.5)","v":{"v":6.805958434699024,"d":"6.8"}}]
[133,{"$f":"IF('Futterkurve Sauen'!$C$6>19,'Futterkurve Sauen'!$K$6^0.75*0.44+5.8*'Futterkurve Sauen'!$I$6-'Futterkurve Sauen'!K$5,'Futterkurve Sauen'!$K$6^0.75*0.44+5.8*'Futterkurve Sauen'!$I$6-'Futterkurve Sauen'!K$5+(19-'Futterkurve Sauen'!$C$6)*0.6)","v":{"v":77.50806669862115,"d":"78"}},{"$f":"IF(C133+0.4>$C$143,$C$143,C133+0.4)","v":{"v":5.962158976817012,"d":"6.0"}},{"$f":"IF('Futterkurve Sauen'!$C$6>19,('Futterkurve Sauen'!$K$7-40)^0.75*0.44+5.8*'Futterkurve Sauen'!$I$7-'Futterkurve Sauen'!K$8,('Futterkurve Sauen'!$K$7-40)^0.75*0.44+5.8*'Futterkurve Sauen'!$I$7-'Futterkurve Sauen'!K$8+(19-'Futterkurve Sauen'!$C$6)*0.6)","v":{"v":82.47148086877878,"d":"82"}},{"v":6.343960066829137,"d":"6.3"},{"$f":"IF('Futterkurve Sauen'!$C$6>19,'Futterkurve Sauen'!$K$7^0.75*0.44+5.8*'Futterkurve Sauen'!$I$7-'Futterkurve Sauen'!K$8,'Futterkurve Sauen'!$K$7^0.75*0.44+5.8*'Futterkurve Sauen'!$I$7-'Futterkurve Sauen'!K$8+(19-'Futterkurve Sauen'!$C$6)*0.6)","v":{"v":85.96169008496894,"d":"86"}},{"v":6.612437698843764,"d":"6.6"},{"$f":"IF('Futterkurve Sauen'!$C$6>19,('Futterkurve Sauen'!$K$7+30)^0.75*0.44+5.8*'Futterkurve Sauen'!$I$7-'Futterkurve Sauen'!K$8,('Futterkurve Sauen'!$K$7+30)^0.75*0.44+5.8*'Futterkurve Sauen'!$I$7-'Futterkurve Sauen'!K$8+(19-'Futterkurve Sauen'!$C$6)*0.6)","v":{"v":88.47745965108732,"d":"88"}},{"v":6.805958434699024,"d":"6.8"}]
[134,{"$f":"IF('Futterkurve Sauen'!$C$6>19,'Futterkurve Sauen'!$K$6^0.75*0.44+5.8*'Futterkurve Sauen'!$I$6-'Futterkurve Sauen'!K$5,'Futterkurve Sauen'!$K$6^0.75*0.44+5.8*'Futterkurve Sauen'!$I$6-'Futterkurve Sauen'!K$5+(19-'Futterkurve Sauen'!$C$6)*0.6)","v":{"v":77.50806669862115,"d":"78"}},{"$f":"IF(C134+0.4>$C$143,$C$143,C134+0.4)","v":{"v":5.962158976817012,"d":"6.0"}},{"$f":"IF('Futterkurve Sauen'!$C$6>19,('Futterkurve Sauen'!$K$7-40)^0.75*0.44+5.8*'Futterkurve Sauen'!$I$7-'Futterkurve Sauen'!K$8,('Futterkurve Sauen'!$K$7-40)^0.75*0.44+5.8*'Futterkurve Sauen'!$I$7-'Futterkurve Sauen'!K$8+(19-'Futterkurve Sauen'!$C$6)*0.6)","v":{"v":82.47148086877878,"d":"82"}},{"v":6.343960066829137,"d":"6.3"},{"$f":"IF('Futterkurve Sauen'!$C$6>19,'Futterkurve Sauen'!$K$7^0.75*0.44+5.8*'Futterkurve Sauen'!$I$7-'Futterkurve Sauen'!K$8,'Futterkurve Sauen'!$K$7^0.75*0.44+5.8*'Futterkurve Sauen'!$I$7-'Futterkurve Sauen'!K$8+(19-'Futterkurve Sauen'!$C$6)*0.6)","v":{"v":85.96169008496894,"d":"86"}},{"v":6.612437698843764,"d":"6.6"},{"$f":"IF('Futterkurve Sauen'!$C$6>19,('Futterkurve Sauen'!$K$7+30)^0.75*0.44+5.8*'Futterkurve Sauen'!$I$7-'Futterkurve Sauen'!K$8,('Futterkurve Sauen'!$K$7+30)^0.75*0.44+5.8*'Futterkurve Sauen'!$I$7-'Futterkurve Sauen'!K$8+(19-'Futterkurve Sauen'!$C$6)*0.6)","v":{"v":88.47745965108732,"d":"88"}},{"v":6.805958434699024,"d":"6.8"}]
[135,{"$f":"IF('Futterkurve Sauen'!$C$6>19,'Futterkurve Sauen'!$K$6^0.75*0.44+5.8*'Futterkurve Sauen'!$I$6-'Futterkurve Sauen'!K$5,'Futterkurve Sauen'!$K$6^0.75*0.44+5.8*'Futterkurve Sauen'!$I$6-'Futterkurve Sauen'!K$5+(19-'Futterkurve Sauen'!$C$6)*0.6)","v":{"v":77.50806669862115,"d":"78"}},{"$f":"IF(C135+0.4>$C$143,$C$143,C135+0.4)","v":{"v":5.962158976817012,"d":"6.0"}},{"$f":"IF('Futterkurve Sauen'!$C$6>19,('Futterkurve Sauen'!$K$7-40)^0.75*0.44+5.8*'Futterkurve Sauen'!$I$7-'Futterkurve Sauen'!K$8,('Futterkurve Sauen'!$K$7-40)^0.75*0.44+5.8*'Futterkurve Sauen'!$I$7-'Futterkurve Sauen'!K$8+(19-'Futterkurve Sauen'!$C$6)*0.6)","v":{"v":82.47148086877878,"d":"82"}},{"v":6.343960066829137,"d":"6.3"},{"$f":"IF('Futterkurve Sauen'!$C$6>19,'Futterkurve Sauen'!$K$7^0.75*0.44+5.8*'Futterkurve Sauen'!$I$7-'Futterkurve Sauen'!K$8,'Futterkurve Sauen'!$K$7^0.75*0.44+5.8*'Futterkurve Sauen'!$I$7-'Futterkurve Sauen'!K$8+(19-'Futterkurve Sauen'!$C$6)*0.6)","v":{"v":85.96169008496894,"d":"86"}},{"v":6.612437698843764,"d":"6.6"},{"$f":"IF('Futterkurve Sauen'!$C$6>19,('Futterkurve Sauen'!$K$7+30)^0.75*0.44+5.8*'Futterkurve Sauen'!$I$7-'Futterkurve Sauen'!K$8,('Futterkurve Sauen'!$K$7+30)^0.75*0.44+5.8*'Futterkurve Sauen'!$I$7-'Futterkurve Sauen'!K$8+(19-'Futterkurve Sauen'!$C$6)*0.6)","v":{"v":88.47745965108732,"d":"88"}},{"v":6.805958434699024,"d":"6.8"}]
[136,{"$f":"IF('Futterkurve Sauen'!$C$6>19,'Futterkurve Sauen'!$K$6^0.75*0.44+5.8*'Futterkurve Sauen'!$I$6-'Futterkurve Sauen'!K$5,'Futterkurve Sauen'!$K$6^0.75*0.44+5.8*'Futterkurve Sauen'!$I$6-'Futterkurve Sauen'!K$5+(19-'Futterkurve Sauen'!$C$6)*0.6)","v":{"v":77.50806669862115,"d":"78"}},{"$f":"IF(C136+0.4>$C$143,$C$143,C136+0.4)","v":{"v":5.962158976817012,"d":"6.0"}},{"$f":"IF('Futterkurve Sauen'!$C$6>19,('Futterkurve Sauen'!$K$7-40)^0.75*0.44+5.8*'Futterkurve Sauen'!$I$7-'Futterkurve Sauen'!K$8,('Futterkurve Sauen'!$K$7-40)^0.75*0.44+5.8*'Futterkurve Sauen'!$I$7-'Futterkurve Sauen'!K$8+(19-'Futterkurve Sauen'!$C$6)*0.6)","v":{"v":82.47148086877878,"d":"82"}},{"v":6.343960066829137,"d":"6.3"},{"$f":"IF('Futterkurve Sauen'!$C$6>19,'Futterkurve Sauen'!$K$7^0.75*0.44+5.8*'Futterkurve Sauen'!$I$7-'Futterkurve Sauen'!K$8,'Futterkurve Sauen'!$K$7^0.75*0.44+5.8*'Futterkurve Sauen'!$I$7-'Futterkurve Sauen'!K$8+(19-'Futterkurve Sauen'!$C$6)*0.6)","v":{"v":85.96169008496894,"d":"86"}},{"v":6.612437698843764,"d":"6.6"},{"$f":"IF('Futterkurve Sauen'!$C$6>19,('Futterkurve Sauen'!$K$7+30)^0.75*0.44+5.8*'Futterkurve Sauen'!$I$7-'Futterkurve Sauen'!K$8,('Futterkurve Sauen'!$K$7+30)^0.75*0.44+5.8*'Futterkurve Sauen'!$I$7-'Futterkurve Sauen'!K$8+(19-'Futterkurve Sauen'!$C$6)*0.6)","v":{"v":88.47745965108732,"d":"88"}},{"v":6.805958434699024,"d":"6.8"}]
[137,{"$f":"IF('Futterkurve Sauen'!$C$6>19,'Futterkurve Sauen'!$K$6^0.75*0.44+5.8*'Futterkurve Sauen'!$I$6-'Futterkurve Sauen'!K$5,'Futterkurve Sauen'!$K$6^0.75*0.44+5.8*'Futterkurve Sauen'!$I$6-'Futterkurve Sauen'!K$5+(19-'Futterkurve Sauen'!$C$6)*0.6)","v":{"v":77.50806669862115,"d":"78"}},{"$f":"IF(C137+0.4>$C$143,$C$143,C137+0.4)","v":{"v":5.962158976817012,"d":"6.0"}},{"$f":"IF('Futterkurve Sauen'!$C$6>19,('Futterkurve Sauen'!$K$7-40)^0.75*0.44+5.8*'Futterkurve Sauen'!$I$7-'Futterkurve Sauen'!K$8,('Futterkurve Sauen'!$K$7-40)^0.75*0.44+5.8*'Futterkurve Sauen'!$I$7-'Futterkurve Sauen'!K$8+(19-'Futterkurve Sauen'!$C$6)*0.6)","v":{"v":82.47148086877878,"d":"82"}},{"v":6.343960066829137,"d":"6.3"},{"$f":"IF('Futterkurve Sauen'!$C$6>19,'Futterkurve Sauen'!$K$7^0.75*0.44+5.8*'Futterkurve Sauen'!$I$7-'Futterkurve Sauen'!K$8,'Futterkurve Sauen'!$K$7^0.75*0.44+5.8*'Futterkurve Sauen'!$I$7-'Futterkurve Sauen'!K$8+(19-'Futterkurve Sauen'!$C$6)*0.6)","v":{"v":85.96169008496894,"d":"86"}},{"v":6.612437698843764,"d":"6.6"},{"$f":"IF('Futterkurve Sauen'!$C$6>19,('Futterkurve Sauen'!$K$7+30)^0.75*0.44+5.8*'Futterkurve Sauen'!$I$7-'Futterkurve Sauen'!K$8,('Futterkurve Sauen'!$K$7+30)^0.75*0.44+5.8*'Futterkurve Sauen'!$I$7-'Futterkurve Sauen'!K$8+(19-'Futterkurve Sauen'!$C$6)*0.6)","v":{"v":88.47745965108732,"d":"88"}},{"v":6.805958434699024,"d":"6.8"}]
[138,{"$f":"IF('Futterkurve Sauen'!$C$6>19,'Futterkurve Sauen'!$K$6^0.75*0.44+5.8*'Futterkurve Sauen'!$I$6-'Futterkurve Sauen'!K$5,'Futterkurve Sauen'!$K$6^0.75*0.44+5.8*'Futterkurve Sauen'!$I$6-'Futterkurve Sauen'!K$5+(19-'Futterkurve Sauen'!$C$6)*0.6)","v":{"v":77.50806669862115,"d":"78"}},{"$f":"IF(C135+0.4>$C$143,$C$143,C135+0.4)","v":{"v":5.962158976817012,"d":"6.0"}},{"$f":"IF('Futterkurve Sauen'!$C$6>19,('Futterkurve Sauen'!$K$7-40)^0.75*0.44+5.8*'Futterkurve Sauen'!$I$7-'Futterkurve Sauen'!K$8,('Futterkurve Sauen'!$K$7-40)^0.75*0.44+5.8*'Futterkurve Sauen'!$I$7-'Futterkurve Sauen'!K$8+(19-'Futterkurve Sauen'!$C$6)*0.6)","v":{"v":82.47148086877878,"d":"82"}},{"$f":"IF(E135+0.5>E$143,E$143,E135+0.5)","v":{"v":6.343960066829137,"d":"6.3"}},{"$f":"IF('Futterkurve Sauen'!$C$6>19,'Futterkurve Sauen'!$K$7^0.75*0.44+5.8*'Futterkurve Sauen'!$I$7-'Futterkurve Sauen'!K$8,'Futterkurve Sauen'!$K$7^0.75*0.44+5.8*'Futterkurve Sauen'!$I$7-'Futterkurve Sauen'!K$8+(19-'Futterkurve Sauen'!$C$6)*0.6)","v":{"v":85.96169008496894,"d":"86"}},{"$f":"IF(G135+0.5>G$143,G$143,G135+0.5)","v":{"v":6.612437698843764,"d":"6.6"}},{"$f":"IF('Futterkurve Sauen'!$C$6>19,('Futterkurve Sauen'!$K$7+30)^0.75*0.44+5.8*'Futterkurve Sauen'!$I$7-'Futterkurve Sauen'!K$8,('Futterkurve Sauen'!$K$7+30)^0.75*0.44+5.8*'Futterkurve Sauen'!$I$7-'Futterkurve Sauen'!K$8+(19-'Futterkurve Sauen'!$C$6)*0.6)","v":{"v":88.47745965108732,"d":"88"}},{"$f":"IF(I135+0.5>I$143,I$143,I135+0.5)","v":{"v":6.805958434699024,"d":"6.8"}}]
[139,{"$f":"IF('Futterkurve Sauen'!$C$6>19,'Futterkurve Sauen'!$K$6^0.75*0.44+5.8*'Futterkurve Sauen'!$I$6-'Futterkurve Sauen'!K$5,'Futterkurve Sauen'!$K$6^0.75*0.44+5.8*'Futterkurve Sauen'!$I$6-'Futterkurve Sauen'!K$5+(19-'Futterkurve Sauen'!$C$6)*0.6)","v":{"v":77.50806669862115,"d":"78"}},{"$f":"IF(C139>$C$143,$C$143,C139)","v":{"v":5.962158976817012,"d":"6.0"}},{"$f":"IF('Futterkurve Sauen'!$C$6>19,('Futterkurve Sauen'!$K$7-40)^0.75*0.44+5.8*'Futterkurve Sauen'!$I$7-'Futterkurve Sauen'!K$8,('Futterkurve Sauen'!$K$7-40)^0.75*0.44+5.8*'Futterkurve Sauen'!$I$7-'Futterkurve Sauen'!K$8+(19-'Futterkurve Sauen'!$C$6)*0.6)","v":{"v":82.47148086877878,"d":"82"}},{"$f":"IF(E139>E$143,E$143,E139)","v":{"v":6.343960066829137,"d":"6.3"}},{"$f":"IF('Futterkurve Sauen'!$C$6>19,'Futterkurve Sauen'!$K$7^0.75*0.44+5.8*'Futterkurve Sauen'!$I$7-'Futterkurve Sauen'!K$8,'Futterkurve Sauen'!$K$7^0.75*0.44+5.8*'Futterkurve Sauen'!$I$7-'Futterkurve Sauen'!K$8+(19-'Futterkurve Sauen'!$C$6)*0.6)","v":{"v":85.96169008496894,"d":"86"}},{"$f":"IF(G139>G$143,G$143,G139)","v":{"v":6.612437698843764,"d":"6.6"}},{"$f":"IF('Futterkurve Sauen'!$C$6>19,('Futterkurve Sauen'!$K$7+30)^0.75*0.44+5.8*'Futterkurve Sauen'!$I$7-'Futterkurve Sauen'!K$8,('Futterkurve Sauen'!$K$7+30)^0.75*0.44+5.8*'Futterkurve Sauen'!$I$7-'Futterkurve Sauen'!K$8+(19-'Futterkurve Sauen'!$C$6)*0.6)","v":{"v":88.47745965108732,"d":"88"}},{"$f":"IF(I139>I$143,I$143,I139)","v":{"v":6.805958434699024,"d":"6.8"}}]
[140,{"$f":"IF('Futterkurve Sauen'!$C$6>19,'Futterkurve Sauen'!$K$6^0.75*0.44+5.8*'Futterkurve Sauen'!$I$6-'Futterkurve Sauen'!K$5,'Futterkurve Sauen'!$K$6^0.75*0.44+5.8*'Futterkurve Sauen'!$I$6-'Futterkurve Sauen'!K$5+(19-'Futterkurve Sauen'!$C$6)*0.6)","v":{"v":77.50806669862115,"d":"78"}},{"$f":"IF(C140+0.4>$C$143,$C$143,C140+0.4)","v":{"v":5.962158976817012,"d":"6.0"}},{"$f":"IF('Futterkurve Sauen'!$C$6>19,('Futterkurve Sauen'!$K$7-40)^0.75*0.44+5.8*'Futterkurve Sauen'!$I$7-'Futterkurve Sauen'!K$8,('Futterkurve Sauen'!$K$7-40)^0.75*0.44+5.8*'Futterkurve Sauen'!$I$7-'Futterkurve Sauen'!K$8+(19-'Futterkurve Sauen'!$C$6)*0.6)","v":{"v":82.47148086877878,"d":"82"}},{"$f":"IF(E140+0.5>E$143,E$143,E140+0.5)","v":{"v":6.343960066829137,"d":"6.3"}},{"$f":"IF('Futterkurve Sauen'!$C$6>19,'Futterkurve Sauen'!$K$7^0.75*0.44+5.8*'Futterkurve Sauen'!$I$7-'Futterkurve Sauen'!K$8,'Futterkurve Sauen'!$K$7^0.75*0.44+5.8*'Futterkurve Sauen'!$I$7-'Futterkurve Sauen'!K$8+(19-'Futterkurve Sauen'!$C$6)*0.6)","v":{"v":85.96169008496894,"d":"86"}},{"$f":"IF(G140+0.5>G$143,G$143,G140+0.5)","v":{"v":6.612437698843764,"d":"6.6"}},{"$f":"IF('Futterkurve Sauen'!$C$6>19,('Futterkurve Sauen'!$K$7+30)^0.75*0.44+5.8*'Futterkurve Sauen'!$I$7-'Futterkurve Sauen'!K$8,('Futterkurve Sauen'!$K$7+30)^0.75*0.44+5.8*'Futterkurve Sauen'!$I$7-'Futterkurve Sauen'!K$8+(19-'Futterkurve Sauen'!$C$6)*0.6)","v":{"v":88.47745965108732,"d":"88"}},{"$f":"IF(I140+0.5>I$143,I$143,I140+0.5)","v":{"v":6.805958434699024,"d":"6.8"}}]
[141,{"$f":"IF('Futterkurve Sauen'!$C$6>19,'Futterkurve Sauen'!$K$6^0.75*0.44+5.8*'Futterkurve Sauen'!$I$6-'Futterkurve Sauen'!K$5,'Futterkurve Sauen'!$K$6^0.75*0.44+5.8*'Futterkurve Sauen'!$I$6-'Futterkurve Sauen'!K$5+(19-'Futterkurve Sauen'!$C$6)*0.6)","v":{"v":77.50806669862115,"d":"78"}},{"$f":"IF(C141+0.4>$C$143,$C$143,C141+0.4)","v":{"v":5.962158976817012,"d":"6.0"}},{"$f":"IF('Futterkurve Sauen'!$C$6>19,('Futterkurve Sauen'!$K$7-40)^0.75*0.44+5.8*'Futterkurve Sauen'!$I$7-'Futterkurve Sauen'!K$8,('Futterkurve Sauen'!$K$7-40)^0.75*0.44+5.8*'Futterkurve Sauen'!$I$7-'Futterkurve Sauen'!K$8+(19-'Futterkurve Sauen'!$C$6)*0.6)","v":{"v":82.47148086877878,"d":"82"}},{"$f":"IF(E141+0.5>E$143,E$143,E141+0.5)","v":{"v":6.343960066829137,"d":"6.3"}},{"$f":"IF('Futterkurve Sauen'!$C$6>19,'Futterkurve Sauen'!$K$7^0.75*0.44+5.8*'Futterkurve Sauen'!$I$7-'Futterkurve Sauen'!K$8,'Futterkurve Sauen'!$K$7^0.75*0.44+5.8*'Futterkurve Sauen'!$I$7-'Futterkurve Sauen'!K$8+(19-'Futterkurve Sauen'!$C$6)*0.6)","v":{"v":85.96169008496894,"d":"86"}},{"$f":"IF(G141+0.5>G$143,G$143,G141+0.5)","v":{"v":6.612437698843764,"d":"6.6"}},{"$f":"IF('Futterkurve Sauen'!$C$6>19,('Futterkurve Sauen'!$K$7+30)^0.75*0.44+5.8*'Futterkurve Sauen'!$I$7-'Futterkurve Sauen'!K$8,('Futterkurve Sauen'!$K$7+30)^0.75*0.44+5.8*'Futterkurve Sauen'!$I$7-'Futterkurve Sauen'!K$8+(19-'Futterkurve Sauen'!$C$6)*0.6)","v":{"v":88.47745965108732,"d":"88"}},{"$f":"IF(I141+0.5>I$143,I$143,I141+0.5)","v":{"v":6.805958434699024,"d":"6.8"}}]
[142,{"$f":"IF('Futterkurve Sauen'!$C$6>19,'Futterkurve Sauen'!$K$6^0.75*0.44+5.8*'Futterkurve Sauen'!$I$6-'Futterkurve Sauen'!K$5,'Futterkurve Sauen'!$K$6^0.75*0.44+5.8*'Futterkurve Sauen'!$I$6-'Futterkurve Sauen'!K$5+(19-'Futterkurve Sauen'!$C$6)*0.6)","v":{"v":77.50806669862115,"d":"78"}},{"$f":"B143/'Futterkurve Sauen'!$G$7","v":{"v":5.962158976817012,"d":"6.0"}},{"$f":"IF('Futterkurve Sauen'!$C$6>19,('Futterkurve Sauen'!$K$7-40)^0.75*0.44+5.8*'Futterkurve Sauen'!$I$7-'Futterkurve Sauen'!K$8,('Futterkurve Sauen'!$K$7-40)^0.75*0.44+5.8*'Futterkurve Sauen'!$I$7-'Futterkurve Sauen'!K$8+(19-'Futterkurve Sauen'!$C$6)*0.6)","v":{"v":82.47148086877878,"d":"82"}},{"$f":"D143/'Futterkurve Sauen'!$G$7","v":{"v":6.343960066829137,"d":"6.3"}},{"$f":"IF('Futterkurve Sauen'!$C$6>19,'Futterkurve Sauen'!$K$7^0.75*0.44+5.8*'Futterkurve Sauen'!$I$7-'Futterkurve Sauen'!K$8,'Futterkurve Sauen'!$K$7^0.75*0.44+5.8*'Futterkurve Sauen'!$I$7-'Futterkurve Sauen'!K$8+(19-'Futterkurve Sauen'!$C$6)*0.6)","v":{"v":85.96169008496894,"d":"86"}},{"$f":"F143/'Futterkurve Sauen'!$G$7","v":{"v":6.612437698843764,"d":"6.6"}},{"$f":"IF('Futterkurve Sauen'!$C$6>19,('Futterkurve Sauen'!$K$7+30)^0.75*0.44+5.8*'Futterkurve Sauen'!$I$7-'Futterkurve Sauen'!K$8,('Futterkurve Sauen'!$K$7+30)^0.75*0.44+5.8*'Futterkurve Sauen'!$I$7-'Futterkurve Sauen'!K$8+(19-'Futterkurve Sauen'!$C$6)*0.6)","v":{"v":88.47745965108732,"d":"88"}},{"$f":"H143/'Futterkurve Sauen'!$G$7","v":{"v":6.805958434699024,"d":"6.8"}}]
[143,{"$f":"IF('Futterkurve Sauen'!E$6>19,33,33+(19-'Futterkurve Sauen'!$E$6)*0.6+J$1)","v":37},{"$f":"B144/'Futterkurve Sauen'!$C$7","v":{"v":3.0833333333333335,"d":"3.1"}},{"$f":"IF('Futterkurve Sauen'!E$6>19,36,36+(19-'Futterkurve Sauen'!$E$6)*0.6+J$2)","v":42},{"$f":"D144/'Futterkurve Sauen'!$C$7","v":3.5},{"$f":"IF('Futterkurve Sauen'!E$6>19,37,37+(19-'Futterkurve Sauen'!$E$6)*0.6+J$2)","v":43},{"$f":"F144/'Futterkurve Sauen'!$C$7","v":{"v":3.5833333333333335,"d":"3.6"}},{"$f":"IF('Futterkurve Sauen'!E$6>19,34,34+(19-'Futterkurve Sauen'!$E$6)*0.6+J$2)","v":40},{"$f":"H144/'Futterkurve Sauen'!$C$7","v":{"v":3.3333333333333335,"d":"3.3"}}]
[144,{"$f":"IF('Futterkurve Sauen'!E$6>19,33,33+(19-'Futterkurve Sauen'!$E$6)*0.6+J$1)","v":37},{"$f":"B145/'Futterkurve Sauen'!$C$7","v":{"v":3.0833333333333335,"d":"3.1"}},{"$f":"IF('Futterkurve Sauen'!E$6>19,36,36+(19-'Futterkurve Sauen'!$E$6)*0.6+J$2)","v":42},{"$f":"D145/'Futterkurve Sauen'!$C$7","v":3.5},{"$f":"IF('Futterkurve Sauen'!E$6>19,37,37+(19-'Futterkurve Sauen'!$E$6)*0.6+J$2)","v":43},{"$f":"F145/'Futterkurve Sauen'!$C$7","v":{"v":3.5833333333333335,"d":"3.6"}},{"$f":"IF('Futterkurve Sauen'!E$6>19,34,34+(19-'Futterkurve Sauen'!$E$6)*0.6+J$2)","v":40},{"$f":"H145/'Futterkurve Sauen'!$C$7","v":{"v":3.3333333333333335,"d":"3.3"}}]
[145,{"$f":"IF('Futterkurve Sauen'!E$6>19,33,33+(19-'Futterkurve Sauen'!$E$6)*0.6+J$1)","v":37},{"$f":"B146/'Futterkurve Sauen'!$C$7","v":{"v":3.0833333333333335,"d":"3.1"}},{"$f":"IF('Futterkurve Sauen'!E$6>19,36,36+(19-'Futterkurve Sauen'!$E$6)*0.6+J$2)","v":42},{"$f":"D146/'Futterkurve Sauen'!$C$7","v":3.5},{"$f":"IF('Futterkurve Sauen'!E$6>19,37,37+(19-'Futterkurve Sauen'!$E$6)*0.6+J$2)","v":43},{"$f":"F146/'Futterkurve Sauen'!$C$7","v":{"v":3.5833333333333335,"d":"3.6"}},{"$f":"IF('Futterkurve Sauen'!E$6>19,34,34+(19-'Futterkurve Sauen'!$E$6)*0.6+J$2)","v":40},{"$f":"H146/'Futterkurve Sauen'!$C$7","v":{"v":3.3333333333333335,"d":"3.3"}}]
[146,{"$f":"IF('Futterkurve Sauen'!E$6>19,33,33+(19-'Futterkurve Sauen'!$E$6)*0.6+J$1)","v":37},{"$f":"B147/'Futterkurve Sauen'!$C$7","v":{"v":3.0833333333333335,"d":"3.1"}},{"$f":"IF('Futterkurve Sauen'!E$6>19,36,36+(19-'Futterkurve Sauen'!$E$6)*0.6+J$2)","v":42},{"$f":"D147/'Futterkurve Sauen'!$C$7","v":3.5},{"$f":"IF('Futterkurve Sauen'!E$6>19,37,37+(19-'Futterkurve Sauen'!$E$6)*0.6+J$2)","v":43},{"$f":"F147/'Futterkurve Sauen'!$C$7","v":{"v":3.5833333333333335,"d":"3.6"}},{"$f":"IF('Futterkurve Sauen'!E$6>19,34,34+(19-'Futterkurve Sauen'!$E$6)*0.6+J$2)","v":40},{"$f":"H147/'Futterkurve Sauen'!$C$7","v":{"v":3.3333333333333335,"d":"3.3"}}]
[147,{"$f":"IF('Futterkurve Sauen'!E$6>19,33,33+(19-'Futterkurve Sauen'!$E$6)*0.6+J$1)","v":37},{"$f":"B148/'Futterkurve Sauen'!$C$7","v":{"v":3.0833333333333335,"d":"3.1"}},{"$f":"IF('Futterkurve Sauen'!E$6>19,36,36+(19-'Futterkurve Sauen'!$E$6)*0.6+J$2)","v":42},{"$f":"D148/'Futterkurve Sauen'!$C$7","v":3.5},{"$f":"IF('Futterkurve Sauen'!E$6>19,37,37+(19-'Futterkurve Sauen'!$E$6)*0.6+J$2)","v":43},{"$f":"F148/'Futterkurve Sauen'!$C$7","v":{"v":3.5833333333333335,"d":"3.6"}},{"$f":"IF('Futterkurve Sauen'!E$6>19,34,34+(19-'Futterkurve Sauen'!$E$6)*0.6+J$2)","v":40},{"$f":"H148/'Futterkurve Sauen'!$C$7","v":{"v":3.3333333333333335,"d":"3.3"}}]